{"text_format":"1","workbook":"xlsx","n_sheets":9,"sheets":["Portada","Análisis","Registradas y Recibidas","Traslados","Asignadas a dependencias","Peticiones asignadas a la entid","Peticiones ciudadanas por tema","Recomendaciones a la ciudadanía","para pqr"],"not_rendered":{"charts":1,"images":6,"macros":1,"external_links":5,"defined_names":37,"comments":0,"pivot_tables":4},"unopened":[],"bounds":{"document_bytes":16777216,"sheet_cells":100000,"rows_first":2000,"rows_last":500,"rows_between":2000,"halvings":0,"cell_chars":16384,"cell_head_chars":4096},"cells_cut":0,"cells_raw":0,"read":"whole","date_system":"1900"}

{"sheet":"Portada","index":0,"n_rows":0,"n_cols":0,"rows_kept":0,"cut":false,"hidden":false,"merged":[]}

{"sheet":"Análisis","index":1,"n_rows":72,"n_cols":29,"rows_kept":72,"cut":false,"hidden":false,"merged":[[57,24,57,25],[57,26,57,27],[57,28,57,29],[44,15,44,19],[45,15,45,19],[46,15,46,19],[47,20,47,24],[47,25,47,33],[44,25,44,33],[45,25,45,33],[46,25,46,33],[57,6,57,15],[57,16,57,17],[57,18,57,19],[57,20,57,21],[57,22,57,23],[41,25,41,33],[40,15,40,19],[41,15,41,19],[42,15,42,19],[43,15,43,19],[42,25,42,33],[43,25,43,33],[39,15,39,19],[37,25,37,33],[38,25,38,33],[40,25,40,33],[39,25,39,33],[60,28,60,29],[60,16,60,17],[61,16,61,17],[62,16,62,17],[37,15,37,19],[37,20,37,24],[47,15,47,19],[38,20,38,24],[39,20,39,24],[40,20,40,24],[42,20,42,24],[43,20,43,24],[44,20,44,24],[45,20,45,24],[46,20,46,24],[41,20,41,24],[61,20,61,21],[61,22,61,23],[61,24,61,25],[60,24,60,25],[60,26,60,27],[62,26,62,27],[71,2,72,3],[20,5,23,34],[37,5,37,14],[44,5,44,14],[61,18,61,19],[62,18,62,19],[62,20,62,21],[62,22,62,23],[62,28,62,29],[60,18,60,19],[60,20,60,21],[60,22,60,23],[61,26,61,27],[61,28,61,29],[62,24,62,25],[52,2,55,3],[21,2,23,3],[25,2,27,3],[25,5,35,34],[49,5,51,34],[52,5,55,34],[47,5,47,14],[38,5,38,14],[39,5,39,14],[40,5,40,14],[41,5,41,14],[42,5,42,14],[43,5,43,14],[45,5,45,14],[46,5,46,14],[38,15,38,19],[58,24,58,25],[58,26,58,27],[58,28,58,29],[59,16,59,17],[59,18,59,19],[59,20,59,21],[59,22,59,23],[59,24,59,25],[59,26,59,27],[59,28,59,29],[58,16,58,17],[58,18,58,19],[58,20,58,21],[58,22,58,23],[58,6,58,15],[59,6,59,15],[60,6,60,15],[61,6,61,15],[62,6,62,15]]}
[]
[]
[]
[]
[]
[]
[]
[]
[]
[]
[]
[]
[]
[]
[]
[]
[]
[]
[null,null,null,null,null,null,null,null,null,null,null,null,null,null,"Julio 2022"]
[]
[null,null,null,null,null,"Tiempos de respuesta de las solicitudes de información recibidas "]
[null,null,"Tipología de Peticiones recibidas en el mes "]
[]
[]
[]
[null,null,"En la siguiente tabla se registra la cantidad de peticiones recibidas por la Defensoría del Espacio Público en el mes de estudio. ",null,null,"De acuerdo a las disposiciones de la Ley 2207 de 2022 “Por medio del cual se modifica el decreto legislativo 491 de 2020”, que derogó el articulo 2 y 3 del Decreto 491 de 2020 donde se ampliaban los términos de respuesta por emergencia sanitaria y el retorno a los tiempos establecidos en la Ley 1755 del 2015.\" el cuál, deroga el artículo 5 del Decreto 491 de 2020 los tiempos otorgados para las peticiones radicadas durante la emergencia sanitaria y retoma los tiempos de respuesta establecidos en la Ley 1755 del 2015 desde el 18 de mayo en adelante.\n\nEs de aclarar que las peticiones que ingresaron hasta el 17 de mayo, estan cobijadas por el Decreto 491 del 2022, las recibidas desde el 18 de mayo en adelante, aplica los términos de respuesta de la Ley 1755 del 2015.\n\nA partir del tiempo reglamentario y el reporte emitido por la Secretaría General como insumo para la presentación del presente informe se presenta el tiempo promedio por tipología a continuación"]
[]
[]
[]
[]
[]
[]
[]
[]
[]
[]
[]
[null,null,null,null,null,"Tipología",null,null,null,null,null,null,null,null,null,"Tiempos Decreto 491 de 2020",null,null,null,null,"Tiempos Ley 1755 del 2015",null,null,null,null,"Promedio Tiempos de Respuesta\nTransición Decreto 491 del 2020 y Ley 2207 del 2022"]
[null,null,null,null,null,"Consulta",null,null,null,null,null,null,null,null,null,35,null,null,null,null,30,null,null,null,null,"18 días"]
[null,null,null,null,null,"Derecho de Interés Particular",null,null,null,null,null,null,null,null,null,30,null,null,null,null,15,15,null,null,null,"12 días"]
[null,null,null,null,null,"Derecho de Interés General",null,null,null,null,null,null,null,null,null,30,null,null,null,null,15,15,null,null,null,"14 días"]
[null,null,null,null,null,"Denuncia por Actos de Corrupción",null,null,null,null,null,null,null,null,null,30,null,null,null,null,15,15,null,null,null,"0 días"]
[null,null,null,null,null,"Felicitación",null,null,null,null,null,null,null,null,null,30,null,null,null,null,15,15,null,null,null,"0 días"]
[null,null,null,null,null,"Queja",null,null,null,null,null,null,null,null,null,30,null,null,null,null,15,15,null,null,null,"0 día"]
[null,null,null,null,null,"Reclamo",null,null,null,null,null,null,null,null,null,30,null,null,null,null,15,15,null,null,null,"0 días"]
[null,null,null,null,null,"Sugerencia",null,null,null,null,null,null,null,null,null,30,null,null,null,null,15,15,null,null,null,"0 días"]
[null,null,null,null,null,"Solicitud Acceso a la Información",null,null,null,null,null,null,null,null,null,20,null,null,null,null,10,10,null,null,null,"13 días"]
[null,null,null,null,null,"Solicitud de Copia",null,null,null,null,null,null,null,null,null,20,null,null,null,null,10,10,null,null,null,"11 días"]
[]
[null,null,"Número de solicitudes \nrecibidas y registradas","Número de solicitudes trasladadas a otra entidad",null,"Nota: Para las tipologías: Denuncia por actos de corrupción, Reclamo y Sugerencia no se presentaron durante el mes de JULIO del 2022.\n\nDe igual forma, de acuerdo al cambio normativo, la tipología Derecho de Interés Particular promedia los tiempos de respuesta anteriores al 17 de mayo, contemplados en el Decreto 491 del 2020."]
[null,null,368,256]
[]
[null,null,"De acuerdo con las cifras anteriores, tomadas del reporte del sistema Bogotá te escucha, las solicitudes recibidas y registradas por la Defensoría del Espacio Público se clasifican de la siguiente manera por tipo de petición.",null,null,"Con base en el reporte del Sistema de Gestión de Peticiones Ciudadanas Bogotá te escucha y de conformidad con  el tiempo promedio de respuesta de las dependencias y/o áreas de la Defensoría del Espacio Público fue de 13 días, sin embargo, es pertinente aclarar que este reporte para el mes de análisis tiene el promedio del total de las peticiones ingresadas durante el tránsito normativo, como se muestra a continuación:"]
[]
[]
[]
[]
[null,null,"Tipo de petición","Cantidad",null,null,{"$f":"+'[5]para PQR (2)'!$S$20","v":"Dependencia"},null,null,null,null,null,null,null,null,null,"CONSULTA",null,"DERECHO DE PETICION DE INTERES GENERAL",null,"DERECHO DE PETICION DE INTERES PARTICULAR",null,"SOLICITUD DE ACCESO A LA INFORMACION",null,"SOLICITUD DE COPIA",null,"SUGERENCIA",null,"Total general"]
[null,null,"DERECHO DE PETICION DE INTERES PARTICULAR",162,null,null,"AREA DE ATENCION A LA CIUDADANIA",null,null,null,null,null,null,null,null,null,null,null,18,null,6,null,16,null,null,null,null,null,11.5]
[null,null,"DERECHO DE PETICION DE INTERES GENERAL",126,null,null,"DESPACHO","DESPACHO","DESPACHO","DESPACHO","DESPACHO","DESPACHO","DESPACHO","DESPACHO","DESPACHO","DESPACHO",null,null,null,null,15,null,null,null,null,null,null,null,15]
[null,null,"QUEJA",58,null,null,"SUBDIRECCION DE ADMINISTRACION INMOBILIARIA Y DE ESPACIO PUBLICO","SUBDIRECCION DE ADMINISTRACION INMOBILIARIA Y DE ESPACIO PUBLICO","SUBDIRECCION DE ADMINISTRACION INMOBILIARIA Y DE ESPACIO PUBLICO","SUBDIRECCION DE ADMINISTRACION INMOBILIARIA Y DE ESPACIO PUBLICO","SUBDIRECCION DE ADMINISTRACION INMOBILIARIA Y DE ESPACIO PUBLICO","SUBDIRECCION DE ADMINISTRACION INMOBILIARIA Y DE ESPACIO PUBLICO","SUBDIRECCION DE ADMINISTRACION INMOBILIARIA Y DE ESPACIO PUBLICO","SUBDIRECCION DE ADMINISTRACION INMOBILIARIA Y DE ESPACIO PUBLICO","SUBDIRECCION DE ADMINISTRACION INMOBILIARIA Y DE ESPACIO PUBLICO","SUBDIRECCION DE ADMINISTRACION INMOBILIARIA Y DE ESPACIO PUBLICO",23,null,11.428571428571429,null,13.423728813559322,null,null,null,11,null,9,null,12.951807228915662]
[null,null,"RECLAMO",8,null,null,"SUBDIRECCION DE REGISTRO INMOBILIARIO","SUBDIRECCION DE REGISTRO INMOBILIARIO","SUBDIRECCION DE REGISTRO INMOBILIARIO","SUBDIRECCION DE REGISTRO INMOBILIARIO","SUBDIRECCION DE REGISTRO INMOBILIARIO","SUBDIRECCION DE REGISTRO INMOBILIARIO","SUBDIRECCION DE REGISTRO INMOBILIARIO","SUBDIRECCION DE REGISTRO INMOBILIARIO","SUBDIRECCION DE REGISTRO INMOBILIARIO","SUBDIRECCION DE REGISTRO INMOBILIARIO",13.75,null,11.833333333333334,null,11.962962962962964,null,10,null,null,null,null,null,12.078947368421053]
[null,null,"CONSULTA",6,null,null,"Promedio días por tipología ","Promedio días por tipología ","Promedio días por tipología ","Promedio días por tipología ","Promedio días por tipología ","Promedio días por tipología ","Promedio días por tipología ","Promedio días por tipología ","Promedio días por tipología ","Promedio días por tipología ",18.375,null,13.753968253968255,null,11.596672944130571,null,13,null,11,null,9,null,12.882688649334179]
[null,null,"DENUNCIA POR ACTOS DE CORRUPCION",2]
[null,null,"SOLICITUD DE ACCESO A LA INFORMACION",2]
[null,null,"SOLICITUD DE COPIA",2]
[null,null,"FELICITACION",1]
[null,null,"SUGERENCIA",1]
[null,null,"Total general",368]
[]
[]
[null,null,"Por otra parte, la Defensoría del Espacio Público trasladó por competencia, 256 solicitudes."]

{"sheet":"Registradas y Recibidas","index":2,"n_rows":386,"n_cols":7,"rows_kept":386,"cut":false,"hidden":false,"merged":[[8,1,14,2],[11,3,13,4]]}
[]
[]
[]
[]
[]
[]
[]
[]
[null,"REPORTE  GESTIÓN DE PETICIONES\n\nFecha:  2022- 07- 01    a   2022 - 07 - 31\nEstado de Petición:  Al Periodo"]
[]
[]
[]
[]
[]
[]
[]
[]
[null,"Número petición\nNumero de registro en el Sistema","Dependencia:\nNombre asociado al usuario que tiene a cargo la petición ","Canal:\nNombre del canal parametrizado en el sistema por el cual fue registrada la petición","Tipología actualizada: \nTipo de documento utilizado por la entidad","Días gestión\nDías calendario transcurridos desde la fecha de inicio de términos hasta el último día del mes","Estado del Requerimiento\n \"Gestionado\" o \"Pendiente\" de respuesta definitiva por  parte de la Defensoría del Espacio Público o de las entidades competentes"]
[null,{"$f":"+'[5]para PQR (2)'!B34","v":2265492022},{"$f":"+'[5]para PQR (2)'!C34","v":"SUBDIRECCION DE REGISTRO INMOBILIARIO"},{"$f":"+'[5]para PQR (2)'!D34","v":"WEB"},{"$f":"+'[5]para PQR (2)'!E34","v":"DERECHO DE PETICION DE INTERES GENERAL"},{"$f":"+'[5]para PQR (2)'!F34","v":12},{"$f":"+'[5]para PQR (2)'!G34","v":"GESTIONADO"}]
[null,{"$f":"+'[5]para PQR (2)'!B35","v":2344002022},{"$f":"+'[5]para PQR (2)'!C35","v":"DESPACHO"},{"$f":"+'[5]para PQR (2)'!D35","v":"E-MAIL"},{"$f":"+'[5]para PQR (2)'!E35","v":"DERECHO DE PETICION DE INTERES PARTICULAR"},{"$f":"+'[5]para PQR (2)'!F35","v":1},{"$f":"+'[5]para PQR (2)'!G35","v":"GESTIONADO"}]
[null,{"$f":"+'[5]para PQR (2)'!B36","v":2412712022},{"$f":"+'[5]para PQR (2)'!C36","v":"AREA DE ATENCION A LA CIUDADANIA"},{"$f":"+'[5]para PQR (2)'!D36","v":"E-MAIL"},{"$f":"+'[5]para PQR (2)'!E36","v":"DERECHO DE PETICION DE INTERES GENERAL"},{"$f":"+'[5]para PQR (2)'!F36","v":1},{"$f":"+'[5]para PQR (2)'!G36","v":"GESTIONADO"}]
[null,{"$f":"+'[5]para PQR (2)'!B37","v":2444312022},{"$f":"+'[5]para PQR (2)'!C37","v":"AREA DE ATENCION A LA CIUDADANIA"},{"$f":"+'[5]para PQR (2)'!D37","v":"WEB"},{"$f":"+'[5]para PQR (2)'!E37","v":"DERECHO DE PETICION DE INTERES GENERAL"},{"$f":"+'[5]para PQR (2)'!F37","v":1},{"$f":"+'[5]para PQR (2)'!G37","v":"GESTIONADO"}]
[null,{"$f":"+'[5]para PQR (2)'!B38","v":2449342022},{"$f":"+'[5]para PQR (2)'!C38","v":"SUBDIRECCION DE REGISTRO INMOBILIARIO"},{"$f":"+'[5]para PQR (2)'!D38","v":"WEB"},{"$f":"+'[5]para PQR (2)'!E38","v":"DERECHO DE PETICION DE INTERES PARTICULAR"},{"$f":"+'[5]para PQR (2)'!F38","v":3},{"$f":"+'[5]para PQR (2)'!G38","v":"PENDIENTE"}]
[null,{"$f":"+'[5]para PQR (2)'!B39","v":2453022022},{"$f":"+'[5]para PQR (2)'!C39","v":"AREA DE ATENCION A LA CIUDADANIA"},{"$f":"+'[5]para PQR (2)'!D39","v":"WEB"},{"$f":"+'[5]para PQR (2)'!E39","v":"CONSULTA"},{"$f":"+'[5]para PQR (2)'!F39","v":1},{"$f":"+'[5]para PQR (2)'!G39","v":"GESTIONADO"}]
[null,{"$f":"+'[5]para PQR (2)'!B40","v":2455252022},{"$f":"+'[5]para PQR (2)'!C40","v":"AREA DE ATENCION A LA CIUDADANIA"},{"$f":"+'[5]para PQR (2)'!D40","v":"WEB"},{"$f":"+'[5]para PQR (2)'!E40","v":"QUEJA"},{"$f":"+'[5]para PQR (2)'!F40","v":1},{"$f":"+'[5]para PQR (2)'!G40","v":"GESTIONADO"}]
[null,{"$f":"+'[5]para PQR (2)'!B41","v":2455282022},{"$f":"+'[5]para PQR (2)'!C41","v":"AREA DE ATENCION A LA CIUDADANIA"},{"$f":"+'[5]para PQR (2)'!D41","v":"WEB"},{"$f":"+'[5]para PQR (2)'!E41","v":"QUEJA"},{"$f":"+'[5]para PQR (2)'!F41","v":1},{"$f":"+'[5]para PQR (2)'!G41","v":"GESTIONADO"}]
[null,{"$f":"+'[5]para PQR (2)'!B42","v":2455502022},{"$f":"+'[5]para PQR (2)'!C42","v":"AREA DE ATENCION A LA CIUDADANIA"},{"$f":"+'[5]para PQR (2)'!D42","v":"TELEFONO"},{"$f":"+'[5]para PQR (2)'!E42","v":"DERECHO DE PETICION DE INTERES GENERAL"},{"$f":"+'[5]para PQR (2)'!F42","v":1},{"$f":"+'[5]para PQR (2)'!G42","v":"GESTIONADO"}]
[null,{"$f":"+'[5]para PQR (2)'!B43","v":2459772022},{"$f":"+'[5]para PQR (2)'!C43","v":"SUBDIRECCION DE REGISTRO INMOBILIARIO"},{"$f":"+'[5]para PQR (2)'!D43","v":"E-MAIL"},{"$f":"+'[5]para PQR (2)'!E43","v":"DERECHO DE PETICION DE INTERES PARTICULAR"},{"$f":"+'[5]para PQR (2)'!F43","v":14},{"$f":"+'[5]para PQR (2)'!G43","v":"GESTIONADO"}]
[null,{"$f":"+'[5]para PQR (2)'!B44","v":2459992022},{"$f":"+'[5]para PQR (2)'!C44","v":"SUBDIRECCION DE ADMINISTRACION INMOBILIARIA Y DE ESPACIO PUBLICO"},{"$f":"+'[5]para PQR (2)'!D44","v":"E-MAIL"},{"$f":"+'[5]para PQR (2)'!E44","v":"DERECHO DE PETICION DE INTERES PARTICULAR"},{"$f":"+'[5]para PQR (2)'!F44","v":14},{"$f":"+'[5]para PQR (2)'!G44","v":"GESTIONADO"}]
[null,{"$f":"+'[5]para PQR (2)'!B45","v":2460272022},{"$f":"+'[5]para PQR (2)'!C45","v":"SUBDIRECCION DE ADMINISTRACION INMOBILIARIA Y DE ESPACIO PUBLICO"},{"$f":"+'[5]para PQR (2)'!D45","v":"E-MAIL"},{"$f":"+'[5]para PQR (2)'!E45","v":"DERECHO DE PETICION DE INTERES PARTICULAR"},{"$f":"+'[5]para PQR (2)'!F45","v":14},{"$f":"+'[5]para PQR (2)'!G45","v":"GESTIONADO"}]
[null,{"$f":"+'[5]para PQR (2)'!B46","v":2460492022},{"$f":"+'[5]para PQR (2)'!C46","v":"SUBDIRECCION DE ADMINISTRACION INMOBILIARIA Y DE ESPACIO PUBLICO"},{"$f":"+'[5]para PQR (2)'!D46","v":"E-MAIL"},{"$f":"+'[5]para PQR (2)'!E46","v":"DERECHO DE PETICION DE INTERES PARTICULAR"},{"$f":"+'[5]para PQR (2)'!F46","v":14},{"$f":"+'[5]para PQR (2)'!G46","v":"GESTIONADO"}]
[null,{"$f":"+'[5]para PQR (2)'!B47","v":2460592022},{"$f":"+'[5]para PQR (2)'!C47","v":"SUBDIRECCION DE ADMINISTRACION INMOBILIARIA Y DE ESPACIO PUBLICO"},{"$f":"+'[5]para PQR (2)'!D47","v":"E-MAIL"},{"$f":"+'[5]para PQR (2)'!E47","v":"DERECHO DE PETICION DE INTERES PARTICULAR"},{"$f":"+'[5]para PQR (2)'!F47","v":9},{"$f":"+'[5]para PQR (2)'!G47","v":"GESTIONADO"}]
[null,{"$f":"+'[5]para PQR (2)'!B48","v":2460832022},{"$f":"+'[5]para PQR (2)'!C48","v":"SUBDIRECCION ADMINISTRATIVA  FINANCIERA Y DE CONTROL DISCIPLINARIO"},{"$f":"+'[5]para PQR (2)'!D48","v":"WEB"},{"$f":"+'[5]para PQR (2)'!E48","v":"DERECHO DE PETICION DE INTERES GENERAL"},{"$f":"+'[5]para PQR (2)'!F48","v":1},{"$f":"+'[5]para PQR (2)'!G48","v":"GESTIONADO"}]
[null,{"$f":"+'[5]para PQR (2)'!B49","v":2461872022},{"$f":"+'[5]para PQR (2)'!C49","v":"SUBDIRECCION DE ADMINISTRACION INMOBILIARIA Y DE ESPACIO PUBLICO"},{"$f":"+'[5]para PQR (2)'!D49","v":"WEB"},{"$f":"+'[5]para PQR (2)'!E49","v":"DERECHO DE PETICION DE INTERES PARTICULAR"},{"$f":"+'[5]para PQR (2)'!F49","v":13},{"$f":"+'[5]para PQR (2)'!G49","v":"GESTIONADO"}]
[null,{"$f":"+'[5]para PQR (2)'!B50","v":2466312022},{"$f":"+'[5]para PQR (2)'!C50","v":"AREA DE ATENCION A LA CIUDADANIA"},{"$f":"+'[5]para PQR (2)'!D50","v":"WEB"},{"$f":"+'[5]para PQR (2)'!E50","v":"DERECHO DE PETICION DE INTERES GENERAL"},{"$f":"+'[5]para PQR (2)'!F50","v":1},{"$f":"+'[5]para PQR (2)'!G50","v":"GESTIONADO"}]
[null,{"$f":"+'[5]para PQR (2)'!B51","v":2466442022},{"$f":"+'[5]para PQR (2)'!C51","v":"AREA DE ATENCION A LA CIUDADANIA"},{"$f":"+'[5]para PQR (2)'!D51","v":"TELEFONO"},{"$f":"+'[5]para PQR (2)'!E51","v":"DERECHO DE PETICION DE INTERES GENERAL"},{"$f":"+'[5]para PQR (2)'!F51","v":1},{"$f":"+'[5]para PQR (2)'!G51","v":"GESTIONADO"}]
[null,{"$f":"+'[5]para PQR (2)'!B52","v":2466582022},{"$f":"+'[5]para PQR (2)'!C52","v":"AREA DE ATENCION A LA CIUDADANIA"},{"$f":"+'[5]para PQR (2)'!D52","v":"WEB"},{"$f":"+'[5]para PQR (2)'!E52","v":"DERECHO DE PETICION DE INTERES GENERAL"},{"$f":"+'[5]para PQR (2)'!F52","v":1},{"$f":"+'[5]para PQR (2)'!G52","v":"GESTIONADO"}]
[null,{"$f":"+'[5]para PQR (2)'!B53","v":2468292022},{"$f":"+'[5]para PQR (2)'!C53","v":"AREA DE ATENCION A LA CIUDADANIA"},{"$f":"+'[5]para PQR (2)'!D53","v":"WEB"},{"$f":"+'[5]para PQR (2)'!E53","v":"QUEJA"},{"$f":"+'[5]para PQR (2)'!F53","v":1},{"$f":"+'[5]para PQR (2)'!G53","v":"GESTIONADO"}]
[null,{"$f":"+'[5]para PQR (2)'!B54","v":2468522022},{"$f":"+'[5]para PQR (2)'!C54","v":"AREA DE ATENCION A LA CIUDADANIA"},{"$f":"+'[5]para PQR (2)'!D54","v":"WEB"},{"$f":"+'[5]para PQR (2)'!E54","v":"QUEJA"},{"$f":"+'[5]para PQR (2)'!F54","v":1},{"$f":"+'[5]para PQR (2)'!G54","v":"GESTIONADO"}]
[null,{"$f":"+'[5]para PQR (2)'!B55","v":2469902022},{"$f":"+'[5]para PQR (2)'!C55","v":"AREA DE ATENCION A LA CIUDADANIA"},{"$f":"+'[5]para PQR (2)'!D55","v":"WEB"},{"$f":"+'[5]para PQR (2)'!E55","v":"DERECHO DE PETICION DE INTERES GENERAL"},{"$f":"+'[5]para PQR (2)'!F55","v":1},{"$f":"+'[5]para PQR (2)'!G55","v":"GESTIONADO"}]
[null,{"$f":"+'[5]para PQR (2)'!B56","v":2469922022},{"$f":"+'[5]para PQR (2)'!C56","v":"AREA DE ATENCION A LA CIUDADANIA"},{"$f":"+'[5]para PQR (2)'!D56","v":"WEB"},{"$f":"+'[5]para PQR (2)'!E56","v":"DERECHO DE PETICION DE INTERES GENERAL"},{"$f":"+'[5]para PQR (2)'!F56","v":1},{"$f":"+'[5]para PQR (2)'!G56","v":"GESTIONADO"}]
[null,{"$f":"+'[5]para PQR (2)'!B57","v":2470292022},{"$f":"+'[5]para PQR (2)'!C57","v":"AREA DE ATENCION A LA CIUDADANIA"},{"$f":"+'[5]para PQR (2)'!D57","v":"WEB"},{"$f":"+'[5]para PQR (2)'!E57","v":"RECLAMO"},{"$f":"+'[5]para PQR (2)'!F57","v":1},{"$f":"+'[5]para PQR (2)'!G57","v":"GESTIONADO"}]
[null,{"$f":"+'[5]para PQR (2)'!B58","v":2470592022},{"$f":"+'[5]para PQR (2)'!C58","v":"SUBDIRECCION DE ADMINISTRACION INMOBILIARIA Y DE ESPACIO PUBLICO"},{"$f":"+'[5]para PQR (2)'!D58","v":"WEB"},{"$f":"+'[5]para PQR (2)'!E58","v":"DERECHO DE PETICION DE INTERES GENERAL"},{"$f":"+'[5]para PQR (2)'!F58","v":11},{"$f":"+'[5]para PQR (2)'!G58","v":"GESTIONADO"}]
[null,{"$f":"+'[5]para PQR (2)'!B59","v":2470602022},{"$f":"+'[5]para PQR (2)'!C59","v":"AREA DE ATENCION A LA CIUDADANIA"},{"$f":"+'[5]para PQR (2)'!D59","v":"WEB"},{"$f":"+'[5]para PQR (2)'!E59","v":"DERECHO DE PETICION DE INTERES GENERAL"},{"$f":"+'[5]para PQR (2)'!F59","v":1},{"$f":"+'[5]para PQR (2)'!G59","v":"GESTIONADO"}]
[null,{"$f":"+'[5]para PQR (2)'!B60","v":2470642022},{"$f":"+'[5]para PQR (2)'!C60","v":"AREA DE ATENCION A LA CIUDADANIA"},{"$f":"+'[5]para PQR (2)'!D60","v":"WEB"},{"$f":"+'[5]para PQR (2)'!E60","v":"DERECHO DE PETICION DE INTERES GENERAL"},{"$f":"+'[5]para PQR (2)'!F60","v":1},{"$f":"+'[5]para PQR (2)'!G60","v":"GESTIONADO"}]
[null,{"$f":"+'[5]para PQR (2)'!B61","v":2470672022},{"$f":"+'[5]para PQR (2)'!C61","v":"AREA DE ATENCION A LA CIUDADANIA"},{"$f":"+'[5]para PQR (2)'!D61","v":"WEB"},{"$f":"+'[5]para PQR (2)'!E61","v":"DERECHO DE PETICION DE INTERES GENERAL"},{"$f":"+'[5]para PQR (2)'!F61","v":1},{"$f":"+'[5]para PQR (2)'!G61","v":"GESTIONADO"}]
[null,{"$f":"+'[5]para PQR (2)'!B62","v":2471792022},{"$f":"+'[5]para PQR (2)'!C62","v":"SUBDIRECCION ADMINISTRATIVA  FINANCIERA Y DE CONTROL DISCIPLINARIO"},{"$f":"+'[5]para PQR (2)'!D62","v":"WEB"},{"$f":"+'[5]para PQR (2)'!E62","v":"DENUNCIA POR ACTOS DE CORRUPCION"},{"$f":"+'[5]para PQR (2)'!F62","v":1},{"$f":"+'[5]para PQR (2)'!G62","v":"GESTIONADO"}]
[null,{"$f":"+'[5]para PQR (2)'!B63","v":2473202022},{"$f":"+'[5]para PQR (2)'!C63","v":"AREA DE ATENCION A LA CIUDADANIA"},{"$f":"+'[5]para PQR (2)'!D63","v":"WEB"},{"$f":"+'[5]para PQR (2)'!E63","v":"DERECHO DE PETICION DE INTERES GENERAL"},{"$f":"+'[5]para PQR (2)'!F63","v":1},{"$f":"+'[5]para PQR (2)'!G63","v":"GESTIONADO"}]
[null,{"$f":"+'[5]para PQR (2)'!B64","v":2477332022},{"$f":"+'[5]para PQR (2)'!C64","v":"SUBDIRECCION DE ADMINISTRACION INMOBILIARIA Y DE ESPACIO PUBLICO"},{"$f":"+'[5]para PQR (2)'!D64","v":"E-MAIL"},{"$f":"+'[5]para PQR (2)'!E64","v":"DERECHO DE PETICION DE INTERES PARTICULAR"},{"$f":"+'[5]para PQR (2)'!F64","v":7},{"$f":"+'[5]para PQR (2)'!G64","v":"GESTIONADO"}]
[null,{"$f":"+'[5]para PQR (2)'!B65","v":2477552022},{"$f":"+'[5]para PQR (2)'!C65","v":"SUBDIRECCION DE ADMINISTRACION INMOBILIARIA Y DE ESPACIO PUBLICO"},{"$f":"+'[5]para PQR (2)'!D65","v":"E-MAIL"},{"$f":"+'[5]para PQR (2)'!E65","v":"DERECHO DE PETICION DE INTERES PARTICULAR"},{"$f":"+'[5]para PQR (2)'!F65","v":14},{"$f":"+'[5]para PQR (2)'!G65","v":"GESTIONADO"}]
[null,{"$f":"+'[5]para PQR (2)'!B66","v":2477902022},{"$f":"+'[5]para PQR (2)'!C66","v":"SUBDIRECCION DE REGISTRO INMOBILIARIO"},{"$f":"+'[5]para PQR (2)'!D66","v":"WEB"},{"$f":"+'[5]para PQR (2)'!E66","v":"DERECHO DE PETICION DE INTERES PARTICULAR"},{"$f":"+'[5]para PQR (2)'!F66","v":12},{"$f":"+'[5]para PQR (2)'!G66","v":"GESTIONADO"}]
[null,{"$f":"+'[5]para PQR (2)'!B67","v":2478172022},{"$f":"+'[5]para PQR (2)'!C67","v":"SUBDIRECCION DE ADMINISTRACION INMOBILIARIA Y DE ESPACIO PUBLICO"},{"$f":"+'[5]para PQR (2)'!D67","v":"E-MAIL"},{"$f":"+'[5]para PQR (2)'!E67","v":"DERECHO DE PETICION DE INTERES PARTICULAR"},{"$f":"+'[5]para PQR (2)'!F67","v":8},{"$f":"+'[5]para PQR (2)'!G67","v":"GESTIONADO"}]
[null,{"$f":"+'[5]para PQR (2)'!B68","v":2478352022},{"$f":"+'[5]para PQR (2)'!C68","v":"SUBDIRECCION DE ADMINISTRACION INMOBILIARIA Y DE ESPACIO PUBLICO"},{"$f":"+'[5]para PQR (2)'!D68","v":"E-MAIL"},{"$f":"+'[5]para PQR (2)'!E68","v":"DERECHO DE PETICION DE INTERES PARTICULAR"},{"$f":"+'[5]para PQR (2)'!F68","v":8},{"$f":"+'[5]para PQR (2)'!G68","v":"GESTIONADO"}]
[null,{"$f":"+'[5]para PQR (2)'!B69","v":2478602022},{"$f":"+'[5]para PQR (2)'!C69","v":"SUBDIRECCION DE REGISTRO INMOBILIARIO"},{"$f":"+'[5]para PQR (2)'!D69","v":"E-MAIL"},{"$f":"+'[5]para PQR (2)'!E69","v":"DERECHO DE PETICION DE INTERES PARTICULAR"},{"$f":"+'[5]para PQR (2)'!F69","v":12},{"$f":"+'[5]para PQR (2)'!G69","v":"GESTIONADO"}]
[null,{"$f":"+'[5]para PQR (2)'!B70","v":2478972022},{"$f":"+'[5]para PQR (2)'!C70","v":"SUBDIRECCION DE ADMINISTRACION INMOBILIARIA Y DE ESPACIO PUBLICO"},{"$f":"+'[5]para PQR (2)'!D70","v":"E-MAIL"},{"$f":"+'[5]para PQR (2)'!E70","v":"DERECHO DE PETICION DE INTERES PARTICULAR"},{"$f":"+'[5]para PQR (2)'!F70","v":13},{"$f":"+'[5]para PQR (2)'!G70","v":"GESTIONADO"}]
[null,{"$f":"+'[5]para PQR (2)'!B71","v":2479172022},{"$f":"+'[5]para PQR (2)'!C71","v":"SUBDIRECCION DE ADMINISTRACION INMOBILIARIA Y DE ESPACIO PUBLICO"},{"$f":"+'[5]para PQR (2)'!D71","v":"E-MAIL"},{"$f":"+'[5]para PQR (2)'!E71","v":"DERECHO DE PETICION DE INTERES PARTICULAR"},{"$f":"+'[5]para PQR (2)'!F71","v":13},{"$f":"+'[5]para PQR (2)'!G71","v":"GESTIONADO"}]
[null,{"$f":"+'[5]para PQR (2)'!B72","v":2479402022},{"$f":"+'[5]para PQR (2)'!C72","v":"SUBDIRECCION DE ADMINISTRACION INMOBILIARIA Y DE ESPACIO PUBLICO"},{"$f":"+'[5]para PQR (2)'!D72","v":"E-MAIL"},{"$f":"+'[5]para PQR (2)'!E72","v":"DERECHO DE PETICION DE INTERES GENERAL"},{"$f":"+'[5]para PQR (2)'!F72","v":8},{"$f":"+'[5]para PQR (2)'!G72","v":"GESTIONADO"}]
[null,{"$f":"+'[5]para PQR (2)'!B73","v":2481672022},{"$f":"+'[5]para PQR (2)'!C73","v":"SUBDIRECCION DE ADMINISTRACION INMOBILIARIA Y DE ESPACIO PUBLICO"},{"$f":"+'[5]para PQR (2)'!D73","v":"WEB"},{"$f":"+'[5]para PQR (2)'!E73","v":"DERECHO DE PETICION DE INTERES GENERAL"},{"$f":"+'[5]para PQR (2)'!F73","v":15},{"$f":"+'[5]para PQR (2)'!G73","v":"GESTIONADO"}]
[null,{"$f":"+'[5]para PQR (2)'!B74","v":2484582022},{"$f":"+'[5]para PQR (2)'!C74","v":"AREA DE ATENCION A LA CIUDADANIA"},{"$f":"+'[5]para PQR (2)'!D74","v":"WEB"},{"$f":"+'[5]para PQR (2)'!E74","v":"QUEJA"},{"$f":"+'[5]para PQR (2)'!F74","v":1},{"$f":"+'[5]para PQR (2)'!G74","v":"GESTIONADO"}]
[null,{"$f":"+'[5]para PQR (2)'!B75","v":2486562022},{"$f":"+'[5]para PQR (2)'!C75","v":"SUBDIRECCION DE ADMINISTRACION INMOBILIARIA Y DE ESPACIO PUBLICO"},{"$f":"+'[5]para PQR (2)'!D75","v":"E-MAIL"},{"$f":"+'[5]para PQR (2)'!E75","v":"DERECHO DE PETICION DE INTERES PARTICULAR"},{"$f":"+'[5]para PQR (2)'!F75","v":14},{"$f":"+'[5]para PQR (2)'!G75","v":"GESTIONADO"}]
[null,{"$f":"+'[5]para PQR (2)'!B76","v":2489302022},{"$f":"+'[5]para PQR (2)'!C76","v":"AREA DE ATENCION A LA CIUDADANIA"},{"$f":"+'[5]para PQR (2)'!D76","v":"WEB"},{"$f":"+'[5]para PQR (2)'!E76","v":"DERECHO DE PETICION DE INTERES PARTICULAR"},{"$f":"+'[5]para PQR (2)'!F76","v":1},{"$f":"+'[5]para PQR (2)'!G76","v":"GESTIONADO"}]
[null,{"$f":"+'[5]para PQR (2)'!B77","v":2491262022},{"$f":"+'[5]para PQR (2)'!C77","v":"SUBDIRECCION DE REGISTRO INMOBILIARIO"},{"$f":"+'[5]para PQR (2)'!D77","v":"WEB"},{"$f":"+'[5]para PQR (2)'!E77","v":"DERECHO DE PETICION DE INTERES PARTICULAR"},{"$f":"+'[5]para PQR (2)'!F77","v":11},{"$f":"+'[5]para PQR (2)'!G77","v":"GESTIONADO"}]
[null,{"$f":"+'[5]para PQR (2)'!B78","v":2491522022},{"$f":"+'[5]para PQR (2)'!C78","v":"AREA DE ATENCION A LA CIUDADANIA"},{"$f":"+'[5]para PQR (2)'!D78","v":"WEB"},{"$f":"+'[5]para PQR (2)'!E78","v":"DERECHO DE PETICION DE INTERES GENERAL"},{"$f":"+'[5]para PQR (2)'!F78","v":1},{"$f":"+'[5]para PQR (2)'!G78","v":"GESTIONADO"}]
[null,{"$f":"+'[5]para PQR (2)'!B79","v":2492662022},{"$f":"+'[5]para PQR (2)'!C79","v":"AREA DE ATENCION A LA CIUDADANIA"},{"$f":"+'[5]para PQR (2)'!D79","v":"WEB"},{"$f":"+'[5]para PQR (2)'!E79","v":"QUEJA"},{"$f":"+'[5]para PQR (2)'!F79","v":1},{"$f":"+'[5]para PQR (2)'!G79","v":"GESTIONADO"}]
[null,{"$f":"+'[5]para PQR (2)'!B80","v":2493902022},{"$f":"+'[5]para PQR (2)'!C80","v":"AREA DE ATENCION A LA CIUDADANIA"},{"$f":"+'[5]para PQR (2)'!D80","v":"WEB"},{"$f":"+'[5]para PQR (2)'!E80","v":"DERECHO DE PETICION DE INTERES PARTICULAR"},{"$f":"+'[5]para PQR (2)'!F80","v":1},{"$f":"+'[5]para PQR (2)'!G80","v":"GESTIONADO"}]
[null,{"$f":"+'[5]para PQR (2)'!B81","v":2494692022},{"$f":"+'[5]para PQR (2)'!C81","v":"AREA DE ATENCION A LA CIUDADANIA"},{"$f":"+'[5]para PQR (2)'!D81","v":"TELEFONO"},{"$f":"+'[5]para PQR (2)'!E81","v":"DERECHO DE PETICION DE INTERES GENERAL"},{"$f":"+'[5]para PQR (2)'!F81","v":1},{"$f":"+'[5]para PQR (2)'!G81","v":"GESTIONADO"}]
[null,{"$f":"+'[5]para PQR (2)'!B82","v":2496122022},{"$f":"+'[5]para PQR (2)'!C82","v":"SUBDIRECCION DE ADMINISTRACION INMOBILIARIA Y DE ESPACIO PUBLICO"},{"$f":"+'[5]para PQR (2)'!D82","v":"E-MAIL"},{"$f":"+'[5]para PQR (2)'!E82","v":"DERECHO DE PETICION DE INTERES PARTICULAR"},{"$f":"+'[5]para PQR (2)'!F82","v":13},{"$f":"+'[5]para PQR (2)'!G82","v":"GESTIONADO"}]
[null,{"$f":"+'[5]para PQR (2)'!B83","v":2496562022},{"$f":"+'[5]para PQR (2)'!C83","v":"SUBDIRECCION DE ADMINISTRACION INMOBILIARIA Y DE ESPACIO PUBLICO"},{"$f":"+'[5]para PQR (2)'!D83","v":"E-MAIL"},{"$f":"+'[5]para PQR (2)'!E83","v":"DERECHO DE PETICION DE INTERES PARTICULAR"},{"$f":"+'[5]para PQR (2)'!F83","v":9},{"$f":"+'[5]para PQR (2)'!G83","v":"GESTIONADO"}]
[null,{"$f":"+'[5]para PQR (2)'!B84","v":2496792022},{"$f":"+'[5]para PQR (2)'!C84","v":"SUBDIRECCION DE ADMINISTRACION INMOBILIARIA Y DE ESPACIO PUBLICO"},{"$f":"+'[5]para PQR (2)'!D84","v":"E-MAIL"},{"$f":"+'[5]para PQR (2)'!E84","v":"DERECHO DE PETICION DE INTERES PARTICULAR"},{"$f":"+'[5]para PQR (2)'!F84","v":12},{"$f":"+'[5]para PQR (2)'!G84","v":"GESTIONADO"}]
[null,{"$f":"+'[5]para PQR (2)'!B85","v":2497022022},{"$f":"+'[5]para PQR (2)'!C85","v":"AREA DE ATENCION A LA CIUDADANIA"},{"$f":"+'[5]para PQR (2)'!D85","v":"WEB"},{"$f":"+'[5]para PQR (2)'!E85","v":"QUEJA"},{"$f":"+'[5]para PQR (2)'!F85","v":1},{"$f":"+'[5]para PQR (2)'!G85","v":"GESTIONADO"}]
[null,{"$f":"+'[5]para PQR (2)'!B86","v":2498032022},{"$f":"+'[5]para PQR (2)'!C86","v":"AREA DE ATENCION A LA CIUDADANIA"},{"$f":"+'[5]para PQR (2)'!D86","v":"TELEFONO"},{"$f":"+'[5]para PQR (2)'!E86","v":"DERECHO DE PETICION DE INTERES GENERAL"},{"$f":"+'[5]para PQR (2)'!F86","v":1},{"$f":"+'[5]para PQR (2)'!G86","v":"GESTIONADO"}]
[null,{"$f":"+'[5]para PQR (2)'!B87","v":2498342022},{"$f":"+'[5]para PQR (2)'!C87","v":"SUBDIRECCION DE REGISTRO INMOBILIARIO"},{"$f":"+'[5]para PQR (2)'!D87","v":"WEB"},{"$f":"+'[5]para PQR (2)'!E87","v":"DERECHO DE PETICION DE INTERES PARTICULAR"},{"$f":"+'[5]para PQR (2)'!F87","v":10},{"$f":"+'[5]para PQR (2)'!G87","v":"GESTIONADO"}]
[null,{"$f":"+'[5]para PQR (2)'!B88","v":2500552022},{"$f":"+'[5]para PQR (2)'!C88","v":"AREA DE ATENCION A LA CIUDADANIA"},{"$f":"+'[5]para PQR (2)'!D88","v":"WEB"},{"$f":"+'[5]para PQR (2)'!E88","v":"QUEJA"},{"$f":"+'[5]para PQR (2)'!F88","v":1},{"$f":"+'[5]para PQR (2)'!G88","v":"GESTIONADO"}]
[null,{"$f":"+'[5]para PQR (2)'!B89","v":2501642022},{"$f":"+'[5]para PQR (2)'!C89","v":"AREA DE ATENCION A LA CIUDADANIA"},{"$f":"+'[5]para PQR (2)'!D89","v":"WEB"},{"$f":"+'[5]para PQR (2)'!E89","v":"DERECHO DE PETICION DE INTERES GENERAL"},{"$f":"+'[5]para PQR (2)'!F89","v":1},{"$f":"+'[5]para PQR (2)'!G89","v":"GESTIONADO"}]
[null,{"$f":"+'[5]para PQR (2)'!B90","v":2501942022},{"$f":"+'[5]para PQR (2)'!C90","v":"SUBDIRECCION DE ADMINISTRACION INMOBILIARIA Y DE ESPACIO PUBLICO"},{"$f":"+'[5]para PQR (2)'!D90","v":"WEB"},{"$f":"+'[5]para PQR (2)'!E90","v":"DERECHO DE PETICION DE INTERES PARTICULAR"},{"$f":"+'[5]para PQR (2)'!F90","v":12},{"$f":"+'[5]para PQR (2)'!G90","v":"GESTIONADO"}]
[null,{"$f":"+'[5]para PQR (2)'!B91","v":2503382022},{"$f":"+'[5]para PQR (2)'!C91","v":"SUBDIRECCION DE ADMINISTRACION INMOBILIARIA Y DE ESPACIO PUBLICO"},{"$f":"+'[5]para PQR (2)'!D91","v":"E-MAIL"},{"$f":"+'[5]para PQR (2)'!E91","v":"DERECHO DE PETICION DE INTERES PARTICULAR"},{"$f":"+'[5]para PQR (2)'!F91","v":14},{"$f":"+'[5]para PQR (2)'!G91","v":"GESTIONADO"}]
[null,{"$f":"+'[5]para PQR (2)'!B92","v":2503472022},{"$f":"+'[5]para PQR (2)'!C92","v":"SUBDIRECCION DE ADMINISTRACION INMOBILIARIA Y DE ESPACIO PUBLICO"},{"$f":"+'[5]para PQR (2)'!D92","v":"E-MAIL"},{"$f":"+'[5]para PQR (2)'!E92","v":"DERECHO DE PETICION DE INTERES PARTICULAR"},{"$f":"+'[5]para PQR (2)'!F92","v":5},{"$f":"+'[5]para PQR (2)'!G92","v":"GESTIONADO"}]
[null,{"$f":"+'[5]para PQR (2)'!B93","v":2503592022},{"$f":"+'[5]para PQR (2)'!C93","v":"SUBDIRECCION DE ADMINISTRACION INMOBILIARIA Y DE ESPACIO PUBLICO"},{"$f":"+'[5]para PQR (2)'!D93","v":"E-MAIL"},{"$f":"+'[5]para PQR (2)'!E93","v":"DERECHO DE PETICION DE INTERES PARTICULAR"},{"$f":"+'[5]para PQR (2)'!F93","v":14},{"$f":"+'[5]para PQR (2)'!G93","v":"GESTIONADO"}]
[null,{"$f":"+'[5]para PQR (2)'!B94","v":2505662022},{"$f":"+'[5]para PQR (2)'!C94","v":"SUBDIRECCION ADMINISTRATIVA  FINANCIERA Y DE CONTROL DISCIPLINARIO"},{"$f":"+'[5]para PQR (2)'!D94","v":"WEB"},{"$f":"+'[5]para PQR (2)'!E94","v":"DERECHO DE PETICION DE INTERES GENERAL"},{"$f":"+'[5]para PQR (2)'!F94","v":1},{"$f":"+'[5]para PQR (2)'!G94","v":"GESTIONADO"}]
[null,{"$f":"+'[5]para PQR (2)'!B95","v":2506252022},{"$f":"+'[5]para PQR (2)'!C95","v":"SUBDIRECCION DE ADMINISTRACION INMOBILIARIA Y DE ESPACIO PUBLICO"},{"$f":"+'[5]para PQR (2)'!D95","v":"WEB"},{"$f":"+'[5]para PQR (2)'!E95","v":"DERECHO DE PETICION DE INTERES GENERAL"},{"$f":"+'[5]para PQR (2)'!F95","v":12},{"$f":"+'[5]para PQR (2)'!G95","v":"GESTIONADO"}]
[null,{"$f":"+'[5]para PQR (2)'!B96","v":2507212022},{"$f":"+'[5]para PQR (2)'!C96","v":"AREA DE ATENCION A LA CIUDADANIA"},{"$f":"+'[5]para PQR (2)'!D96","v":"WEB"},{"$f":"+'[5]para PQR (2)'!E96","v":"QUEJA"},{"$f":"+'[5]para PQR (2)'!F96","v":1},{"$f":"+'[5]para PQR (2)'!G96","v":"GESTIONADO"}]
[null,{"$f":"+'[5]para PQR (2)'!B97","v":2509292022},{"$f":"+'[5]para PQR (2)'!C97","v":"SUBDIRECCION DE REGISTRO INMOBILIARIO"},{"$f":"+'[5]para PQR (2)'!D97","v":"E-MAIL"},{"$f":"+'[5]para PQR (2)'!E97","v":"DERECHO DE PETICION DE INTERES PARTICULAR"},{"$f":"+'[5]para PQR (2)'!F97","v":10},{"$f":"+'[5]para PQR (2)'!G97","v":"GESTIONADO"}]
[null,{"$f":"+'[5]para PQR (2)'!B98","v":2509462022},{"$f":"+'[5]para PQR (2)'!C98","v":"SUBDIRECCION DE ADMINISTRACION INMOBILIARIA Y DE ESPACIO PUBLICO"},{"$f":"+'[5]para PQR (2)'!D98","v":"E-MAIL"},{"$f":"+'[5]para PQR (2)'!E98","v":"DERECHO DE PETICION DE INTERES PARTICULAR"},{"$f":"+'[5]para PQR (2)'!F98","v":14},{"$f":"+'[5]para PQR (2)'!G98","v":"GESTIONADO"}]
[null,{"$f":"+'[5]para PQR (2)'!B99","v":2509622022},{"$f":"+'[5]para PQR (2)'!C99","v":"SUBDIRECCION DE REGISTRO INMOBILIARIO"},{"$f":"+'[5]para PQR (2)'!D99","v":"E-MAIL"},{"$f":"+'[5]para PQR (2)'!E99","v":"DERECHO DE PETICION DE INTERES PARTICULAR"},{"$f":"+'[5]para PQR (2)'!F99","v":12},{"$f":"+'[5]para PQR (2)'!G99","v":"GESTIONADO"}]
[null,{"$f":"+'[5]para PQR (2)'!B100","v":2509712022},{"$f":"+'[5]para PQR (2)'!C100","v":"AREA DE ATENCION A LA CIUDADANIA"},{"$f":"+'[5]para PQR (2)'!D100","v":"WEB"},{"$f":"+'[5]para PQR (2)'!E100","v":"DERECHO DE PETICION DE INTERES PARTICULAR"},{"$f":"+'[5]para PQR (2)'!F100","v":1},{"$f":"+'[5]para PQR (2)'!G100","v":"GESTIONADO"}]
[null,{"$f":"+'[5]para PQR (2)'!B101","v":2509852022},{"$f":"+'[5]para PQR (2)'!C101","v":"SUBDIRECCION DE ADMINISTRACION INMOBILIARIA Y DE ESPACIO PUBLICO"},{"$f":"+'[5]para PQR (2)'!D101","v":"E-MAIL"},{"$f":"+'[5]para PQR (2)'!E101","v":"DERECHO DE PETICION DE INTERES PARTICULAR"},{"$f":"+'[5]para PQR (2)'!F101","v":11},{"$f":"+'[5]para PQR (2)'!G101","v":"GESTIONADO"}]
[null,{"$f":"+'[5]para PQR (2)'!B102","v":2510022022},{"$f":"+'[5]para PQR (2)'!C102","v":"SUBDIRECCION DE ADMINISTRACION INMOBILIARIA Y DE ESPACIO PUBLICO"},{"$f":"+'[5]para PQR (2)'!D102","v":"E-MAIL"},{"$f":"+'[5]para PQR (2)'!E102","v":"DERECHO DE PETICION DE INTERES PARTICULAR"},{"$f":"+'[5]para PQR (2)'!F102","v":15},{"$f":"+'[5]para PQR (2)'!G102","v":"GESTIONADO"}]
[null,{"$f":"+'[5]para PQR (2)'!B103","v":2510212022},{"$f":"+'[5]para PQR (2)'!C103","v":"AREA DE ATENCION A LA CIUDADANIA"},{"$f":"+'[5]para PQR (2)'!D103","v":"TELEFONO"},{"$f":"+'[5]para PQR (2)'!E103","v":"RECLAMO"},{"$f":"+'[5]para PQR (2)'!F103","v":1},{"$f":"+'[5]para PQR (2)'!G103","v":"GESTIONADO"}]
[null,{"$f":"+'[5]para PQR (2)'!B104","v":2510372022},{"$f":"+'[5]para PQR (2)'!C104","v":"SUBDIRECCION DE ADMINISTRACION INMOBILIARIA Y DE ESPACIO PUBLICO"},{"$f":"+'[5]para PQR (2)'!D104","v":"E-MAIL"},{"$f":"+'[5]para PQR (2)'!E104","v":"DERECHO DE PETICION DE INTERES PARTICULAR"},{"$f":"+'[5]para PQR (2)'!F104","v":11},{"$f":"+'[5]para PQR (2)'!G104","v":"GESTIONADO"}]
[null,{"$f":"+'[5]para PQR (2)'!B105","v":2512892022},{"$f":"+'[5]para PQR (2)'!C105","v":"AREA DE ATENCION A LA CIUDADANIA"},{"$f":"+'[5]para PQR (2)'!D105","v":"WEB"},{"$f":"+'[5]para PQR (2)'!E105","v":"CONSULTA"},{"$f":"+'[5]para PQR (2)'!F105","v":1},{"$f":"+'[5]para PQR (2)'!G105","v":"GESTIONADO"}]
[null,{"$f":"+'[5]para PQR (2)'!B106","v":2514992022},{"$f":"+'[5]para PQR (2)'!C106","v":"AREA DE ATENCION A LA CIUDADANIA"},{"$f":"+'[5]para PQR (2)'!D106","v":"WEB"},{"$f":"+'[5]para PQR (2)'!E106","v":"QUEJA"},{"$f":"+'[5]para PQR (2)'!F106","v":1},{"$f":"+'[5]para PQR (2)'!G106","v":"GESTIONADO"}]
[null,{"$f":"+'[5]para PQR (2)'!B107","v":2515282022},{"$f":"+'[5]para PQR (2)'!C107","v":"SUBDIRECCION DE REGISTRO INMOBILIARIO"},{"$f":"+'[5]para PQR (2)'!D107","v":"WEB"},{"$f":"+'[5]para PQR (2)'!E107","v":"DERECHO DE PETICION DE INTERES GENERAL"},{"$f":"+'[5]para PQR (2)'!F107","v":10},{"$f":"+'[5]para PQR (2)'!G107","v":"GESTIONADO"}]
[null,{"$f":"+'[5]para PQR (2)'!B108","v":2515482022},{"$f":"+'[5]para PQR (2)'!C108","v":"SUBDIRECCION DE REGISTRO INMOBILIARIO"},{"$f":"+'[5]para PQR (2)'!D108","v":"WEB"},{"$f":"+'[5]para PQR (2)'!E108","v":"DERECHO DE PETICION DE INTERES PARTICULAR"},{"$f":"+'[5]para PQR (2)'!F108","v":14},{"$f":"+'[5]para PQR (2)'!G108","v":"GESTIONADO"}]
[null,{"$f":"+'[5]para PQR (2)'!B109","v":2515492022},{"$f":"+'[5]para PQR (2)'!C109","v":"AREA DE ATENCION A LA CIUDADANIA"},{"$f":"+'[5]para PQR (2)'!D109","v":"WEB"},{"$f":"+'[5]para PQR (2)'!E109","v":"DERECHO DE PETICION DE INTERES PARTICULAR"},{"$f":"+'[5]para PQR (2)'!F109","v":1},{"$f":"+'[5]para PQR (2)'!G109","v":"GESTIONADO"}]
[null,{"$f":"+'[5]para PQR (2)'!B110","v":2517322022},{"$f":"+'[5]para PQR (2)'!C110","v":"SUBDIRECCION DE ADMINISTRACION INMOBILIARIA Y DE ESPACIO PUBLICO"},{"$f":"+'[5]para PQR (2)'!D110","v":"WEB"},{"$f":"+'[5]para PQR (2)'!E110","v":"DERECHO DE PETICION DE INTERES GENERAL"},{"$f":"+'[5]para PQR (2)'!F110","v":11},{"$f":"+'[5]para PQR (2)'!G110","v":"GESTIONADO"}]
[null,{"$f":"+'[5]para PQR (2)'!B111","v":2517792022},{"$f":"+'[5]para PQR (2)'!C111","v":"SUBDIRECCION DE ADMINISTRACION INMOBILIARIA Y DE ESPACIO PUBLICO"},{"$f":"+'[5]para PQR (2)'!D111","v":"WEB"},{"$f":"+'[5]para PQR (2)'!E111","v":"DERECHO DE PETICION DE INTERES GENERAL"},{"$f":"+'[5]para PQR (2)'!F111","v":15},{"$f":"+'[5]para PQR (2)'!G111","v":"GESTIONADO"}]
[null,{"$f":"+'[5]para PQR (2)'!B112","v":2517972022},{"$f":"+'[5]para PQR (2)'!C112","v":"AREA DE ATENCION A LA CIUDADANIA"},{"$f":"+'[5]para PQR (2)'!D112","v":"WEB"},{"$f":"+'[5]para PQR (2)'!E112","v":"DERECHO DE PETICION DE INTERES PARTICULAR"},{"$f":"+'[5]para PQR (2)'!F112","v":1},{"$f":"+'[5]para PQR (2)'!G112","v":"GESTIONADO"}]
[null,{"$f":"+'[5]para PQR (2)'!B113","v":2518562022},{"$f":"+'[5]para PQR (2)'!C113","v":"AREA DE ATENCION A LA CIUDADANIA"},{"$f":"+'[5]para PQR (2)'!D113","v":"ESCRITO"},{"$f":"+'[5]para PQR (2)'!E113","v":"DERECHO DE PETICION DE INTERES PARTICULAR"},{"$f":"+'[5]para PQR (2)'!F113","v":1},{"$f":"+'[5]para PQR (2)'!G113","v":"GESTIONADO"}]
[null,{"$f":"+'[5]para PQR (2)'!B114","v":2518702022},{"$f":"+'[5]para PQR (2)'!C114","v":"AREA DE ATENCION A LA CIUDADANIA"},{"$f":"+'[5]para PQR (2)'!D114","v":"TELEFONO"},{"$f":"+'[5]para PQR (2)'!E114","v":"DERECHO DE PETICION DE INTERES GENERAL"},{"$f":"+'[5]para PQR (2)'!F114","v":1},{"$f":"+'[5]para PQR (2)'!G114","v":"GESTIONADO"}]
[null,{"$f":"+'[5]para PQR (2)'!B115","v":2520612022},{"$f":"+'[5]para PQR (2)'!C115","v":"AREA DE ATENCION A LA CIUDADANIA"},{"$f":"+'[5]para PQR (2)'!D115","v":"WEB"},{"$f":"+'[5]para PQR (2)'!E115","v":"DERECHO DE PETICION DE INTERES GENERAL"},{"$f":"+'[5]para PQR (2)'!F115","v":1},{"$f":"+'[5]para PQR (2)'!G115","v":"GESTIONADO"}]
[null,{"$f":"+'[5]para PQR (2)'!B116","v":2520772022},{"$f":"+'[5]para PQR (2)'!C116","v":"AREA DE ATENCION A LA CIUDADANIA"},{"$f":"+'[5]para PQR (2)'!D116","v":"WEB"},{"$f":"+'[5]para PQR (2)'!E116","v":"QUEJA"},{"$f":"+'[5]para PQR (2)'!F116","v":1},{"$f":"+'[5]para PQR (2)'!G116","v":"GESTIONADO"}]
[null,{"$f":"+'[5]para PQR (2)'!B117","v":2522072022},{"$f":"+'[5]para PQR (2)'!C117","v":"AREA DE ATENCION A LA CIUDADANIA"},{"$f":"+'[5]para PQR (2)'!D117","v":"WEB"},{"$f":"+'[5]para PQR (2)'!E117","v":"QUEJA"},{"$f":"+'[5]para PQR (2)'!F117","v":1},{"$f":"+'[5]para PQR (2)'!G117","v":"GESTIONADO"}]
[null,{"$f":"+'[5]para PQR (2)'!B118","v":2522342022},{"$f":"+'[5]para PQR (2)'!C118","v":"SUBDIRECCION DE REGISTRO INMOBILIARIO"},{"$f":"+'[5]para PQR (2)'!D118","v":"WEB"},{"$f":"+'[5]para PQR (2)'!E118","v":"DERECHO DE PETICION DE INTERES PARTICULAR"},{"$f":"+'[5]para PQR (2)'!F118","v":12},{"$f":"+'[5]para PQR (2)'!G118","v":"GESTIONADO"}]
[null,{"$f":"+'[5]para PQR (2)'!B119","v":2523602022},{"$f":"+'[5]para PQR (2)'!C119","v":"SUBDIRECCION DE ADMINISTRACION INMOBILIARIA Y DE ESPACIO PUBLICO"},{"$f":"+'[5]para PQR (2)'!D119","v":"E-MAIL"},{"$f":"+'[5]para PQR (2)'!E119","v":"DERECHO DE PETICION DE INTERES PARTICULAR"},{"$f":"+'[5]para PQR (2)'!F119","v":10},{"$f":"+'[5]para PQR (2)'!G119","v":"GESTIONADO"}]
[null,{"$f":"+'[5]para PQR (2)'!B120","v":2523872022},{"$f":"+'[5]para PQR (2)'!C120","v":"SUBDIRECCION DE REGISTRO INMOBILIARIO"},{"$f":"+'[5]para PQR (2)'!D120","v":"E-MAIL"},{"$f":"+'[5]para PQR (2)'!E120","v":"DERECHO DE PETICION DE INTERES PARTICULAR"},{"$f":"+'[5]para PQR (2)'!F120","v":14},{"$f":"+'[5]para PQR (2)'!G120","v":"GESTIONADO"}]
[null,{"$f":"+'[5]para PQR (2)'!B121","v":2527242022},{"$f":"+'[5]para PQR (2)'!C121","v":"SUBDIRECCION DE ADMINISTRACION INMOBILIARIA Y DE ESPACIO PUBLICO"},{"$f":"+'[5]para PQR (2)'!D121","v":"E-MAIL"},{"$f":"+'[5]para PQR (2)'!E121","v":"DERECHO DE PETICION DE INTERES GENERAL"},{"$f":"+'[5]para PQR (2)'!F121","v":5},{"$f":"+'[5]para PQR (2)'!G121","v":"GESTIONADO"}]
[null,{"$f":"+'[5]para PQR (2)'!B122","v":2528102022},{"$f":"+'[5]para PQR (2)'!C122","v":"AREA DE ATENCION A LA CIUDADANIA"},{"$f":"+'[5]para PQR (2)'!D122","v":"WEB"},{"$f":"+'[5]para PQR (2)'!E122","v":"QUEJA"},{"$f":"+'[5]para PQR (2)'!F122","v":1},{"$f":"+'[5]para PQR (2)'!G122","v":"GESTIONADO"}]
[null,{"$f":"+'[5]para PQR (2)'!B123","v":2528282022},{"$f":"+'[5]para PQR (2)'!C123","v":"AREA DE ATENCION A LA CIUDADANIA"},{"$f":"+'[5]para PQR (2)'!D123","v":"WEB"},{"$f":"+'[5]para PQR (2)'!E123","v":"QUEJA"},{"$f":"+'[5]para PQR (2)'!F123","v":1},{"$f":"+'[5]para PQR (2)'!G123","v":"GESTIONADO"}]
[null,{"$f":"+'[5]para PQR (2)'!B124","v":2528452022},{"$f":"+'[5]para PQR (2)'!C124","v":"SUBDIRECCION DE ADMINISTRACION INMOBILIARIA Y DE ESPACIO PUBLICO"},{"$f":"+'[5]para PQR (2)'!D124","v":"WEB"},{"$f":"+'[5]para PQR (2)'!E124","v":"DERECHO DE PETICION DE INTERES GENERAL"},{"$f":"+'[5]para PQR (2)'!F124","v":11},{"$f":"+'[5]para PQR (2)'!G124","v":"PENDIENTE"}]
[null,{"$f":"+'[5]para PQR (2)'!B125","v":2528532022},{"$f":"+'[5]para PQR (2)'!C125","v":"SUBDIRECCION DE ADMINISTRACION INMOBILIARIA Y DE ESPACIO PUBLICO"},{"$f":"+'[5]para PQR (2)'!D125","v":"WEB"},{"$f":"+'[5]para PQR (2)'!E125","v":"DERECHO DE PETICION DE INTERES GENERAL"},{"$f":"+'[5]para PQR (2)'!F125","v":10},{"$f":"+'[5]para PQR (2)'!G125","v":"GESTIONADO"}]
[null,{"$f":"+'[5]para PQR (2)'!B126","v":2528552022},{"$f":"+'[5]para PQR (2)'!C126","v":"AREA DE ATENCION A LA CIUDADANIA"},{"$f":"+'[5]para PQR (2)'!D126","v":"WEB"},{"$f":"+'[5]para PQR (2)'!E126","v":"DERECHO DE PETICION DE INTERES GENERAL"},{"$f":"+'[5]para PQR (2)'!F126","v":1},{"$f":"+'[5]para PQR (2)'!G126","v":"GESTIONADO"}]
[null,{"$f":"+'[5]para PQR (2)'!B127","v":2529112022},{"$f":"+'[5]para PQR (2)'!C127","v":"SUBDIRECCION DE REGISTRO INMOBILIARIO"},{"$f":"+'[5]para PQR (2)'!D127","v":"WEB"},{"$f":"+'[5]para PQR (2)'!E127","v":"CONSULTA"},{"$f":"+'[5]para PQR (2)'!F127","v":15},{"$f":"+'[5]para PQR (2)'!G127","v":"PENDIENTE"}]
[null,{"$f":"+'[5]para PQR (2)'!B128","v":2532512022},{"$f":"+'[5]para PQR (2)'!C128","v":"SUBDIRECCION DE REGISTRO INMOBILIARIO"},{"$f":"+'[5]para PQR (2)'!D128","v":"WEB"},{"$f":"+'[5]para PQR (2)'!E128","v":"DERECHO DE PETICION DE INTERES PARTICULAR"},{"$f":"+'[5]para PQR (2)'!F128","v":4},{"$f":"+'[5]para PQR (2)'!G128","v":"PENDIENTE"}]
[null,{"$f":"+'[5]para PQR (2)'!B129","v":2534872022},{"$f":"+'[5]para PQR (2)'!C129","v":"SUBDIRECCION DE REGISTRO INMOBILIARIO"},{"$f":"+'[5]para PQR (2)'!D129","v":"WEB"},{"$f":"+'[5]para PQR (2)'!E129","v":"CONSULTA"},{"$f":"+'[5]para PQR (2)'!F129","v":15},{"$f":"+'[5]para PQR (2)'!G129","v":"PENDIENTE"}]
[null,{"$f":"+'[5]para PQR (2)'!B130","v":2535782022},{"$f":"+'[5]para PQR (2)'!C130","v":"SUBDIRECCION DE ADMINISTRACION INMOBILIARIA Y DE ESPACIO PUBLICO"},{"$f":"+'[5]para PQR (2)'!D130","v":"WEB"},{"$f":"+'[5]para PQR (2)'!E130","v":"SUGERENCIA"},{"$f":"+'[5]para PQR (2)'!F130","v":9},{"$f":"+'[5]para PQR (2)'!G130","v":"GESTIONADO"}]
[null,{"$f":"+'[5]para PQR (2)'!B131","v":2535952022},{"$f":"+'[5]para PQR (2)'!C131","v":"AREA DE ATENCION A LA CIUDADANIA"},{"$f":"+'[5]para PQR (2)'!D131","v":"WEB"},{"$f":"+'[5]para PQR (2)'!E131","v":"DERECHO DE PETICION DE INTERES PARTICULAR"},{"$f":"+'[5]para PQR (2)'!F131","v":1},{"$f":"+'[5]para PQR (2)'!G131","v":"GESTIONADO"}]
[null,{"$f":"+'[5]para PQR (2)'!B132","v":2536152022},{"$f":"+'[5]para PQR (2)'!C132","v":"AREA DE ATENCION A LA CIUDADANIA"},{"$f":"+'[5]para PQR (2)'!D132","v":"WEB"},{"$f":"+'[5]para PQR (2)'!E132","v":"RECLAMO"},{"$f":"+'[5]para PQR (2)'!F132","v":1},{"$f":"+'[5]para PQR (2)'!G132","v":"GESTIONADO"}]
[null,{"$f":"+'[5]para PQR (2)'!B133","v":2538012022},{"$f":"+'[5]para PQR (2)'!C133","v":"AREA DE ATENCION A LA CIUDADANIA"},{"$f":"+'[5]para PQR (2)'!D133","v":"WEB"},{"$f":"+'[5]para PQR (2)'!E133","v":"QUEJA"},{"$f":"+'[5]para PQR (2)'!F133","v":1},{"$f":"+'[5]para PQR (2)'!G133","v":"GESTIONADO"}]
[null,{"$f":"+'[5]para PQR (2)'!B134","v":2542552022},{"$f":"+'[5]para PQR (2)'!C134","v":"SUBDIRECCION DE ADMINISTRACION INMOBILIARIA Y DE ESPACIO PUBLICO"},{"$f":"+'[5]para PQR (2)'!D134","v":"WEB"},{"$f":"+'[5]para PQR (2)'!E134","v":"DERECHO DE PETICION DE INTERES GENERAL"},{"$f":"+'[5]para PQR (2)'!F134","v":14},{"$f":"+'[5]para PQR (2)'!G134","v":"PENDIENTE"}]
[null,{"$f":"+'[5]para PQR (2)'!B135","v":2545232022},{"$f":"+'[5]para PQR (2)'!C135","v":"SUBDIRECCION DE ADMINISTRACION INMOBILIARIA Y DE ESPACIO PUBLICO"},{"$f":"+'[5]para PQR (2)'!D135","v":"E-MAIL"},{"$f":"+'[5]para PQR (2)'!E135","v":"DERECHO DE PETICION DE INTERES PARTICULAR"},{"$f":"+'[5]para PQR (2)'!F135","v":14},{"$f":"+'[5]para PQR (2)'!G135","v":"PENDIENTE"}]
[null,{"$f":"+'[5]para PQR (2)'!B136","v":2545442022},{"$f":"+'[5]para PQR (2)'!C136","v":"SUBDIRECCION DE ADMINISTRACION INMOBILIARIA Y DE ESPACIO PUBLICO"},{"$f":"+'[5]para PQR (2)'!D136","v":"E-MAIL"},{"$f":"+'[5]para PQR (2)'!E136","v":"DERECHO DE PETICION DE INTERES PARTICULAR"},{"$f":"+'[5]para PQR (2)'!F136","v":10},{"$f":"+'[5]para PQR (2)'!G136","v":"GESTIONADO"}]
[null,{"$f":"+'[5]para PQR (2)'!B137","v":2545722022},{"$f":"+'[5]para PQR (2)'!C137","v":"SUBDIRECCION DE ADMINISTRACION INMOBILIARIA Y DE ESPACIO PUBLICO"},{"$f":"+'[5]para PQR (2)'!D137","v":"E-MAIL"},{"$f":"+'[5]para PQR (2)'!E137","v":"DERECHO DE PETICION DE INTERES PARTICULAR"},{"$f":"+'[5]para PQR (2)'!F137","v":11},{"$f":"+'[5]para PQR (2)'!G137","v":"GESTIONADO"}]
[null,{"$f":"+'[5]para PQR (2)'!B138","v":2546072022},{"$f":"+'[5]para PQR (2)'!C138","v":"SUBDIRECCION DE ADMINISTRACION INMOBILIARIA Y DE ESPACIO PUBLICO"},{"$f":"+'[5]para PQR (2)'!D138","v":"E-MAIL"},{"$f":"+'[5]para PQR (2)'!E138","v":"DERECHO DE PETICION DE INTERES PARTICULAR"},{"$f":"+'[5]para PQR (2)'!F138","v":9},{"$f":"+'[5]para PQR (2)'!G138","v":"GESTIONADO"}]
[null,{"$f":"+'[5]para PQR (2)'!B139","v":2546532022},{"$f":"+'[5]para PQR (2)'!C139","v":"SUBDIRECCION DE ADMINISTRACION INMOBILIARIA Y DE ESPACIO PUBLICO"},{"$f":"+'[5]para PQR (2)'!D139","v":"E-MAIL"},{"$f":"+'[5]para PQR (2)'!E139","v":"DERECHO DE PETICION DE INTERES PARTICULAR"},{"$f":"+'[5]para PQR (2)'!F139","v":10},{"$f":"+'[5]para PQR (2)'!G139","v":"GESTIONADO"}]
[null,{"$f":"+'[5]para PQR (2)'!B140","v":2546692022},{"$f":"+'[5]para PQR (2)'!C140","v":"SUBDIRECCION DE ADMINISTRACION INMOBILIARIA Y DE ESPACIO PUBLICO"},{"$f":"+'[5]para PQR (2)'!D140","v":"E-MAIL"},{"$f":"+'[5]para PQR (2)'!E140","v":"DERECHO DE PETICION DE INTERES PARTICULAR"},{"$f":"+'[5]para PQR (2)'!F140","v":14},{"$f":"+'[5]para PQR (2)'!G140","v":"PENDIENTE"}]
[null,{"$f":"+'[5]para PQR (2)'!B141","v":2546982022},{"$f":"+'[5]para PQR (2)'!C141","v":"SUBDIRECCION DE ADMINISTRACION INMOBILIARIA Y DE ESPACIO PUBLICO"},{"$f":"+'[5]para PQR (2)'!D141","v":"E-MAIL"},{"$f":"+'[5]para PQR (2)'!E141","v":"DERECHO DE PETICION DE INTERES PARTICULAR"},{"$f":"+'[5]para PQR (2)'!F141","v":10},{"$f":"+'[5]para PQR (2)'!G141","v":"GESTIONADO"}]
[null,{"$f":"+'[5]para PQR (2)'!B142","v":2548002022},{"$f":"+'[5]para PQR (2)'!C142","v":"SUBDIRECCION DE ADMINISTRACION INMOBILIARIA Y DE ESPACIO PUBLICO"},{"$f":"+'[5]para PQR (2)'!D142","v":"E-MAIL"},{"$f":"+'[5]para PQR (2)'!E142","v":"DERECHO DE PETICION DE INTERES PARTICULAR"},{"$f":"+'[5]para PQR (2)'!F142","v":10},{"$f":"+'[5]para PQR (2)'!G142","v":"GESTIONADO"}]
[null,{"$f":"+'[5]para PQR (2)'!B143","v":2548212022},{"$f":"+'[5]para PQR (2)'!C143","v":"SUBDIRECCION DE ADMINISTRACION INMOBILIARIA Y DE ESPACIO PUBLICO"},{"$f":"+'[5]para PQR (2)'!D143","v":"E-MAIL"},{"$f":"+'[5]para PQR (2)'!E143","v":"DERECHO DE PETICION DE INTERES PARTICULAR"},{"$f":"+'[5]para PQR (2)'!F143","v":10},{"$f":"+'[5]para PQR (2)'!G143","v":"GESTIONADO"}]
[null,{"$f":"+'[5]para PQR (2)'!B144","v":2548432022},{"$f":"+'[5]para PQR (2)'!C144","v":"SUBDIRECCION DE ADMINISTRACION INMOBILIARIA Y DE ESPACIO PUBLICO"},{"$f":"+'[5]para PQR (2)'!D144","v":"E-MAIL"},{"$f":"+'[5]para PQR (2)'!E144","v":"DERECHO DE PETICION DE INTERES PARTICULAR"},{"$f":"+'[5]para PQR (2)'!F144","v":10},{"$f":"+'[5]para PQR (2)'!G144","v":"GESTIONADO"}]
[null,{"$f":"+'[5]para PQR (2)'!B145","v":2549452022},{"$f":"+'[5]para PQR (2)'!C145","v":"AREA DE ATENCION A LA CIUDADANIA"},{"$f":"+'[5]para PQR (2)'!D145","v":"WEB"},{"$f":"+'[5]para PQR (2)'!E145","v":"QUEJA"},{"$f":"+'[5]para PQR (2)'!F145","v":1},{"$f":"+'[5]para PQR (2)'!G145","v":"GESTIONADO"}]
[null,{"$f":"+'[5]para PQR (2)'!B146","v":2551142022},{"$f":"+'[5]para PQR (2)'!C146","v":"SUBDIRECCION DE ADMINISTRACION INMOBILIARIA Y DE ESPACIO PUBLICO"},{"$f":"+'[5]para PQR (2)'!D146","v":"E-MAIL"},{"$f":"+'[5]para PQR (2)'!E146","v":"DERECHO DE PETICION DE INTERES GENERAL"},{"$f":"+'[5]para PQR (2)'!F146","v":10},{"$f":"+'[5]para PQR (2)'!G146","v":"GESTIONADO"}]
[null,{"$f":"+'[5]para PQR (2)'!B147","v":2551192022},{"$f":"+'[5]para PQR (2)'!C147","v":"SUBDIRECCION DE ADMINISTRACION INMOBILIARIA Y DE ESPACIO PUBLICO"},{"$f":"+'[5]para PQR (2)'!D147","v":"WEB"},{"$f":"+'[5]para PQR (2)'!E147","v":"DERECHO DE PETICION DE INTERES GENERAL"},{"$f":"+'[5]para PQR (2)'!F147","v":10},{"$f":"+'[5]para PQR (2)'!G147","v":"GESTIONADO"}]
[null,{"$f":"+'[5]para PQR (2)'!B148","v":2551372022},{"$f":"+'[5]para PQR (2)'!C148","v":"SUBDIRECCION DE REGISTRO INMOBILIARIO"},{"$f":"+'[5]para PQR (2)'!D148","v":"WEB"},{"$f":"+'[5]para PQR (2)'!E148","v":"DERECHO DE PETICION DE INTERES PARTICULAR"},{"$f":"+'[5]para PQR (2)'!F148","v":14},{"$f":"+'[5]para PQR (2)'!G148","v":"PENDIENTE"}]
[null,{"$f":"+'[5]para PQR (2)'!B149","v":2551462022},{"$f":"+'[5]para PQR (2)'!C149","v":"AREA DE ATENCION A LA CIUDADANIA"},{"$f":"+'[5]para PQR (2)'!D149","v":"WEB"},{"$f":"+'[5]para PQR (2)'!E149","v":"DERECHO DE PETICION DE INTERES GENERAL"},{"$f":"+'[5]para PQR (2)'!F149","v":1},{"$f":"+'[5]para PQR (2)'!G149","v":"GESTIONADO"}]
[null,{"$f":"+'[5]para PQR (2)'!B150","v":2551962022},{"$f":"+'[5]para PQR (2)'!C150","v":"SUBDIRECCION DE ADMINISTRACION INMOBILIARIA Y DE ESPACIO PUBLICO"},{"$f":"+'[5]para PQR (2)'!D150","v":"TELEFONO"},{"$f":"+'[5]para PQR (2)'!E150","v":"DERECHO DE PETICION DE INTERES GENERAL"},{"$f":"+'[5]para PQR (2)'!F150","v":11},{"$f":"+'[5]para PQR (2)'!G150","v":"GESTIONADO"}]
[null,{"$f":"+'[5]para PQR (2)'!B151","v":2552932022},{"$f":"+'[5]para PQR (2)'!C151","v":"AREA DE ATENCION A LA CIUDADANIA"},{"$f":"+'[5]para PQR (2)'!D151","v":"WEB"},{"$f":"+'[5]para PQR (2)'!E151","v":"QUEJA"},{"$f":"+'[5]para PQR (2)'!F151","v":1},{"$f":"+'[5]para PQR (2)'!G151","v":"GESTIONADO"}]
[null,{"$f":"+'[5]para PQR (2)'!B152","v":2553982022},{"$f":"+'[5]para PQR (2)'!C152","v":"SUBDIRECCION DE ADMINISTRACION INMOBILIARIA Y DE ESPACIO PUBLICO"},{"$f":"+'[5]para PQR (2)'!D152","v":"E-MAIL"},{"$f":"+'[5]para PQR (2)'!E152","v":"DERECHO DE PETICION DE INTERES PARTICULAR"},{"$f":"+'[5]para PQR (2)'!F152","v":10},{"$f":"+'[5]para PQR (2)'!G152","v":"GESTIONADO"}]
[null,{"$f":"+'[5]para PQR (2)'!B153","v":2554042022},{"$f":"+'[5]para PQR (2)'!C153","v":"SUBDIRECCION DE ADMINISTRACION INMOBILIARIA Y DE ESPACIO PUBLICO"},{"$f":"+'[5]para PQR (2)'!D153","v":"E-MAIL"},{"$f":"+'[5]para PQR (2)'!E153","v":"DERECHO DE PETICION DE INTERES PARTICULAR"},{"$f":"+'[5]para PQR (2)'!F153","v":11},{"$f":"+'[5]para PQR (2)'!G153","v":"GESTIONADO"}]
[null,{"$f":"+'[5]para PQR (2)'!B154","v":2557062022},{"$f":"+'[5]para PQR (2)'!C154","v":"AREA DE ATENCION A LA CIUDADANIA"},{"$f":"+'[5]para PQR (2)'!D154","v":"WEB"},{"$f":"+'[5]para PQR (2)'!E154","v":"DERECHO DE PETICION DE INTERES GENERAL"},{"$f":"+'[5]para PQR (2)'!F154","v":1},{"$f":"+'[5]para PQR (2)'!G154","v":"GESTIONADO"}]
[null,{"$f":"+'[5]para PQR (2)'!B155","v":2557582022},{"$f":"+'[5]para PQR (2)'!C155","v":"AREA DE ATENCION A LA CIUDADANIA"},{"$f":"+'[5]para PQR (2)'!D155","v":"WEB"},{"$f":"+'[5]para PQR (2)'!E155","v":"QUEJA"},{"$f":"+'[5]para PQR (2)'!F155","v":1},{"$f":"+'[5]para PQR (2)'!G155","v":"GESTIONADO"}]
[null,{"$f":"+'[5]para PQR (2)'!B156","v":2558252022},{"$f":"+'[5]para PQR (2)'!C156","v":"SUBDIRECCION DE ADMINISTRACION INMOBILIARIA Y DE ESPACIO PUBLICO"},{"$f":"+'[5]para PQR (2)'!D156","v":"ESCRITO"},{"$f":"+'[5]para PQR (2)'!E156","v":"DERECHO DE PETICION DE INTERES GENERAL"},{"$f":"+'[5]para PQR (2)'!F156","v":12},{"$f":"+'[5]para PQR (2)'!G156","v":"GESTIONADO"}]
[null,{"$f":"+'[5]para PQR (2)'!B157","v":2558792022},{"$f":"+'[5]para PQR (2)'!C157","v":"AREA DE ATENCION A LA CIUDADANIA"},{"$f":"+'[5]para PQR (2)'!D157","v":"WEB"},{"$f":"+'[5]para PQR (2)'!E157","v":"DERECHO DE PETICION DE INTERES GENERAL"},{"$f":"+'[5]para PQR (2)'!F157","v":1},{"$f":"+'[5]para PQR (2)'!G157","v":"GESTIONADO"}]
[null,{"$f":"+'[5]para PQR (2)'!B158","v":2561632022},{"$f":"+'[5]para PQR (2)'!C158","v":"SUBDIRECCION DE ADMINISTRACION INMOBILIARIA Y DE ESPACIO PUBLICO"},{"$f":"+'[5]para PQR (2)'!D158","v":"ESCRITO"},{"$f":"+'[5]para PQR (2)'!E158","v":"DERECHO DE PETICION DE INTERES PARTICULAR"},{"$f":"+'[5]para PQR (2)'!F158","v":9},{"$f":"+'[5]para PQR (2)'!G158","v":"GESTIONADO"}]
[null,{"$f":"+'[5]para PQR (2)'!B159","v":2561902022},{"$f":"+'[5]para PQR (2)'!C159","v":"SUBDIRECCION DE ADMINISTRACION INMOBILIARIA Y DE ESPACIO PUBLICO"},{"$f":"+'[5]para PQR (2)'!D159","v":"ESCRITO"},{"$f":"+'[5]para PQR (2)'!E159","v":"DERECHO DE PETICION DE INTERES PARTICULAR"},{"$f":"+'[5]para PQR (2)'!F159","v":13},{"$f":"+'[5]para PQR (2)'!G159","v":"PENDIENTE"}]
[null,{"$f":"+'[5]para PQR (2)'!B160","v":2562072022},{"$f":"+'[5]para PQR (2)'!C160","v":"SUBDIRECCION DE REGISTRO INMOBILIARIO"},{"$f":"+'[5]para PQR (2)'!D160","v":"ESCRITO"},{"$f":"+'[5]para PQR (2)'!E160","v":"DERECHO DE PETICION DE INTERES PARTICULAR"},{"$f":"+'[5]para PQR (2)'!F160","v":13},{"$f":"+'[5]para PQR (2)'!G160","v":"PENDIENTE"}]
[null,{"$f":"+'[5]para PQR (2)'!B161","v":2563902022},{"$f":"+'[5]para PQR (2)'!C161","v":"AREA DE ATENCION A LA CIUDADANIA"},{"$f":"+'[5]para PQR (2)'!D161","v":"WEB"},{"$f":"+'[5]para PQR (2)'!E161","v":"DERECHO DE PETICION DE INTERES GENERAL"},{"$f":"+'[5]para PQR (2)'!F161","v":1},{"$f":"+'[5]para PQR (2)'!G161","v":"GESTIONADO"}]
[null,{"$f":"+'[5]para PQR (2)'!B162","v":2563982022},{"$f":"+'[5]para PQR (2)'!C162","v":"AREA DE ATENCION A LA CIUDADANIA"},{"$f":"+'[5]para PQR (2)'!D162","v":"WEB"},{"$f":"+'[5]para PQR (2)'!E162","v":"DERECHO DE PETICION DE INTERES GENERAL"},{"$f":"+'[5]para PQR (2)'!F162","v":1},{"$f":"+'[5]para PQR (2)'!G162","v":"GESTIONADO"}]
[null,{"$f":"+'[5]para PQR (2)'!B163","v":2564662022},{"$f":"+'[5]para PQR (2)'!C163","v":"AREA DE ATENCION A LA CIUDADANIA"},{"$f":"+'[5]para PQR (2)'!D163","v":"WEB"},{"$f":"+'[5]para PQR (2)'!E163","v":"QUEJA"},{"$f":"+'[5]para PQR (2)'!F163","v":1},{"$f":"+'[5]para PQR (2)'!G163","v":"GESTIONADO"}]
[null,{"$f":"+'[5]para PQR (2)'!B164","v":2564722022},{"$f":"+'[5]para PQR (2)'!C164","v":"AREA DE ATENCION A LA CIUDADANIA"},{"$f":"+'[5]para PQR (2)'!D164","v":"WEB"},{"$f":"+'[5]para PQR (2)'!E164","v":"QUEJA"},{"$f":"+'[5]para PQR (2)'!F164","v":1},{"$f":"+'[5]para PQR (2)'!G164","v":"GESTIONADO"}]
[null,{"$f":"+'[5]para PQR (2)'!B165","v":2566492022},{"$f":"+'[5]para PQR (2)'!C165","v":"AREA DE ATENCION A LA CIUDADANIA"},{"$f":"+'[5]para PQR (2)'!D165","v":"TELEFONO"},{"$f":"+'[5]para PQR (2)'!E165","v":"DERECHO DE PETICION DE INTERES GENERAL"},{"$f":"+'[5]para PQR (2)'!F165","v":1},{"$f":"+'[5]para PQR (2)'!G165","v":"GESTIONADO"}]
[null,{"$f":"+'[5]para PQR (2)'!B166","v":2566532022},{"$f":"+'[5]para PQR (2)'!C166","v":"SUBDIRECCION DE ADMINISTRACION INMOBILIARIA Y DE ESPACIO PUBLICO"},{"$f":"+'[5]para PQR (2)'!D166","v":"ESCRITO"},{"$f":"+'[5]para PQR (2)'!E166","v":"DERECHO DE PETICION DE INTERES PARTICULAR"},{"$f":"+'[5]para PQR (2)'!F166","v":12},{"$f":"+'[5]para PQR (2)'!G166","v":"GESTIONADO"}]
[null,{"$f":"+'[5]para PQR (2)'!B167","v":2566802022},{"$f":"+'[5]para PQR (2)'!C167","v":"AREA DE ATENCION A LA CIUDADANIA"},{"$f":"+'[5]para PQR (2)'!D167","v":"WEB"},{"$f":"+'[5]para PQR (2)'!E167","v":"DERECHO DE PETICION DE INTERES GENERAL"},{"$f":"+'[5]para PQR (2)'!F167","v":1},{"$f":"+'[5]para PQR (2)'!G167","v":"GESTIONADO"}]
[null,{"$f":"+'[5]para PQR (2)'!B168","v":2566852022},{"$f":"+'[5]para PQR (2)'!C168","v":"SUBDIRECCION DE ADMINISTRACION INMOBILIARIA Y DE ESPACIO PUBLICO"},{"$f":"+'[5]para PQR (2)'!D168","v":"ESCRITO"},{"$f":"+'[5]para PQR (2)'!E168","v":"DERECHO DE PETICION DE INTERES PARTICULAR"},{"$f":"+'[5]para PQR (2)'!F168","v":9},{"$f":"+'[5]para PQR (2)'!G168","v":"GESTIONADO"}]
[null,{"$f":"+'[5]para PQR (2)'!B169","v":2567882022},{"$f":"+'[5]para PQR (2)'!C169","v":"SUBDIRECCION DE ADMINISTRACION INMOBILIARIA Y DE ESPACIO PUBLICO"},{"$f":"+'[5]para PQR (2)'!D169","v":"ESCRITO"},{"$f":"+'[5]para PQR (2)'!E169","v":"DERECHO DE PETICION DE INTERES PARTICULAR"},{"$f":"+'[5]para PQR (2)'!F169","v":13},{"$f":"+'[5]para PQR (2)'!G169","v":"PENDIENTE"}]
[null,{"$f":"+'[5]para PQR (2)'!B170","v":2568802022},{"$f":"+'[5]para PQR (2)'!C170","v":"AREA DE ATENCION A LA CIUDADANIA"},{"$f":"+'[5]para PQR (2)'!D170","v":"TELEFONO"},{"$f":"+'[5]para PQR (2)'!E170","v":"DERECHO DE PETICION DE INTERES GENERAL"},{"$f":"+'[5]para PQR (2)'!F170","v":1},{"$f":"+'[5]para PQR (2)'!G170","v":"GESTIONADO"}]
[null,{"$f":"+'[5]para PQR (2)'!B171","v":2573452022},{"$f":"+'[5]para PQR (2)'!C171","v":"SUBDIRECCION DE ADMINISTRACION INMOBILIARIA Y DE ESPACIO PUBLICO"},{"$f":"+'[5]para PQR (2)'!D171","v":"ESCRITO"},{"$f":"+'[5]para PQR (2)'!E171","v":"DERECHO DE PETICION DE INTERES PARTICULAR"},{"$f":"+'[5]para PQR (2)'!F171","v":7},{"$f":"+'[5]para PQR (2)'!G171","v":"GESTIONADO"}]
[null,{"$f":"+'[5]para PQR (2)'!B172","v":2577002022},{"$f":"+'[5]para PQR (2)'!C172","v":"AREA DE ATENCION A LA CIUDADANIA"},{"$f":"+'[5]para PQR (2)'!D172","v":"WEB"},{"$f":"+'[5]para PQR (2)'!E172","v":"QUEJA"},{"$f":"+'[5]para PQR (2)'!F172","v":1},{"$f":"+'[5]para PQR (2)'!G172","v":"GESTIONADO"}]
[null,{"$f":"+'[5]para PQR (2)'!B173","v":2577582022},{"$f":"+'[5]para PQR (2)'!C173","v":"AREA DE ATENCION A LA CIUDADANIA"},{"$f":"+'[5]para PQR (2)'!D173","v":"WEB"},{"$f":"+'[5]para PQR (2)'!E173","v":"DERECHO DE PETICION DE INTERES PARTICULAR"},{"$f":"+'[5]para PQR (2)'!F173","v":1},{"$f":"+'[5]para PQR (2)'!G173","v":"GESTIONADO"}]
[null,{"$f":"+'[5]para PQR (2)'!B174","v":2577642022},{"$f":"+'[5]para PQR (2)'!C174","v":"AREA DE ATENCION A LA CIUDADANIA"},{"$f":"+'[5]para PQR (2)'!D174","v":"WEB"},{"$f":"+'[5]para PQR (2)'!E174","v":"QUEJA"},{"$f":"+'[5]para PQR (2)'!F174","v":1},{"$f":"+'[5]para PQR (2)'!G174","v":"GESTIONADO"}]
[null,{"$f":"+'[5]para PQR (2)'!B175","v":2577802022},{"$f":"+'[5]para PQR (2)'!C175","v":"SUBDIRECCION DE ADMINISTRACION INMOBILIARIA Y DE ESPACIO PUBLICO"},{"$f":"+'[5]para PQR (2)'!D175","v":"ESCRITO"},{"$f":"+'[5]para PQR (2)'!E175","v":"DERECHO DE PETICION DE INTERES PARTICULAR"},{"$f":"+'[5]para PQR (2)'!F175","v":12},{"$f":"+'[5]para PQR (2)'!G175","v":"PENDIENTE"}]
[null,{"$f":"+'[5]para PQR (2)'!B176","v":2578212022},{"$f":"+'[5]para PQR (2)'!C176","v":"SUBDIRECCION DE ADMINISTRACION INMOBILIARIA Y DE ESPACIO PUBLICO"},{"$f":"+'[5]para PQR (2)'!D176","v":"ESCRITO"},{"$f":"+'[5]para PQR (2)'!E176","v":"DERECHO DE PETICION DE INTERES GENERAL"},{"$f":"+'[5]para PQR (2)'!F176","v":9},{"$f":"+'[5]para PQR (2)'!G176","v":"GESTIONADO"}]
[null,{"$f":"+'[5]para PQR (2)'!B177","v":2579742022},{"$f":"+'[5]para PQR (2)'!C177","v":"AREA DE ATENCION A LA CIUDADANIA"},{"$f":"+'[5]para PQR (2)'!D177","v":"WEB"},{"$f":"+'[5]para PQR (2)'!E177","v":"QUEJA"},{"$f":"+'[5]para PQR (2)'!F177","v":1},{"$f":"+'[5]para PQR (2)'!G177","v":"GESTIONADO"}]
[null,{"$f":"+'[5]para PQR (2)'!B178","v":2582582022},{"$f":"+'[5]para PQR (2)'!C178","v":"AREA DE ATENCION A LA CIUDADANIA"},{"$f":"+'[5]para PQR (2)'!D178","v":"WEB"},{"$f":"+'[5]para PQR (2)'!E178","v":"DERECHO DE PETICION DE INTERES PARTICULAR"},{"$f":"+'[5]para PQR (2)'!F178","v":1},{"$f":"+'[5]para PQR (2)'!G178","v":"GESTIONADO"}]
[null,{"$f":"+'[5]para PQR (2)'!B179","v":2582882022},{"$f":"+'[5]para PQR (2)'!C179","v":"AREA DE ATENCION A LA CIUDADANIA"},{"$f":"+'[5]para PQR (2)'!D179","v":"ESCRITO"},{"$f":"+'[5]para PQR (2)'!E179","v":"DERECHO DE PETICION DE INTERES PARTICULAR"},{"$f":"+'[5]para PQR (2)'!F179","v":1},{"$f":"+'[5]para PQR (2)'!G179","v":"GESTIONADO"}]
[null,{"$f":"+'[5]para PQR (2)'!B180","v":2583582022},{"$f":"+'[5]para PQR (2)'!C180","v":"AREA DE ATENCION A LA CIUDADANIA"},{"$f":"+'[5]para PQR (2)'!D180","v":"TELEFONO"},{"$f":"+'[5]para PQR (2)'!E180","v":"DERECHO DE PETICION DE INTERES GENERAL"},{"$f":"+'[5]para PQR (2)'!F180","v":1},{"$f":"+'[5]para PQR (2)'!G180","v":"GESTIONADO"}]
[null,{"$f":"+'[5]para PQR (2)'!B181","v":2583952022},{"$f":"+'[5]para PQR (2)'!C181","v":"AREA DE ATENCION A LA CIUDADANIA"},{"$f":"+'[5]para PQR (2)'!D181","v":"WEB"},{"$f":"+'[5]para PQR (2)'!E181","v":"QUEJA"},{"$f":"+'[5]para PQR (2)'!F181","v":1},{"$f":"+'[5]para PQR (2)'!G181","v":"GESTIONADO"}]
[null,{"$f":"+'[5]para PQR (2)'!B182","v":2588542022},{"$f":"+'[5]para PQR (2)'!C182","v":"AREA DE ATENCION A LA CIUDADANIA"},{"$f":"+'[5]para PQR (2)'!D182","v":"TELEFONO"},{"$f":"+'[5]para PQR (2)'!E182","v":"RECLAMO"},{"$f":"+'[5]para PQR (2)'!F182","v":1},{"$f":"+'[5]para PQR (2)'!G182","v":"GESTIONADO"}]
[null,{"$f":"+'[5]para PQR (2)'!B183","v":2588692022},{"$f":"+'[5]para PQR (2)'!C183","v":"AREA DE ATENCION A LA CIUDADANIA"},{"$f":"+'[5]para PQR (2)'!D183","v":"TELEFONO"},{"$f":"+'[5]para PQR (2)'!E183","v":"DERECHO DE PETICION DE INTERES GENERAL"},{"$f":"+'[5]para PQR (2)'!F183","v":1},{"$f":"+'[5]para PQR (2)'!G183","v":"GESTIONADO"}]
[null,{"$f":"+'[5]para PQR (2)'!B184","v":2589202022},{"$f":"+'[5]para PQR (2)'!C184","v":"AREA DE ATENCION A LA CIUDADANIA"},{"$f":"+'[5]para PQR (2)'!D184","v":"WEB"},{"$f":"+'[5]para PQR (2)'!E184","v":"DERECHO DE PETICION DE INTERES GENERAL"},{"$f":"+'[5]para PQR (2)'!F184","v":1},{"$f":"+'[5]para PQR (2)'!G184","v":"GESTIONADO"}]
[null,{"$f":"+'[5]para PQR (2)'!B185","v":2593182022},{"$f":"+'[5]para PQR (2)'!C185","v":"SUBDIRECCION DE ADMINISTRACION INMOBILIARIA Y DE ESPACIO PUBLICO"},{"$f":"+'[5]para PQR (2)'!D185","v":"E-MAIL"},{"$f":"+'[5]para PQR (2)'!E185","v":"DERECHO DE PETICION DE INTERES GENERAL"},{"$f":"+'[5]para PQR (2)'!F185","v":9},{"$f":"+'[5]para PQR (2)'!G185","v":"GESTIONADO"}]
[null,{"$f":"+'[5]para PQR (2)'!B186","v":2593662022},{"$f":"+'[5]para PQR (2)'!C186","v":"SUBDIRECCION DE ADMINISTRACION INMOBILIARIA Y DE ESPACIO PUBLICO"},{"$f":"+'[5]para PQR (2)'!D186","v":"E-MAIL"},{"$f":"+'[5]para PQR (2)'!E186","v":"DERECHO DE PETICION DE INTERES GENERAL"},{"$f":"+'[5]para PQR (2)'!F186","v":11},{"$f":"+'[5]para PQR (2)'!G186","v":"PENDIENTE"}]
[null,{"$f":"+'[5]para PQR (2)'!B187","v":2594502022},{"$f":"+'[5]para PQR (2)'!C187","v":"SUBDIRECCION DE ADMINISTRACION INMOBILIARIA Y DE ESPACIO PUBLICO"},{"$f":"+'[5]para PQR (2)'!D187","v":"ESCRITO"},{"$f":"+'[5]para PQR (2)'!E187","v":"DERECHO DE PETICION DE INTERES GENERAL"},{"$f":"+'[5]para PQR (2)'!F187","v":11},{"$f":"+'[5]para PQR (2)'!G187","v":"PENDIENTE"}]
[null,{"$f":"+'[5]para PQR (2)'!B188","v":2594632022},{"$f":"+'[5]para PQR (2)'!C188","v":"SUBDIRECCION DE ADMINISTRACION INMOBILIARIA Y DE ESPACIO PUBLICO"},{"$f":"+'[5]para PQR (2)'!D188","v":"ESCRITO"},{"$f":"+'[5]para PQR (2)'!E188","v":"DERECHO DE PETICION DE INTERES GENERAL"},{"$f":"+'[5]para PQR (2)'!F188","v":11},{"$f":"+'[5]para PQR (2)'!G188","v":"PENDIENTE"}]
[null,{"$f":"+'[5]para PQR (2)'!B189","v":2595232022},{"$f":"+'[5]para PQR (2)'!C189","v":"AREA DE ATENCION A LA CIUDADANIA"},{"$f":"+'[5]para PQR (2)'!D189","v":"WEB"},{"$f":"+'[5]para PQR (2)'!E189","v":"RECLAMO"},{"$f":"+'[5]para PQR (2)'!F189","v":1},{"$f":"+'[5]para PQR (2)'!G189","v":"GESTIONADO"}]
[null,{"$f":"+'[5]para PQR (2)'!B190","v":2595832022},{"$f":"+'[5]para PQR (2)'!C190","v":"SUBDIRECCION DE REGISTRO INMOBILIARIO"},{"$f":"+'[5]para PQR (2)'!D190","v":"ESCRITO"},{"$f":"+'[5]para PQR (2)'!E190","v":"DERECHO DE PETICION DE INTERES PARTICULAR"},{"$f":"+'[5]para PQR (2)'!F190","v":11},{"$f":"+'[5]para PQR (2)'!G190","v":"PENDIENTE"}]
[null,{"$f":"+'[5]para PQR (2)'!B191","v":2596362022},{"$f":"+'[5]para PQR (2)'!C191","v":"SUBDIRECCION DE ADMINISTRACION INMOBILIARIA Y DE ESPACIO PUBLICO"},{"$f":"+'[5]para PQR (2)'!D191","v":"ESCRITO"},{"$f":"+'[5]para PQR (2)'!E191","v":"DERECHO DE PETICION DE INTERES PARTICULAR"},{"$f":"+'[5]para PQR (2)'!F191","v":10},{"$f":"+'[5]para PQR (2)'!G191","v":"GESTIONADO"}]
[null,{"$f":"+'[5]para PQR (2)'!B192","v":2596452022},{"$f":"+'[5]para PQR (2)'!C192","v":"SUBDIRECCION DE ADMINISTRACION INMOBILIARIA Y DE ESPACIO PUBLICO"},{"$f":"+'[5]para PQR (2)'!D192","v":"ESCRITO"},{"$f":"+'[5]para PQR (2)'!E192","v":"DERECHO DE PETICION DE INTERES PARTICULAR"},{"$f":"+'[5]para PQR (2)'!F192","v":11},{"$f":"+'[5]para PQR (2)'!G192","v":"PENDIENTE"}]
[null,{"$f":"+'[5]para PQR (2)'!B193","v":2596902022},{"$f":"+'[5]para PQR (2)'!C193","v":"SUBDIRECCION ADMINISTRATIVA  FINANCIERA Y DE CONTROL DISCIPLINARIO"},{"$f":"+'[5]para PQR (2)'!D193","v":"ESCRITO"},{"$f":"+'[5]para PQR (2)'!E193","v":"DERECHO DE PETICION DE INTERES PARTICULAR"},{"$f":"+'[5]para PQR (2)'!F193","v":7},{"$f":"+'[5]para PQR (2)'!G193","v":"PENDIENTE"}]
[null,{"$f":"+'[5]para PQR (2)'!B194","v":2597172022},{"$f":"+'[5]para PQR (2)'!C194","v":"SUBDIRECCION DE ADMINISTRACION INMOBILIARIA Y DE ESPACIO PUBLICO"},{"$f":"+'[5]para PQR (2)'!D194","v":"ESCRITO"},{"$f":"+'[5]para PQR (2)'!E194","v":"DERECHO DE PETICION DE INTERES PARTICULAR"},{"$f":"+'[5]para PQR (2)'!F194","v":8},{"$f":"+'[5]para PQR (2)'!G194","v":"GESTIONADO"}]
[null,{"$f":"+'[5]para PQR (2)'!B195","v":2599062022},{"$f":"+'[5]para PQR (2)'!C195","v":"AREA DE ATENCION A LA CIUDADANIA"},{"$f":"+'[5]para PQR (2)'!D195","v":"WEB"},{"$f":"+'[5]para PQR (2)'!E195","v":"QUEJA"},{"$f":"+'[5]para PQR (2)'!F195","v":1},{"$f":"+'[5]para PQR (2)'!G195","v":"GESTIONADO"}]
[null,{"$f":"+'[5]para PQR (2)'!B196","v":2600162022},{"$f":"+'[5]para PQR (2)'!C196","v":"AREA DE ATENCION A LA CIUDADANIA"},{"$f":"+'[5]para PQR (2)'!D196","v":"TELEFONO"},{"$f":"+'[5]para PQR (2)'!E196","v":"RECLAMO"},{"$f":"+'[5]para PQR (2)'!F196","v":1},{"$f":"+'[5]para PQR (2)'!G196","v":"GESTIONADO"}]
[null,{"$f":"+'[5]para PQR (2)'!B197","v":2600572022},{"$f":"+'[5]para PQR (2)'!C197","v":"SUBDIRECCION DE ADMINISTRACION INMOBILIARIA Y DE ESPACIO PUBLICO"},{"$f":"+'[5]para PQR (2)'!D197","v":"WEB"},{"$f":"+'[5]para PQR (2)'!E197","v":"DERECHO DE PETICION DE INTERES GENERAL"},{"$f":"+'[5]para PQR (2)'!F197","v":7},{"$f":"+'[5]para PQR (2)'!G197","v":"GESTIONADO"}]
[null,{"$f":"+'[5]para PQR (2)'!B198","v":2604722022},{"$f":"+'[5]para PQR (2)'!C198","v":"AREA DE ATENCION A LA CIUDADANIA"},{"$f":"+'[5]para PQR (2)'!D198","v":"WEB"},{"$f":"+'[5]para PQR (2)'!E198","v":"QUEJA"},{"$f":"+'[5]para PQR (2)'!F198","v":1},{"$f":"+'[5]para PQR (2)'!G198","v":"GESTIONADO"}]
[null,{"$f":"+'[5]para PQR (2)'!B199","v":2605542022},{"$f":"+'[5]para PQR (2)'!C199","v":"AREA DE ATENCION A LA CIUDADANIA"},{"$f":"+'[5]para PQR (2)'!D199","v":"WEB"},{"$f":"+'[5]para PQR (2)'!E199","v":"DERECHO DE PETICION DE INTERES GENERAL"},{"$f":"+'[5]para PQR (2)'!F199","v":1},{"$f":"+'[5]para PQR (2)'!G199","v":"GESTIONADO"}]
[null,{"$f":"+'[5]para PQR (2)'!B200","v":2607642022},{"$f":"+'[5]para PQR (2)'!C200","v":"AREA DE ATENCION A LA CIUDADANIA"},{"$f":"+'[5]para PQR (2)'!D200","v":"TELEFONO"},{"$f":"+'[5]para PQR (2)'!E200","v":"DERECHO DE PETICION DE INTERES GENERAL"},{"$f":"+'[5]para PQR (2)'!F200","v":1},{"$f":"+'[5]para PQR (2)'!G200","v":"GESTIONADO"}]
[null,{"$f":"+'[5]para PQR (2)'!B201","v":2608102022},{"$f":"+'[5]para PQR (2)'!C201","v":"AREA DE ATENCION A LA CIUDADANIA"},{"$f":"+'[5]para PQR (2)'!D201","v":"TELEFONO"},{"$f":"+'[5]para PQR (2)'!E201","v":"DERECHO DE PETICION DE INTERES GENERAL"},{"$f":"+'[5]para PQR (2)'!F201","v":1},{"$f":"+'[5]para PQR (2)'!G201","v":"GESTIONADO"}]
[null,{"$f":"+'[5]para PQR (2)'!B202","v":2609092022},{"$f":"+'[5]para PQR (2)'!C202","v":"SUBDIRECCION DE ADMINISTRACION INMOBILIARIA Y DE ESPACIO PUBLICO"},{"$f":"+'[5]para PQR (2)'!D202","v":"ESCRITO"},{"$f":"+'[5]para PQR (2)'!E202","v":"DERECHO DE PETICION DE INTERES PARTICULAR"},{"$f":"+'[5]para PQR (2)'!F202","v":8},{"$f":"+'[5]para PQR (2)'!G202","v":"GESTIONADO"}]
[null,{"$f":"+'[5]para PQR (2)'!B203","v":2610012022},{"$f":"+'[5]para PQR (2)'!C203","v":"AREA DE ATENCION A LA CIUDADANIA"},{"$f":"+'[5]para PQR (2)'!D203","v":"WEB"},{"$f":"+'[5]para PQR (2)'!E203","v":"DERECHO DE PETICION DE INTERES GENERAL"},{"$f":"+'[5]para PQR (2)'!F203","v":1},{"$f":"+'[5]para PQR (2)'!G203","v":"GESTIONADO"}]
[null,{"$f":"+'[5]para PQR (2)'!B204","v":2611232022},{"$f":"+'[5]para PQR (2)'!C204","v":"AREA DE ATENCION A LA CIUDADANIA"},{"$f":"+'[5]para PQR (2)'!D204","v":"TELEFONO"},{"$f":"+'[5]para PQR (2)'!E204","v":"DERECHO DE PETICION DE INTERES PARTICULAR"},{"$f":"+'[5]para PQR (2)'!F204","v":1},{"$f":"+'[5]para PQR (2)'!G204","v":"GESTIONADO"}]
[null,{"$f":"+'[5]para PQR (2)'!B205","v":2611822022},{"$f":"+'[5]para PQR (2)'!C205","v":"AREA DE ATENCION A LA CIUDADANIA"},{"$f":"+'[5]para PQR (2)'!D205","v":"ESCRITO"},{"$f":"+'[5]para PQR (2)'!E205","v":"DERECHO DE PETICION DE INTERES PARTICULAR"},{"$f":"+'[5]para PQR (2)'!F205","v":1},{"$f":"+'[5]para PQR (2)'!G205","v":"GESTIONADO"}]
[null,{"$f":"+'[5]para PQR (2)'!B206","v":2612292022},{"$f":"+'[5]para PQR (2)'!C206","v":"AREA DE ATENCION A LA CIUDADANIA"},{"$f":"+'[5]para PQR (2)'!D206","v":"PRESENCIAL"},{"$f":"+'[5]para PQR (2)'!E206","v":"DERECHO DE PETICION DE INTERES GENERAL"},{"$f":"+'[5]para PQR (2)'!F206","v":1},{"$f":"+'[5]para PQR (2)'!G206","v":"GESTIONADO"}]
[null,{"$f":"+'[5]para PQR (2)'!B207","v":2613922022},{"$f":"+'[5]para PQR (2)'!C207","v":"AREA DE ATENCION A LA CIUDADANIA"},{"$f":"+'[5]para PQR (2)'!D207","v":"WEB"},{"$f":"+'[5]para PQR (2)'!E207","v":"QUEJA"},{"$f":"+'[5]para PQR (2)'!F207","v":1},{"$f":"+'[5]para PQR (2)'!G207","v":"GESTIONADO"}]
[null,{"$f":"+'[5]para PQR (2)'!B208","v":2614112022},{"$f":"+'[5]para PQR (2)'!C208","v":"SUBDIRECCION DE ADMINISTRACION INMOBILIARIA Y DE ESPACIO PUBLICO"},{"$f":"+'[5]para PQR (2)'!D208","v":"ESCRITO"},{"$f":"+'[5]para PQR (2)'!E208","v":"DERECHO DE PETICION DE INTERES PARTICULAR"},{"$f":"+'[5]para PQR (2)'!F208","v":10},{"$f":"+'[5]para PQR (2)'!G208","v":"PENDIENTE"}]
[null,{"$f":"+'[5]para PQR (2)'!B209","v":2614312022},{"$f":"+'[5]para PQR (2)'!C209","v":"SUBDIRECCION DE REGISTRO INMOBILIARIO"},{"$f":"+'[5]para PQR (2)'!D209","v":"ESCRITO"},{"$f":"+'[5]para PQR (2)'!E209","v":"DERECHO DE PETICION DE INTERES PARTICULAR"},{"$f":"+'[5]para PQR (2)'!F209","v":10},{"$f":"+'[5]para PQR (2)'!G209","v":"PENDIENTE"}]
[null,{"$f":"+'[5]para PQR (2)'!B210","v":2614452022},{"$f":"+'[5]para PQR (2)'!C210","v":"SUBDIRECCION DE REGISTRO INMOBILIARIO"},{"$f":"+'[5]para PQR (2)'!D210","v":"ESCRITO"},{"$f":"+'[5]para PQR (2)'!E210","v":"DERECHO DE PETICION DE INTERES PARTICULAR"},{"$f":"+'[5]para PQR (2)'!F210","v":10},{"$f":"+'[5]para PQR (2)'!G210","v":"PENDIENTE"}]
[null,{"$f":"+'[5]para PQR (2)'!B211","v":2614592022},{"$f":"+'[5]para PQR (2)'!C211","v":"SUBDIRECCION DE ADMINISTRACION INMOBILIARIA Y DE ESPACIO PUBLICO"},{"$f":"+'[5]para PQR (2)'!D211","v":"ESCRITO"},{"$f":"+'[5]para PQR (2)'!E211","v":"DERECHO DE PETICION DE INTERES PARTICULAR"},{"$f":"+'[5]para PQR (2)'!F211","v":10},{"$f":"+'[5]para PQR (2)'!G211","v":"PENDIENTE"}]
[null,{"$f":"+'[5]para PQR (2)'!B212","v":2614662022},{"$f":"+'[5]para PQR (2)'!C212","v":"SUBDIRECCION DE ADMINISTRACION INMOBILIARIA Y DE ESPACIO PUBLICO"},{"$f":"+'[5]para PQR (2)'!D212","v":"ESCRITO"},{"$f":"+'[5]para PQR (2)'!E212","v":"DERECHO DE PETICION DE INTERES PARTICULAR"},{"$f":"+'[5]para PQR (2)'!F212","v":7},{"$f":"+'[5]para PQR (2)'!G212","v":"GESTIONADO"}]
[null,{"$f":"+'[5]para PQR (2)'!B213","v":2614922022},{"$f":"+'[5]para PQR (2)'!C213","v":"SUBDIRECCION DE REGISTRO INMOBILIARIO"},{"$f":"+'[5]para PQR (2)'!D213","v":"ESCRITO"},{"$f":"+'[5]para PQR (2)'!E213","v":"DERECHO DE PETICION DE INTERES PARTICULAR"},{"$f":"+'[5]para PQR (2)'!F213","v":10},{"$f":"+'[5]para PQR (2)'!G213","v":"PENDIENTE"}]
[null,{"$f":"+'[5]para PQR (2)'!B214","v":2618682022},{"$f":"+'[5]para PQR (2)'!C214","v":"AREA DE ATENCION A LA CIUDADANIA"},{"$f":"+'[5]para PQR (2)'!D214","v":"WEB"},{"$f":"+'[5]para PQR (2)'!E214","v":"QUEJA"},{"$f":"+'[5]para PQR (2)'!F214","v":1},{"$f":"+'[5]para PQR (2)'!G214","v":"GESTIONADO"}]
[null,{"$f":"+'[5]para PQR (2)'!B215","v":2619802022},{"$f":"+'[5]para PQR (2)'!C215","v":"SUBDIRECCION DE ADMINISTRACION INMOBILIARIA Y DE ESPACIO PUBLICO"},{"$f":"+'[5]para PQR (2)'!D215","v":"TELEFONO"},{"$f":"+'[5]para PQR (2)'!E215","v":"DERECHO DE PETICION DE INTERES GENERAL"},{"$f":"+'[5]para PQR (2)'!F215","v":10},{"$f":"+'[5]para PQR (2)'!G215","v":"PENDIENTE"}]
[null,{"$f":"+'[5]para PQR (2)'!B216","v":2622082022},{"$f":"+'[5]para PQR (2)'!C216","v":"AREA DE ATENCION A LA CIUDADANIA"},{"$f":"+'[5]para PQR (2)'!D216","v":"WEB"},{"$f":"+'[5]para PQR (2)'!E216","v":"QUEJA"},{"$f":"+'[5]para PQR (2)'!F216","v":1},{"$f":"+'[5]para PQR (2)'!G216","v":"GESTIONADO"}]
[null,{"$f":"+'[5]para PQR (2)'!B217","v":2622572022},{"$f":"+'[5]para PQR (2)'!C217","v":"AREA DE ATENCION A LA CIUDADANIA"},{"$f":"+'[5]para PQR (2)'!D217","v":"WEB"},{"$f":"+'[5]para PQR (2)'!E217","v":"DERECHO DE PETICION DE INTERES PARTICULAR"},{"$f":"+'[5]para PQR (2)'!F217","v":1},{"$f":"+'[5]para PQR (2)'!G217","v":"GESTIONADO"}]
[null,{"$f":"+'[5]para PQR (2)'!B218","v":2622632022},{"$f":"+'[5]para PQR (2)'!C218","v":"AREA DE ATENCION A LA CIUDADANIA"},{"$f":"+'[5]para PQR (2)'!D218","v":"WEB"},{"$f":"+'[5]para PQR (2)'!E218","v":"DERECHO DE PETICION DE INTERES PARTICULAR"},{"$f":"+'[5]para PQR (2)'!F218","v":1},{"$f":"+'[5]para PQR (2)'!G218","v":"GESTIONADO"}]
[null,{"$f":"+'[5]para PQR (2)'!B219","v":2622852022},{"$f":"+'[5]para PQR (2)'!C219","v":"AREA DE ATENCION A LA CIUDADANIA"},{"$f":"+'[5]para PQR (2)'!D219","v":"WEB"},{"$f":"+'[5]para PQR (2)'!E219","v":"DERECHO DE PETICION DE INTERES PARTICULAR"},{"$f":"+'[5]para PQR (2)'!F219","v":1},{"$f":"+'[5]para PQR (2)'!G219","v":"GESTIONADO"}]
[null,{"$f":"+'[5]para PQR (2)'!B220","v":2622882022},{"$f":"+'[5]para PQR (2)'!C220","v":"AREA DE ATENCION A LA CIUDADANIA"},{"$f":"+'[5]para PQR (2)'!D220","v":"WEB"},{"$f":"+'[5]para PQR (2)'!E220","v":"QUEJA"},{"$f":"+'[5]para PQR (2)'!F220","v":1},{"$f":"+'[5]para PQR (2)'!G220","v":"GESTIONADO"}]
[null,{"$f":"+'[5]para PQR (2)'!B221","v":2623782022},{"$f":"+'[5]para PQR (2)'!C221","v":"AREA DE ATENCION A LA CIUDADANIA"},{"$f":"+'[5]para PQR (2)'!D221","v":"WEB"},{"$f":"+'[5]para PQR (2)'!E221","v":"QUEJA"},{"$f":"+'[5]para PQR (2)'!F221","v":1},{"$f":"+'[5]para PQR (2)'!G221","v":"GESTIONADO"}]
[null,{"$f":"+'[5]para PQR (2)'!B222","v":2623852022},{"$f":"+'[5]para PQR (2)'!C222","v":"AREA DE ATENCION A LA CIUDADANIA"},{"$f":"+'[5]para PQR (2)'!D222","v":"WEB"},{"$f":"+'[5]para PQR (2)'!E222","v":"QUEJA"},{"$f":"+'[5]para PQR (2)'!F222","v":1},{"$f":"+'[5]para PQR (2)'!G222","v":"GESTIONADO"}]
[null,{"$f":"+'[5]para PQR (2)'!B223","v":2624012022},{"$f":"+'[5]para PQR (2)'!C223","v":"AREA DE ATENCION A LA CIUDADANIA"},{"$f":"+'[5]para PQR (2)'!D223","v":"WEB"},{"$f":"+'[5]para PQR (2)'!E223","v":"RECLAMO"},{"$f":"+'[5]para PQR (2)'!F223","v":1},{"$f":"+'[5]para PQR (2)'!G223","v":"GESTIONADO"}]
[null,{"$f":"+'[5]para PQR (2)'!B224","v":2624372022},{"$f":"+'[5]para PQR (2)'!C224","v":"AREA DE ATENCION A LA CIUDADANIA"},{"$f":"+'[5]para PQR (2)'!D224","v":"WEB"},{"$f":"+'[5]para PQR (2)'!E224","v":"QUEJA"},{"$f":"+'[5]para PQR (2)'!F224","v":1},{"$f":"+'[5]para PQR (2)'!G224","v":"GESTIONADO"}]
[null,{"$f":"+'[5]para PQR (2)'!B225","v":2624612022},{"$f":"+'[5]para PQR (2)'!C225","v":"AREA DE ATENCION A LA CIUDADANIA"},{"$f":"+'[5]para PQR (2)'!D225","v":"WEB"},{"$f":"+'[5]para PQR (2)'!E225","v":"QUEJA"},{"$f":"+'[5]para PQR (2)'!F225","v":1},{"$f":"+'[5]para PQR (2)'!G225","v":"GESTIONADO"}]
[null,{"$f":"+'[5]para PQR (2)'!B226","v":2625242022},{"$f":"+'[5]para PQR (2)'!C226","v":"AREA DE ATENCION A LA CIUDADANIA"},{"$f":"+'[5]para PQR (2)'!D226","v":"WEB"},{"$f":"+'[5]para PQR (2)'!E226","v":"DERECHO DE PETICION DE INTERES GENERAL"},{"$f":"+'[5]para PQR (2)'!F226","v":1},{"$f":"+'[5]para PQR (2)'!G226","v":"GESTIONADO"}]
[null,{"$f":"+'[5]para PQR (2)'!B227","v":2625882022},{"$f":"+'[5]para PQR (2)'!C227","v":"AREA DE ATENCION A LA CIUDADANIA"},{"$f":"+'[5]para PQR (2)'!D227","v":"WEB"},{"$f":"+'[5]para PQR (2)'!E227","v":"QUEJA"},{"$f":"+'[5]para PQR (2)'!F227","v":1},{"$f":"+'[5]para PQR (2)'!G227","v":"GESTIONADO"}]
[null,{"$f":"+'[5]para PQR (2)'!B228","v":2625952022},{"$f":"+'[5]para PQR (2)'!C228","v":"AREA DE ATENCION A LA CIUDADANIA"},{"$f":"+'[5]para PQR (2)'!D228","v":"WEB"},{"$f":"+'[5]para PQR (2)'!E228","v":"QUEJA"},{"$f":"+'[5]para PQR (2)'!F228","v":1},{"$f":"+'[5]para PQR (2)'!G228","v":"GESTIONADO"}]
[null,{"$f":"+'[5]para PQR (2)'!B229","v":2625992022},{"$f":"+'[5]para PQR (2)'!C229","v":"AREA DE ATENCION A LA CIUDADANIA"},{"$f":"+'[5]para PQR (2)'!D229","v":"WEB"},{"$f":"+'[5]para PQR (2)'!E229","v":"QUEJA"},{"$f":"+'[5]para PQR (2)'!F229","v":1},{"$f":"+'[5]para PQR (2)'!G229","v":"GESTIONADO"}]
[null,{"$f":"+'[5]para PQR (2)'!B230","v":2628782022},{"$f":"+'[5]para PQR (2)'!C230","v":"AREA DE ATENCION A LA CIUDADANIA"},{"$f":"+'[5]para PQR (2)'!D230","v":"ESCRITO"},{"$f":"+'[5]para PQR (2)'!E230","v":"DERECHO DE PETICION DE INTERES GENERAL"},{"$f":"+'[5]para PQR (2)'!F230","v":1},{"$f":"+'[5]para PQR (2)'!G230","v":"GESTIONADO"}]
[null,{"$f":"+'[5]para PQR (2)'!B231","v":2629362022},{"$f":"+'[5]para PQR (2)'!C231","v":"AREA DE ATENCION A LA CIUDADANIA"},{"$f":"+'[5]para PQR (2)'!D231","v":"PRESENCIAL"},{"$f":"+'[5]para PQR (2)'!E231","v":"DERECHO DE PETICION DE INTERES PARTICULAR"},{"$f":"+'[5]para PQR (2)'!F231","v":1},{"$f":"+'[5]para PQR (2)'!G231","v":"GESTIONADO"}]
[null,{"$f":"+'[5]para PQR (2)'!B232","v":2630812022},{"$f":"+'[5]para PQR (2)'!C232","v":"SUBDIRECCION DE ADMINISTRACION INMOBILIARIA Y DE ESPACIO PUBLICO"},{"$f":"+'[5]para PQR (2)'!D232","v":"ESCRITO"},{"$f":"+'[5]para PQR (2)'!E232","v":"SOLICITUD DE COPIA"},{"$f":"+'[5]para PQR (2)'!F232","v":9},{"$f":"+'[5]para PQR (2)'!G232","v":"PENDIENTE"}]
[null,{"$f":"+'[5]para PQR (2)'!B233","v":2631232022},{"$f":"+'[5]para PQR (2)'!C233","v":"SUBDIRECCION DE REGISTRO INMOBILIARIO"},{"$f":"+'[5]para PQR (2)'!D233","v":"ESCRITO"},{"$f":"+'[5]para PQR (2)'!E233","v":"DERECHO DE PETICION DE INTERES PARTICULAR"},{"$f":"+'[5]para PQR (2)'!F233","v":9},{"$f":"+'[5]para PQR (2)'!G233","v":"PENDIENTE"}]
[null,{"$f":"+'[5]para PQR (2)'!B234","v":2632362022},{"$f":"+'[5]para PQR (2)'!C234","v":"SUBDIRECCION DE ADMINISTRACION INMOBILIARIA Y DE ESPACIO PUBLICO"},{"$f":"+'[5]para PQR (2)'!D234","v":"ESCRITO"},{"$f":"+'[5]para PQR (2)'!E234","v":"DERECHO DE PETICION DE INTERES PARTICULAR"},{"$f":"+'[5]para PQR (2)'!F234","v":9},{"$f":"+'[5]para PQR (2)'!G234","v":"PENDIENTE"}]
[null,{"$f":"+'[5]para PQR (2)'!B235","v":2632572022},{"$f":"+'[5]para PQR (2)'!C235","v":"SUBDIRECCION DE ADMINISTRACION INMOBILIARIA Y DE ESPACIO PUBLICO"},{"$f":"+'[5]para PQR (2)'!D235","v":"ESCRITO"},{"$f":"+'[5]para PQR (2)'!E235","v":"DERECHO DE PETICION DE INTERES PARTICULAR"},{"$f":"+'[5]para PQR (2)'!F235","v":8},{"$f":"+'[5]para PQR (2)'!G235","v":"GESTIONADO"}]
[null,{"$f":"+'[5]para PQR (2)'!B236","v":2632712022},{"$f":"+'[5]para PQR (2)'!C236","v":"SUBDIRECCION DE REGISTRO INMOBILIARIO"},{"$f":"+'[5]para PQR (2)'!D236","v":"ESCRITO"},{"$f":"+'[5]para PQR (2)'!E236","v":"DERECHO DE PETICION DE INTERES PARTICULAR"},{"$f":"+'[5]para PQR (2)'!F236","v":9},{"$f":"+'[5]para PQR (2)'!G236","v":"PENDIENTE"}]
[null,{"$f":"+'[5]para PQR (2)'!B237","v":2633122022},{"$f":"+'[5]para PQR (2)'!C237","v":"AREA DE ATENCION A LA CIUDADANIA"},{"$f":"+'[5]para PQR (2)'!D237","v":"WEB"},{"$f":"+'[5]para PQR (2)'!E237","v":"DERECHO DE PETICION DE INTERES GENERAL"},{"$f":"+'[5]para PQR (2)'!F237","v":1},{"$f":"+'[5]para PQR (2)'!G237","v":"GESTIONADO"}]
[null,{"$f":"+'[5]para PQR (2)'!B238","v":2633872022},{"$f":"+'[5]para PQR (2)'!C238","v":"SUBDIRECCION DE ADMINISTRACION INMOBILIARIA Y DE ESPACIO PUBLICO"},{"$f":"+'[5]para PQR (2)'!D238","v":"ESCRITO"},{"$f":"+'[5]para PQR (2)'!E238","v":"DERECHO DE PETICION DE INTERES PARTICULAR"},{"$f":"+'[5]para PQR (2)'!F238","v":9},{"$f":"+'[5]para PQR (2)'!G238","v":"PENDIENTE"}]
[null,{"$f":"+'[5]para PQR (2)'!B239","v":2635752022},{"$f":"+'[5]para PQR (2)'!C239","v":"AREA DE ATENCION A LA CIUDADANIA"},{"$f":"+'[5]para PQR (2)'!D239","v":"WEB"},{"$f":"+'[5]para PQR (2)'!E239","v":"DERECHO DE PETICION DE INTERES GENERAL"},{"$f":"+'[5]para PQR (2)'!F239","v":1},{"$f":"+'[5]para PQR (2)'!G239","v":"GESTIONADO"}]
[null,{"$f":"+'[5]para PQR (2)'!B240","v":2636482022},{"$f":"+'[5]para PQR (2)'!C240","v":"SUBDIRECCION ADMINISTRATIVA  FINANCIERA Y DE CONTROL DISCIPLINARIO"},{"$f":"+'[5]para PQR (2)'!D240","v":"WEB"},{"$f":"+'[5]para PQR (2)'!E240","v":"DENUNCIA POR ACTOS DE CORRUPCION"},{"$f":"+'[5]para PQR (2)'!F240","v":1},{"$f":"+'[5]para PQR (2)'!G240","v":"GESTIONADO"}]
[null,{"$f":"+'[5]para PQR (2)'!B241","v":2636932022},{"$f":"+'[5]para PQR (2)'!C241","v":"SUBDIRECCION DE REGISTRO INMOBILIARIO"},{"$f":"+'[5]para PQR (2)'!D241","v":"ESCRITO"},{"$f":"+'[5]para PQR (2)'!E241","v":"DERECHO DE PETICION DE INTERES PARTICULAR"},{"$f":"+'[5]para PQR (2)'!F241","v":9},{"$f":"+'[5]para PQR (2)'!G241","v":"PENDIENTE"}]
[null,{"$f":"+'[5]para PQR (2)'!B242","v":2637282022},{"$f":"+'[5]para PQR (2)'!C242","v":"SUBDIRECCION DE ADMINISTRACION INMOBILIARIA Y DE ESPACIO PUBLICO"},{"$f":"+'[5]para PQR (2)'!D242","v":"ESCRITO"},{"$f":"+'[5]para PQR (2)'!E242","v":"DERECHO DE PETICION DE INTERES PARTICULAR"},{"$f":"+'[5]para PQR (2)'!F242","v":5},{"$f":"+'[5]para PQR (2)'!G242","v":"GESTIONADO"}]
[null,{"$f":"+'[5]para PQR (2)'!B243","v":2637482022},{"$f":"+'[5]para PQR (2)'!C243","v":"SUBDIRECCION DE ADMINISTRACION INMOBILIARIA Y DE ESPACIO PUBLICO"},{"$f":"+'[5]para PQR (2)'!D243","v":"ESCRITO"},{"$f":"+'[5]para PQR (2)'!E243","v":"DERECHO DE PETICION DE INTERES PARTICULAR"},{"$f":"+'[5]para PQR (2)'!F243","v":9},{"$f":"+'[5]para PQR (2)'!G243","v":"PENDIENTE"}]
[null,{"$f":"+'[5]para PQR (2)'!B244","v":2637812022},{"$f":"+'[5]para PQR (2)'!C244","v":"SUBDIRECCION DE ADMINISTRACION INMOBILIARIA Y DE ESPACIO PUBLICO"},{"$f":"+'[5]para PQR (2)'!D244","v":"ESCRITO"},{"$f":"+'[5]para PQR (2)'!E244","v":"DERECHO DE PETICION DE INTERES GENERAL"},{"$f":"+'[5]para PQR (2)'!F244","v":9},{"$f":"+'[5]para PQR (2)'!G244","v":"PENDIENTE"}]
[null,{"$f":"+'[5]para PQR (2)'!B245","v":2638432022},{"$f":"+'[5]para PQR (2)'!C245","v":"AREA DE ATENCION A LA CIUDADANIA"},{"$f":"+'[5]para PQR (2)'!D245","v":"E-MAIL"},{"$f":"+'[5]para PQR (2)'!E245","v":"DERECHO DE PETICION DE INTERES PARTICULAR"},{"$f":"+'[5]para PQR (2)'!F245","v":1},{"$f":"+'[5]para PQR (2)'!G245","v":"GESTIONADO"}]
[null,{"$f":"+'[5]para PQR (2)'!B246","v":2638792022},{"$f":"+'[5]para PQR (2)'!C246","v":"SUBDIRECCION DE REGISTRO INMOBILIARIO"},{"$f":"+'[5]para PQR (2)'!D246","v":"E-MAIL"},{"$f":"+'[5]para PQR (2)'!E246","v":"DERECHO DE PETICION DE INTERES PARTICULAR"},{"$f":"+'[5]para PQR (2)'!F246","v":6},{"$f":"+'[5]para PQR (2)'!G246","v":"PENDIENTE"}]
[null,{"$f":"+'[5]para PQR (2)'!B247","v":2638802022},{"$f":"+'[5]para PQR (2)'!C247","v":"AREA DE ATENCION A LA CIUDADANIA"},{"$f":"+'[5]para PQR (2)'!D247","v":"WEB"},{"$f":"+'[5]para PQR (2)'!E247","v":"DERECHO DE PETICION DE INTERES GENERAL"},{"$f":"+'[5]para PQR (2)'!F247","v":1},{"$f":"+'[5]para PQR (2)'!G247","v":"GESTIONADO"}]
[null,{"$f":"+'[5]para PQR (2)'!B248","v":2641342022},{"$f":"+'[5]para PQR (2)'!C248","v":"SUBDIRECCION ADMINISTRATIVA Y FINANCIERA"},{"$f":"+'[5]para PQR (2)'!D248","v":"E-MAIL"},{"$f":"+'[5]para PQR (2)'!E248","v":"DERECHO DE PETICION DE INTERES PARTICULAR"},{"$f":"+'[5]para PQR (2)'!F248","v":6},{"$f":"+'[5]para PQR (2)'!G248","v":"PENDIENTE"}]
[null,{"$f":"+'[5]para PQR (2)'!B249","v":2641472022},{"$f":"+'[5]para PQR (2)'!C249","v":"AREA DE ATENCION A LA CIUDADANIA"},{"$f":"+'[5]para PQR (2)'!D249","v":"TELEFONO"},{"$f":"+'[5]para PQR (2)'!E249","v":"DERECHO DE PETICION DE INTERES GENERAL"},{"$f":"+'[5]para PQR (2)'!F249","v":1},{"$f":"+'[5]para PQR (2)'!G249","v":"GESTIONADO"}]
[null,{"$f":"+'[5]para PQR (2)'!B250","v":2642232022},{"$f":"+'[5]para PQR (2)'!C250","v":"AREA DE ATENCION A LA CIUDADANIA"},{"$f":"+'[5]para PQR (2)'!D250","v":"TELEFONO"},{"$f":"+'[5]para PQR (2)'!E250","v":"DERECHO DE PETICION DE INTERES GENERAL"},{"$f":"+'[5]para PQR (2)'!F250","v":1},{"$f":"+'[5]para PQR (2)'!G250","v":"GESTIONADO"}]
[null,{"$f":"+'[5]para PQR (2)'!B251","v":2642812022},{"$f":"+'[5]para PQR (2)'!C251","v":"AREA DE ATENCION A LA CIUDADANIA"},{"$f":"+'[5]para PQR (2)'!D251","v":"WEB"},{"$f":"+'[5]para PQR (2)'!E251","v":"DERECHO DE PETICION DE INTERES GENERAL"},{"$f":"+'[5]para PQR (2)'!F251","v":1},{"$f":"+'[5]para PQR (2)'!G251","v":"GESTIONADO"}]
[null,{"$f":"+'[5]para PQR (2)'!B252","v":2642952022},{"$f":"+'[5]para PQR (2)'!C252","v":"AREA DE ATENCION A LA CIUDADANIA"},{"$f":"+'[5]para PQR (2)'!D252","v":"WEB"},{"$f":"+'[5]para PQR (2)'!E252","v":"DERECHO DE PETICION DE INTERES PARTICULAR"},{"$f":"+'[5]para PQR (2)'!F252","v":1},{"$f":"+'[5]para PQR (2)'!G252","v":"GESTIONADO"}]
[null,{"$f":"+'[5]para PQR (2)'!B253","v":2645942022},{"$f":"+'[5]para PQR (2)'!C253","v":"SUBDIRECCION DE REGISTRO INMOBILIARIO"},{"$f":"+'[5]para PQR (2)'!D253","v":"E-MAIL"},{"$f":"+'[5]para PQR (2)'!E253","v":"DERECHO DE PETICION DE INTERES PARTICULAR"},{"$f":"+'[5]para PQR (2)'!F253","v":8},{"$f":"+'[5]para PQR (2)'!G253","v":"PENDIENTE"}]
[null,{"$f":"+'[5]para PQR (2)'!B254","v":2646702022},{"$f":"+'[5]para PQR (2)'!C254","v":"AREA DE ATENCION A LA CIUDADANIA"},{"$f":"+'[5]para PQR (2)'!D254","v":"WEB"},{"$f":"+'[5]para PQR (2)'!E254","v":"DERECHO DE PETICION DE INTERES GENERAL"},{"$f":"+'[5]para PQR (2)'!F254","v":1},{"$f":"+'[5]para PQR (2)'!G254","v":"GESTIONADO"}]
[null,{"$f":"+'[5]para PQR (2)'!B255","v":2651332022},{"$f":"+'[5]para PQR (2)'!C255","v":"SUBDIRECCION DE ADMINISTRACION INMOBILIARIA Y DE ESPACIO PUBLICO"},{"$f":"+'[5]para PQR (2)'!D255","v":"ESCRITO"},{"$f":"+'[5]para PQR (2)'!E255","v":"DERECHO DE PETICION DE INTERES PARTICULAR"},{"$f":"+'[5]para PQR (2)'!F255","v":8},{"$f":"+'[5]para PQR (2)'!G255","v":"PENDIENTE"}]
[null,{"$f":"+'[5]para PQR (2)'!B256","v":2651612022},{"$f":"+'[5]para PQR (2)'!C256","v":"SUBDIRECCION DE REGISTRO INMOBILIARIO"},{"$f":"+'[5]para PQR (2)'!D256","v":"ESCRITO"},{"$f":"+'[5]para PQR (2)'!E256","v":"DERECHO DE PETICION DE INTERES PARTICULAR"},{"$f":"+'[5]para PQR (2)'!F256","v":8},{"$f":"+'[5]para PQR (2)'!G256","v":"PENDIENTE"}]
[null,{"$f":"+'[5]para PQR (2)'!B257","v":2651882022},{"$f":"+'[5]para PQR (2)'!C257","v":"SUBDIRECCION DE REGISTRO INMOBILIARIO"},{"$f":"+'[5]para PQR (2)'!D257","v":"ESCRITO"},{"$f":"+'[5]para PQR (2)'!E257","v":"DERECHO DE PETICION DE INTERES PARTICULAR"},{"$f":"+'[5]para PQR (2)'!F257","v":8},{"$f":"+'[5]para PQR (2)'!G257","v":"PENDIENTE"}]
[null,{"$f":"+'[5]para PQR (2)'!B258","v":2652132022},{"$f":"+'[5]para PQR (2)'!C258","v":"SUBDIRECCION DE ADMINISTRACION INMOBILIARIA Y DE ESPACIO PUBLICO"},{"$f":"+'[5]para PQR (2)'!D258","v":"ESCRITO"},{"$f":"+'[5]para PQR (2)'!E258","v":"DERECHO DE PETICION DE INTERES PARTICULAR"},{"$f":"+'[5]para PQR (2)'!F258","v":8},{"$f":"+'[5]para PQR (2)'!G258","v":"PENDIENTE"}]
[null,{"$f":"+'[5]para PQR (2)'!B259","v":2652362022},{"$f":"+'[5]para PQR (2)'!C259","v":"SUBDIRECCION DE ADMINISTRACION INMOBILIARIA Y DE ESPACIO PUBLICO"},{"$f":"+'[5]para PQR (2)'!D259","v":"ESCRITO"},{"$f":"+'[5]para PQR (2)'!E259","v":"DERECHO DE PETICION DE INTERES PARTICULAR"},{"$f":"+'[5]para PQR (2)'!F259","v":8},{"$f":"+'[5]para PQR (2)'!G259","v":"PENDIENTE"}]
[null,{"$f":"+'[5]para PQR (2)'!B260","v":2653682022},{"$f":"+'[5]para PQR (2)'!C260","v":"AREA DE ATENCION A LA CIUDADANIA"},{"$f":"+'[5]para PQR (2)'!D260","v":"WEB"},{"$f":"+'[5]para PQR (2)'!E260","v":"QUEJA"},{"$f":"+'[5]para PQR (2)'!F260","v":1},{"$f":"+'[5]para PQR (2)'!G260","v":"GESTIONADO"}]
[null,{"$f":"+'[5]para PQR (2)'!B261","v":2656192022},{"$f":"+'[5]para PQR (2)'!C261","v":"SUBDIRECCION DE ADMINISTRACION INMOBILIARIA Y DE ESPACIO PUBLICO"},{"$f":"+'[5]para PQR (2)'!D261","v":"ESCRITO"},{"$f":"+'[5]para PQR (2)'!E261","v":"DERECHO DE PETICION DE INTERES PARTICULAR"},{"$f":"+'[5]para PQR (2)'!F261","v":7},{"$f":"+'[5]para PQR (2)'!G261","v":"PENDIENTE"}]
[null,{"$f":"+'[5]para PQR (2)'!B262","v":2658082022},{"$f":"+'[5]para PQR (2)'!C262","v":"AREA DE ATENCION A LA CIUDADANIA"},{"$f":"+'[5]para PQR (2)'!D262","v":"WEB"},{"$f":"+'[5]para PQR (2)'!E262","v":"DERECHO DE PETICION DE INTERES GENERAL"},{"$f":"+'[5]para PQR (2)'!F262","v":1},{"$f":"+'[5]para PQR (2)'!G262","v":"GESTIONADO"}]
[null,{"$f":"+'[5]para PQR (2)'!B263","v":2658492022},{"$f":"+'[5]para PQR (2)'!C263","v":"AREA DE ATENCION A LA CIUDADANIA"},{"$f":"+'[5]para PQR (2)'!D263","v":"E-MAIL"},{"$f":"+'[5]para PQR (2)'!E263","v":"QUEJA"},{"$f":"+'[5]para PQR (2)'!F263","v":1},{"$f":"+'[5]para PQR (2)'!G263","v":"GESTIONADO"}]
[null,{"$f":"+'[5]para PQR (2)'!B264","v":2659552022},{"$f":"+'[5]para PQR (2)'!C264","v":"SUBDIRECCION DE ADMINISTRACION INMOBILIARIA Y DE ESPACIO PUBLICO"},{"$f":"+'[5]para PQR (2)'!D264","v":"TELEFONO"},{"$f":"+'[5]para PQR (2)'!E264","v":"DERECHO DE PETICION DE INTERES GENERAL"},{"$f":"+'[5]para PQR (2)'!F264","v":8},{"$f":"+'[5]para PQR (2)'!G264","v":"PENDIENTE"}]
[null,{"$f":"+'[5]para PQR (2)'!B265","v":2660732022},{"$f":"+'[5]para PQR (2)'!C265","v":"AREA DE ATENCION A LA CIUDADANIA"},{"$f":"+'[5]para PQR (2)'!D265","v":"TELEFONO"},{"$f":"+'[5]para PQR (2)'!E265","v":"DERECHO DE PETICION DE INTERES GENERAL"},{"$f":"+'[5]para PQR (2)'!F265","v":1},{"$f":"+'[5]para PQR (2)'!G265","v":"GESTIONADO"}]
[null,{"$f":"+'[5]para PQR (2)'!B266","v":2663282022},{"$f":"+'[5]para PQR (2)'!C266","v":"AREA DE ATENCION A LA CIUDADANIA"},{"$f":"+'[5]para PQR (2)'!D266","v":"WEB"},{"$f":"+'[5]para PQR (2)'!E266","v":"DERECHO DE PETICION DE INTERES PARTICULAR"},{"$f":"+'[5]para PQR (2)'!F266","v":1},{"$f":"+'[5]para PQR (2)'!G266","v":"GESTIONADO"}]
[null,{"$f":"+'[5]para PQR (2)'!B267","v":2663402022},{"$f":"+'[5]para PQR (2)'!C267","v":"AREA DE ATENCION A LA CIUDADANIA"},{"$f":"+'[5]para PQR (2)'!D267","v":"TELEFONO"},{"$f":"+'[5]para PQR (2)'!E267","v":"DERECHO DE PETICION DE INTERES GENERAL"},{"$f":"+'[5]para PQR (2)'!F267","v":1},{"$f":"+'[5]para PQR (2)'!G267","v":"GESTIONADO"}]
[null,{"$f":"+'[5]para PQR (2)'!B268","v":2663802022},{"$f":"+'[5]para PQR (2)'!C268","v":"AREA DE ATENCION A LA CIUDADANIA"},{"$f":"+'[5]para PQR (2)'!D268","v":"WEB"},{"$f":"+'[5]para PQR (2)'!E268","v":"QUEJA"},{"$f":"+'[5]para PQR (2)'!F268","v":1},{"$f":"+'[5]para PQR (2)'!G268","v":"GESTIONADO"}]
[null,{"$f":"+'[5]para PQR (2)'!B269","v":2664272022},{"$f":"+'[5]para PQR (2)'!C269","v":"AREA DE ATENCION A LA CIUDADANIA"},{"$f":"+'[5]para PQR (2)'!D269","v":"WEB"},{"$f":"+'[5]para PQR (2)'!E269","v":"DERECHO DE PETICION DE INTERES PARTICULAR"},{"$f":"+'[5]para PQR (2)'!F269","v":1},{"$f":"+'[5]para PQR (2)'!G269","v":"GESTIONADO"}]
[null,{"$f":"+'[5]para PQR (2)'!B270","v":2664532022},{"$f":"+'[5]para PQR (2)'!C270","v":"SUBDIRECCION DE ADMINISTRACION INMOBILIARIA Y DE ESPACIO PUBLICO"},{"$f":"+'[5]para PQR (2)'!D270","v":"E-MAIL"},{"$f":"+'[5]para PQR (2)'!E270","v":"DERECHO DE PETICION DE INTERES PARTICULAR"},{"$f":"+'[5]para PQR (2)'!F270","v":7},{"$f":"+'[5]para PQR (2)'!G270","v":"PENDIENTE"}]
[null,{"$f":"+'[5]para PQR (2)'!B271","v":2664922022},{"$f":"+'[5]para PQR (2)'!C271","v":"AREA DE ATENCION A LA CIUDADANIA"},{"$f":"+'[5]para PQR (2)'!D271","v":"WEB"},{"$f":"+'[5]para PQR (2)'!E271","v":"QUEJA"},{"$f":"+'[5]para PQR (2)'!F271","v":1},{"$f":"+'[5]para PQR (2)'!G271","v":"GESTIONADO"}]
[null,{"$f":"+'[5]para PQR (2)'!B272","v":2667152022},{"$f":"+'[5]para PQR (2)'!C272","v":"SUBDIRECCION DE ADMINISTRACION INMOBILIARIA Y DE ESPACIO PUBLICO"},{"$f":"+'[5]para PQR (2)'!D272","v":"WEB"},{"$f":"+'[5]para PQR (2)'!E272","v":"DERECHO DE PETICION DE INTERES GENERAL"},{"$f":"+'[5]para PQR (2)'!F272","v":7},{"$f":"+'[5]para PQR (2)'!G272","v":"PENDIENTE"}]
[null,{"$f":"+'[5]para PQR (2)'!B273","v":2667182022},{"$f":"+'[5]para PQR (2)'!C273","v":"SUBDIRECCION DE ADMINISTRACION INMOBILIARIA Y DE ESPACIO PUBLICO"},{"$f":"+'[5]para PQR (2)'!D273","v":"WEB"},{"$f":"+'[5]para PQR (2)'!E273","v":"DERECHO DE PETICION DE INTERES PARTICULAR"},{"$f":"+'[5]para PQR (2)'!F273","v":7},{"$f":"+'[5]para PQR (2)'!G273","v":"PENDIENTE"}]
[null,{"$f":"+'[5]para PQR (2)'!B274","v":2668222022},{"$f":"+'[5]para PQR (2)'!C274","v":"AREA DE ATENCION A LA CIUDADANIA"},{"$f":"+'[5]para PQR (2)'!D274","v":"WEB"},{"$f":"+'[5]para PQR (2)'!E274","v":"QUEJA"},{"$f":"+'[5]para PQR (2)'!F274","v":1},{"$f":"+'[5]para PQR (2)'!G274","v":"GESTIONADO"}]
[null,{"$f":"+'[5]para PQR (2)'!B275","v":2668362022},{"$f":"+'[5]para PQR (2)'!C275","v":"AREA DE ATENCION A LA CIUDADANIA"},{"$f":"+'[5]para PQR (2)'!D275","v":"WEB"},{"$f":"+'[5]para PQR (2)'!E275","v":"FELICITACION"},{"$f":"+'[5]para PQR (2)'!F275","v":1},{"$f":"+'[5]para PQR (2)'!G275","v":"GESTIONADO"}]
[null,{"$f":"+'[5]para PQR (2)'!B276","v":2668492022},{"$f":"+'[5]para PQR (2)'!C276","v":"AREA DE ATENCION A LA CIUDADANIA"},{"$f":"+'[5]para PQR (2)'!D276","v":"WEB"},{"$f":"+'[5]para PQR (2)'!E276","v":"QUEJA"},{"$f":"+'[5]para PQR (2)'!F276","v":1},{"$f":"+'[5]para PQR (2)'!G276","v":"GESTIONADO"}]
[null,{"$f":"+'[5]para PQR (2)'!B277","v":2668902022},{"$f":"+'[5]para PQR (2)'!C277","v":"AREA DE ATENCION A LA CIUDADANIA"},{"$f":"+'[5]para PQR (2)'!D277","v":"WEB"},{"$f":"+'[5]para PQR (2)'!E277","v":"QUEJA"},{"$f":"+'[5]para PQR (2)'!F277","v":1},{"$f":"+'[5]para PQR (2)'!G277","v":"GESTIONADO"}]
[null,{"$f":"+'[5]para PQR (2)'!B278","v":2669702022},{"$f":"+'[5]para PQR (2)'!C278","v":"AREA DE ATENCION A LA CIUDADANIA"},{"$f":"+'[5]para PQR (2)'!D278","v":"WEB"},{"$f":"+'[5]para PQR (2)'!E278","v":"QUEJA"},{"$f":"+'[5]para PQR (2)'!F278","v":1},{"$f":"+'[5]para PQR (2)'!G278","v":"GESTIONADO"}]
[null,{"$f":"+'[5]para PQR (2)'!B279","v":2670642022},{"$f":"+'[5]para PQR (2)'!C279","v":"AREA DE ATENCION A LA CIUDADANIA"},{"$f":"+'[5]para PQR (2)'!D279","v":"WEB"},{"$f":"+'[5]para PQR (2)'!E279","v":"DERECHO DE PETICION DE INTERES GENERAL"},{"$f":"+'[5]para PQR (2)'!F279","v":1},{"$f":"+'[5]para PQR (2)'!G279","v":"GESTIONADO"}]
[null,{"$f":"+'[5]para PQR (2)'!B280","v":2670852022},{"$f":"+'[5]para PQR (2)'!C280","v":"AREA DE ATENCION A LA CIUDADANIA"},{"$f":"+'[5]para PQR (2)'!D280","v":"WEB"},{"$f":"+'[5]para PQR (2)'!E280","v":"QUEJA"},{"$f":"+'[5]para PQR (2)'!F280","v":1},{"$f":"+'[5]para PQR (2)'!G280","v":"GESTIONADO"}]
[null,{"$f":"+'[5]para PQR (2)'!B281","v":2671102022},{"$f":"+'[5]para PQR (2)'!C281","v":"SUBDIRECCION DE ADMINISTRACION INMOBILIARIA Y DE ESPACIO PUBLICO"},{"$f":"+'[5]para PQR (2)'!D281","v":"ESCRITO"},{"$f":"+'[5]para PQR (2)'!E281","v":"DERECHO DE PETICION DE INTERES PARTICULAR"},{"$f":"+'[5]para PQR (2)'!F281","v":7},{"$f":"+'[5]para PQR (2)'!G281","v":"PENDIENTE"}]
[null,{"$f":"+'[5]para PQR (2)'!B282","v":2671342022},{"$f":"+'[5]para PQR (2)'!C282","v":"SUBDIRECCION DE ADMINISTRACION INMOBILIARIA Y DE ESPACIO PUBLICO"},{"$f":"+'[5]para PQR (2)'!D282","v":"ESCRITO"},{"$f":"+'[5]para PQR (2)'!E282","v":"DERECHO DE PETICION DE INTERES PARTICULAR"},{"$f":"+'[5]para PQR (2)'!F282","v":7},{"$f":"+'[5]para PQR (2)'!G282","v":"PENDIENTE"}]
[null,{"$f":"+'[5]para PQR (2)'!B283","v":2671472022},{"$f":"+'[5]para PQR (2)'!C283","v":"SUBDIRECCION DE ADMINISTRACION INMOBILIARIA Y DE ESPACIO PUBLICO"},{"$f":"+'[5]para PQR (2)'!D283","v":"ESCRITO"},{"$f":"+'[5]para PQR (2)'!E283","v":"DERECHO DE PETICION DE INTERES PARTICULAR"},{"$f":"+'[5]para PQR (2)'!F283","v":7},{"$f":"+'[5]para PQR (2)'!G283","v":"PENDIENTE"}]
[null,{"$f":"+'[5]para PQR (2)'!B284","v":2671612022},{"$f":"+'[5]para PQR (2)'!C284","v":"SUBDIRECCION DE ADMINISTRACION INMOBILIARIA Y DE ESPACIO PUBLICO"},{"$f":"+'[5]para PQR (2)'!D284","v":"ESCRITO"},{"$f":"+'[5]para PQR (2)'!E284","v":"DERECHO DE PETICION DE INTERES PARTICULAR"},{"$f":"+'[5]para PQR (2)'!F284","v":7},{"$f":"+'[5]para PQR (2)'!G284","v":"PENDIENTE"}]
[null,{"$f":"+'[5]para PQR (2)'!B285","v":2671882022},{"$f":"+'[5]para PQR (2)'!C285","v":"SUBDIRECCION DE REGISTRO INMOBILIARIO"},{"$f":"+'[5]para PQR (2)'!D285","v":"ESCRITO"},{"$f":"+'[5]para PQR (2)'!E285","v":"DERECHO DE PETICION DE INTERES PARTICULAR"},{"$f":"+'[5]para PQR (2)'!F285","v":6},{"$f":"+'[5]para PQR (2)'!G285","v":"GESTIONADO"}]
[null,{"$f":"+'[5]para PQR (2)'!B286","v":2671992022},{"$f":"+'[5]para PQR (2)'!C286","v":"SUBDIRECCION DE ADMINISTRACION INMOBILIARIA Y DE ESPACIO PUBLICO"},{"$f":"+'[5]para PQR (2)'!D286","v":"ESCRITO"},{"$f":"+'[5]para PQR (2)'!E286","v":"DERECHO DE PETICION DE INTERES PARTICULAR"},{"$f":"+'[5]para PQR (2)'!F286","v":7},{"$f":"+'[5]para PQR (2)'!G286","v":"PENDIENTE"}]
[null,{"$f":"+'[5]para PQR (2)'!B287","v":2672062022},{"$f":"+'[5]para PQR (2)'!C287","v":"SUBDIRECCION DE ADMINISTRACION INMOBILIARIA Y DE ESPACIO PUBLICO"},{"$f":"+'[5]para PQR (2)'!D287","v":"ESCRITO"},{"$f":"+'[5]para PQR (2)'!E287","v":"DERECHO DE PETICION DE INTERES PARTICULAR"},{"$f":"+'[5]para PQR (2)'!F287","v":7},{"$f":"+'[5]para PQR (2)'!G287","v":"PENDIENTE"}]
[null,{"$f":"+'[5]para PQR (2)'!B288","v":2672462022},{"$f":"+'[5]para PQR (2)'!C288","v":"SUBDIRECCION DE ADMINISTRACION INMOBILIARIA Y DE ESPACIO PUBLICO"},{"$f":"+'[5]para PQR (2)'!D288","v":"ESCRITO"},{"$f":"+'[5]para PQR (2)'!E288","v":"DERECHO DE PETICION DE INTERES PARTICULAR"},{"$f":"+'[5]para PQR (2)'!F288","v":7},{"$f":"+'[5]para PQR (2)'!G288","v":"PENDIENTE"}]
[null,{"$f":"+'[5]para PQR (2)'!B289","v":2672522022},{"$f":"+'[5]para PQR (2)'!C289","v":"SUBDIRECCION DE ADMINISTRACION INMOBILIARIA Y DE ESPACIO PUBLICO"},{"$f":"+'[5]para PQR (2)'!D289","v":"WEB"},{"$f":"+'[5]para PQR (2)'!E289","v":"DERECHO DE PETICION DE INTERES GENERAL"},{"$f":"+'[5]para PQR (2)'!F289","v":7},{"$f":"+'[5]para PQR (2)'!G289","v":"PENDIENTE"}]
[null,{"$f":"+'[5]para PQR (2)'!B290","v":2672632022},{"$f":"+'[5]para PQR (2)'!C290","v":"AREA DE ATENCION A LA CIUDADANIA"},{"$f":"+'[5]para PQR (2)'!D290","v":"ESCRITO"},{"$f":"+'[5]para PQR (2)'!E290","v":"DERECHO DE PETICION DE INTERES PARTICULAR"},{"$f":"+'[5]para PQR (2)'!F290","v":1},{"$f":"+'[5]para PQR (2)'!G290","v":"GESTIONADO"}]
[null,{"$f":"+'[5]para PQR (2)'!B291","v":2674112022},{"$f":"+'[5]para PQR (2)'!C291","v":"AREA DE ATENCION A LA CIUDADANIA"},{"$f":"+'[5]para PQR (2)'!D291","v":"WEB"},{"$f":"+'[5]para PQR (2)'!E291","v":"DERECHO DE PETICION DE INTERES GENERAL"},{"$f":"+'[5]para PQR (2)'!F291","v":1},{"$f":"+'[5]para PQR (2)'!G291","v":"GESTIONADO"}]
[null,{"$f":"+'[5]para PQR (2)'!B292","v":2674432022},{"$f":"+'[5]para PQR (2)'!C292","v":"AREA DE ATENCION A LA CIUDADANIA"},{"$f":"+'[5]para PQR (2)'!D292","v":"WEB"},{"$f":"+'[5]para PQR (2)'!E292","v":"DERECHO DE PETICION DE INTERES GENERAL"},{"$f":"+'[5]para PQR (2)'!F292","v":1},{"$f":"+'[5]para PQR (2)'!G292","v":"GESTIONADO"}]
[null,{"$f":"+'[5]para PQR (2)'!B293","v":2674452022},{"$f":"+'[5]para PQR (2)'!C293","v":"SUBDIRECCION DE ADMINISTRACION INMOBILIARIA Y DE ESPACIO PUBLICO"},{"$f":"+'[5]para PQR (2)'!D293","v":"ESCRITO"},{"$f":"+'[5]para PQR (2)'!E293","v":"DERECHO DE PETICION DE INTERES PARTICULAR"},{"$f":"+'[5]para PQR (2)'!F293","v":7},{"$f":"+'[5]para PQR (2)'!G293","v":"PENDIENTE"}]
[null,{"$f":"+'[5]para PQR (2)'!B294","v":2674622022},{"$f":"+'[5]para PQR (2)'!C294","v":"SUBDIRECCION DE ADMINISTRACION INMOBILIARIA Y DE ESPACIO PUBLICO"},{"$f":"+'[5]para PQR (2)'!D294","v":"ESCRITO"},{"$f":"+'[5]para PQR (2)'!E294","v":"DERECHO DE PETICION DE INTERES PARTICULAR"},{"$f":"+'[5]para PQR (2)'!F294","v":7},{"$f":"+'[5]para PQR (2)'!G294","v":"PENDIENTE"}]
[null,{"$f":"+'[5]para PQR (2)'!B295","v":2675032022},{"$f":"+'[5]para PQR (2)'!C295","v":"SUBDIRECCION DE ADMINISTRACION INMOBILIARIA Y DE ESPACIO PUBLICO"},{"$f":"+'[5]para PQR (2)'!D295","v":"ESCRITO"},{"$f":"+'[5]para PQR (2)'!E295","v":"DERECHO DE PETICION DE INTERES GENERAL"},{"$f":"+'[5]para PQR (2)'!F295","v":6},{"$f":"+'[5]para PQR (2)'!G295","v":"PENDIENTE"}]
[null,{"$f":"+'[5]para PQR (2)'!B296","v":2677452022},{"$f":"+'[5]para PQR (2)'!C296","v":"SUBDIRECCION DE ADMINISTRACION INMOBILIARIA Y DE ESPACIO PUBLICO"},{"$f":"+'[5]para PQR (2)'!D296","v":"E-MAIL"},{"$f":"+'[5]para PQR (2)'!E296","v":"DERECHO DE PETICION DE INTERES GENERAL"},{"$f":"+'[5]para PQR (2)'!F296","v":7},{"$f":"+'[5]para PQR (2)'!G296","v":"PENDIENTE"}]
[null,{"$f":"+'[5]para PQR (2)'!B297","v":2679952022},{"$f":"+'[5]para PQR (2)'!C297","v":"SUBDIRECCION DE ADMINISTRACION INMOBILIARIA Y DE ESPACIO PUBLICO"},{"$f":"+'[5]para PQR (2)'!D297","v":"WEB"},{"$f":"+'[5]para PQR (2)'!E297","v":"DERECHO DE PETICION DE INTERES GENERAL"},{"$f":"+'[5]para PQR (2)'!F297","v":7},{"$f":"+'[5]para PQR (2)'!G297","v":"PENDIENTE"}]
[null,{"$f":"+'[5]para PQR (2)'!B298","v":2680042022},{"$f":"+'[5]para PQR (2)'!C298","v":"AREA DE ATENCION A LA CIUDADANIA"},{"$f":"+'[5]para PQR (2)'!D298","v":"TELEFONO"},{"$f":"+'[5]para PQR (2)'!E298","v":"DERECHO DE PETICION DE INTERES GENERAL"},{"$f":"+'[5]para PQR (2)'!F298","v":1},{"$f":"+'[5]para PQR (2)'!G298","v":"GESTIONADO"}]
[null,{"$f":"+'[5]para PQR (2)'!B299","v":2680932022},{"$f":"+'[5]para PQR (2)'!C299","v":"SUBDIRECCION DE ADMINISTRACION INMOBILIARIA Y DE ESPACIO PUBLICO"},{"$f":"+'[5]para PQR (2)'!D299","v":"ESCRITO"},{"$f":"+'[5]para PQR (2)'!E299","v":"DERECHO DE PETICION DE INTERES PARTICULAR"},{"$f":"+'[5]para PQR (2)'!F299","v":7},{"$f":"+'[5]para PQR (2)'!G299","v":"PENDIENTE"}]
[null,{"$f":"+'[5]para PQR (2)'!B300","v":2680962022},{"$f":"+'[5]para PQR (2)'!C300","v":"SUBDIRECCION DE ADMINISTRACION INMOBILIARIA Y DE ESPACIO PUBLICO"},{"$f":"+'[5]para PQR (2)'!D300","v":"ESCRITO"},{"$f":"+'[5]para PQR (2)'!E300","v":"DERECHO DE PETICION DE INTERES PARTICULAR"},{"$f":"+'[5]para PQR (2)'!F300","v":7},{"$f":"+'[5]para PQR (2)'!G300","v":"PENDIENTE"}]
[null,{"$f":"+'[5]para PQR (2)'!B301","v":2680972022},{"$f":"+'[5]para PQR (2)'!C301","v":"SUBDIRECCION DE ADMINISTRACION INMOBILIARIA Y DE ESPACIO PUBLICO"},{"$f":"+'[5]para PQR (2)'!D301","v":"ESCRITO"},{"$f":"+'[5]para PQR (2)'!E301","v":"DERECHO DE PETICION DE INTERES PARTICULAR"},{"$f":"+'[5]para PQR (2)'!F301","v":7},{"$f":"+'[5]para PQR (2)'!G301","v":"PENDIENTE"}]
[null,{"$f":"+'[5]para PQR (2)'!B302","v":2683232022},{"$f":"+'[5]para PQR (2)'!C302","v":"SUBDIRECCION DE ADMINISTRACION INMOBILIARIA Y DE ESPACIO PUBLICO"},{"$f":"+'[5]para PQR (2)'!D302","v":"E-MAIL"},{"$f":"+'[5]para PQR (2)'!E302","v":"DERECHO DE PETICION DE INTERES GENERAL"},{"$f":"+'[5]para PQR (2)'!F302","v":6},{"$f":"+'[5]para PQR (2)'!G302","v":"PENDIENTE"}]
[null,{"$f":"+'[5]para PQR (2)'!B303","v":2683332022},{"$f":"+'[5]para PQR (2)'!C303","v":"SUBDIRECCION DE ADMINISTRACION INMOBILIARIA Y DE ESPACIO PUBLICO"},{"$f":"+'[5]para PQR (2)'!D303","v":"TELEFONO"},{"$f":"+'[5]para PQR (2)'!E303","v":"DERECHO DE PETICION DE INTERES GENERAL"},{"$f":"+'[5]para PQR (2)'!F303","v":6},{"$f":"+'[5]para PQR (2)'!G303","v":"PENDIENTE"}]
[null,{"$f":"+'[5]para PQR (2)'!B304","v":2684392022},{"$f":"+'[5]para PQR (2)'!C304","v":"SUBDIRECCION DE ADMINISTRACION INMOBILIARIA Y DE ESPACIO PUBLICO"},{"$f":"+'[5]para PQR (2)'!D304","v":"WEB"},{"$f":"+'[5]para PQR (2)'!E304","v":"DERECHO DE PETICION DE INTERES PARTICULAR"},{"$f":"+'[5]para PQR (2)'!F304","v":5},{"$f":"+'[5]para PQR (2)'!G304","v":"PENDIENTE"}]
[null,{"$f":"+'[5]para PQR (2)'!B305","v":2687652022},{"$f":"+'[5]para PQR (2)'!C305","v":"SUBDIRECCION DE ADMINISTRACION INMOBILIARIA Y DE ESPACIO PUBLICO"},{"$f":"+'[5]para PQR (2)'!D305","v":"E-MAIL"},{"$f":"+'[5]para PQR (2)'!E305","v":"DERECHO DE PETICION DE INTERES GENERAL"},{"$f":"+'[5]para PQR (2)'!F305","v":6},{"$f":"+'[5]para PQR (2)'!G305","v":"PENDIENTE"}]
[null,{"$f":"+'[5]para PQR (2)'!B306","v":2689262022},{"$f":"+'[5]para PQR (2)'!C306","v":"AREA DE ATENCION A LA CIUDADANIA"},{"$f":"+'[5]para PQR (2)'!D306","v":"WEB"},{"$f":"+'[5]para PQR (2)'!E306","v":"QUEJA"},{"$f":"+'[5]para PQR (2)'!F306","v":1},{"$f":"+'[5]para PQR (2)'!G306","v":"GESTIONADO"}]
[null,{"$f":"+'[5]para PQR (2)'!B307","v":2691812022},{"$f":"+'[5]para PQR (2)'!C307","v":"SUBDIRECCION DE REGISTRO INMOBILIARIO"},{"$f":"+'[5]para PQR (2)'!D307","v":"E-MAIL"},{"$f":"+'[5]para PQR (2)'!E307","v":"DERECHO DE PETICION DE INTERES PARTICULAR"},{"$f":"+'[5]para PQR (2)'!F307","v":6},{"$f":"+'[5]para PQR (2)'!G307","v":"PENDIENTE"}]
[null,{"$f":"+'[5]para PQR (2)'!B308","v":2694742022},{"$f":"+'[5]para PQR (2)'!C308","v":"SUBDIRECCION DE ADMINISTRACION INMOBILIARIA Y DE ESPACIO PUBLICO"},{"$f":"+'[5]para PQR (2)'!D308","v":"WEB"},{"$f":"+'[5]para PQR (2)'!E308","v":"DERECHO DE PETICION DE INTERES GENERAL"},{"$f":"+'[5]para PQR (2)'!F308","v":6},{"$f":"+'[5]para PQR (2)'!G308","v":"PENDIENTE"}]
[null,{"$f":"+'[5]para PQR (2)'!B309","v":2696122022},{"$f":"+'[5]para PQR (2)'!C309","v":"AREA DE ATENCION A LA CIUDADANIA"},{"$f":"+'[5]para PQR (2)'!D309","v":"WEB"},{"$f":"+'[5]para PQR (2)'!E309","v":"DERECHO DE PETICION DE INTERES GENERAL"},{"$f":"+'[5]para PQR (2)'!F309","v":1},{"$f":"+'[5]para PQR (2)'!G309","v":"GESTIONADO"}]
[null,{"$f":"+'[5]para PQR (2)'!B310","v":2697742022},{"$f":"+'[5]para PQR (2)'!C310","v":"AREA DE ATENCION A LA CIUDADANIA"},{"$f":"+'[5]para PQR (2)'!D310","v":"WEB"},{"$f":"+'[5]para PQR (2)'!E310","v":"DERECHO DE PETICION DE INTERES GENERAL"},{"$f":"+'[5]para PQR (2)'!F310","v":1},{"$f":"+'[5]para PQR (2)'!G310","v":"GESTIONADO"}]
[null,{"$f":"+'[5]para PQR (2)'!B311","v":2698912022},{"$f":"+'[5]para PQR (2)'!C311","v":"SUBDIRECCION DE ADMINISTRACION INMOBILIARIA Y DE ESPACIO PUBLICO"},{"$f":"+'[5]para PQR (2)'!D311","v":"WEB"},{"$f":"+'[5]para PQR (2)'!E311","v":"DERECHO DE PETICION DE INTERES GENERAL"},{"$f":"+'[5]para PQR (2)'!F311","v":6},{"$f":"+'[5]para PQR (2)'!G311","v":"PENDIENTE"}]
[null,{"$f":"+'[5]para PQR (2)'!B312","v":2699392022},{"$f":"+'[5]para PQR (2)'!C312","v":"AREA DE ATENCION A LA CIUDADANIA"},{"$f":"+'[5]para PQR (2)'!D312","v":"WEB"},{"$f":"+'[5]para PQR (2)'!E312","v":"QUEJA"},{"$f":"+'[5]para PQR (2)'!F312","v":1},{"$f":"+'[5]para PQR (2)'!G312","v":"GESTIONADO"}]
[null,{"$f":"+'[5]para PQR (2)'!B313","v":2699422022},{"$f":"+'[5]para PQR (2)'!C313","v":"AREA DE ATENCION A LA CIUDADANIA"},{"$f":"+'[5]para PQR (2)'!D313","v":"WEB"},{"$f":"+'[5]para PQR (2)'!E313","v":"RECLAMO"},{"$f":"+'[5]para PQR (2)'!F313","v":1},{"$f":"+'[5]para PQR (2)'!G313","v":"GESTIONADO"}]
[null,{"$f":"+'[5]para PQR (2)'!B314","v":2699792022},{"$f":"+'[5]para PQR (2)'!C314","v":"AREA DE ATENCION A LA CIUDADANIA"},{"$f":"+'[5]para PQR (2)'!D314","v":"WEB"},{"$f":"+'[5]para PQR (2)'!E314","v":"DERECHO DE PETICION DE INTERES PARTICULAR"},{"$f":"+'[5]para PQR (2)'!F314","v":1},{"$f":"+'[5]para PQR (2)'!G314","v":"GESTIONADO"}]
[null,{"$f":"+'[5]para PQR (2)'!B315","v":2699842022},{"$f":"+'[5]para PQR (2)'!C315","v":"AREA DE ATENCION A LA CIUDADANIA"},{"$f":"+'[5]para PQR (2)'!D315","v":"WEB"},{"$f":"+'[5]para PQR (2)'!E315","v":"DERECHO DE PETICION DE INTERES PARTICULAR"},{"$f":"+'[5]para PQR (2)'!F315","v":1},{"$f":"+'[5]para PQR (2)'!G315","v":"GESTIONADO"}]
[null,{"$f":"+'[5]para PQR (2)'!B316","v":2700342022},{"$f":"+'[5]para PQR (2)'!C316","v":"AREA DE ATENCION A LA CIUDADANIA"},{"$f":"+'[5]para PQR (2)'!D316","v":"WEB"},{"$f":"+'[5]para PQR (2)'!E316","v":"QUEJA"},{"$f":"+'[5]para PQR (2)'!F316","v":1},{"$f":"+'[5]para PQR (2)'!G316","v":"GESTIONADO"}]
[null,{"$f":"+'[5]para PQR (2)'!B317","v":2700542022},{"$f":"+'[5]para PQR (2)'!C317","v":"AREA DE ATENCION A LA CIUDADANIA"},{"$f":"+'[5]para PQR (2)'!D317","v":"TELEFONO"},{"$f":"+'[5]para PQR (2)'!E317","v":"DERECHO DE PETICION DE INTERES GENERAL"},{"$f":"+'[5]para PQR (2)'!F317","v":1},{"$f":"+'[5]para PQR (2)'!G317","v":"GESTIONADO"}]
[null,{"$f":"+'[5]para PQR (2)'!B318","v":2701342022},{"$f":"+'[5]para PQR (2)'!C318","v":"SUBDIRECCION DE REGISTRO INMOBILIARIO"},{"$f":"+'[5]para PQR (2)'!D318","v":"ESCRITO"},{"$f":"+'[5]para PQR (2)'!E318","v":"DERECHO DE PETICION DE INTERES PARTICULAR"},{"$f":"+'[5]para PQR (2)'!F318","v":6},{"$f":"+'[5]para PQR (2)'!G318","v":"PENDIENTE"}]
[null,{"$f":"+'[5]para PQR (2)'!B319","v":2701422022},{"$f":"+'[5]para PQR (2)'!C319","v":"SUBDIRECCION DE ADMINISTRACION INMOBILIARIA Y DE ESPACIO PUBLICO"},{"$f":"+'[5]para PQR (2)'!D319","v":"ESCRITO"},{"$f":"+'[5]para PQR (2)'!E319","v":"DERECHO DE PETICION DE INTERES PARTICULAR"},{"$f":"+'[5]para PQR (2)'!F319","v":6},{"$f":"+'[5]para PQR (2)'!G319","v":"PENDIENTE"}]
[null,{"$f":"+'[5]para PQR (2)'!B320","v":2701522022},{"$f":"+'[5]para PQR (2)'!C320","v":"SUBDIRECCION DE ADMINISTRACION INMOBILIARIA Y DE ESPACIO PUBLICO"},{"$f":"+'[5]para PQR (2)'!D320","v":"E-MAIL"},{"$f":"+'[5]para PQR (2)'!E320","v":"DERECHO DE PETICION DE INTERES GENERAL"},{"$f":"+'[5]para PQR (2)'!F320","v":4},{"$f":"+'[5]para PQR (2)'!G320","v":"PENDIENTE"}]
[null,{"$f":"+'[5]para PQR (2)'!B321","v":2701962022},{"$f":"+'[5]para PQR (2)'!C321","v":"AREA DE ATENCION A LA CIUDADANIA"},{"$f":"+'[5]para PQR (2)'!D321","v":"WEB"},{"$f":"+'[5]para PQR (2)'!E321","v":"DERECHO DE PETICION DE INTERES GENERAL"},{"$f":"+'[5]para PQR (2)'!F321","v":1},{"$f":"+'[5]para PQR (2)'!G321","v":"GESTIONADO"}]
[null,{"$f":"+'[5]para PQR (2)'!B322","v":2702742022},{"$f":"+'[5]para PQR (2)'!C322","v":"AREA DE ATENCION A LA CIUDADANIA"},{"$f":"+'[5]para PQR (2)'!D322","v":"WEB"},{"$f":"+'[5]para PQR (2)'!E322","v":"DERECHO DE PETICION DE INTERES PARTICULAR"},{"$f":"+'[5]para PQR (2)'!F322","v":1},{"$f":"+'[5]para PQR (2)'!G322","v":"GESTIONADO"}]
[null,{"$f":"+'[5]para PQR (2)'!B323","v":2702982022},{"$f":"+'[5]para PQR (2)'!C323","v":"SUBDIRECCION DE ADMINISTRACION INMOBILIARIA Y DE ESPACIO PUBLICO"},{"$f":"+'[5]para PQR (2)'!D323","v":"WEB"},{"$f":"+'[5]para PQR (2)'!E323","v":"DERECHO DE PETICION DE INTERES PARTICULAR"},{"$f":"+'[5]para PQR (2)'!F323","v":6},{"$f":"+'[5]para PQR (2)'!G323","v":"PENDIENTE"}]
[null,{"$f":"+'[5]para PQR (2)'!B324","v":2703182022},{"$f":"+'[5]para PQR (2)'!C324","v":"AREA DE ATENCION A LA CIUDADANIA"},{"$f":"+'[5]para PQR (2)'!D324","v":"WEB"},{"$f":"+'[5]para PQR (2)'!E324","v":"DERECHO DE PETICION DE INTERES GENERAL"},{"$f":"+'[5]para PQR (2)'!F324","v":1},{"$f":"+'[5]para PQR (2)'!G324","v":"GESTIONADO"}]
[null,{"$f":"+'[5]para PQR (2)'!B325","v":2705452022},{"$f":"+'[5]para PQR (2)'!C325","v":"AREA DE ATENCION A LA CIUDADANIA"},{"$f":"+'[5]para PQR (2)'!D325","v":"TELEFONO"},{"$f":"+'[5]para PQR (2)'!E325","v":"QUEJA"},{"$f":"+'[5]para PQR (2)'!F325","v":1},{"$f":"+'[5]para PQR (2)'!G325","v":"GESTIONADO"}]
[null,{"$f":"+'[5]para PQR (2)'!B326","v":2705862022},{"$f":"+'[5]para PQR (2)'!C326","v":"AREA DE ATENCION A LA CIUDADANIA"},{"$f":"+'[5]para PQR (2)'!D326","v":"WEB"},{"$f":"+'[5]para PQR (2)'!E326","v":"DERECHO DE PETICION DE INTERES GENERAL"},{"$f":"+'[5]para PQR (2)'!F326","v":1},{"$f":"+'[5]para PQR (2)'!G326","v":"GESTIONADO"}]
[null,{"$f":"+'[5]para PQR (2)'!B327","v":2708582022},{"$f":"+'[5]para PQR (2)'!C327","v":"SUBDIRECCION DE ADMINISTRACION INMOBILIARIA Y DE ESPACIO PUBLICO"},{"$f":"+'[5]para PQR (2)'!D327","v":"WEB"},{"$f":"+'[5]para PQR (2)'!E327","v":"DERECHO DE PETICION DE INTERES GENERAL"},{"$f":"+'[5]para PQR (2)'!F327","v":5},{"$f":"+'[5]para PQR (2)'!G327","v":"PENDIENTE"}]
[null,{"$f":"+'[5]para PQR (2)'!B328","v":2709432022},{"$f":"+'[5]para PQR (2)'!C328","v":"AREA DE ATENCION A LA CIUDADANIA"},{"$f":"+'[5]para PQR (2)'!D328","v":"WEB"},{"$f":"+'[5]para PQR (2)'!E328","v":"SOLICITUD DE ACCESO A LA INFORMACION"},{"$f":"+'[5]para PQR (2)'!F328","v":1},{"$f":"+'[5]para PQR (2)'!G328","v":"GESTIONADO"}]
[null,{"$f":"+'[5]para PQR (2)'!B329","v":2713952022},{"$f":"+'[5]para PQR (2)'!C329","v":"OFICINA ASESORA JURIDICA"},{"$f":"+'[5]para PQR (2)'!D329","v":"E-MAIL"},{"$f":"+'[5]para PQR (2)'!E329","v":"DERECHO DE PETICION DE INTERES PARTICULAR"},{"$f":"+'[5]para PQR (2)'!F329","v":5},{"$f":"+'[5]para PQR (2)'!G329","v":"PENDIENTE"}]
[null,{"$f":"+'[5]para PQR (2)'!B330","v":2714192022},{"$f":"+'[5]para PQR (2)'!C330","v":"AREA DE ATENCION A LA CIUDADANIA"},{"$f":"+'[5]para PQR (2)'!D330","v":"ESCRITO"},{"$f":"+'[5]para PQR (2)'!E330","v":"DERECHO DE PETICION DE INTERES GENERAL"},{"$f":"+'[5]para PQR (2)'!F330","v":1},{"$f":"+'[5]para PQR (2)'!G330","v":"PENDIENTE"}]
[null,{"$f":"+'[5]para PQR (2)'!B331","v":2715292022},{"$f":"+'[5]para PQR (2)'!C331","v":"AREA DE ATENCION A LA CIUDADANIA"},{"$f":"+'[5]para PQR (2)'!D331","v":"WEB"},{"$f":"+'[5]para PQR (2)'!E331","v":"CONSULTA"},{"$f":"+'[5]para PQR (2)'!F331","v":1},{"$f":"+'[5]para PQR (2)'!G331","v":"GESTIONADO"}]
[null,{"$f":"+'[5]para PQR (2)'!B332","v":2716662022},{"$f":"+'[5]para PQR (2)'!C332","v":"AREA DE ATENCION A LA CIUDADANIA"},{"$f":"+'[5]para PQR (2)'!D332","v":"WEB"},{"$f":"+'[5]para PQR (2)'!E332","v":"DERECHO DE PETICION DE INTERES GENERAL"},{"$f":"+'[5]para PQR (2)'!F332","v":1},{"$f":"+'[5]para PQR (2)'!G332","v":"GESTIONADO"}]
[null,{"$f":"+'[5]para PQR (2)'!B333","v":2716712022},{"$f":"+'[5]para PQR (2)'!C333","v":"SUBDIRECCION DE REGISTRO INMOBILIARIO"},{"$f":"+'[5]para PQR (2)'!D333","v":"WEB"},{"$f":"+'[5]para PQR (2)'!E333","v":"DERECHO DE PETICION DE INTERES GENERAL"},{"$f":"+'[5]para PQR (2)'!F333","v":5},{"$f":"+'[5]para PQR (2)'!G333","v":"PENDIENTE"}]
[null,{"$f":"+'[5]para PQR (2)'!B334","v":2716942022},{"$f":"+'[5]para PQR (2)'!C334","v":"SUBDIRECCION DE ADMINISTRACION INMOBILIARIA Y DE ESPACIO PUBLICO"},{"$f":"+'[5]para PQR (2)'!D334","v":"ESCRITO"},{"$f":"+'[5]para PQR (2)'!E334","v":"DERECHO DE PETICION DE INTERES PARTICULAR"},{"$f":"+'[5]para PQR (2)'!F334","v":5},{"$f":"+'[5]para PQR (2)'!G334","v":"PENDIENTE"}]
[null,{"$f":"+'[5]para PQR (2)'!B335","v":2718552022},{"$f":"+'[5]para PQR (2)'!C335","v":"SUBDIRECCION DE ADMINISTRACION INMOBILIARIA Y DE ESPACIO PUBLICO"},{"$f":"+'[5]para PQR (2)'!D335","v":"ESCRITO"},{"$f":"+'[5]para PQR (2)'!E335","v":"DERECHO DE PETICION DE INTERES PARTICULAR"},{"$f":"+'[5]para PQR (2)'!F335","v":5},{"$f":"+'[5]para PQR (2)'!G335","v":"PENDIENTE"}]
[null,{"$f":"+'[5]para PQR (2)'!B336","v":2718662022},{"$f":"+'[5]para PQR (2)'!C336","v":"SUBDIRECCION DE ADMINISTRACION INMOBILIARIA Y DE ESPACIO PUBLICO"},{"$f":"+'[5]para PQR (2)'!D336","v":"WEB"},{"$f":"+'[5]para PQR (2)'!E336","v":"DERECHO DE PETICION DE INTERES PARTICULAR"},{"$f":"+'[5]para PQR (2)'!F336","v":5},{"$f":"+'[5]para PQR (2)'!G336","v":"PENDIENTE"}]
[null,{"$f":"+'[5]para PQR (2)'!B337","v":2718712022},{"$f":"+'[5]para PQR (2)'!C337","v":"SUBDIRECCION DE REGISTRO INMOBILIARIO"},{"$f":"+'[5]para PQR (2)'!D337","v":"WEB"},{"$f":"+'[5]para PQR (2)'!E337","v":"DERECHO DE PETICION DE INTERES GENERAL"},{"$f":"+'[5]para PQR (2)'!F337","v":2},{"$f":"+'[5]para PQR (2)'!G337","v":"PENDIENTE"}]
[null,{"$f":"+'[5]para PQR (2)'!B338","v":2719592022},{"$f":"+'[5]para PQR (2)'!C338","v":"SUBDIRECCION DE REGISTRO INMOBILIARIO"},{"$f":"+'[5]para PQR (2)'!D338","v":"ESCRITO"},{"$f":"+'[5]para PQR (2)'!E338","v":"DERECHO DE PETICION DE INTERES PARTICULAR"},{"$f":"+'[5]para PQR (2)'!F338","v":4},{"$f":"+'[5]para PQR (2)'!G338","v":"PENDIENTE"}]
[null,{"$f":"+'[5]para PQR (2)'!B339","v":2719882022},{"$f":"+'[5]para PQR (2)'!C339","v":"AREA DE ATENCION A LA CIUDADANIA"},{"$f":"+'[5]para PQR (2)'!D339","v":"TELEFONO"},{"$f":"+'[5]para PQR (2)'!E339","v":"DERECHO DE PETICION DE INTERES GENERAL"},{"$f":"+'[5]para PQR (2)'!F339","v":1},{"$f":"+'[5]para PQR (2)'!G339","v":"GESTIONADO"}]
[null,{"$f":"+'[5]para PQR (2)'!B340","v":2721852022},{"$f":"+'[5]para PQR (2)'!C340","v":"SUBDIRECCION DE ADMINISTRACION INMOBILIARIA Y DE ESPACIO PUBLICO"},{"$f":"+'[5]para PQR (2)'!D340","v":"ESCRITO"},{"$f":"+'[5]para PQR (2)'!E340","v":"DERECHO DE PETICION DE INTERES GENERAL"},{"$f":"+'[5]para PQR (2)'!F340","v":4},{"$f":"+'[5]para PQR (2)'!G340","v":"PENDIENTE"}]
[null,{"$f":"+'[5]para PQR (2)'!B341","v":2722062022},{"$f":"+'[5]para PQR (2)'!C341","v":"SUBDIRECCION DE ADMINISTRACION INMOBILIARIA Y DE ESPACIO PUBLICO"},{"$f":"+'[5]para PQR (2)'!D341","v":"ESCRITO"},{"$f":"+'[5]para PQR (2)'!E341","v":"DERECHO DE PETICION DE INTERES PARTICULAR"},{"$f":"+'[5]para PQR (2)'!F341","v":4},{"$f":"+'[5]para PQR (2)'!G341","v":"PENDIENTE"}]
[null,{"$f":"+'[5]para PQR (2)'!B342","v":2723922022},{"$f":"+'[5]para PQR (2)'!C342","v":"SUBDIRECCION DE ADMINISTRACION INMOBILIARIA Y DE ESPACIO PUBLICO"},{"$f":"+'[5]para PQR (2)'!D342","v":"ESCRITO"},{"$f":"+'[5]para PQR (2)'!E342","v":"DERECHO DE PETICION DE INTERES PARTICULAR"},{"$f":"+'[5]para PQR (2)'!F342","v":4},{"$f":"+'[5]para PQR (2)'!G342","v":"PENDIENTE"}]
[null,{"$f":"+'[5]para PQR (2)'!B343","v":2724802022},{"$f":"+'[5]para PQR (2)'!C343","v":"AREA DE ATENCION A LA CIUDADANIA"},{"$f":"+'[5]para PQR (2)'!D343","v":"WEB"},{"$f":"+'[5]para PQR (2)'!E343","v":"QUEJA"},{"$f":"+'[5]para PQR (2)'!F343","v":1},{"$f":"+'[5]para PQR (2)'!G343","v":"GESTIONADO"}]
[null,{"$f":"+'[5]para PQR (2)'!B344","v":2724882022},{"$f":"+'[5]para PQR (2)'!C344","v":"SUBDIRECCION DE ADMINISTRACION INMOBILIARIA Y DE ESPACIO PUBLICO"},{"$f":"+'[5]para PQR (2)'!D344","v":"ESCRITO"},{"$f":"+'[5]para PQR (2)'!E344","v":"DERECHO DE PETICION DE INTERES GENERAL"},{"$f":"+'[5]para PQR (2)'!F344","v":4},{"$f":"+'[5]para PQR (2)'!G344","v":"PENDIENTE"}]
[null,{"$f":"+'[5]para PQR (2)'!B345","v":2725032022},{"$f":"+'[5]para PQR (2)'!C345","v":"SUBDIRECCION DE ADMINISTRACION INMOBILIARIA Y DE ESPACIO PUBLICO"},{"$f":"+'[5]para PQR (2)'!D345","v":"ESCRITO"},{"$f":"+'[5]para PQR (2)'!E345","v":"DERECHO DE PETICION DE INTERES GENERAL"},{"$f":"+'[5]para PQR (2)'!F345","v":4},{"$f":"+'[5]para PQR (2)'!G345","v":"PENDIENTE"}]
[null,{"$f":"+'[5]para PQR (2)'!B346","v":2726882022},{"$f":"+'[5]para PQR (2)'!C346","v":"SUBDIRECCION DE ADMINISTRACION INMOBILIARIA Y DE ESPACIO PUBLICO"},{"$f":"+'[5]para PQR (2)'!D346","v":"WEB"},{"$f":"+'[5]para PQR (2)'!E346","v":"SOLICITUD DE COPIA"},{"$f":"+'[5]para PQR (2)'!F346","v":4},{"$f":"+'[5]para PQR (2)'!G346","v":"PENDIENTE"}]
[null,{"$f":"+'[5]para PQR (2)'!B347","v":2727212022},{"$f":"+'[5]para PQR (2)'!C347","v":"SUBDIRECCION DE REGISTRO INMOBILIARIO"},{"$f":"+'[5]para PQR (2)'!D347","v":"ESCRITO"},{"$f":"+'[5]para PQR (2)'!E347","v":"DERECHO DE PETICION DE INTERES PARTICULAR"},{"$f":"+'[5]para PQR (2)'!F347","v":4},{"$f":"+'[5]para PQR (2)'!G347","v":"PENDIENTE"}]
[null,{"$f":"+'[5]para PQR (2)'!B348","v":2728122022},{"$f":"+'[5]para PQR (2)'!C348","v":"SUBDIRECCION DE ADMINISTRACION INMOBILIARIA Y DE ESPACIO PUBLICO"},{"$f":"+'[5]para PQR (2)'!D348","v":"ESCRITO"},{"$f":"+'[5]para PQR (2)'!E348","v":"DERECHO DE PETICION DE INTERES PARTICULAR"},{"$f":"+'[5]para PQR (2)'!F348","v":4},{"$f":"+'[5]para PQR (2)'!G348","v":"PENDIENTE"}]
[null,{"$f":"+'[5]para PQR (2)'!B349","v":2729322022},{"$f":"+'[5]para PQR (2)'!C349","v":"AREA DE ATENCION A LA CIUDADANIA"},{"$f":"+'[5]para PQR (2)'!D349","v":"WEB"},{"$f":"+'[5]para PQR (2)'!E349","v":"DERECHO DE PETICION DE INTERES GENERAL"},{"$f":"+'[5]para PQR (2)'!F349","v":1},{"$f":"+'[5]para PQR (2)'!G349","v":"GESTIONADO"}]
[null,{"$f":"+'[5]para PQR (2)'!B350","v":2729782022},{"$f":"+'[5]para PQR (2)'!C350","v":"SUBDIRECCION DE ADMINISTRACION INMOBILIARIA Y DE ESPACIO PUBLICO"},{"$f":"+'[5]para PQR (2)'!D350","v":"ESCRITO"},{"$f":"+'[5]para PQR (2)'!E350","v":"DERECHO DE PETICION DE INTERES PARTICULAR"},{"$f":"+'[5]para PQR (2)'!F350","v":4},{"$f":"+'[5]para PQR (2)'!G350","v":"PENDIENTE"}]
[null,{"$f":"+'[5]para PQR (2)'!B351","v":2731812022},{"$f":"+'[5]para PQR (2)'!C351","v":"AREA DE ATENCION A LA CIUDADANIA"},{"$f":"+'[5]para PQR (2)'!D351","v":"WEB"},{"$f":"+'[5]para PQR (2)'!E351","v":"DERECHO DE PETICION DE INTERES GENERAL"},{"$f":"+'[5]para PQR (2)'!F351","v":1},{"$f":"+'[5]para PQR (2)'!G351","v":"GESTIONADO"}]
[null,{"$f":"+'[5]para PQR (2)'!B352","v":2732372022},{"$f":"+'[5]para PQR (2)'!C352","v":"AREA DE ATENCION A LA CIUDADANIA"},{"$f":"+'[5]para PQR (2)'!D352","v":"WEB"},{"$f":"+'[5]para PQR (2)'!E352","v":"DERECHO DE PETICION DE INTERES GENERAL"},{"$f":"+'[5]para PQR (2)'!F352","v":1},{"$f":"+'[5]para PQR (2)'!G352","v":"GESTIONADO"}]
[null,{"$f":"+'[5]para PQR (2)'!B353","v":2733102022},{"$f":"+'[5]para PQR (2)'!C353","v":"AREA DE ATENCION A LA CIUDADANIA"},{"$f":"+'[5]para PQR (2)'!D353","v":"WEB"},{"$f":"+'[5]para PQR (2)'!E353","v":"DERECHO DE PETICION DE INTERES GENERAL"},{"$f":"+'[5]para PQR (2)'!F353","v":1},{"$f":"+'[5]para PQR (2)'!G353","v":"GESTIONADO"}]
[null,{"$f":"+'[5]para PQR (2)'!B354","v":2735112022},{"$f":"+'[5]para PQR (2)'!C354","v":"SUBDIRECCION DE ADMINISTRACION INMOBILIARIA Y DE ESPACIO PUBLICO"},{"$f":"+'[5]para PQR (2)'!D354","v":"ESCRITO"},{"$f":"+'[5]para PQR (2)'!E354","v":"DERECHO DE PETICION DE INTERES PARTICULAR"},{"$f":"+'[5]para PQR (2)'!F354","v":3},{"$f":"+'[5]para PQR (2)'!G354","v":"PENDIENTE"}]
[null,{"$f":"+'[5]para PQR (2)'!B355","v":2735832022},{"$f":"+'[5]para PQR (2)'!C355","v":"AREA DE ATENCION A LA CIUDADANIA"},{"$f":"+'[5]para PQR (2)'!D355","v":"E-MAIL"},{"$f":"+'[5]para PQR (2)'!E355","v":"DERECHO DE PETICION DE INTERES GENERAL"},{"$f":"+'[5]para PQR (2)'!F355","v":1},{"$f":"+'[5]para PQR (2)'!G355","v":"GESTIONADO"}]
[null,{"$f":"+'[5]para PQR (2)'!B356","v":2737492022},{"$f":"+'[5]para PQR (2)'!C356","v":"SUBDIRECCION DE ADMINISTRACION INMOBILIARIA Y DE ESPACIO PUBLICO"},{"$f":"+'[5]para PQR (2)'!D356","v":"ESCRITO"},{"$f":"+'[5]para PQR (2)'!E356","v":"DERECHO DE PETICION DE INTERES PARTICULAR"},{"$f":"+'[5]para PQR (2)'!F356","v":3},{"$f":"+'[5]para PQR (2)'!G356","v":"PENDIENTE"}]
[null,{"$f":"+'[5]para PQR (2)'!B357","v":2738092022},{"$f":"+'[5]para PQR (2)'!C357","v":"SUBDIRECCION DE ADMINISTRACION INMOBILIARIA Y DE ESPACIO PUBLICO"},{"$f":"+'[5]para PQR (2)'!D357","v":"WEB"},{"$f":"+'[5]para PQR (2)'!E357","v":"DERECHO DE PETICION DE INTERES PARTICULAR"},{"$f":"+'[5]para PQR (2)'!F357","v":3},{"$f":"+'[5]para PQR (2)'!G357","v":"PENDIENTE"}]
[null,{"$f":"+'[5]para PQR (2)'!B358","v":2738452022},{"$f":"+'[5]para PQR (2)'!C358","v":"SUBDIRECCION DE ADMINISTRACION INMOBILIARIA Y DE ESPACIO PUBLICO"},{"$f":"+'[5]para PQR (2)'!D358","v":"ESCRITO"},{"$f":"+'[5]para PQR (2)'!E358","v":"DERECHO DE PETICION DE INTERES PARTICULAR"},{"$f":"+'[5]para PQR (2)'!F358","v":3},{"$f":"+'[5]para PQR (2)'!G358","v":"PENDIENTE"}]
[null,{"$f":"+'[5]para PQR (2)'!B359","v":2738732022},{"$f":"+'[5]para PQR (2)'!C359","v":"AREA DE ATENCION A LA CIUDADANIA"},{"$f":"+'[5]para PQR (2)'!D359","v":"WEB"},{"$f":"+'[5]para PQR (2)'!E359","v":"DERECHO DE PETICION DE INTERES PARTICULAR"},{"$f":"+'[5]para PQR (2)'!F359","v":1},{"$f":"+'[5]para PQR (2)'!G359","v":"GESTIONADO"}]
[null,{"$f":"+'[5]para PQR (2)'!B360","v":2738872022},{"$f":"+'[5]para PQR (2)'!C360","v":"SUBDIRECCION DE REGISTRO INMOBILIARIO"},{"$f":"+'[5]para PQR (2)'!D360","v":"WEB"},{"$f":"+'[5]para PQR (2)'!E360","v":"DERECHO DE PETICION DE INTERES PARTICULAR"},{"$f":"+'[5]para PQR (2)'!F360","v":3},{"$f":"+'[5]para PQR (2)'!G360","v":"PENDIENTE"}]
[null,{"$f":"+'[5]para PQR (2)'!B361","v":2739082022},{"$f":"+'[5]para PQR (2)'!C361","v":"SUBDIRECCION DE ADMINISTRACION INMOBILIARIA Y DE ESPACIO PUBLICO"},{"$f":"+'[5]para PQR (2)'!D361","v":"WEB"},{"$f":"+'[5]para PQR (2)'!E361","v":"SOLICITUD DE ACCESO A LA INFORMACION"},{"$f":"+'[5]para PQR (2)'!F361","v":1},{"$f":"+'[5]para PQR (2)'!G361","v":"PENDIENTE"}]
[null,{"$f":"+'[5]para PQR (2)'!B362","v":2740072022},{"$f":"+'[5]para PQR (2)'!C362","v":"SUBDIRECCION DE ADMINISTRACION INMOBILIARIA Y DE ESPACIO PUBLICO"},{"$f":"+'[5]para PQR (2)'!D362","v":"WEB"},{"$f":"+'[5]para PQR (2)'!E362","v":"DERECHO DE PETICION DE INTERES GENERAL"},{"$f":"+'[5]para PQR (2)'!F362","v":3},{"$f":"+'[5]para PQR (2)'!G362","v":"PENDIENTE"}]
[null,{"$f":"+'[5]para PQR (2)'!B363","v":2742592022},{"$f":"+'[5]para PQR (2)'!C363","v":"SUBDIRECCION DE ADMINISTRACION INMOBILIARIA Y DE ESPACIO PUBLICO"},{"$f":"+'[5]para PQR (2)'!D363","v":"ESCRITO"},{"$f":"+'[5]para PQR (2)'!E363","v":"DERECHO DE PETICION DE INTERES PARTICULAR"},{"$f":"+'[5]para PQR (2)'!F363","v":3},{"$f":"+'[5]para PQR (2)'!G363","v":"PENDIENTE"}]
[null,{"$f":"+'[5]para PQR (2)'!B364","v":2742832022},{"$f":"+'[5]para PQR (2)'!C364","v":"SUBDIRECCION ADMINISTRATIVA  FINANCIERA Y DE CONTROL DISCIPLINARIO"},{"$f":"+'[5]para PQR (2)'!D364","v":"WEB"},{"$f":"+'[5]para PQR (2)'!E364","v":"DERECHO DE PETICION DE INTERES GENERAL"},{"$f":"+'[5]para PQR (2)'!F364","v":1},{"$f":"+'[5]para PQR (2)'!G364","v":"GESTIONADO"}]
[null,{"$f":"+'[5]para PQR (2)'!B365","v":2745322022},{"$f":"+'[5]para PQR (2)'!C365","v":"SUBDIRECCION DE ADMINISTRACION INMOBILIARIA Y DE ESPACIO PUBLICO"},{"$f":"+'[5]para PQR (2)'!D365","v":"ESCRITO"},{"$f":"+'[5]para PQR (2)'!E365","v":"DERECHO DE PETICION DE INTERES GENERAL"},{"$f":"+'[5]para PQR (2)'!F365","v":2},{"$f":"+'[5]para PQR (2)'!G365","v":"PENDIENTE"}]
[null,{"$f":"+'[5]para PQR (2)'!B366","v":2747382022},{"$f":"+'[5]para PQR (2)'!C366","v":"SUBDIRECCION DE REGISTRO INMOBILIARIO"},{"$f":"+'[5]para PQR (2)'!D366","v":"ESCRITO"},{"$f":"+'[5]para PQR (2)'!E366","v":"DERECHO DE PETICION DE INTERES PARTICULAR"},{"$f":"+'[5]para PQR (2)'!F366","v":3},{"$f":"+'[5]para PQR (2)'!G366","v":"PENDIENTE"}]
[null,{"$f":"+'[5]para PQR (2)'!B367","v":2747502022},{"$f":"+'[5]para PQR (2)'!C367","v":"SUBDIRECCION DE REGISTRO INMOBILIARIO"},{"$f":"+'[5]para PQR (2)'!D367","v":"ESCRITO"},{"$f":"+'[5]para PQR (2)'!E367","v":"DERECHO DE PETICION DE INTERES PARTICULAR"},{"$f":"+'[5]para PQR (2)'!F367","v":3},{"$f":"+'[5]para PQR (2)'!G367","v":"PENDIENTE"}]
[null,{"$f":"+'[5]para PQR (2)'!B368","v":2747742022},{"$f":"+'[5]para PQR (2)'!C368","v":"SUBDIRECCION DE REGISTRO INMOBILIARIO"},{"$f":"+'[5]para PQR (2)'!D368","v":"ESCRITO"},{"$f":"+'[5]para PQR (2)'!E368","v":"DERECHO DE PETICION DE INTERES PARTICULAR"},{"$f":"+'[5]para PQR (2)'!F368","v":3},{"$f":"+'[5]para PQR (2)'!G368","v":"PENDIENTE"}]
[null,{"$f":"+'[5]para PQR (2)'!B369","v":2748872022},{"$f":"+'[5]para PQR (2)'!C369","v":"SUBDIRECCION DE ADMINISTRACION INMOBILIARIA Y DE ESPACIO PUBLICO"},{"$f":"+'[5]para PQR (2)'!D369","v":"ESCRITO"},{"$f":"+'[5]para PQR (2)'!E369","v":"DERECHO DE PETICION DE INTERES GENERAL"},{"$f":"+'[5]para PQR (2)'!F369","v":2},{"$f":"+'[5]para PQR (2)'!G369","v":"PENDIENTE"}]
[null,{"$f":"+'[5]para PQR (2)'!B370","v":2751732022},{"$f":"+'[5]para PQR (2)'!C370","v":"SUBDIRECCION DE ADMINISTRACION INMOBILIARIA Y DE ESPACIO PUBLICO"},{"$f":"+'[5]para PQR (2)'!D370","v":"ESCRITO"},{"$f":"+'[5]para PQR (2)'!E370","v":"DERECHO DE PETICION DE INTERES PARTICULAR"},{"$f":"+'[5]para PQR (2)'!F370","v":2},{"$f":"+'[5]para PQR (2)'!G370","v":"PENDIENTE"}]
[null,{"$f":"+'[5]para PQR (2)'!B371","v":2753382022},{"$f":"+'[5]para PQR (2)'!C371","v":"SUBDIRECCION DE ADMINISTRACION INMOBILIARIA Y DE ESPACIO PUBLICO"},{"$f":"+'[5]para PQR (2)'!D371","v":"WEB"},{"$f":"+'[5]para PQR (2)'!E371","v":"DERECHO DE PETICION DE INTERES GENERAL"},{"$f":"+'[5]para PQR (2)'!F371","v":2},{"$f":"+'[5]para PQR (2)'!G371","v":"PENDIENTE"}]
[null,{"$f":"+'[5]para PQR (2)'!B372","v":2754792022},{"$f":"+'[5]para PQR (2)'!C372","v":"SUBDIRECCION DE ADMINISTRACION INMOBILIARIA Y DE ESPACIO PUBLICO"},{"$f":"+'[5]para PQR (2)'!D372","v":"WEB"},{"$f":"+'[5]para PQR (2)'!E372","v":"DERECHO DE PETICION DE INTERES GENERAL"},{"$f":"+'[5]para PQR (2)'!F372","v":2},{"$f":"+'[5]para PQR (2)'!G372","v":"PENDIENTE"}]
[null,{"$f":"+'[5]para PQR (2)'!B373","v":2755862022},{"$f":"+'[5]para PQR (2)'!C373","v":"SUBDIRECCION DE ADMINISTRACION INMOBILIARIA Y DE ESPACIO PUBLICO"},{"$f":"+'[5]para PQR (2)'!D373","v":"ESCRITO"},{"$f":"+'[5]para PQR (2)'!E373","v":"DERECHO DE PETICION DE INTERES PARTICULAR"},{"$f":"+'[5]para PQR (2)'!F373","v":2},{"$f":"+'[5]para PQR (2)'!G373","v":"PENDIENTE"}]
[null,{"$f":"+'[5]para PQR (2)'!B374","v":2757162022},{"$f":"+'[5]para PQR (2)'!C374","v":"AREA DE ATENCION A LA CIUDADANIA"},{"$f":"+'[5]para PQR (2)'!D374","v":"WEB"},{"$f":"+'[5]para PQR (2)'!E374","v":"QUEJA"},{"$f":"+'[5]para PQR (2)'!F374","v":1},{"$f":"+'[5]para PQR (2)'!G374","v":"GESTIONADO"}]
[null,{"$f":"+'[5]para PQR (2)'!B375","v":2758322022},{"$f":"+'[5]para PQR (2)'!C375","v":"SUBDIRECCION DE ADMINISTRACION INMOBILIARIA Y DE ESPACIO PUBLICO"},{"$f":"+'[5]para PQR (2)'!D375","v":"E-MAIL"},{"$f":"+'[5]para PQR (2)'!E375","v":"DERECHO DE PETICION DE INTERES PARTICULAR"},{"$f":"+'[5]para PQR (2)'!F375","v":2},{"$f":"+'[5]para PQR (2)'!G375","v":"PENDIENTE"}]
[null,{"$f":"+'[5]para PQR (2)'!B376","v":2758682022},{"$f":"+'[5]para PQR (2)'!C376","v":"AREA DE ATENCION A LA CIUDADANIA"},{"$f":"+'[5]para PQR (2)'!D376","v":"WEB"},{"$f":"+'[5]para PQR (2)'!E376","v":"DERECHO DE PETICION DE INTERES GENERAL"},{"$f":"+'[5]para PQR (2)'!F376","v":1},{"$f":"+'[5]para PQR (2)'!G376","v":"GESTIONADO"}]
[null,{"$f":"+'[5]para PQR (2)'!B377","v":2758922022},{"$f":"+'[5]para PQR (2)'!C377","v":"AREA DE ATENCION A LA CIUDADANIA"},{"$f":"+'[5]para PQR (2)'!D377","v":"WEB"},{"$f":"+'[5]para PQR (2)'!E377","v":"DERECHO DE PETICION DE INTERES GENERAL"},{"$f":"+'[5]para PQR (2)'!F377","v":1},{"$f":"+'[5]para PQR (2)'!G377","v":"GESTIONADO"}]
[null,{"$f":"+'[5]para PQR (2)'!B378","v":2759562022},{"$f":"+'[5]para PQR (2)'!C378","v":"AREA DE ATENCION A LA CIUDADANIA"},{"$f":"+'[5]para PQR (2)'!D378","v":"WEB"},{"$f":"+'[5]para PQR (2)'!E378","v":"DERECHO DE PETICION DE INTERES GENERAL"},{"$f":"+'[5]para PQR (2)'!F378","v":1},{"$f":"+'[5]para PQR (2)'!G378","v":"GESTIONADO"}]
[null,{"$f":"+'[5]para PQR (2)'!B379","v":2761202022},{"$f":"+'[5]para PQR (2)'!C379","v":"SUBDIRECCION DE ADMINISTRACION INMOBILIARIA Y DE ESPACIO PUBLICO"},{"$f":"+'[5]para PQR (2)'!D379","v":"ESCRITO"},{"$f":"+'[5]para PQR (2)'!E379","v":"DERECHO DE PETICION DE INTERES PARTICULAR"},{"$f":"+'[5]para PQR (2)'!F379","v":2},{"$f":"+'[5]para PQR (2)'!G379","v":"PENDIENTE"}]
[null,{"$f":"+'[5]para PQR (2)'!B380","v":2761702022},{"$f":"+'[5]para PQR (2)'!C380","v":"SUBDIRECCION DE ADMINISTRACION INMOBILIARIA Y DE ESPACIO PUBLICO"},{"$f":"+'[5]para PQR (2)'!D380","v":"ESCRITO"},{"$f":"+'[5]para PQR (2)'!E380","v":"DERECHO DE PETICION DE INTERES PARTICULAR"},{"$f":"+'[5]para PQR (2)'!F380","v":2},{"$f":"+'[5]para PQR (2)'!G380","v":"PENDIENTE"}]
[null,{"$f":"+'[5]para PQR (2)'!B381","v":2761962022},{"$f":"+'[5]para PQR (2)'!C381","v":"AREA DE ATENCION A LA CIUDADANIA"},{"$f":"+'[5]para PQR (2)'!D381","v":"WEB"},{"$f":"+'[5]para PQR (2)'!E381","v":"QUEJA"},{"$f":"+'[5]para PQR (2)'!F381","v":1},{"$f":"+'[5]para PQR (2)'!G381","v":"GESTIONADO"}]
[null,{"$f":"+'[5]para PQR (2)'!B382","v":2762202022},{"$f":"+'[5]para PQR (2)'!C382","v":"AREA DE ATENCION A LA CIUDADANIA"},{"$f":"+'[5]para PQR (2)'!D382","v":"TELEFONO"},{"$f":"+'[5]para PQR (2)'!E382","v":"DERECHO DE PETICION DE INTERES GENERAL"},{"$f":"+'[5]para PQR (2)'!F382","v":1},{"$f":"+'[5]para PQR (2)'!G382","v":"GESTIONADO"}]
[null,{"$f":"+'[5]para PQR (2)'!B383","v":2762712022},{"$f":"+'[5]para PQR (2)'!C383","v":"AREA DE ATENCION A LA CIUDADANIA"},{"$f":"+'[5]para PQR (2)'!D383","v":"WEB"},{"$f":"+'[5]para PQR (2)'!E383","v":"QUEJA"},{"$f":"+'[5]para PQR (2)'!F383","v":1},{"$f":"+'[5]para PQR (2)'!G383","v":"GESTIONADO"}]
[null,{"$f":"+'[5]para PQR (2)'!B384","v":2764162022},{"$f":"+'[5]para PQR (2)'!C384","v":"SUBDIRECCION DE ADMINISTRACION INMOBILIARIA Y DE ESPACIO PUBLICO"},{"$f":"+'[5]para PQR (2)'!D384","v":"ESCRITO"},{"$f":"+'[5]para PQR (2)'!E384","v":"DERECHO DE PETICION DE INTERES PARTICULAR"},{"$f":"+'[5]para PQR (2)'!F384","v":1},{"$f":"+'[5]para PQR (2)'!G384","v":"PENDIENTE"}]
[null,{"$f":"+'[5]para PQR (2)'!B385","v":2764412022},{"$f":"+'[5]para PQR (2)'!C385","v":"SUBDIRECCION DE ADMINISTRACION INMOBILIARIA Y DE ESPACIO PUBLICO"},{"$f":"+'[5]para PQR (2)'!D385","v":"ESCRITO"},{"$f":"+'[5]para PQR (2)'!E385","v":"DERECHO DE PETICION DE INTERES PARTICULAR"},{"$f":"+'[5]para PQR (2)'!F385","v":1},{"$f":"+'[5]para PQR (2)'!G385","v":"PENDIENTE"}]
[null,{"$f":"+'[5]para PQR (2)'!B386","v":2764502022},{"$f":"+'[5]para PQR (2)'!C386","v":"AREA DE ATENCION A LA CIUDADANIA"},{"$f":"+'[5]para PQR (2)'!D386","v":"WEB"},{"$f":"+'[5]para PQR (2)'!E386","v":"DERECHO DE PETICION DE INTERES PARTICULAR"},{"$f":"+'[5]para PQR (2)'!F386","v":1},{"$f":"+'[5]para PQR (2)'!G386","v":"GESTIONADO"}]
[null,{"$f":"+'[5]para PQR (2)'!B387","v":2764812022},{"$f":"+'[5]para PQR (2)'!C387","v":"SUBDIRECCION DE ADMINISTRACION INMOBILIARIA Y DE ESPACIO PUBLICO"},{"$f":"+'[5]para PQR (2)'!D387","v":"ESCRITO"},{"$f":"+'[5]para PQR (2)'!E387","v":"DERECHO DE PETICION DE INTERES PARTICULAR"},{"$f":"+'[5]para PQR (2)'!F387","v":1},{"$f":"+'[5]para PQR (2)'!G387","v":"PENDIENTE"}]
[null,{"$f":"+'[5]para PQR (2)'!B388","v":2767712022},{"$f":"+'[5]para PQR (2)'!C388","v":"AREA DE ATENCION A LA CIUDADANIA"},{"$f":"+'[5]para PQR (2)'!D388","v":"E-MAIL"},{"$f":"+'[5]para PQR (2)'!E388","v":"DERECHO DE PETICION DE INTERES PARTICULAR"},{"$f":"+'[5]para PQR (2)'!F388","v":1},{"$f":"+'[5]para PQR (2)'!G388","v":"GESTIONADO"}]
[null,{"$f":"+'[5]para PQR (2)'!B389","v":2770002022},{"$f":"+'[5]para PQR (2)'!C389","v":"SUBDIRECCION DE ADMINISTRACION INMOBILIARIA Y DE ESPACIO PUBLICO"},{"$f":"+'[5]para PQR (2)'!D389","v":"E-MAIL"},{"$f":"+'[5]para PQR (2)'!E389","v":"DERECHO DE PETICION DE INTERES GENERAL"},{"$f":"+'[5]para PQR (2)'!F389","v":1},{"$f":"+'[5]para PQR (2)'!G389","v":"PENDIENTE"}]
[null,{"$f":"+'[5]para PQR (2)'!B390","v":2771322022},{"$f":"+'[5]para PQR (2)'!C390","v":"AREA DE ATENCION A LA CIUDADANIA"},{"$f":"+'[5]para PQR (2)'!D390","v":"WEB"},{"$f":"+'[5]para PQR (2)'!E390","v":"DERECHO DE PETICION DE INTERES GENERAL"},{"$f":"+'[5]para PQR (2)'!F390","v":1},{"$f":"+'[5]para PQR (2)'!G390","v":"GESTIONADO"}]
[null,{"$f":"+'[5]para PQR (2)'!B391","v":2772152022},{"$f":"+'[5]para PQR (2)'!C391","v":"SUBDIRECCION DE ADMINISTRACION INMOBILIARIA Y DE ESPACIO PUBLICO"},{"$f":"+'[5]para PQR (2)'!D391","v":"WEB"},{"$f":"+'[5]para PQR (2)'!E391","v":"DERECHO DE PETICION DE INTERES GENERAL"},{"$f":"+'[5]para PQR (2)'!F391","v":1},{"$f":"+'[5]para PQR (2)'!G391","v":"PENDIENTE"}]
[null,{"$f":"+'[5]para PQR (2)'!B392","v":2773112022},{"$f":"+'[5]para PQR (2)'!C392","v":"AREA DE ATENCION A LA CIUDADANIA"},{"$f":"+'[5]para PQR (2)'!D392","v":"WEB"},{"$f":"+'[5]para PQR (2)'!E392","v":"DERECHO DE PETICION DE INTERES PARTICULAR"},{"$f":"+'[5]para PQR (2)'!F392","v":1},{"$f":"+'[5]para PQR (2)'!G392","v":"GESTIONADO"}]
[null,{"$f":"+'[5]para PQR (2)'!B393","v":2774962022},{"$f":"+'[5]para PQR (2)'!C393","v":"AREA DE ATENCION A LA CIUDADANIA"},{"$f":"+'[5]para PQR (2)'!D393","v":"WEB"},{"$f":"+'[5]para PQR (2)'!E393","v":"CONSULTA"},{"$f":"+'[5]para PQR (2)'!F393","v":1},{"$f":"+'[5]para PQR (2)'!G393","v":"PENDIENTE"}]
[null,{"$f":"+'[5]para PQR (2)'!B394","v":2774972022},{"$f":"+'[5]para PQR (2)'!C394","v":"AREA DE ATENCION A LA CIUDADANIA"},{"$f":"+'[5]para PQR (2)'!D394","v":"TELEFONO"},{"$f":"+'[5]para PQR (2)'!E394","v":"DERECHO DE PETICION DE INTERES GENERAL"},{"$f":"+'[5]para PQR (2)'!F394","v":1},{"$f":"+'[5]para PQR (2)'!G394","v":"PENDIENTE"}]
[null,{"$f":"+'[5]para PQR (2)'!B395","v":2776332022},{"$f":"+'[5]para PQR (2)'!C395","v":"AREA DE ATENCION A LA CIUDADANIA"},{"$f":"+'[5]para PQR (2)'!D395","v":"TELEFONO"},{"$f":"+'[5]para PQR (2)'!E395","v":"DERECHO DE PETICION DE INTERES GENERAL"},{"$f":"+'[5]para PQR (2)'!F395","v":1},{"$f":"+'[5]para PQR (2)'!G395","v":"PENDIENTE"}]
[null,{"$f":"+'[5]para PQR (2)'!B396","v":2777372022},{"$f":"+'[5]para PQR (2)'!C396","v":"AREA DE ATENCION A LA CIUDADANIA"},{"$f":"+'[5]para PQR (2)'!D396","v":"WEB"},{"$f":"+'[5]para PQR (2)'!E396","v":"QUEJA"},{"$f":"+'[5]para PQR (2)'!F396","v":1},{"$f":"+'[5]para PQR (2)'!G396","v":"PENDIENTE"}]
[null,{"$f":"+'[5]para PQR (2)'!B397","v":2778102022},{"$f":"+'[5]para PQR (2)'!C397","v":"AREA DE ATENCION A LA CIUDADANIA"},{"$f":"+'[5]para PQR (2)'!D397","v":"WEB"},{"$f":"+'[5]para PQR (2)'!E397","v":"QUEJA"},{"$f":"+'[5]para PQR (2)'!F397","v":1},{"$f":"+'[5]para PQR (2)'!G397","v":"PENDIENTE"}]
[null,{"$f":"+'[5]para PQR (2)'!B398","v":2778902022},{"$f":"+'[5]para PQR (2)'!C398","v":"AREA DE ATENCION A LA CIUDADANIA"},{"$f":"+'[5]para PQR (2)'!D398","v":"TELEFONO"},{"$f":"+'[5]para PQR (2)'!E398","v":"DERECHO DE PETICION DE INTERES GENERAL"},{"$f":"+'[5]para PQR (2)'!F398","v":1},{"$f":"+'[5]para PQR (2)'!G398","v":"PENDIENTE"}]
[null,{"$f":"+'[5]para PQR (2)'!B399","v":2779592022},{"$f":"+'[5]para PQR (2)'!C399","v":"AREA DE ATENCION A LA CIUDADANIA"},{"$f":"+'[5]para PQR (2)'!D399","v":"TELEFONO"},{"$f":"+'[5]para PQR (2)'!E399","v":"DERECHO DE PETICION DE INTERES GENERAL"},{"$f":"+'[5]para PQR (2)'!F399","v":1},{"$f":"+'[5]para PQR (2)'!G399","v":"PENDIENTE"}]
[null,{"$f":"+'[5]para PQR (2)'!B400","v":2780582022},{"$f":"+'[5]para PQR (2)'!C400","v":"AREA DE ATENCION A LA CIUDADANIA"},{"$f":"+'[5]para PQR (2)'!D400","v":"WEB"},{"$f":"+'[5]para PQR (2)'!E400","v":"QUEJA"},{"$f":"+'[5]para PQR (2)'!F400","v":1},{"$f":"+'[5]para PQR (2)'!G400","v":"PENDIENTE"}]
[null,{"$f":"+'[5]para PQR (2)'!B401","v":2780782022},{"$f":"+'[5]para PQR (2)'!C401","v":"AREA DE ATENCION A LA CIUDADANIA"},{"$f":"+'[5]para PQR (2)'!D401","v":"WEB"},{"$f":"+'[5]para PQR (2)'!E401","v":"QUEJA"},{"$f":"+'[5]para PQR (2)'!F401","v":1},{"$f":"+'[5]para PQR (2)'!G401","v":"PENDIENTE"}]

{"sheet":"Traslados","index":3,"n_rows":275,"n_cols":8,"rows_kept":275,"cut":false,"hidden":false,"merged":[[10,1,15,2],[10,3,14,5],[8,1,9,1]]}
[]
[]
[]
[]
[]
[]
[]
[]
[]
[]
[null,"REPORTE  GESTIÓN DE PETICIONES\n\nFecha:  2022- 07- 01    a   2022 - 07 - 31\nEstado de Petición:  Al Periodo"]
[]
[]
[]
[]
[]
[]
[]
[null,"Número petición\nNumero de registro en el Sistema","Dependencia:\nNombre asociado al usuario que tiene a cargo la petición ","Canal:\nNombre del canal parametrizado en el sistema por el cual fue registrada la petición","Tipología actualizada: \nTipo de documento utilizado por la entidad","Traslado a otras Entidades: \nPeticiones que por competencia son trasladadas a otras entidades.","Entidad Destino","Estado del Requerimiento\n \"Gestionado\" o \"Pendiente\" de respuesta definitiva por  parte de la Defensoría del Espacio Público o de las entidades competentes"]
[null,{"$f":"+'[5]para PQR (2)'!B564","v":2234752022},{"$f":"+'[5]para PQR (2)'!C564","v":"SUBDIRECCION DE ADMINISTRACION INMOBILIARIA Y DE ESPACIO PUBLICO"},{"$f":"+'[5]para PQR (2)'!D564","v":"E-MAIL"},{"$f":"+'[5]para PQR (2)'!E564","v":"DERECHO DE PETICION DE INTERES GENERAL"},{"$f":"+'[5]para PQR (2)'!F564","v":"Solucionado - Por traslado"},{"$f":"+'[5]para PQR (2)'!G564","v":"IDPAC"},{"$f":"+'[5]para PQR (2)'!H564","v":"GESTIONADO"}]
[null,{"$f":"+'[5]para PQR (2)'!B565","v":2243992022},{"$f":"+'[5]para PQR (2)'!C565","v":"SUBDIRECCION DE ADMINISTRACION INMOBILIARIA Y DE ESPACIO PUBLICO"},{"$f":"+'[5]para PQR (2)'!D565","v":"E-MAIL"},{"$f":"+'[5]para PQR (2)'!E565","v":"DERECHO DE PETICION DE INTERES PARTICULAR"},{"$f":"+'[5]para PQR (2)'!F565","v":"Solucionado - Por traslado"},{"$f":"+'[5]para PQR (2)'!G565","v":"IDU"},{"$f":"+'[5]para PQR (2)'!H565","v":"GESTIONADO"}]
[null,{"$f":"+'[5]para PQR (2)'!B566","v":2258582022},{"$f":"+'[5]para PQR (2)'!C566","v":"SUBDIRECCION DE ADMINISTRACION INMOBILIARIA Y DE ESPACIO PUBLICO"},{"$f":"+'[5]para PQR (2)'!D566","v":"ESCRITO"},{"$f":"+'[5]para PQR (2)'!E566","v":"DERECHO DE PETICION DE INTERES PARTICULAR"},{"$f":"+'[5]para PQR (2)'!F566","v":"Solucionado - Por traslado"},{"$f":"+'[5]para PQR (2)'!G566","v":"IDRD"},{"$f":"+'[5]para PQR (2)'!H566","v":"GESTIONADO"}]
[null,{"$f":"+'[5]para PQR (2)'!B567","v":2258792022},{"$f":"+'[5]para PQR (2)'!C567","v":"SUBDIRECCION DE ADMINISTRACION INMOBILIARIA Y DE ESPACIO PUBLICO"},{"$f":"+'[5]para PQR (2)'!D567","v":"ESCRITO"},{"$f":"+'[5]para PQR (2)'!E567","v":"DERECHO DE PETICION DE INTERES PARTICULAR"},{"$f":"+'[5]para PQR (2)'!F567","v":"Solucionado - Por traslado"},{"$f":"+'[5]para PQR (2)'!G567","v":"SECRETARIA DE INTEGRACION SOCIAL"},{"$f":"+'[5]para PQR (2)'!H567","v":"GESTIONADO"}]
[null,{"$f":"+'[5]para PQR (2)'!B568","v":2274252022},{"$f":"+'[5]para PQR (2)'!C568","v":"SUBDIRECCION DE ADMINISTRACION INMOBILIARIA Y DE ESPACIO PUBLICO"},{"$f":"+'[5]para PQR (2)'!D568","v":"ESCRITO"},{"$f":"+'[5]para PQR (2)'!E568","v":"DERECHO DE PETICION DE INTERES PARTICULAR"},{"$f":"+'[5]para PQR (2)'!F568","v":"Solucionado - Por traslado"},{"$f":"+'[5]para PQR (2)'!G568","v":"SECRETARIA DE GOBIERNO"},{"$f":"+'[5]para PQR (2)'!H568","v":"GESTIONADO"}]
[null,{"$f":"+'[5]para PQR (2)'!B569","v":2293092022},{"$f":"+'[5]para PQR (2)'!C569","v":"SUBDIRECCION DE ADMINISTRACION INMOBILIARIA Y DE ESPACIO PUBLICO"},{"$f":"+'[5]para PQR (2)'!D569","v":"ESCRITO"},{"$f":"+'[5]para PQR (2)'!E569","v":"DERECHO DE PETICION DE INTERES PARTICULAR"},{"$f":"+'[5]para PQR (2)'!F569","v":"Solucionado - Por traslado"},{"$f":"+'[5]para PQR (2)'!G569","v":"SECRETARIA DE PLANEACION"},{"$f":"+'[5]para PQR (2)'!H569","v":"GESTIONADO"}]
[null,{"$f":"+'[5]para PQR (2)'!B570","v":2293212022},{"$f":"+'[5]para PQR (2)'!C570","v":"SUBDIRECCION DE ADMINISTRACION INMOBILIARIA Y DE ESPACIO PUBLICO"},{"$f":"+'[5]para PQR (2)'!D570","v":"ESCRITO"},{"$f":"+'[5]para PQR (2)'!E570","v":"DERECHO DE PETICION DE INTERES PARTICULAR"},{"$f":"+'[5]para PQR (2)'!F570","v":"Solucionado - Por traslado"},{"$f":"+'[5]para PQR (2)'!G570","v":"IDRD"},{"$f":"+'[5]para PQR (2)'!H570","v":"GESTIONADO"}]
[null,{"$f":"+'[5]para PQR (2)'!B571","v":2333172022},{"$f":"+'[5]para PQR (2)'!C571","v":"SUBDIRECCION DE ADMINISTRACION INMOBILIARIA Y DE ESPACIO PUBLICO"},{"$f":"+'[5]para PQR (2)'!D571","v":"WEB"},{"$f":"+'[5]para PQR (2)'!E571","v":"DERECHO DE PETICION DE INTERES GENERAL"},{"$f":"+'[5]para PQR (2)'!F571","v":"Solucionado - Por traslado"},{"$f":"+'[5]para PQR (2)'!G571","v":"SECRETARIA DE GOBIERNO"},{"$f":"+'[5]para PQR (2)'!H571","v":"GESTIONADO"}]
[null,{"$f":"+'[5]para PQR (2)'!B572","v":2335152022},{"$f":"+'[5]para PQR (2)'!C572","v":"SUBDIRECCION DE ADMINISTRACION INMOBILIARIA Y DE ESPACIO PUBLICO"},{"$f":"+'[5]para PQR (2)'!D572","v":"E-MAIL"},{"$f":"+'[5]para PQR (2)'!E572","v":"DERECHO DE PETICION DE INTERES PARTICULAR"},{"$f":"+'[5]para PQR (2)'!F572","v":"Solucionado - Por traslado"},{"$f":"+'[5]para PQR (2)'!G572","v":"SECRETARIA MOVILIDAD"},{"$f":"+'[5]para PQR (2)'!H572","v":"GESTIONADO"}]
[null,{"$f":"+'[5]para PQR (2)'!B573","v":2337212022},{"$f":"+'[5]para PQR (2)'!C573","v":"SUBDIRECCION DE ADMINISTRACION INMOBILIARIA Y DE ESPACIO PUBLICO"},{"$f":"+'[5]para PQR (2)'!D573","v":"E-MAIL"},{"$f":"+'[5]para PQR (2)'!E573","v":"DERECHO DE PETICION DE INTERES PARTICULAR"},{"$f":"+'[5]para PQR (2)'!F573","v":"Solucionado - Por traslado"},{"$f":"+'[5]para PQR (2)'!G573","v":"JBB - JARDIN BOTANICO"},{"$f":"+'[5]para PQR (2)'!H573","v":"GESTIONADO"}]
[null,{"$f":"+'[5]para PQR (2)'!B574","v":2337532022},{"$f":"+'[5]para PQR (2)'!C574","v":"SUBDIRECCION DE ADMINISTRACION INMOBILIARIA Y DE ESPACIO PUBLICO"},{"$f":"+'[5]para PQR (2)'!D574","v":"E-MAIL"},{"$f":"+'[5]para PQR (2)'!E574","v":"DERECHO DE PETICION DE INTERES PARTICULAR"},{"$f":"+'[5]para PQR (2)'!F574","v":"Solucionado - Por traslado"},{"$f":"+'[5]para PQR (2)'!G574","v":"SECRETARIA DE PLANEACION"},{"$f":"+'[5]para PQR (2)'!H574","v":"GESTIONADO"}]
[null,{"$f":"+'[5]para PQR (2)'!B575","v":2337732022},{"$f":"+'[5]para PQR (2)'!C575","v":"SUBDIRECCION DE ADMINISTRACION INMOBILIARIA Y DE ESPACIO PUBLICO"},{"$f":"+'[5]para PQR (2)'!D575","v":"E-MAIL"},{"$f":"+'[5]para PQR (2)'!E575","v":"DERECHO DE PETICION DE INTERES PARTICULAR"},{"$f":"+'[5]para PQR (2)'!F575","v":"Solucionado - Por traslado"},{"$f":"+'[5]para PQR (2)'!G575","v":"SECRETARIA DE GOBIERNO"},{"$f":"+'[5]para PQR (2)'!H575","v":"GESTIONADO"}]
[null,{"$f":"+'[5]para PQR (2)'!B576","v":2337852022},{"$f":"+'[5]para PQR (2)'!C576","v":"SUBDIRECCION DE ADMINISTRACION INMOBILIARIA Y DE ESPACIO PUBLICO"},{"$f":"+'[5]para PQR (2)'!D576","v":"E-MAIL"},{"$f":"+'[5]para PQR (2)'!E576","v":"DERECHO DE PETICION DE INTERES PARTICULAR"},{"$f":"+'[5]para PQR (2)'!F576","v":"Solucionado - Por traslado"},{"$f":"+'[5]para PQR (2)'!G576","v":"SECRETARIA DE GOBIERNO"},{"$f":"+'[5]para PQR (2)'!H576","v":"GESTIONADO"}]
[null,{"$f":"+'[5]para PQR (2)'!B577","v":2337932022},{"$f":"+'[5]para PQR (2)'!C577","v":"SUBDIRECCION DE ADMINISTRACION INMOBILIARIA Y DE ESPACIO PUBLICO"},{"$f":"+'[5]para PQR (2)'!D577","v":"E-MAIL"},{"$f":"+'[5]para PQR (2)'!E577","v":"DERECHO DE PETICION DE INTERES PARTICULAR"},{"$f":"+'[5]para PQR (2)'!F577","v":"Solucionado - Por traslado"},{"$f":"+'[5]para PQR (2)'!G577","v":"SECRETARIA DE GOBIERNO"},{"$f":"+'[5]para PQR (2)'!H577","v":"GESTIONADO"}]
[null,{"$f":"+'[5]para PQR (2)'!B578","v":2345462022},{"$f":"+'[5]para PQR (2)'!C578","v":"SUBDIRECCION DE ADMINISTRACION INMOBILIARIA Y DE ESPACIO PUBLICO"},{"$f":"+'[5]para PQR (2)'!D578","v":"E-MAIL"},{"$f":"+'[5]para PQR (2)'!E578","v":"DERECHO DE PETICION DE INTERES PARTICULAR"},{"$f":"+'[5]para PQR (2)'!F578","v":"Solucionado - Por traslado"},{"$f":"+'[5]para PQR (2)'!G578","v":"IPES"},{"$f":"+'[5]para PQR (2)'!H578","v":"GESTIONADO"}]
[null,{"$f":"+'[5]para PQR (2)'!B579","v":2345472022},{"$f":"+'[5]para PQR (2)'!C579","v":"SUBDIRECCION DE ADMINISTRACION INMOBILIARIA Y DE ESPACIO PUBLICO"},{"$f":"+'[5]para PQR (2)'!D579","v":"E-MAIL"},{"$f":"+'[5]para PQR (2)'!E579","v":"DERECHO DE PETICION DE INTERES PARTICULAR"},{"$f":"+'[5]para PQR (2)'!F579","v":"Solucionado - Por traslado"},{"$f":"+'[5]para PQR (2)'!G579","v":"IPES"},{"$f":"+'[5]para PQR (2)'!H579","v":"GESTIONADO"}]
[null,{"$f":"+'[5]para PQR (2)'!B580","v":2345872022},{"$f":"+'[5]para PQR (2)'!C580","v":"SUBDIRECCION DE ADMINISTRACION INMOBILIARIA Y DE ESPACIO PUBLICO"},{"$f":"+'[5]para PQR (2)'!D580","v":"E-MAIL"},{"$f":"+'[5]para PQR (2)'!E580","v":"DERECHO DE PETICION DE INTERES PARTICULAR"},{"$f":"+'[5]para PQR (2)'!F580","v":"Solucionado - Por traslado"},{"$f":"+'[5]para PQR (2)'!G580","v":"SECRETARIA DE GOBIERNO"},{"$f":"+'[5]para PQR (2)'!H580","v":"GESTIONADO"}]
[null,{"$f":"+'[5]para PQR (2)'!B581","v":2346082022},{"$f":"+'[5]para PQR (2)'!C581","v":"SUBDIRECCION DE ADMINISTRACION INMOBILIARIA Y DE ESPACIO PUBLICO"},{"$f":"+'[5]para PQR (2)'!D581","v":"E-MAIL"},{"$f":"+'[5]para PQR (2)'!E581","v":"DERECHO DE PETICION DE INTERES PARTICULAR"},{"$f":"+'[5]para PQR (2)'!F581","v":"Solucionado - Por traslado"},{"$f":"+'[5]para PQR (2)'!G581","v":"SECRETARIA DE GOBIERNO"},{"$f":"+'[5]para PQR (2)'!H581","v":"GESTIONADO"}]
[null,{"$f":"+'[5]para PQR (2)'!B582","v":2346442022},{"$f":"+'[5]para PQR (2)'!C582","v":"SUBDIRECCION DE ADMINISTRACION INMOBILIARIA Y DE ESPACIO PUBLICO"},{"$f":"+'[5]para PQR (2)'!D582","v":"E-MAIL"},{"$f":"+'[5]para PQR (2)'!E582","v":"DERECHO DE PETICION DE INTERES PARTICULAR"},{"$f":"+'[5]para PQR (2)'!F582","v":"Solucionado - Por traslado"},{"$f":"+'[5]para PQR (2)'!G582","v":"SECRETARIA DE GOBIERNO"},{"$f":"+'[5]para PQR (2)'!H582","v":"GESTIONADO"}]
[null,{"$f":"+'[5]para PQR (2)'!B583","v":2353372022},{"$f":"+'[5]para PQR (2)'!C583","v":"SUBDIRECCION DE ADMINISTRACION INMOBILIARIA Y DE ESPACIO PUBLICO"},{"$f":"+'[5]para PQR (2)'!D583","v":"ESCRITO"},{"$f":"+'[5]para PQR (2)'!E583","v":"DERECHO DE PETICION DE INTERES GENERAL"},{"$f":"+'[5]para PQR (2)'!F583","v":"Solucionado - Por traslado"},{"$f":"+'[5]para PQR (2)'!G583","v":"IPES"},{"$f":"+'[5]para PQR (2)'!H583","v":"GESTIONADO"}]
[null,{"$f":"+'[5]para PQR (2)'!B584","v":2365342022},{"$f":"+'[5]para PQR (2)'!C584","v":"SUBDIRECCION DE ADMINISTRACION INMOBILIARIA Y DE ESPACIO PUBLICO"},{"$f":"+'[5]para PQR (2)'!D584","v":"E-MAIL"},{"$f":"+'[5]para PQR (2)'!E584","v":"DERECHO DE PETICION DE INTERES GENERAL"},{"$f":"+'[5]para PQR (2)'!F584","v":"Solucionado - Por traslado"},{"$f":"+'[5]para PQR (2)'!G584","v":"SECRETARIA DE GOBIERNO"},{"$f":"+'[5]para PQR (2)'!H584","v":"GESTIONADO"}]
[null,{"$f":"+'[5]para PQR (2)'!B585","v":2366272022},{"$f":"+'[5]para PQR (2)'!C585","v":"SUBDIRECCION DE ADMINISTRACION INMOBILIARIA Y DE ESPACIO PUBLICO"},{"$f":"+'[5]para PQR (2)'!D585","v":"ESCRITO"},{"$f":"+'[5]para PQR (2)'!E585","v":"DERECHO DE PETICION DE INTERES GENERAL"},{"$f":"+'[5]para PQR (2)'!F585","v":"Solucionado - Por traslado"},{"$f":"+'[5]para PQR (2)'!G585","v":"IDRD"},{"$f":"+'[5]para PQR (2)'!H585","v":"GESTIONADO"}]
[null,{"$f":"+'[5]para PQR (2)'!B586","v":2366642022},{"$f":"+'[5]para PQR (2)'!C586","v":"SUBDIRECCION DE ADMINISTRACION INMOBILIARIA Y DE ESPACIO PUBLICO"},{"$f":"+'[5]para PQR (2)'!D586","v":"WEB"},{"$f":"+'[5]para PQR (2)'!E586","v":"DERECHO DE PETICION DE INTERES GENERAL"},{"$f":"+'[5]para PQR (2)'!F586","v":"Solucionado - Por traslado"},{"$f":"+'[5]para PQR (2)'!G586","v":"SECRETARIA DE INTEGRACION SOCIAL"},{"$f":"+'[5]para PQR (2)'!H586","v":"GESTIONADO"}]
[null,{"$f":"+'[5]para PQR (2)'!B587","v":2376762022},{"$f":"+'[5]para PQR (2)'!C587","v":"SUBDIRECCION DE ADMINISTRACION INMOBILIARIA Y DE ESPACIO PUBLICO"},{"$f":"+'[5]para PQR (2)'!D587","v":"E-MAIL"},{"$f":"+'[5]para PQR (2)'!E587","v":"DERECHO DE PETICION DE INTERES GENERAL"},{"$f":"+'[5]para PQR (2)'!F587","v":"Solucionado - Por traslado"},{"$f":"+'[5]para PQR (2)'!G587","v":"SECRETARIA DE AMBIENTE"},{"$f":"+'[5]para PQR (2)'!H587","v":"GESTIONADO"}]
[null,{"$f":"+'[5]para PQR (2)'!B588","v":2379772022},{"$f":"+'[5]para PQR (2)'!C588","v":"SUBDIRECCION DE ADMINISTRACION INMOBILIARIA Y DE ESPACIO PUBLICO"},{"$f":"+'[5]para PQR (2)'!D588","v":"WEB"},{"$f":"+'[5]para PQR (2)'!E588","v":"SUGERENCIA"},{"$f":"+'[5]para PQR (2)'!F588","v":"Solucionado - Por traslado"},{"$f":"+'[5]para PQR (2)'!G588","v":"SECRETARIA DE GOBIERNO"},{"$f":"+'[5]para PQR (2)'!H588","v":"GESTIONADO"}]
[null,{"$f":"+'[5]para PQR (2)'!B589","v":2382302022},{"$f":"+'[5]para PQR (2)'!C589","v":"SUBDIRECCION DE ADMINISTRACION INMOBILIARIA Y DE ESPACIO PUBLICO"},{"$f":"+'[5]para PQR (2)'!D589","v":"E-MAIL"},{"$f":"+'[5]para PQR (2)'!E589","v":"DERECHO DE PETICION DE INTERES PARTICULAR"},{"$f":"+'[5]para PQR (2)'!F589","v":"Solucionado - Por traslado"},{"$f":"+'[5]para PQR (2)'!G589","v":"IDU"},{"$f":"+'[5]para PQR (2)'!H589","v":"GESTIONADO"}]
[null,{"$f":"+'[5]para PQR (2)'!B590","v":2393062022},{"$f":"+'[5]para PQR (2)'!C590","v":"SUBDIRECCION DE ADMINISTRACION INMOBILIARIA Y DE ESPACIO PUBLICO"},{"$f":"+'[5]para PQR (2)'!D590","v":"E-MAIL"},{"$f":"+'[5]para PQR (2)'!E590","v":"DERECHO DE PETICION DE INTERES PARTICULAR"},{"$f":"+'[5]para PQR (2)'!F590","v":"Solucionado - Por traslado"},{"$f":"+'[5]para PQR (2)'!G590","v":"SECRETARIA DE GOBIERNO"},{"$f":"+'[5]para PQR (2)'!H590","v":"GESTIONADO"}]
[null,{"$f":"+'[5]para PQR (2)'!B591","v":2393752022},{"$f":"+'[5]para PQR (2)'!C591","v":"SUBDIRECCION DE ADMINISTRACION INMOBILIARIA Y DE ESPACIO PUBLICO"},{"$f":"+'[5]para PQR (2)'!D591","v":"BUZON"},{"$f":"+'[5]para PQR (2)'!E591","v":"DERECHO DE PETICION DE INTERES PARTICULAR"},{"$f":"+'[5]para PQR (2)'!F591","v":"Solucionado - Por traslado"},{"$f":"+'[5]para PQR (2)'!G591","v":"SECRETARIA DE GOBIERNO"},{"$f":"+'[5]para PQR (2)'!H591","v":"GESTIONADO"}]
[null,{"$f":"+'[5]para PQR (2)'!B592","v":2395242022},{"$f":"+'[5]para PQR (2)'!C592","v":"SUBDIRECCION DE ADMINISTRACION INMOBILIARIA Y DE ESPACIO PUBLICO"},{"$f":"+'[5]para PQR (2)'!D592","v":"E-MAIL"},{"$f":"+'[5]para PQR (2)'!E592","v":"DERECHO DE PETICION DE INTERES PARTICULAR"},{"$f":"+'[5]para PQR (2)'!F592","v":"Solucionado - Por traslado"},{"$f":"+'[5]para PQR (2)'!G592","v":"IPES"},{"$f":"+'[5]para PQR (2)'!H592","v":"GESTIONADO"}]
[null,{"$f":"+'[5]para PQR (2)'!B593","v":2395472022},{"$f":"+'[5]para PQR (2)'!C593","v":"SUBDIRECCION DE ADMINISTRACION INMOBILIARIA Y DE ESPACIO PUBLICO"},{"$f":"+'[5]para PQR (2)'!D593","v":"ESCRITO"},{"$f":"+'[5]para PQR (2)'!E593","v":"DERECHO DE PETICION DE INTERES PARTICULAR"},{"$f":"+'[5]para PQR (2)'!F593","v":"Solucionado - Por traslado"},{"$f":"+'[5]para PQR (2)'!G593","v":"UAESP"},{"$f":"+'[5]para PQR (2)'!H593","v":"GESTIONADO"}]
[null,{"$f":"+'[5]para PQR (2)'!B594","v":2403732022},{"$f":"+'[5]para PQR (2)'!C594","v":"SUBDIRECCION DE ADMINISTRACION INMOBILIARIA Y DE ESPACIO PUBLICO"},{"$f":"+'[5]para PQR (2)'!D594","v":"WEB"},{"$f":"+'[5]para PQR (2)'!E594","v":"DERECHO DE PETICION DE INTERES PARTICULAR"},{"$f":"+'[5]para PQR (2)'!F594","v":"Solucionado - Por traslado"},{"$f":"+'[5]para PQR (2)'!G594","v":"SECRETARIA DE GOBIERNO"},{"$f":"+'[5]para PQR (2)'!H594","v":"GESTIONADO"}]
[null,{"$f":"+'[5]para PQR (2)'!B595","v":2407342022},{"$f":"+'[5]para PQR (2)'!C595","v":"SUBDIRECCION DE ADMINISTRACION INMOBILIARIA Y DE ESPACIO PUBLICO"},{"$f":"+'[5]para PQR (2)'!D595","v":"E-MAIL"},{"$f":"+'[5]para PQR (2)'!E595","v":"DERECHO DE PETICION DE INTERES PARTICULAR"},{"$f":"+'[5]para PQR (2)'!F595","v":"Solucionado - Por traslado"},{"$f":"+'[5]para PQR (2)'!G595","v":"IDU"},{"$f":"+'[5]para PQR (2)'!H595","v":"GESTIONADO"}]
[null,{"$f":"+'[5]para PQR (2)'!B596","v":2407412022},{"$f":"+'[5]para PQR (2)'!C596","v":"SUBDIRECCION DE ADMINISTRACION INMOBILIARIA Y DE ESPACIO PUBLICO"},{"$f":"+'[5]para PQR (2)'!D596","v":"E-MAIL"},{"$f":"+'[5]para PQR (2)'!E596","v":"DERECHO DE PETICION DE INTERES PARTICULAR"},{"$f":"+'[5]para PQR (2)'!F596","v":"Solucionado - Por traslado"},{"$f":"+'[5]para PQR (2)'!G596","v":"IPES"},{"$f":"+'[5]para PQR (2)'!H596","v":"GESTIONADO"}]
[null,{"$f":"+'[5]para PQR (2)'!B597","v":2407942022},{"$f":"+'[5]para PQR (2)'!C597","v":"SUBDIRECCION DE ADMINISTRACION INMOBILIARIA Y DE ESPACIO PUBLICO"},{"$f":"+'[5]para PQR (2)'!D597","v":"E-MAIL"},{"$f":"+'[5]para PQR (2)'!E597","v":"DERECHO DE PETICION DE INTERES PARTICULAR"},{"$f":"+'[5]para PQR (2)'!F597","v":"Solucionado - Por traslado"},{"$f":"+'[5]para PQR (2)'!G597","v":"SECRETARIA DE GOBIERNO"},{"$f":"+'[5]para PQR (2)'!H597","v":"GESTIONADO"}]
[null,{"$f":"+'[5]para PQR (2)'!B598","v":2408182022},{"$f":"+'[5]para PQR (2)'!C598","v":"SUBDIRECCION DE ADMINISTRACION INMOBILIARIA Y DE ESPACIO PUBLICO"},{"$f":"+'[5]para PQR (2)'!D598","v":"E-MAIL"},{"$f":"+'[5]para PQR (2)'!E598","v":"DERECHO DE PETICION DE INTERES PARTICULAR"},{"$f":"+'[5]para PQR (2)'!F598","v":"Solucionado - Por traslado"},{"$f":"+'[5]para PQR (2)'!G598","v":"JBB - JARDIN BOTANICO"},{"$f":"+'[5]para PQR (2)'!H598","v":"GESTIONADO"}]
[null,{"$f":"+'[5]para PQR (2)'!B599","v":2408562022},{"$f":"+'[5]para PQR (2)'!C599","v":"SUBDIRECCION DE ADMINISTRACION INMOBILIARIA Y DE ESPACIO PUBLICO"},{"$f":"+'[5]para PQR (2)'!D599","v":"WEB"},{"$f":"+'[5]para PQR (2)'!E599","v":"DERECHO DE PETICION DE INTERES GENERAL"},{"$f":"+'[5]para PQR (2)'!F599","v":"Solucionado - Por traslado"},{"$f":"+'[5]para PQR (2)'!G599","v":"IDIGER"},{"$f":"+'[5]para PQR (2)'!H599","v":"GESTIONADO"}]
[null,{"$f":"+'[5]para PQR (2)'!B600","v":2411762022},{"$f":"+'[5]para PQR (2)'!C600","v":"SUBDIRECCION DE ADMINISTRACION INMOBILIARIA Y DE ESPACIO PUBLICO"},{"$f":"+'[5]para PQR (2)'!D600","v":"E-MAIL"},{"$f":"+'[5]para PQR (2)'!E600","v":"DERECHO DE PETICION DE INTERES PARTICULAR"},{"$f":"+'[5]para PQR (2)'!F600","v":"Solucionado - Por traslado"},{"$f":"+'[5]para PQR (2)'!G600","v":"IPES"},{"$f":"+'[5]para PQR (2)'!H600","v":"GESTIONADO"}]
[null,{"$f":"+'[5]para PQR (2)'!B601","v":2412472022},{"$f":"+'[5]para PQR (2)'!C601","v":"SUBDIRECCION DE ADMINISTRACION INMOBILIARIA Y DE ESPACIO PUBLICO"},{"$f":"+'[5]para PQR (2)'!D601","v":"E-MAIL"},{"$f":"+'[5]para PQR (2)'!E601","v":"DERECHO DE PETICION DE INTERES PARTICULAR"},{"$f":"+'[5]para PQR (2)'!F601","v":"Solucionado - Por traslado"},{"$f":"+'[5]para PQR (2)'!G601","v":"SECRETARIA DE GOBIERNO"},{"$f":"+'[5]para PQR (2)'!H601","v":"GESTIONADO"}]
[null,{"$f":"+'[5]para PQR (2)'!B602","v":2414702022},{"$f":"+'[5]para PQR (2)'!C602","v":"SUBDIRECCION DE ADMINISTRACION INMOBILIARIA Y DE ESPACIO PUBLICO"},{"$f":"+'[5]para PQR (2)'!D602","v":"E-MAIL"},{"$f":"+'[5]para PQR (2)'!E602","v":"DERECHO DE PETICION DE INTERES GENERAL"},{"$f":"+'[5]para PQR (2)'!F602","v":"Solucionado - Por traslado"},{"$f":"+'[5]para PQR (2)'!G602","v":"SECRETARIA DE GOBIERNO"},{"$f":"+'[5]para PQR (2)'!H602","v":"GESTIONADO"}]
[null,{"$f":"+'[5]para PQR (2)'!B603","v":2416852022},{"$f":"+'[5]para PQR (2)'!C603","v":"SUBDIRECCION DE ADMINISTRACION INMOBILIARIA Y DE ESPACIO PUBLICO"},{"$f":"+'[5]para PQR (2)'!D603","v":"ESCRITO"},{"$f":"+'[5]para PQR (2)'!E603","v":"DERECHO DE PETICION DE INTERES GENERAL"},{"$f":"+'[5]para PQR (2)'!F603","v":"Solucionado - Por traslado"},{"$f":"+'[5]para PQR (2)'!G603","v":"IPES"},{"$f":"+'[5]para PQR (2)'!H603","v":"GESTIONADO"}]
[null,{"$f":"+'[5]para PQR (2)'!B604","v":2427042022},{"$f":"+'[5]para PQR (2)'!C604","v":"SUBDIRECCION DE ADMINISTRACION INMOBILIARIA Y DE ESPACIO PUBLICO"},{"$f":"+'[5]para PQR (2)'!D604","v":"E-MAIL"},{"$f":"+'[5]para PQR (2)'!E604","v":"DERECHO DE PETICION DE INTERES GENERAL"},{"$f":"+'[5]para PQR (2)'!F604","v":"Solucionado - Por traslado"},{"$f":"+'[5]para PQR (2)'!G604","v":"SECRETARIA DE SALUD"},{"$f":"+'[5]para PQR (2)'!H604","v":"GESTIONADO"}]
[null,{"$f":"+'[5]para PQR (2)'!B605","v":2428432022},{"$f":"+'[5]para PQR (2)'!C605","v":"SUBDIRECCION DE ADMINISTRACION INMOBILIARIA Y DE ESPACIO PUBLICO"},{"$f":"+'[5]para PQR (2)'!D605","v":"E-MAIL"},{"$f":"+'[5]para PQR (2)'!E605","v":"DERECHO DE PETICION DE INTERES PARTICULAR"},{"$f":"+'[5]para PQR (2)'!F605","v":"Solucionado - Por traslado"},{"$f":"+'[5]para PQR (2)'!G605","v":"SECRETARIA DE GOBIERNO"},{"$f":"+'[5]para PQR (2)'!H605","v":"GESTIONADO"}]
[null,{"$f":"+'[5]para PQR (2)'!B606","v":2429252022},{"$f":"+'[5]para PQR (2)'!C606","v":"SUBDIRECCION DE ADMINISTRACION INMOBILIARIA Y DE ESPACIO PUBLICO"},{"$f":"+'[5]para PQR (2)'!D606","v":"E-MAIL"},{"$f":"+'[5]para PQR (2)'!E606","v":"DERECHO DE PETICION DE INTERES PARTICULAR"},{"$f":"+'[5]para PQR (2)'!F606","v":"Solucionado - Por traslado"},{"$f":"+'[5]para PQR (2)'!G606","v":"IPES"},{"$f":"+'[5]para PQR (2)'!H606","v":"GESTIONADO"}]
[null,{"$f":"+'[5]para PQR (2)'!B607","v":2429402022},{"$f":"+'[5]para PQR (2)'!C607","v":"SUBDIRECCION DE ADMINISTRACION INMOBILIARIA Y DE ESPACIO PUBLICO"},{"$f":"+'[5]para PQR (2)'!D607","v":"E-MAIL"},{"$f":"+'[5]para PQR (2)'!E607","v":"DERECHO DE PETICION DE INTERES PARTICULAR"},{"$f":"+'[5]para PQR (2)'!F607","v":"Solucionado - Por traslado"},{"$f":"+'[5]para PQR (2)'!G607","v":"UAESP"},{"$f":"+'[5]para PQR (2)'!H607","v":"GESTIONADO"}]
[null,{"$f":"+'[5]para PQR (2)'!B608","v":2444312022},{"$f":"+'[5]para PQR (2)'!C608","v":"AREA DE ATENCION A LA CIUDADANIA"},{"$f":"+'[5]para PQR (2)'!D608","v":"WEB"},{"$f":"+'[5]para PQR (2)'!E608","v":"DERECHO DE PETICION DE INTERES GENERAL"},{"$f":"+'[5]para PQR (2)'!F608","v":"Solucionado - Por traslado"},{"$f":"+'[5]para PQR (2)'!G608","v":"TRANSMILENIO"},{"$f":"+'[5]para PQR (2)'!H608","v":"GESTIONADO"}]
[null,{"$f":"+'[5]para PQR (2)'!B609","v":2449332022},{"$f":"+'[5]para PQR (2)'!C609","v":"AREA DE ATENCION A LA CIUDADANIA"},{"$f":"+'[5]para PQR (2)'!D609","v":"WEB"},{"$f":"+'[5]para PQR (2)'!E609","v":"QUEJA"},{"$f":"+'[5]para PQR (2)'!F609","v":"Solucionado - Por traslado"},{"$f":"+'[5]para PQR (2)'!G609","v":"SECRETARIA DE GOBIERNO"},{"$f":"+'[5]para PQR (2)'!H609","v":"GESTIONADO"}]
[null,{"$f":"+'[5]para PQR (2)'!B610","v":2449452022},{"$f":"+'[5]para PQR (2)'!C610","v":"SUBDIRECCION DE ADMINISTRACION INMOBILIARIA Y DE ESPACIO PUBLICO"},{"$f":"+'[5]para PQR (2)'!D610","v":"E-MAIL"},{"$f":"+'[5]para PQR (2)'!E610","v":"DERECHO DE PETICION DE INTERES GENERAL"},{"$f":"+'[5]para PQR (2)'!F610","v":"Solucionado - Por traslado"},{"$f":"+'[5]para PQR (2)'!G610","v":"IDIPRON"},{"$f":"+'[5]para PQR (2)'!H610","v":"GESTIONADO"}]
[null,{"$f":"+'[5]para PQR (2)'!B611","v":2451802022},{"$f":"+'[5]para PQR (2)'!C611","v":"AREA DE ATENCION A LA CIUDADANIA"},{"$f":"+'[5]para PQR (2)'!D611","v":"ESCRITO"},{"$f":"+'[5]para PQR (2)'!E611","v":"RECLAMO"},{"$f":"+'[5]para PQR (2)'!F611","v":"Solucionado - Por traslado"},{"$f":"+'[5]para PQR (2)'!G611","v":"SECRETARIA MOVILIDAD"},{"$f":"+'[5]para PQR (2)'!H611","v":"GESTIONADO"}]
[null,{"$f":"+'[5]para PQR (2)'!B612","v":2453022022},{"$f":"+'[5]para PQR (2)'!C612","v":"AREA DE ATENCION A LA CIUDADANIA"},{"$f":"+'[5]para PQR (2)'!D612","v":"WEB"},{"$f":"+'[5]para PQR (2)'!E612","v":"CONSULTA"},{"$f":"+'[5]para PQR (2)'!F612","v":"Solucionado - Por traslado"},{"$f":"+'[5]para PQR (2)'!G612","v":"TRANSMILENIO"},{"$f":"+'[5]para PQR (2)'!H612","v":"GESTIONADO"}]
[null,{"$f":"+'[5]para PQR (2)'!B613","v":2453142022},{"$f":"+'[5]para PQR (2)'!C613","v":"SUBDIRECCION DE REGISTRO INMOBILIARIO"},{"$f":"+'[5]para PQR (2)'!D613","v":"E-MAIL"},{"$f":"+'[5]para PQR (2)'!E613","v":"DERECHO DE PETICION DE INTERES PARTICULAR"},{"$f":"+'[5]para PQR (2)'!F613","v":"Solucionado - Por traslado"},{"$f":"+'[5]para PQR (2)'!G613","v":"SECRETARIA DE PLANEACION"},{"$f":"+'[5]para PQR (2)'!H613","v":"GESTIONADO"}]
[null,{"$f":"+'[5]para PQR (2)'!B614","v":2453352022},{"$f":"+'[5]para PQR (2)'!C614","v":"SUBDIRECCION DE REGISTRO INMOBILIARIO"},{"$f":"+'[5]para PQR (2)'!D614","v":"E-MAIL"},{"$f":"+'[5]para PQR (2)'!E614","v":"DERECHO DE PETICION DE INTERES PARTICULAR"},{"$f":"+'[5]para PQR (2)'!F614","v":"Solucionado - Por traslado"},{"$f":"+'[5]para PQR (2)'!G614","v":"SECRETARIA DE PLANEACION"},{"$f":"+'[5]para PQR (2)'!H614","v":"GESTIONADO"}]
[null,{"$f":"+'[5]para PQR (2)'!B615","v":2453422022},{"$f":"+'[5]para PQR (2)'!C615","v":"SUBDIRECCION DE REGISTRO INMOBILIARIO"},{"$f":"+'[5]para PQR (2)'!D615","v":"E-MAIL"},{"$f":"+'[5]para PQR (2)'!E615","v":"DERECHO DE PETICION DE INTERES PARTICULAR"},{"$f":"+'[5]para PQR (2)'!F615","v":"Solucionado - Por traslado"},{"$f":"+'[5]para PQR (2)'!G615","v":"SECRETARIA DE GOBIERNO"},{"$f":"+'[5]para PQR (2)'!H615","v":"GESTIONADO"}]
[null,{"$f":"+'[5]para PQR (2)'!B616","v":2453622022},{"$f":"+'[5]para PQR (2)'!C616","v":"SUBDIRECCION DE REGISTRO INMOBILIARIO"},{"$f":"+'[5]para PQR (2)'!D616","v":"E-MAIL"},{"$f":"+'[5]para PQR (2)'!E616","v":"DERECHO DE PETICION DE INTERES PARTICULAR"},{"$f":"+'[5]para PQR (2)'!F616","v":"Solucionado - Por traslado"},{"$f":"+'[5]para PQR (2)'!G616","v":"SECRETARIA DE PLANEACION"},{"$f":"+'[5]para PQR (2)'!H616","v":"GESTIONADO"}]
[null,{"$f":"+'[5]para PQR (2)'!B617","v":2453832022},{"$f":"+'[5]para PQR (2)'!C617","v":"SUBDIRECCION DE ADMINISTRACION INMOBILIARIA Y DE ESPACIO PUBLICO"},{"$f":"+'[5]para PQR (2)'!D617","v":"E-MAIL"},{"$f":"+'[5]para PQR (2)'!E617","v":"DERECHO DE PETICION DE INTERES PARTICULAR"},{"$f":"+'[5]para PQR (2)'!F617","v":"Solucionado - Por traslado"},{"$f":"+'[5]para PQR (2)'!G617","v":"SECRETARIA DE AMBIENTE"},{"$f":"+'[5]para PQR (2)'!H617","v":"GESTIONADO"}]
[null,{"$f":"+'[5]para PQR (2)'!B618","v":2455252022},{"$f":"+'[5]para PQR (2)'!C618","v":"AREA DE ATENCION A LA CIUDADANIA"},{"$f":"+'[5]para PQR (2)'!D618","v":"WEB"},{"$f":"+'[5]para PQR (2)'!E618","v":"QUEJA"},{"$f":"+'[5]para PQR (2)'!F618","v":"Solucionado - Por traslado"},{"$f":"+'[5]para PQR (2)'!G618","v":"SECRETARIA DE AMBIENTE"},{"$f":"+'[5]para PQR (2)'!H618","v":"GESTIONADO"}]
[null,{"$f":"+'[5]para PQR (2)'!B619","v":2455282022},{"$f":"+'[5]para PQR (2)'!C619","v":"AREA DE ATENCION A LA CIUDADANIA"},{"$f":"+'[5]para PQR (2)'!D619","v":"WEB"},{"$f":"+'[5]para PQR (2)'!E619","v":"QUEJA"},{"$f":"+'[5]para PQR (2)'!F619","v":"Solucionado - Por traslado"},{"$f":"+'[5]para PQR (2)'!G619","v":"SECRETARIA DE AMBIENTE"},{"$f":"+'[5]para PQR (2)'!H619","v":"GESTIONADO"}]
[null,{"$f":"+'[5]para PQR (2)'!B620","v":2455502022},{"$f":"+'[5]para PQR (2)'!C620","v":"AREA DE ATENCION A LA CIUDADANIA"},{"$f":"+'[5]para PQR (2)'!D620","v":"TELEFONO"},{"$f":"+'[5]para PQR (2)'!E620","v":"DERECHO DE PETICION DE INTERES GENERAL"},{"$f":"+'[5]para PQR (2)'!F620","v":"Solucionado - Por traslado"},{"$f":"+'[5]para PQR (2)'!G620","v":"IPES"},{"$f":"+'[5]para PQR (2)'!H620","v":"GESTIONADO"}]
[null,{"$f":"+'[5]para PQR (2)'!B621","v":2460492022},{"$f":"+'[5]para PQR (2)'!C621","v":"SUBDIRECCION DE ADMINISTRACION INMOBILIARIA Y DE ESPACIO PUBLICO"},{"$f":"+'[5]para PQR (2)'!D621","v":"E-MAIL"},{"$f":"+'[5]para PQR (2)'!E621","v":"DERECHO DE PETICION DE INTERES PARTICULAR"},{"$f":"+'[5]para PQR (2)'!F621","v":"Solucionado - Por traslado"},{"$f":"+'[5]para PQR (2)'!G621","v":"IPES"},{"$f":"+'[5]para PQR (2)'!H621","v":"GESTIONADO"}]
[null,{"$f":"+'[5]para PQR (2)'!B622","v":2460592022},{"$f":"+'[5]para PQR (2)'!C622","v":"SUBDIRECCION DE ADMINISTRACION INMOBILIARIA Y DE ESPACIO PUBLICO"},{"$f":"+'[5]para PQR (2)'!D622","v":"E-MAIL"},{"$f":"+'[5]para PQR (2)'!E622","v":"DERECHO DE PETICION DE INTERES PARTICULAR"},{"$f":"+'[5]para PQR (2)'!F622","v":"Solucionado - Por traslado"},{"$f":"+'[5]para PQR (2)'!G622","v":"SECRETARIA DE GOBIERNO"},{"$f":"+'[5]para PQR (2)'!H622","v":"GESTIONADO"}]
[null,{"$f":"+'[5]para PQR (2)'!B623","v":2460832022},{"$f":"+'[5]para PQR (2)'!C623","v":"AREA DE ATENCION A LA CIUDADANIA"},{"$f":"+'[5]para PQR (2)'!D623","v":"WEB"},{"$f":"+'[5]para PQR (2)'!E623","v":"DERECHO DE PETICION DE INTERES GENERAL"},{"$f":"+'[5]para PQR (2)'!F623","v":"Solucionado por asignar - Trasladar"},{"$f":"+'[5]para PQR (2)'!G623","v":"SECRETARIA DE GOBIERNO"},{"$f":"+'[5]para PQR (2)'!H623","v":"GESTIONADO"}]
[null,{"$f":"+'[5]para PQR (2)'!B624","v":2466312022},{"$f":"+'[5]para PQR (2)'!C624","v":"AREA DE ATENCION A LA CIUDADANIA"},{"$f":"+'[5]para PQR (2)'!D624","v":"WEB"},{"$f":"+'[5]para PQR (2)'!E624","v":"DERECHO DE PETICION DE INTERES GENERAL"},{"$f":"+'[5]para PQR (2)'!F624","v":"Solucionado - Por traslado"},{"$f":"+'[5]para PQR (2)'!G624","v":"SECRETARIA DE AMBIENTE"},{"$f":"+'[5]para PQR (2)'!H624","v":"GESTIONADO"}]
[null,{"$f":"+'[5]para PQR (2)'!B625","v":2466582022},{"$f":"+'[5]para PQR (2)'!C625","v":"AREA DE ATENCION A LA CIUDADANIA"},{"$f":"+'[5]para PQR (2)'!D625","v":"WEB"},{"$f":"+'[5]para PQR (2)'!E625","v":"DERECHO DE PETICION DE INTERES GENERAL"},{"$f":"+'[5]para PQR (2)'!F625","v":"Solucionado - Por traslado"},{"$f":"+'[5]para PQR (2)'!G625","v":"IPES"},{"$f":"+'[5]para PQR (2)'!H625","v":"GESTIONADO"}]
[null,{"$f":"+'[5]para PQR (2)'!B626","v":2468292022},{"$f":"+'[5]para PQR (2)'!C626","v":"AREA DE ATENCION A LA CIUDADANIA"},{"$f":"+'[5]para PQR (2)'!D626","v":"WEB"},{"$f":"+'[5]para PQR (2)'!E626","v":"QUEJA"},{"$f":"+'[5]para PQR (2)'!F626","v":"Solucionado - Por traslado"},{"$f":"+'[5]para PQR (2)'!G626","v":"SECRETARIA DE GOBIERNO"},{"$f":"+'[5]para PQR (2)'!H626","v":"GESTIONADO"}]
[null,{"$f":"+'[5]para PQR (2)'!B627","v":2468522022},{"$f":"+'[5]para PQR (2)'!C627","v":"AREA DE ATENCION A LA CIUDADANIA"},{"$f":"+'[5]para PQR (2)'!D627","v":"WEB"},{"$f":"+'[5]para PQR (2)'!E627","v":"QUEJA"},{"$f":"+'[5]para PQR (2)'!F627","v":"Solucionado - Por traslado"},{"$f":"+'[5]para PQR (2)'!G627","v":"SECRETARIA DE GOBIERNO"},{"$f":"+'[5]para PQR (2)'!H627","v":"GESTIONADO"}]
[null,{"$f":"+'[5]para PQR (2)'!B628","v":2469902022},{"$f":"+'[5]para PQR (2)'!C628","v":"AREA DE ATENCION A LA CIUDADANIA"},{"$f":"+'[5]para PQR (2)'!D628","v":"WEB"},{"$f":"+'[5]para PQR (2)'!E628","v":"DERECHO DE PETICION DE INTERES GENERAL"},{"$f":"+'[5]para PQR (2)'!F628","v":"Solucionado - Por traslado"},{"$f":"+'[5]para PQR (2)'!G628","v":"SECRETARIA MOVILIDAD"},{"$f":"+'[5]para PQR (2)'!H628","v":"GESTIONADO"}]
[null,{"$f":"+'[5]para PQR (2)'!B629","v":2469922022},{"$f":"+'[5]para PQR (2)'!C629","v":"AREA DE ATENCION A LA CIUDADANIA"},{"$f":"+'[5]para PQR (2)'!D629","v":"WEB"},{"$f":"+'[5]para PQR (2)'!E629","v":"DERECHO DE PETICION DE INTERES GENERAL"},{"$f":"+'[5]para PQR (2)'!F629","v":"Solucionado - Por traslado"},{"$f":"+'[5]para PQR (2)'!G629","v":"SECRETARIA MOVILIDAD"},{"$f":"+'[5]para PQR (2)'!H629","v":"GESTIONADO"}]
[null,{"$f":"+'[5]para PQR (2)'!B630","v":2470292022},{"$f":"+'[5]para PQR (2)'!C630","v":"AREA DE ATENCION A LA CIUDADANIA"},{"$f":"+'[5]para PQR (2)'!D630","v":"WEB"},{"$f":"+'[5]para PQR (2)'!E630","v":"RECLAMO"},{"$f":"+'[5]para PQR (2)'!F630","v":"Solucionado - Por traslado"},{"$f":"+'[5]para PQR (2)'!G630","v":"SECRETARIA DE GOBIERNO"},{"$f":"+'[5]para PQR (2)'!H630","v":"GESTIONADO"}]
[null,{"$f":"+'[5]para PQR (2)'!B631","v":2470592022},{"$f":"+'[5]para PQR (2)'!C631","v":"SUBDIRECCION DE ADMINISTRACION INMOBILIARIA Y DE ESPACIO PUBLICO"},{"$f":"+'[5]para PQR (2)'!D631","v":"WEB"},{"$f":"+'[5]para PQR (2)'!E631","v":"DERECHO DE PETICION DE INTERES GENERAL"},{"$f":"+'[5]para PQR (2)'!F631","v":"Solucionado - Por traslado"},{"$f":"+'[5]para PQR (2)'!G631","v":"UAESP"},{"$f":"+'[5]para PQR (2)'!H631","v":"GESTIONADO"}]
[null,{"$f":"+'[5]para PQR (2)'!B632","v":2470602022},{"$f":"+'[5]para PQR (2)'!C632","v":"AREA DE ATENCION A LA CIUDADANIA"},{"$f":"+'[5]para PQR (2)'!D632","v":"WEB"},{"$f":"+'[5]para PQR (2)'!E632","v":"DERECHO DE PETICION DE INTERES GENERAL"},{"$f":"+'[5]para PQR (2)'!F632","v":"Solucionado - Por traslado"},{"$f":"+'[5]para PQR (2)'!G632","v":"SECRETARIA DE GOBIERNO"},{"$f":"+'[5]para PQR (2)'!H632","v":"GESTIONADO"}]
[null,{"$f":"+'[5]para PQR (2)'!B633","v":2470642022},{"$f":"+'[5]para PQR (2)'!C633","v":"AREA DE ATENCION A LA CIUDADANIA"},{"$f":"+'[5]para PQR (2)'!D633","v":"WEB"},{"$f":"+'[5]para PQR (2)'!E633","v":"DERECHO DE PETICION DE INTERES GENERAL"},{"$f":"+'[5]para PQR (2)'!F633","v":"Solucionado - Por traslado"},{"$f":"+'[5]para PQR (2)'!G633","v":"SECRETARIA MOVILIDAD"},{"$f":"+'[5]para PQR (2)'!H633","v":"GESTIONADO"}]
[null,{"$f":"+'[5]para PQR (2)'!B634","v":2470672022},{"$f":"+'[5]para PQR (2)'!C634","v":"AREA DE ATENCION A LA CIUDADANIA"},{"$f":"+'[5]para PQR (2)'!D634","v":"WEB"},{"$f":"+'[5]para PQR (2)'!E634","v":"DERECHO DE PETICION DE INTERES GENERAL"},{"$f":"+'[5]para PQR (2)'!F634","v":"Solucionado - Por traslado"},{"$f":"+'[5]para PQR (2)'!G634","v":"SECRETARIA MOVILIDAD"},{"$f":"+'[5]para PQR (2)'!H634","v":"GESTIONADO"}]
[null,{"$f":"+'[5]para PQR (2)'!B635","v":2471792022},{"$f":"+'[5]para PQR (2)'!C635","v":"AREA DE ATENCION A LA CIUDADANIA"},{"$f":"+'[5]para PQR (2)'!D635","v":"WEB"},{"$f":"+'[5]para PQR (2)'!E635","v":"DENUNCIA POR ACTOS DE CORRUPCION"},{"$f":"+'[5]para PQR (2)'!F635","v":"Solucionado - Por traslado"},{"$f":"+'[5]para PQR (2)'!G635","v":"IPES"},{"$f":"+'[5]para PQR (2)'!H635","v":"GESTIONADO"}]
[null,{"$f":"+'[5]para PQR (2)'!B636","v":2473202022},{"$f":"+'[5]para PQR (2)'!C636","v":"AREA DE ATENCION A LA CIUDADANIA"},{"$f":"+'[5]para PQR (2)'!D636","v":"WEB"},{"$f":"+'[5]para PQR (2)'!E636","v":"DERECHO DE PETICION DE INTERES GENERAL"},{"$f":"+'[5]para PQR (2)'!F636","v":"Solucionado - Por traslado"},{"$f":"+'[5]para PQR (2)'!G636","v":"TRANSMILENIO"},{"$f":"+'[5]para PQR (2)'!H636","v":"GESTIONADO"}]
[null,{"$f":"+'[5]para PQR (2)'!B637","v":2477902022},{"$f":"+'[5]para PQR (2)'!C637","v":"SUBDIRECCION DE REGISTRO INMOBILIARIO"},{"$f":"+'[5]para PQR (2)'!D637","v":"WEB"},{"$f":"+'[5]para PQR (2)'!E637","v":"DERECHO DE PETICION DE INTERES PARTICULAR"},{"$f":"+'[5]para PQR (2)'!F637","v":"Solucionado - Por traslado"},{"$f":"+'[5]para PQR (2)'!G637","v":"IDU"},{"$f":"+'[5]para PQR (2)'!H637","v":"GESTIONADO"}]
[null,{"$f":"+'[5]para PQR (2)'!B638","v":2478172022},{"$f":"+'[5]para PQR (2)'!C638","v":"SUBDIRECCION DE ADMINISTRACION INMOBILIARIA Y DE ESPACIO PUBLICO"},{"$f":"+'[5]para PQR (2)'!D638","v":"E-MAIL"},{"$f":"+'[5]para PQR (2)'!E638","v":"DERECHO DE PETICION DE INTERES PARTICULAR"},{"$f":"+'[5]para PQR (2)'!F638","v":"Solucionado - Por traslado"},{"$f":"+'[5]para PQR (2)'!G638","v":"UAESP"},{"$f":"+'[5]para PQR (2)'!H638","v":"GESTIONADO"}]
[null,{"$f":"+'[5]para PQR (2)'!B639","v":2478352022},{"$f":"+'[5]para PQR (2)'!C639","v":"SUBDIRECCION DE ADMINISTRACION INMOBILIARIA Y DE ESPACIO PUBLICO"},{"$f":"+'[5]para PQR (2)'!D639","v":"E-MAIL"},{"$f":"+'[5]para PQR (2)'!E639","v":"DERECHO DE PETICION DE INTERES PARTICULAR"},{"$f":"+'[5]para PQR (2)'!F639","v":"Solucionado - Por traslado"},{"$f":"+'[5]para PQR (2)'!G639","v":"SECRETARIA DE GOBIERNO"},{"$f":"+'[5]para PQR (2)'!H639","v":"GESTIONADO"}]
[null,{"$f":"+'[5]para PQR (2)'!B640","v":2478972022},{"$f":"+'[5]para PQR (2)'!C640","v":"SUBDIRECCION DE ADMINISTRACION INMOBILIARIA Y DE ESPACIO PUBLICO"},{"$f":"+'[5]para PQR (2)'!D640","v":"E-MAIL"},{"$f":"+'[5]para PQR (2)'!E640","v":"DERECHO DE PETICION DE INTERES PARTICULAR"},{"$f":"+'[5]para PQR (2)'!F640","v":"Solucionado - Por traslado"},{"$f":"+'[5]para PQR (2)'!G640","v":"SECRETARIA DE GOBIERNO"},{"$f":"+'[5]para PQR (2)'!H640","v":"GESTIONADO"}]
[null,{"$f":"+'[5]para PQR (2)'!B641","v":2479172022},{"$f":"+'[5]para PQR (2)'!C641","v":"SUBDIRECCION DE ADMINISTRACION INMOBILIARIA Y DE ESPACIO PUBLICO"},{"$f":"+'[5]para PQR (2)'!D641","v":"E-MAIL"},{"$f":"+'[5]para PQR (2)'!E641","v":"DERECHO DE PETICION DE INTERES PARTICULAR"},{"$f":"+'[5]para PQR (2)'!F641","v":"Solucionado - Por traslado"},{"$f":"+'[5]para PQR (2)'!G641","v":"SECRETARIA DE INTEGRACION SOCIAL"},{"$f":"+'[5]para PQR (2)'!H641","v":"GESTIONADO"}]
[null,{"$f":"+'[5]para PQR (2)'!B642","v":2479402022},{"$f":"+'[5]para PQR (2)'!C642","v":"SUBDIRECCION DE ADMINISTRACION INMOBILIARIA Y DE ESPACIO PUBLICO"},{"$f":"+'[5]para PQR (2)'!D642","v":"E-MAIL"},{"$f":"+'[5]para PQR (2)'!E642","v":"DERECHO DE PETICION DE INTERES GENERAL"},{"$f":"+'[5]para PQR (2)'!F642","v":"Solucionado - Por traslado"},{"$f":"+'[5]para PQR (2)'!G642","v":"IPES"},{"$f":"+'[5]para PQR (2)'!H642","v":"GESTIONADO"}]
[null,{"$f":"+'[5]para PQR (2)'!B643","v":2481672022},{"$f":"+'[5]para PQR (2)'!C643","v":"AREA DE ATENCION A LA CIUDADANIA"},{"$f":"+'[5]para PQR (2)'!D643","v":"WEB"},{"$f":"+'[5]para PQR (2)'!E643","v":"DERECHO DE PETICION DE INTERES GENERAL"},{"$f":"+'[5]para PQR (2)'!F643","v":"Solucionado por asignar - Trasladar"},{"$f":"+'[5]para PQR (2)'!G643","v":"SECRETARIA DE GOBIERNO"},{"$f":"+'[5]para PQR (2)'!H643","v":"GESTIONADO"}]
[null,{"$f":"+'[5]para PQR (2)'!B644","v":2484582022},{"$f":"+'[5]para PQR (2)'!C644","v":"AREA DE ATENCION A LA CIUDADANIA"},{"$f":"+'[5]para PQR (2)'!D644","v":"WEB"},{"$f":"+'[5]para PQR (2)'!E644","v":"QUEJA"},{"$f":"+'[5]para PQR (2)'!F644","v":"Solucionado - Por traslado"},{"$f":"+'[5]para PQR (2)'!G644","v":"SECRETARIA MOVILIDAD"},{"$f":"+'[5]para PQR (2)'!H644","v":"GESTIONADO"}]
[null,{"$f":"+'[5]para PQR (2)'!B645","v":2486562022},{"$f":"+'[5]para PQR (2)'!C645","v":"SUBDIRECCION DE ADMINISTRACION INMOBILIARIA Y DE ESPACIO PUBLICO"},{"$f":"+'[5]para PQR (2)'!D645","v":"E-MAIL"},{"$f":"+'[5]para PQR (2)'!E645","v":"DERECHO DE PETICION DE INTERES PARTICULAR"},{"$f":"+'[5]para PQR (2)'!F645","v":"Solucionado - Por traslado"},{"$f":"+'[5]para PQR (2)'!G645","v":"SECRETARIA DE AMBIENTE"},{"$f":"+'[5]para PQR (2)'!H645","v":"GESTIONADO"}]
[null,{"$f":"+'[5]para PQR (2)'!B646","v":2489302022},{"$f":"+'[5]para PQR (2)'!C646","v":"AREA DE ATENCION A LA CIUDADANIA"},{"$f":"+'[5]para PQR (2)'!D646","v":"WEB"},{"$f":"+'[5]para PQR (2)'!E646","v":"DERECHO DE PETICION DE INTERES PARTICULAR"},{"$f":"+'[5]para PQR (2)'!F646","v":"Solucionado - Por traslado"},{"$f":"+'[5]para PQR (2)'!G646","v":"SECRETARIA DE INTEGRACION SOCIAL"},{"$f":"+'[5]para PQR (2)'!H646","v":"GESTIONADO"}]
[null,{"$f":"+'[5]para PQR (2)'!B647","v":2491522022},{"$f":"+'[5]para PQR (2)'!C647","v":"AREA DE ATENCION A LA CIUDADANIA"},{"$f":"+'[5]para PQR (2)'!D647","v":"WEB"},{"$f":"+'[5]para PQR (2)'!E647","v":"DERECHO DE PETICION DE INTERES GENERAL"},{"$f":"+'[5]para PQR (2)'!F647","v":"Solucionado - Por traslado"},{"$f":"+'[5]para PQR (2)'!G647","v":"SECRETARIA DE GOBIERNO"},{"$f":"+'[5]para PQR (2)'!H647","v":"GESTIONADO"}]
[null,{"$f":"+'[5]para PQR (2)'!B648","v":2492662022},{"$f":"+'[5]para PQR (2)'!C648","v":"AREA DE ATENCION A LA CIUDADANIA"},{"$f":"+'[5]para PQR (2)'!D648","v":"WEB"},{"$f":"+'[5]para PQR (2)'!E648","v":"QUEJA"},{"$f":"+'[5]para PQR (2)'!F648","v":"Solucionado - Por traslado"},{"$f":"+'[5]para PQR (2)'!G648","v":"SECRETARIA DE GOBIERNO"},{"$f":"+'[5]para PQR (2)'!H648","v":"GESTIONADO"}]
[null,{"$f":"+'[5]para PQR (2)'!B649","v":2493902022},{"$f":"+'[5]para PQR (2)'!C649","v":"AREA DE ATENCION A LA CIUDADANIA"},{"$f":"+'[5]para PQR (2)'!D649","v":"WEB"},{"$f":"+'[5]para PQR (2)'!E649","v":"DERECHO DE PETICION DE INTERES PARTICULAR"},{"$f":"+'[5]para PQR (2)'!F649","v":"Solucionado - Por traslado"},{"$f":"+'[5]para PQR (2)'!G649","v":"IPES"},{"$f":"+'[5]para PQR (2)'!H649","v":"GESTIONADO"}]
[null,{"$f":"+'[5]para PQR (2)'!B650","v":2494692022},{"$f":"+'[5]para PQR (2)'!C650","v":"AREA DE ATENCION A LA CIUDADANIA"},{"$f":"+'[5]para PQR (2)'!D650","v":"TELEFONO"},{"$f":"+'[5]para PQR (2)'!E650","v":"DERECHO DE PETICION DE INTERES GENERAL"},{"$f":"+'[5]para PQR (2)'!F650","v":"Solucionado - Por traslado"},{"$f":"+'[5]para PQR (2)'!G650","v":"SECRETARIA MOVILIDAD"},{"$f":"+'[5]para PQR (2)'!H650","v":"GESTIONADO"}]
[null,{"$f":"+'[5]para PQR (2)'!B651","v":2496122022},{"$f":"+'[5]para PQR (2)'!C651","v":"SUBDIRECCION DE ADMINISTRACION INMOBILIARIA Y DE ESPACIO PUBLICO"},{"$f":"+'[5]para PQR (2)'!D651","v":"E-MAIL"},{"$f":"+'[5]para PQR (2)'!E651","v":"DERECHO DE PETICION DE INTERES PARTICULAR"},{"$f":"+'[5]para PQR (2)'!F651","v":"Solucionado - Por traslado"},{"$f":"+'[5]para PQR (2)'!G651","v":"SECRETARIA DE GOBIERNO"},{"$f":"+'[5]para PQR (2)'!H651","v":"GESTIONADO"}]
[null,{"$f":"+'[5]para PQR (2)'!B652","v":2496562022},{"$f":"+'[5]para PQR (2)'!C652","v":"SUBDIRECCION DE ADMINISTRACION INMOBILIARIA Y DE ESPACIO PUBLICO"},{"$f":"+'[5]para PQR (2)'!D652","v":"E-MAIL"},{"$f":"+'[5]para PQR (2)'!E652","v":"DERECHO DE PETICION DE INTERES PARTICULAR"},{"$f":"+'[5]para PQR (2)'!F652","v":"Solucionado - Por traslado"},{"$f":"+'[5]para PQR (2)'!G652","v":"IDRD"},{"$f":"+'[5]para PQR (2)'!H652","v":"GESTIONADO"}]
[null,{"$f":"+'[5]para PQR (2)'!B653","v":2496792022},{"$f":"+'[5]para PQR (2)'!C653","v":"SUBDIRECCION DE ADMINISTRACION INMOBILIARIA Y DE ESPACIO PUBLICO"},{"$f":"+'[5]para PQR (2)'!D653","v":"E-MAIL"},{"$f":"+'[5]para PQR (2)'!E653","v":"DERECHO DE PETICION DE INTERES PARTICULAR"},{"$f":"+'[5]para PQR (2)'!F653","v":"Solucionado - Por traslado"},{"$f":"+'[5]para PQR (2)'!G653","v":"SECRETARIA DE GOBIERNO"},{"$f":"+'[5]para PQR (2)'!H653","v":"GESTIONADO"}]
[null,{"$f":"+'[5]para PQR (2)'!B654","v":2497022022},{"$f":"+'[5]para PQR (2)'!C654","v":"AREA DE ATENCION A LA CIUDADANIA"},{"$f":"+'[5]para PQR (2)'!D654","v":"WEB"},{"$f":"+'[5]para PQR (2)'!E654","v":"QUEJA"},{"$f":"+'[5]para PQR (2)'!F654","v":"Solucionado - Por traslado"},{"$f":"+'[5]para PQR (2)'!G654","v":"SECRETARIA DE GOBIERNO"},{"$f":"+'[5]para PQR (2)'!H654","v":"GESTIONADO"}]
[null,{"$f":"+'[5]para PQR (2)'!B655","v":2498032022},{"$f":"+'[5]para PQR (2)'!C655","v":"AREA DE ATENCION A LA CIUDADANIA"},{"$f":"+'[5]para PQR (2)'!D655","v":"TELEFONO"},{"$f":"+'[5]para PQR (2)'!E655","v":"DERECHO DE PETICION DE INTERES GENERAL"},{"$f":"+'[5]para PQR (2)'!F655","v":"Solucionado - Por traslado"},{"$f":"+'[5]para PQR (2)'!G655","v":"GRUAS Y PATIOS"},{"$f":"+'[5]para PQR (2)'!H655","v":"GESTIONADO"}]
[null,{"$f":"+'[5]para PQR (2)'!B656","v":2498342022},{"$f":"+'[5]para PQR (2)'!C656","v":"SUBDIRECCION DE REGISTRO INMOBILIARIO"},{"$f":"+'[5]para PQR (2)'!D656","v":"WEB"},{"$f":"+'[5]para PQR (2)'!E656","v":"DERECHO DE PETICION DE INTERES PARTICULAR"},{"$f":"+'[5]para PQR (2)'!F656","v":"Solucionado - Por traslado"},{"$f":"+'[5]para PQR (2)'!G656","v":"SECRETARIA DE PLANEACION"},{"$f":"+'[5]para PQR (2)'!H656","v":"GESTIONADO"}]
[null,{"$f":"+'[5]para PQR (2)'!B657","v":2500552022},{"$f":"+'[5]para PQR (2)'!C657","v":"AREA DE ATENCION A LA CIUDADANIA"},{"$f":"+'[5]para PQR (2)'!D657","v":"WEB"},{"$f":"+'[5]para PQR (2)'!E657","v":"QUEJA"},{"$f":"+'[5]para PQR (2)'!F657","v":"Solucionado - Por traslado"},{"$f":"+'[5]para PQR (2)'!G657","v":"IDPYBA"},{"$f":"+'[5]para PQR (2)'!H657","v":"GESTIONADO"}]
[null,{"$f":"+'[5]para PQR (2)'!B658","v":2501642022},{"$f":"+'[5]para PQR (2)'!C658","v":"AREA DE ATENCION A LA CIUDADANIA"},{"$f":"+'[5]para PQR (2)'!D658","v":"WEB"},{"$f":"+'[5]para PQR (2)'!E658","v":"DERECHO DE PETICION DE INTERES GENERAL"},{"$f":"+'[5]para PQR (2)'!F658","v":"Solucionado - Por traslado"},{"$f":"+'[5]para PQR (2)'!G658","v":"SECRETARIA DE GOBIERNO"},{"$f":"+'[5]para PQR (2)'!H658","v":"GESTIONADO"}]
[null,{"$f":"+'[5]para PQR (2)'!B659","v":2503472022},{"$f":"+'[5]para PQR (2)'!C659","v":"SUBDIRECCION DE REGISTRO INMOBILIARIO"},{"$f":"+'[5]para PQR (2)'!D659","v":"E-MAIL"},{"$f":"+'[5]para PQR (2)'!E659","v":"DERECHO DE PETICION DE INTERES PARTICULAR"},{"$f":"+'[5]para PQR (2)'!F659","v":"Solucionado - Por traslado"},{"$f":"+'[5]para PQR (2)'!G659","v":"SECRETARIA DE PLANEACION"},{"$f":"+'[5]para PQR (2)'!H659","v":"GESTIONADO"}]
[null,{"$f":"+'[5]para PQR (2)'!B660","v":2505662022},{"$f":"+'[5]para PQR (2)'!C660","v":"AREA DE ATENCION A LA CIUDADANIA"},{"$f":"+'[5]para PQR (2)'!D660","v":"WEB"},{"$f":"+'[5]para PQR (2)'!E660","v":"DERECHO DE PETICION DE INTERES GENERAL"},{"$f":"+'[5]para PQR (2)'!F660","v":"Solucionado - Por traslado"},{"$f":"+'[5]para PQR (2)'!G660","v":"SECRETARIA DE GOBIERNO"},{"$f":"+'[5]para PQR (2)'!H660","v":"GESTIONADO"}]
[null,{"$f":"+'[5]para PQR (2)'!B661","v":2506252022},{"$f":"+'[5]para PQR (2)'!C661","v":"SUBDIRECCION DE ADMINISTRACION INMOBILIARIA Y DE ESPACIO PUBLICO"},{"$f":"+'[5]para PQR (2)'!D661","v":"WEB"},{"$f":"+'[5]para PQR (2)'!E661","v":"DERECHO DE PETICION DE INTERES GENERAL"},{"$f":"+'[5]para PQR (2)'!F661","v":"Solucionado - Por traslado"},{"$f":"+'[5]para PQR (2)'!G661","v":"SECRETARIA DE GOBIERNO"},{"$f":"+'[5]para PQR (2)'!H661","v":"GESTIONADO"}]
[null,{"$f":"+'[5]para PQR (2)'!B662","v":2507212022},{"$f":"+'[5]para PQR (2)'!C662","v":"AREA DE ATENCION A LA CIUDADANIA"},{"$f":"+'[5]para PQR (2)'!D662","v":"WEB"},{"$f":"+'[5]para PQR (2)'!E662","v":"QUEJA"},{"$f":"+'[5]para PQR (2)'!F662","v":"Solucionado - Por traslado"},{"$f":"+'[5]para PQR (2)'!G662","v":"SECRETARIA DE GOBIERNO"},{"$f":"+'[5]para PQR (2)'!H662","v":"GESTIONADO"}]
[null,{"$f":"+'[5]para PQR (2)'!B663","v":2509622022},{"$f":"+'[5]para PQR (2)'!C663","v":"SUBDIRECCION DE REGISTRO INMOBILIARIO"},{"$f":"+'[5]para PQR (2)'!D663","v":"E-MAIL"},{"$f":"+'[5]para PQR (2)'!E663","v":"DERECHO DE PETICION DE INTERES PARTICULAR"},{"$f":"+'[5]para PQR (2)'!F663","v":"Solucionado - Por traslado"},{"$f":"+'[5]para PQR (2)'!G663","v":"SECRETARIA DE PLANEACION"},{"$f":"+'[5]para PQR (2)'!H663","v":"GESTIONADO"}]
[null,{"$f":"+'[5]para PQR (2)'!B664","v":2509712022},{"$f":"+'[5]para PQR (2)'!C664","v":"AREA DE ATENCION A LA CIUDADANIA"},{"$f":"+'[5]para PQR (2)'!D664","v":"WEB"},{"$f":"+'[5]para PQR (2)'!E664","v":"DERECHO DE PETICION DE INTERES PARTICULAR"},{"$f":"+'[5]para PQR (2)'!F664","v":"Solucionado - Por traslado"},{"$f":"+'[5]para PQR (2)'!G664","v":"SECRETARIA DE GOBIERNO"},{"$f":"+'[5]para PQR (2)'!H664","v":"GESTIONADO"}]
[null,{"$f":"+'[5]para PQR (2)'!B665","v":2509852022},{"$f":"+'[5]para PQR (2)'!C665","v":"SUBDIRECCION DE ADMINISTRACION INMOBILIARIA Y DE ESPACIO PUBLICO"},{"$f":"+'[5]para PQR (2)'!D665","v":"E-MAIL"},{"$f":"+'[5]para PQR (2)'!E665","v":"DERECHO DE PETICION DE INTERES PARTICULAR"},{"$f":"+'[5]para PQR (2)'!F665","v":"Solucionado - Por traslado"},{"$f":"+'[5]para PQR (2)'!G665","v":"SECRETARIA DE AMBIENTE"},{"$f":"+'[5]para PQR (2)'!H665","v":"GESTIONADO"}]
[null,{"$f":"+'[5]para PQR (2)'!B666","v":2510212022},{"$f":"+'[5]para PQR (2)'!C666","v":"AREA DE ATENCION A LA CIUDADANIA"},{"$f":"+'[5]para PQR (2)'!D666","v":"TELEFONO"},{"$f":"+'[5]para PQR (2)'!E666","v":"RECLAMO"},{"$f":"+'[5]para PQR (2)'!F666","v":"Solucionado - Por traslado"},{"$f":"+'[5]para PQR (2)'!G666","v":"IPES"},{"$f":"+'[5]para PQR (2)'!H666","v":"GESTIONADO"}]
[null,{"$f":"+'[5]para PQR (2)'!B667","v":2510372022},{"$f":"+'[5]para PQR (2)'!C667","v":"SUBDIRECCION DE ADMINISTRACION INMOBILIARIA Y DE ESPACIO PUBLICO"},{"$f":"+'[5]para PQR (2)'!D667","v":"E-MAIL"},{"$f":"+'[5]para PQR (2)'!E667","v":"DERECHO DE PETICION DE INTERES PARTICULAR"},{"$f":"+'[5]para PQR (2)'!F667","v":"Solucionado - Por traslado"},{"$f":"+'[5]para PQR (2)'!G667","v":"SECRETARIA DE GOBIERNO"},{"$f":"+'[5]para PQR (2)'!H667","v":"GESTIONADO"}]
[null,{"$f":"+'[5]para PQR (2)'!B668","v":2512892022},{"$f":"+'[5]para PQR (2)'!C668","v":"AREA DE ATENCION A LA CIUDADANIA"},{"$f":"+'[5]para PQR (2)'!D668","v":"WEB"},{"$f":"+'[5]para PQR (2)'!E668","v":"CONSULTA"},{"$f":"+'[5]para PQR (2)'!F668","v":"Solucionado - Por traslado"},{"$f":"+'[5]para PQR (2)'!G668","v":"SECRETARIA DE DESARROLLO ECONOMICO"},{"$f":"+'[5]para PQR (2)'!H668","v":"GESTIONADO"}]
[null,{"$f":"+'[5]para PQR (2)'!B669","v":2514992022},{"$f":"+'[5]para PQR (2)'!C669","v":"AREA DE ATENCION A LA CIUDADANIA"},{"$f":"+'[5]para PQR (2)'!D669","v":"WEB"},{"$f":"+'[5]para PQR (2)'!E669","v":"QUEJA"},{"$f":"+'[5]para PQR (2)'!F669","v":"Solucionado - Por traslado"},{"$f":"+'[5]para PQR (2)'!G669","v":"SECRETARIA DE GOBIERNO"},{"$f":"+'[5]para PQR (2)'!H669","v":"GESTIONADO"}]
[null,{"$f":"+'[5]para PQR (2)'!B670","v":2515492022},{"$f":"+'[5]para PQR (2)'!C670","v":"AREA DE ATENCION A LA CIUDADANIA"},{"$f":"+'[5]para PQR (2)'!D670","v":"WEB"},{"$f":"+'[5]para PQR (2)'!E670","v":"DERECHO DE PETICION DE INTERES PARTICULAR"},{"$f":"+'[5]para PQR (2)'!F670","v":"Solucionado - Por traslado"},{"$f":"+'[5]para PQR (2)'!G670","v":"SECRETARIA DE GOBIERNO"},{"$f":"+'[5]para PQR (2)'!H670","v":"GESTIONADO"}]
[null,{"$f":"+'[5]para PQR (2)'!B671","v":2517322022},{"$f":"+'[5]para PQR (2)'!C671","v":"AREA DE ATENCION A LA CIUDADANIA"},{"$f":"+'[5]para PQR (2)'!D671","v":"WEB"},{"$f":"+'[5]para PQR (2)'!E671","v":"DERECHO DE PETICION DE INTERES GENERAL"},{"$f":"+'[5]para PQR (2)'!F671","v":"Solucionado por asignar - Trasladar"},{"$f":"+'[5]para PQR (2)'!G671","v":"SECRETARIA DE GOBIERNO"},{"$f":"+'[5]para PQR (2)'!H671","v":"GESTIONADO"}]
[null,{"$f":"+'[5]para PQR (2)'!B672","v":2517792022},{"$f":"+'[5]para PQR (2)'!C672","v":"AREA DE ATENCION A LA CIUDADANIA"},{"$f":"+'[5]para PQR (2)'!D672","v":"WEB"},{"$f":"+'[5]para PQR (2)'!E672","v":"DERECHO DE PETICION DE INTERES GENERAL"},{"$f":"+'[5]para PQR (2)'!F672","v":"Solucionado por asignar - Trasladar"},{"$f":"+'[5]para PQR (2)'!G672","v":"UAESP"},{"$f":"+'[5]para PQR (2)'!H672","v":"GESTIONADO"}]
[null,{"$f":"+'[5]para PQR (2)'!B673","v":2517972022},{"$f":"+'[5]para PQR (2)'!C673","v":"AREA DE ATENCION A LA CIUDADANIA"},{"$f":"+'[5]para PQR (2)'!D673","v":"WEB"},{"$f":"+'[5]para PQR (2)'!E673","v":"DERECHO DE PETICION DE INTERES PARTICULAR"},{"$f":"+'[5]para PQR (2)'!F673","v":"Solucionado - Por traslado"},{"$f":"+'[5]para PQR (2)'!G673","v":"SECRETARIA DE GOBIERNO"},{"$f":"+'[5]para PQR (2)'!H673","v":"GESTIONADO"}]
[null,{"$f":"+'[5]para PQR (2)'!B674","v":2518702022},{"$f":"+'[5]para PQR (2)'!C674","v":"AREA DE ATENCION A LA CIUDADANIA"},{"$f":"+'[5]para PQR (2)'!D674","v":"TELEFONO"},{"$f":"+'[5]para PQR (2)'!E674","v":"DERECHO DE PETICION DE INTERES GENERAL"},{"$f":"+'[5]para PQR (2)'!F674","v":"Solucionado - Por traslado"},{"$f":"+'[5]para PQR (2)'!G674","v":"IPES"},{"$f":"+'[5]para PQR (2)'!H674","v":"GESTIONADO"}]
[null,{"$f":"+'[5]para PQR (2)'!B675","v":2520612022},{"$f":"+'[5]para PQR (2)'!C675","v":"AREA DE ATENCION A LA CIUDADANIA"},{"$f":"+'[5]para PQR (2)'!D675","v":"WEB"},{"$f":"+'[5]para PQR (2)'!E675","v":"DERECHO DE PETICION DE INTERES GENERAL"},{"$f":"+'[5]para PQR (2)'!F675","v":"Solucionado - Por traslado"},{"$f":"+'[5]para PQR (2)'!G675","v":"SECRETARIA DE GOBIERNO"},{"$f":"+'[5]para PQR (2)'!H675","v":"GESTIONADO"}]
[null,{"$f":"+'[5]para PQR (2)'!B676","v":2520772022},{"$f":"+'[5]para PQR (2)'!C676","v":"AREA DE ATENCION A LA CIUDADANIA"},{"$f":"+'[5]para PQR (2)'!D676","v":"WEB"},{"$f":"+'[5]para PQR (2)'!E676","v":"QUEJA"},{"$f":"+'[5]para PQR (2)'!F676","v":"Solucionado - Por traslado"},{"$f":"+'[5]para PQR (2)'!G676","v":"SECRETARIA DE GOBIERNO"},{"$f":"+'[5]para PQR (2)'!H676","v":"GESTIONADO"}]
[null,{"$f":"+'[5]para PQR (2)'!B677","v":2522072022},{"$f":"+'[5]para PQR (2)'!C677","v":"AREA DE ATENCION A LA CIUDADANIA"},{"$f":"+'[5]para PQR (2)'!D677","v":"WEB"},{"$f":"+'[5]para PQR (2)'!E677","v":"QUEJA"},{"$f":"+'[5]para PQR (2)'!F677","v":"Solucionado - Por traslado"},{"$f":"+'[5]para PQR (2)'!G677","v":"SECRETARIA DE GOBIERNO"},{"$f":"+'[5]para PQR (2)'!H677","v":"GESTIONADO"}]
[null,{"$f":"+'[5]para PQR (2)'!B678","v":2523602022},{"$f":"+'[5]para PQR (2)'!C678","v":"SUBDIRECCION DE ADMINISTRACION INMOBILIARIA Y DE ESPACIO PUBLICO"},{"$f":"+'[5]para PQR (2)'!D678","v":"E-MAIL"},{"$f":"+'[5]para PQR (2)'!E678","v":"DERECHO DE PETICION DE INTERES PARTICULAR"},{"$f":"+'[5]para PQR (2)'!F678","v":"Solucionado - Por traslado"},{"$f":"+'[5]para PQR (2)'!G678","v":"SECRETARIA DE GOBIERNO"},{"$f":"+'[5]para PQR (2)'!H678","v":"GESTIONADO"}]
[null,{"$f":"+'[5]para PQR (2)'!B679","v":2528102022},{"$f":"+'[5]para PQR (2)'!C679","v":"AREA DE ATENCION A LA CIUDADANIA"},{"$f":"+'[5]para PQR (2)'!D679","v":"WEB"},{"$f":"+'[5]para PQR (2)'!E679","v":"QUEJA"},{"$f":"+'[5]para PQR (2)'!F679","v":"Solucionado - Por traslado"},{"$f":"+'[5]para PQR (2)'!G679","v":"SECRETARIA DE AMBIENTE"},{"$f":"+'[5]para PQR (2)'!H679","v":"GESTIONADO"}]
[null,{"$f":"+'[5]para PQR (2)'!B680","v":2528282022},{"$f":"+'[5]para PQR (2)'!C680","v":"AREA DE ATENCION A LA CIUDADANIA"},{"$f":"+'[5]para PQR (2)'!D680","v":"WEB"},{"$f":"+'[5]para PQR (2)'!E680","v":"QUEJA"},{"$f":"+'[5]para PQR (2)'!F680","v":"Solucionado - Por traslado"},{"$f":"+'[5]para PQR (2)'!G680","v":"SECRETARIA DE AMBIENTE"},{"$f":"+'[5]para PQR (2)'!H680","v":"GESTIONADO"}]
[null,{"$f":"+'[5]para PQR (2)'!B681","v":2528532022},{"$f":"+'[5]para PQR (2)'!C681","v":"AREA DE ATENCION A LA CIUDADANIA"},{"$f":"+'[5]para PQR (2)'!D681","v":"WEB"},{"$f":"+'[5]para PQR (2)'!E681","v":"DERECHO DE PETICION DE INTERES GENERAL"},{"$f":"+'[5]para PQR (2)'!F681","v":"Solucionado por asignar - Trasladar"},{"$f":"+'[5]para PQR (2)'!G681","v":"SECRETARIA DE GOBIERNO"},{"$f":"+'[5]para PQR (2)'!H681","v":"GESTIONADO"}]
[null,{"$f":"+'[5]para PQR (2)'!B682","v":2528552022},{"$f":"+'[5]para PQR (2)'!C682","v":"AREA DE ATENCION A LA CIUDADANIA"},{"$f":"+'[5]para PQR (2)'!D682","v":"WEB"},{"$f":"+'[5]para PQR (2)'!E682","v":"DERECHO DE PETICION DE INTERES GENERAL"},{"$f":"+'[5]para PQR (2)'!F682","v":"Solucionado - Por traslado"},{"$f":"+'[5]para PQR (2)'!G682","v":"SECRETARIA DE GOBIERNO"},{"$f":"+'[5]para PQR (2)'!H682","v":"GESTIONADO"}]
[null,{"$f":"+'[5]para PQR (2)'!B683","v":2535952022},{"$f":"+'[5]para PQR (2)'!C683","v":"AREA DE ATENCION A LA CIUDADANIA"},{"$f":"+'[5]para PQR (2)'!D683","v":"WEB"},{"$f":"+'[5]para PQR (2)'!E683","v":"DERECHO DE PETICION DE INTERES PARTICULAR"},{"$f":"+'[5]para PQR (2)'!F683","v":"Solucionado - Por traslado"},{"$f":"+'[5]para PQR (2)'!G683","v":"SECRETARIA DE GOBIERNO"},{"$f":"+'[5]para PQR (2)'!H683","v":"GESTIONADO"}]
[null,{"$f":"+'[5]para PQR (2)'!B684","v":2536152022},{"$f":"+'[5]para PQR (2)'!C684","v":"AREA DE ATENCION A LA CIUDADANIA"},{"$f":"+'[5]para PQR (2)'!D684","v":"WEB"},{"$f":"+'[5]para PQR (2)'!E684","v":"RECLAMO"},{"$f":"+'[5]para PQR (2)'!F684","v":"Solucionado - Por traslado"},{"$f":"+'[5]para PQR (2)'!G684","v":"SECRETARIA DE GOBIERNO"},{"$f":"+'[5]para PQR (2)'!H684","v":"GESTIONADO"}]
[null,{"$f":"+'[5]para PQR (2)'!B685","v":2538012022},{"$f":"+'[5]para PQR (2)'!C685","v":"AREA DE ATENCION A LA CIUDADANIA"},{"$f":"+'[5]para PQR (2)'!D685","v":"WEB"},{"$f":"+'[5]para PQR (2)'!E685","v":"QUEJA"},{"$f":"+'[5]para PQR (2)'!F685","v":"Solucionado - Por traslado"},{"$f":"+'[5]para PQR (2)'!G685","v":"SECRETARIA DE GOBIERNO"},{"$f":"+'[5]para PQR (2)'!H685","v":"GESTIONADO"}]
[null,{"$f":"+'[5]para PQR (2)'!B686","v":2545442022},{"$f":"+'[5]para PQR (2)'!C686","v":"SUBDIRECCION DE ADMINISTRACION INMOBILIARIA Y DE ESPACIO PUBLICO"},{"$f":"+'[5]para PQR (2)'!D686","v":"E-MAIL"},{"$f":"+'[5]para PQR (2)'!E686","v":"DERECHO DE PETICION DE INTERES PARTICULAR"},{"$f":"+'[5]para PQR (2)'!F686","v":"Solucionado - Por traslado"},{"$f":"+'[5]para PQR (2)'!G686","v":"IDRD"},{"$f":"+'[5]para PQR (2)'!H686","v":"GESTIONADO"}]
[null,{"$f":"+'[5]para PQR (2)'!B687","v":2545722022},{"$f":"+'[5]para PQR (2)'!C687","v":"SUBDIRECCION DE ADMINISTRACION INMOBILIARIA Y DE ESPACIO PUBLICO"},{"$f":"+'[5]para PQR (2)'!D687","v":"E-MAIL"},{"$f":"+'[5]para PQR (2)'!E687","v":"DERECHO DE PETICION DE INTERES PARTICULAR"},{"$f":"+'[5]para PQR (2)'!F687","v":"Solucionado - Por traslado"},{"$f":"+'[5]para PQR (2)'!G687","v":"LA TERMINAL DE TRANSPORTE"},{"$f":"+'[5]para PQR (2)'!H687","v":"GESTIONADO"}]
[null,{"$f":"+'[5]para PQR (2)'!B688","v":2546532022},{"$f":"+'[5]para PQR (2)'!C688","v":"SUBDIRECCION DE ADMINISTRACION INMOBILIARIA Y DE ESPACIO PUBLICO"},{"$f":"+'[5]para PQR (2)'!D688","v":"E-MAIL"},{"$f":"+'[5]para PQR (2)'!E688","v":"DERECHO DE PETICION DE INTERES PARTICULAR"},{"$f":"+'[5]para PQR (2)'!F688","v":"Solucionado - Por traslado"},{"$f":"+'[5]para PQR (2)'!G688","v":"SECRETARIA DE GOBIERNO"},{"$f":"+'[5]para PQR (2)'!H688","v":"GESTIONADO"}]
[null,{"$f":"+'[5]para PQR (2)'!B689","v":2546982022},{"$f":"+'[5]para PQR (2)'!C689","v":"SUBDIRECCION DE ADMINISTRACION INMOBILIARIA Y DE ESPACIO PUBLICO"},{"$f":"+'[5]para PQR (2)'!D689","v":"E-MAIL"},{"$f":"+'[5]para PQR (2)'!E689","v":"DERECHO DE PETICION DE INTERES PARTICULAR"},{"$f":"+'[5]para PQR (2)'!F689","v":"Solucionado - Por traslado"},{"$f":"+'[5]para PQR (2)'!G689","v":"SECRETARIA DE GOBIERNO"},{"$f":"+'[5]para PQR (2)'!H689","v":"GESTIONADO"}]
[null,{"$f":"+'[5]para PQR (2)'!B690","v":2548002022},{"$f":"+'[5]para PQR (2)'!C690","v":"SUBDIRECCION DE ADMINISTRACION INMOBILIARIA Y DE ESPACIO PUBLICO"},{"$f":"+'[5]para PQR (2)'!D690","v":"E-MAIL"},{"$f":"+'[5]para PQR (2)'!E690","v":"DERECHO DE PETICION DE INTERES PARTICULAR"},{"$f":"+'[5]para PQR (2)'!F690","v":"Solucionado - Por traslado"},{"$f":"+'[5]para PQR (2)'!G690","v":"SECRETARIA DE GOBIERNO"},{"$f":"+'[5]para PQR (2)'!H690","v":"GESTIONADO"}]
[null,{"$f":"+'[5]para PQR (2)'!B691","v":2548212022},{"$f":"+'[5]para PQR (2)'!C691","v":"SUBDIRECCION DE ADMINISTRACION INMOBILIARIA Y DE ESPACIO PUBLICO"},{"$f":"+'[5]para PQR (2)'!D691","v":"E-MAIL"},{"$f":"+'[5]para PQR (2)'!E691","v":"DERECHO DE PETICION DE INTERES PARTICULAR"},{"$f":"+'[5]para PQR (2)'!F691","v":"Solucionado - Por traslado"},{"$f":"+'[5]para PQR (2)'!G691","v":"SECRETARIA DE GOBIERNO"},{"$f":"+'[5]para PQR (2)'!H691","v":"GESTIONADO"}]
[null,{"$f":"+'[5]para PQR (2)'!B692","v":2548432022},{"$f":"+'[5]para PQR (2)'!C692","v":"SUBDIRECCION DE ADMINISTRACION INMOBILIARIA Y DE ESPACIO PUBLICO"},{"$f":"+'[5]para PQR (2)'!D692","v":"E-MAIL"},{"$f":"+'[5]para PQR (2)'!E692","v":"DERECHO DE PETICION DE INTERES PARTICULAR"},{"$f":"+'[5]para PQR (2)'!F692","v":"Solucionado - Por traslado"},{"$f":"+'[5]para PQR (2)'!G692","v":"SECRETARIA DE GOBIERNO"},{"$f":"+'[5]para PQR (2)'!H692","v":"GESTIONADO"}]
[null,{"$f":"+'[5]para PQR (2)'!B693","v":2549452022},{"$f":"+'[5]para PQR (2)'!C693","v":"AREA DE ATENCION A LA CIUDADANIA"},{"$f":"+'[5]para PQR (2)'!D693","v":"WEB"},{"$f":"+'[5]para PQR (2)'!E693","v":"QUEJA"},{"$f":"+'[5]para PQR (2)'!F693","v":"Solucionado - Por traslado"},{"$f":"+'[5]para PQR (2)'!G693","v":"SECRETARIA DE AMBIENTE"},{"$f":"+'[5]para PQR (2)'!H693","v":"GESTIONADO"}]
[null,{"$f":"+'[5]para PQR (2)'!B694","v":2551142022},{"$f":"+'[5]para PQR (2)'!C694","v":"SUBDIRECCION DE ADMINISTRACION INMOBILIARIA Y DE ESPACIO PUBLICO"},{"$f":"+'[5]para PQR (2)'!D694","v":"E-MAIL"},{"$f":"+'[5]para PQR (2)'!E694","v":"DERECHO DE PETICION DE INTERES GENERAL"},{"$f":"+'[5]para PQR (2)'!F694","v":"Solucionado - Por traslado"},{"$f":"+'[5]para PQR (2)'!G694","v":"IPES"},{"$f":"+'[5]para PQR (2)'!H694","v":"GESTIONADO"}]
[null,{"$f":"+'[5]para PQR (2)'!B695","v":2551192022},{"$f":"+'[5]para PQR (2)'!C695","v":"AREA DE ATENCION A LA CIUDADANIA"},{"$f":"+'[5]para PQR (2)'!D695","v":"WEB"},{"$f":"+'[5]para PQR (2)'!E695","v":"DERECHO DE PETICION DE INTERES GENERAL"},{"$f":"+'[5]para PQR (2)'!F695","v":"Solucionado por asignar - Trasladar"},{"$f":"+'[5]para PQR (2)'!G695","v":"IDRD"},{"$f":"+'[5]para PQR (2)'!H695","v":"GESTIONADO"}]
[null,{"$f":"+'[5]para PQR (2)'!B696","v":2551462022},{"$f":"+'[5]para PQR (2)'!C696","v":"AREA DE ATENCION A LA CIUDADANIA"},{"$f":"+'[5]para PQR (2)'!D696","v":"WEB"},{"$f":"+'[5]para PQR (2)'!E696","v":"DERECHO DE PETICION DE INTERES GENERAL"},{"$f":"+'[5]para PQR (2)'!F696","v":"Solucionado - Por traslado"},{"$f":"+'[5]para PQR (2)'!G696","v":"SECRETARIA DE GOBIERNO"},{"$f":"+'[5]para PQR (2)'!H696","v":"GESTIONADO"}]
[null,{"$f":"+'[5]para PQR (2)'!B697","v":2552932022},{"$f":"+'[5]para PQR (2)'!C697","v":"AREA DE ATENCION A LA CIUDADANIA"},{"$f":"+'[5]para PQR (2)'!D697","v":"WEB"},{"$f":"+'[5]para PQR (2)'!E697","v":"QUEJA"},{"$f":"+'[5]para PQR (2)'!F697","v":"Solucionado - Por traslado"},{"$f":"+'[5]para PQR (2)'!G697","v":"SECRETARIA DE GOBIERNO"},{"$f":"+'[5]para PQR (2)'!H697","v":"GESTIONADO"}]
[null,{"$f":"+'[5]para PQR (2)'!B698","v":2553982022},{"$f":"+'[5]para PQR (2)'!C698","v":"SUBDIRECCION DE ADMINISTRACION INMOBILIARIA Y DE ESPACIO PUBLICO"},{"$f":"+'[5]para PQR (2)'!D698","v":"E-MAIL"},{"$f":"+'[5]para PQR (2)'!E698","v":"DERECHO DE PETICION DE INTERES PARTICULAR"},{"$f":"+'[5]para PQR (2)'!F698","v":"Solucionado - Por traslado"},{"$f":"+'[5]para PQR (2)'!G698","v":"IDRD"},{"$f":"+'[5]para PQR (2)'!H698","v":"GESTIONADO"}]
[null,{"$f":"+'[5]para PQR (2)'!B699","v":2554042022},{"$f":"+'[5]para PQR (2)'!C699","v":"SUBDIRECCION DE ADMINISTRACION INMOBILIARIA Y DE ESPACIO PUBLICO"},{"$f":"+'[5]para PQR (2)'!D699","v":"E-MAIL"},{"$f":"+'[5]para PQR (2)'!E699","v":"DERECHO DE PETICION DE INTERES PARTICULAR"},{"$f":"+'[5]para PQR (2)'!F699","v":"Solucionado - Por traslado"},{"$f":"+'[5]para PQR (2)'!G699","v":"IDU"},{"$f":"+'[5]para PQR (2)'!H699","v":"GESTIONADO"}]
[null,{"$f":"+'[5]para PQR (2)'!B700","v":2557062022},{"$f":"+'[5]para PQR (2)'!C700","v":"AREA DE ATENCION A LA CIUDADANIA"},{"$f":"+'[5]para PQR (2)'!D700","v":"WEB"},{"$f":"+'[5]para PQR (2)'!E700","v":"DERECHO DE PETICION DE INTERES GENERAL"},{"$f":"+'[5]para PQR (2)'!F700","v":"Solucionado - Por traslado"},{"$f":"+'[5]para PQR (2)'!G700","v":"TRANSMILENIO"},{"$f":"+'[5]para PQR (2)'!H700","v":"GESTIONADO"}]
[null,{"$f":"+'[5]para PQR (2)'!B701","v":2557582022},{"$f":"+'[5]para PQR (2)'!C701","v":"AREA DE ATENCION A LA CIUDADANIA"},{"$f":"+'[5]para PQR (2)'!D701","v":"WEB"},{"$f":"+'[5]para PQR (2)'!E701","v":"QUEJA"},{"$f":"+'[5]para PQR (2)'!F701","v":"Solucionado - Por traslado"},{"$f":"+'[5]para PQR (2)'!G701","v":"SECRETARIA DE GOBIERNO"},{"$f":"+'[5]para PQR (2)'!H701","v":"GESTIONADO"}]
[null,{"$f":"+'[5]para PQR (2)'!B702","v":2558252022},{"$f":"+'[5]para PQR (2)'!C702","v":"SUBDIRECCION DE ADMINISTRACION INMOBILIARIA Y DE ESPACIO PUBLICO"},{"$f":"+'[5]para PQR (2)'!D702","v":"ESCRITO"},{"$f":"+'[5]para PQR (2)'!E702","v":"DERECHO DE PETICION DE INTERES GENERAL"},{"$f":"+'[5]para PQR (2)'!F702","v":"Solucionado - Por traslado"},{"$f":"+'[5]para PQR (2)'!G702","v":"SECRETARIA DE PLANEACION"},{"$f":"+'[5]para PQR (2)'!H702","v":"GESTIONADO"}]
[null,{"$f":"+'[5]para PQR (2)'!B703","v":2561632022},{"$f":"+'[5]para PQR (2)'!C703","v":"SUBDIRECCION DE ADMINISTRACION INMOBILIARIA Y DE ESPACIO PUBLICO"},{"$f":"+'[5]para PQR (2)'!D703","v":"ESCRITO"},{"$f":"+'[5]para PQR (2)'!E703","v":"DERECHO DE PETICION DE INTERES PARTICULAR"},{"$f":"+'[5]para PQR (2)'!F703","v":"Solucionado - Por traslado"},{"$f":"+'[5]para PQR (2)'!G703","v":"SECRETARIA DE GOBIERNO"},{"$f":"+'[5]para PQR (2)'!H703","v":"GESTIONADO"}]
[null,{"$f":"+'[5]para PQR (2)'!B704","v":2563982022},{"$f":"+'[5]para PQR (2)'!C704","v":"AREA DE ATENCION A LA CIUDADANIA"},{"$f":"+'[5]para PQR (2)'!D704","v":"WEB"},{"$f":"+'[5]para PQR (2)'!E704","v":"DERECHO DE PETICION DE INTERES GENERAL"},{"$f":"+'[5]para PQR (2)'!F704","v":"Solucionado - Por traslado"},{"$f":"+'[5]para PQR (2)'!G704","v":"IDU"},{"$f":"+'[5]para PQR (2)'!H704","v":"GESTIONADO"}]
[null,{"$f":"+'[5]para PQR (2)'!B705","v":2564662022},{"$f":"+'[5]para PQR (2)'!C705","v":"AREA DE ATENCION A LA CIUDADANIA"},{"$f":"+'[5]para PQR (2)'!D705","v":"WEB"},{"$f":"+'[5]para PQR (2)'!E705","v":"QUEJA"},{"$f":"+'[5]para PQR (2)'!F705","v":"Solucionado - Por traslado"},{"$f":"+'[5]para PQR (2)'!G705","v":"SECRETARIA DE AMBIENTE"},{"$f":"+'[5]para PQR (2)'!H705","v":"GESTIONADO"}]
[null,{"$f":"+'[5]para PQR (2)'!B706","v":2564722022},{"$f":"+'[5]para PQR (2)'!C706","v":"AREA DE ATENCION A LA CIUDADANIA"},{"$f":"+'[5]para PQR (2)'!D706","v":"WEB"},{"$f":"+'[5]para PQR (2)'!E706","v":"QUEJA"},{"$f":"+'[5]para PQR (2)'!F706","v":"Solucionado - Por traslado"},{"$f":"+'[5]para PQR (2)'!G706","v":"SECRETARIA DE AMBIENTE"},{"$f":"+'[5]para PQR (2)'!H706","v":"GESTIONADO"}]
[null,{"$f":"+'[5]para PQR (2)'!B707","v":2566492022},{"$f":"+'[5]para PQR (2)'!C707","v":"AREA DE ATENCION A LA CIUDADANIA"},{"$f":"+'[5]para PQR (2)'!D707","v":"TELEFONO"},{"$f":"+'[5]para PQR (2)'!E707","v":"DERECHO DE PETICION DE INTERES GENERAL"},{"$f":"+'[5]para PQR (2)'!F707","v":"Solucionado - Por traslado"},{"$f":"+'[5]para PQR (2)'!G707","v":"IPES"},{"$f":"+'[5]para PQR (2)'!H707","v":"GESTIONADO"}]
[null,{"$f":"+'[5]para PQR (2)'!B708","v":2566532022},{"$f":"+'[5]para PQR (2)'!C708","v":"SUBDIRECCION DE ADMINISTRACION INMOBILIARIA Y DE ESPACIO PUBLICO"},{"$f":"+'[5]para PQR (2)'!D708","v":"ESCRITO"},{"$f":"+'[5]para PQR (2)'!E708","v":"DERECHO DE PETICION DE INTERES PARTICULAR"},{"$f":"+'[5]para PQR (2)'!F708","v":"Solucionado - Por traslado"},{"$f":"+'[5]para PQR (2)'!G708","v":"IDU"},{"$f":"+'[5]para PQR (2)'!H708","v":"GESTIONADO"}]
[null,{"$f":"+'[5]para PQR (2)'!B709","v":2566802022},{"$f":"+'[5]para PQR (2)'!C709","v":"AREA DE ATENCION A LA CIUDADANIA"},{"$f":"+'[5]para PQR (2)'!D709","v":"WEB"},{"$f":"+'[5]para PQR (2)'!E709","v":"DERECHO DE PETICION DE INTERES GENERAL"},{"$f":"+'[5]para PQR (2)'!F709","v":"Solucionado - Por traslado"},{"$f":"+'[5]para PQR (2)'!G709","v":"SECRETARIA MOVILIDAD"},{"$f":"+'[5]para PQR (2)'!H709","v":"GESTIONADO"}]
[null,{"$f":"+'[5]para PQR (2)'!B710","v":2566852022},{"$f":"+'[5]para PQR (2)'!C710","v":"SUBDIRECCION DE ADMINISTRACION INMOBILIARIA Y DE ESPACIO PUBLICO"},{"$f":"+'[5]para PQR (2)'!D710","v":"ESCRITO"},{"$f":"+'[5]para PQR (2)'!E710","v":"DERECHO DE PETICION DE INTERES PARTICULAR"},{"$f":"+'[5]para PQR (2)'!F710","v":"Solucionado - Por traslado"},{"$f":"+'[5]para PQR (2)'!G710","v":"SECRETARIA DE GOBIERNO"},{"$f":"+'[5]para PQR (2)'!H710","v":"GESTIONADO"}]
[null,{"$f":"+'[5]para PQR (2)'!B711","v":2568802022},{"$f":"+'[5]para PQR (2)'!C711","v":"AREA DE ATENCION A LA CIUDADANIA"},{"$f":"+'[5]para PQR (2)'!D711","v":"TELEFONO"},{"$f":"+'[5]para PQR (2)'!E711","v":"DERECHO DE PETICION DE INTERES GENERAL"},{"$f":"+'[5]para PQR (2)'!F711","v":"Solucionado - Por traslado"},{"$f":"+'[5]para PQR (2)'!G711","v":"SECRETARIA DE INTEGRACION SOCIAL"},{"$f":"+'[5]para PQR (2)'!H711","v":"GESTIONADO"}]
[null,{"$f":"+'[5]para PQR (2)'!B712","v":2573452022},{"$f":"+'[5]para PQR (2)'!C712","v":"AREA DE ATENCION A LA CIUDADANIA"},{"$f":"+'[5]para PQR (2)'!D712","v":"ESCRITO"},{"$f":"+'[5]para PQR (2)'!E712","v":"DERECHO DE PETICION DE INTERES PARTICULAR"},{"$f":"+'[5]para PQR (2)'!F712","v":"Solucionado por asignar - Trasladar"},{"$f":"+'[5]para PQR (2)'!G712","v":"IDPAC"},{"$f":"+'[5]para PQR (2)'!H712","v":"GESTIONADO"}]
[null,{"$f":"+'[5]para PQR (2)'!B713","v":2577002022},{"$f":"+'[5]para PQR (2)'!C713","v":"AREA DE ATENCION A LA CIUDADANIA"},{"$f":"+'[5]para PQR (2)'!D713","v":"WEB"},{"$f":"+'[5]para PQR (2)'!E713","v":"QUEJA"},{"$f":"+'[5]para PQR (2)'!F713","v":"Solucionado - Por traslado"},{"$f":"+'[5]para PQR (2)'!G713","v":"IPES"},{"$f":"+'[5]para PQR (2)'!H713","v":"GESTIONADO"}]
[null,{"$f":"+'[5]para PQR (2)'!B714","v":2577582022},{"$f":"+'[5]para PQR (2)'!C714","v":"AREA DE ATENCION A LA CIUDADANIA"},{"$f":"+'[5]para PQR (2)'!D714","v":"WEB"},{"$f":"+'[5]para PQR (2)'!E714","v":"DERECHO DE PETICION DE INTERES PARTICULAR"},{"$f":"+'[5]para PQR (2)'!F714","v":"Solucionado - Por traslado"},{"$f":"+'[5]para PQR (2)'!G714","v":"SECRETARIA MOVILIDAD"},{"$f":"+'[5]para PQR (2)'!H714","v":"GESTIONADO"}]
[null,{"$f":"+'[5]para PQR (2)'!B715","v":2579742022},{"$f":"+'[5]para PQR (2)'!C715","v":"AREA DE ATENCION A LA CIUDADANIA"},{"$f":"+'[5]para PQR (2)'!D715","v":"WEB"},{"$f":"+'[5]para PQR (2)'!E715","v":"QUEJA"},{"$f":"+'[5]para PQR (2)'!F715","v":"Solucionado - Por traslado"},{"$f":"+'[5]para PQR (2)'!G715","v":"SECRETARIA DE GOBIERNO"},{"$f":"+'[5]para PQR (2)'!H715","v":"GESTIONADO"}]
[null,{"$f":"+'[5]para PQR (2)'!B716","v":2582582022},{"$f":"+'[5]para PQR (2)'!C716","v":"AREA DE ATENCION A LA CIUDADANIA"},{"$f":"+'[5]para PQR (2)'!D716","v":"WEB"},{"$f":"+'[5]para PQR (2)'!E716","v":"DERECHO DE PETICION DE INTERES PARTICULAR"},{"$f":"+'[5]para PQR (2)'!F716","v":"Solucionado - Por traslado"},{"$f":"+'[5]para PQR (2)'!G716","v":"CVP - CAJA DE LA VIVIENDA POPULAR"},{"$f":"+'[5]para PQR (2)'!H716","v":"GESTIONADO"}]
[null,{"$f":"+'[5]para PQR (2)'!B717","v":2583582022},{"$f":"+'[5]para PQR (2)'!C717","v":"AREA DE ATENCION A LA CIUDADANIA"},{"$f":"+'[5]para PQR (2)'!D717","v":"TELEFONO"},{"$f":"+'[5]para PQR (2)'!E717","v":"DERECHO DE PETICION DE INTERES GENERAL"},{"$f":"+'[5]para PQR (2)'!F717","v":"Solucionado - Por traslado"},{"$f":"+'[5]para PQR (2)'!G717","v":"IDPYBA"},{"$f":"+'[5]para PQR (2)'!H717","v":"GESTIONADO"}]
[null,{"$f":"+'[5]para PQR (2)'!B718","v":2583952022},{"$f":"+'[5]para PQR (2)'!C718","v":"AREA DE ATENCION A LA CIUDADANIA"},{"$f":"+'[5]para PQR (2)'!D718","v":"WEB"},{"$f":"+'[5]para PQR (2)'!E718","v":"QUEJA"},{"$f":"+'[5]para PQR (2)'!F718","v":"Solucionado - Por traslado"},{"$f":"+'[5]para PQR (2)'!G718","v":"SECRETARIA DE AMBIENTE"},{"$f":"+'[5]para PQR (2)'!H718","v":"GESTIONADO"}]
[null,{"$f":"+'[5]para PQR (2)'!B719","v":2588542022},{"$f":"+'[5]para PQR (2)'!C719","v":"AREA DE ATENCION A LA CIUDADANIA"},{"$f":"+'[5]para PQR (2)'!D719","v":"TELEFONO"},{"$f":"+'[5]para PQR (2)'!E719","v":"RECLAMO"},{"$f":"+'[5]para PQR (2)'!F719","v":"Solucionado - Por traslado"},{"$f":"+'[5]para PQR (2)'!G719","v":"SECRETARIA DE GOBIERNO"},{"$f":"+'[5]para PQR (2)'!H719","v":"GESTIONADO"}]
[null,{"$f":"+'[5]para PQR (2)'!B720","v":2588692022},{"$f":"+'[5]para PQR (2)'!C720","v":"AREA DE ATENCION A LA CIUDADANIA"},{"$f":"+'[5]para PQR (2)'!D720","v":"TELEFONO"},{"$f":"+'[5]para PQR (2)'!E720","v":"DERECHO DE PETICION DE INTERES GENERAL"},{"$f":"+'[5]para PQR (2)'!F720","v":"Solucionado - Por traslado"},{"$f":"+'[5]para PQR (2)'!G720","v":"SECRETARIA MOVILIDAD"},{"$f":"+'[5]para PQR (2)'!H720","v":"GESTIONADO"}]
[null,{"$f":"+'[5]para PQR (2)'!B721","v":2589202022},{"$f":"+'[5]para PQR (2)'!C721","v":"AREA DE ATENCION A LA CIUDADANIA"},{"$f":"+'[5]para PQR (2)'!D721","v":"WEB"},{"$f":"+'[5]para PQR (2)'!E721","v":"DERECHO DE PETICION DE INTERES GENERAL"},{"$f":"+'[5]para PQR (2)'!F721","v":"Solucionado - Por traslado"},{"$f":"+'[5]para PQR (2)'!G721","v":"SECRETARIA MOVILIDAD"},{"$f":"+'[5]para PQR (2)'!H721","v":"GESTIONADO"}]
[null,{"$f":"+'[5]para PQR (2)'!B722","v":2593182022},{"$f":"+'[5]para PQR (2)'!C722","v":"SUBDIRECCION DE ADMINISTRACION INMOBILIARIA Y DE ESPACIO PUBLICO"},{"$f":"+'[5]para PQR (2)'!D722","v":"E-MAIL"},{"$f":"+'[5]para PQR (2)'!E722","v":"DERECHO DE PETICION DE INTERES GENERAL"},{"$f":"+'[5]para PQR (2)'!F722","v":"Solucionado - Por traslado"},{"$f":"+'[5]para PQR (2)'!G722","v":"SECRETARIA DE GOBIERNO"},{"$f":"+'[5]para PQR (2)'!H722","v":"GESTIONADO"}]
[null,{"$f":"+'[5]para PQR (2)'!B723","v":2595232022},{"$f":"+'[5]para PQR (2)'!C723","v":"AREA DE ATENCION A LA CIUDADANIA"},{"$f":"+'[5]para PQR (2)'!D723","v":"WEB"},{"$f":"+'[5]para PQR (2)'!E723","v":"RECLAMO"},{"$f":"+'[5]para PQR (2)'!F723","v":"Solucionado - Por traslado"},{"$f":"+'[5]para PQR (2)'!G723","v":"SECRETARIA DE GOBIERNO"},{"$f":"+'[5]para PQR (2)'!H723","v":"GESTIONADO"}]
[null,{"$f":"+'[5]para PQR (2)'!B724","v":2597172022},{"$f":"+'[5]para PQR (2)'!C724","v":"SUBDIRECCION DE ADMINISTRACION INMOBILIARIA Y DE ESPACIO PUBLICO"},{"$f":"+'[5]para PQR (2)'!D724","v":"ESCRITO"},{"$f":"+'[5]para PQR (2)'!E724","v":"DERECHO DE PETICION DE INTERES PARTICULAR"},{"$f":"+'[5]para PQR (2)'!F724","v":"Solucionado - Por traslado"},{"$f":"+'[5]para PQR (2)'!G724","v":"SECRETARIA DE GOBIERNO"},{"$f":"+'[5]para PQR (2)'!H724","v":"GESTIONADO"}]
[null,{"$f":"+'[5]para PQR (2)'!B725","v":2600162022},{"$f":"+'[5]para PQR (2)'!C725","v":"AREA DE ATENCION A LA CIUDADANIA"},{"$f":"+'[5]para PQR (2)'!D725","v":"TELEFONO"},{"$f":"+'[5]para PQR (2)'!E725","v":"RECLAMO"},{"$f":"+'[5]para PQR (2)'!F725","v":"Solucionado - Por traslado"},{"$f":"+'[5]para PQR (2)'!G725","v":"IPES"},{"$f":"+'[5]para PQR (2)'!H725","v":"GESTIONADO"}]
[null,{"$f":"+'[5]para PQR (2)'!B726","v":2600572022},{"$f":"+'[5]para PQR (2)'!C726","v":"AREA DE ATENCION A LA CIUDADANIA"},{"$f":"+'[5]para PQR (2)'!D726","v":"WEB"},{"$f":"+'[5]para PQR (2)'!E726","v":"DERECHO DE PETICION DE INTERES GENERAL"},{"$f":"+'[5]para PQR (2)'!F726","v":"Solucionado por asignar - Trasladar"},{"$f":"+'[5]para PQR (2)'!G726","v":"IDRD"},{"$f":"+'[5]para PQR (2)'!H726","v":"GESTIONADO"}]
[null,{"$f":"+'[5]para PQR (2)'!B727","v":2604722022},{"$f":"+'[5]para PQR (2)'!C727","v":"AREA DE ATENCION A LA CIUDADANIA"},{"$f":"+'[5]para PQR (2)'!D727","v":"WEB"},{"$f":"+'[5]para PQR (2)'!E727","v":"QUEJA"},{"$f":"+'[5]para PQR (2)'!F727","v":"Solucionado - Por traslado"},{"$f":"+'[5]para PQR (2)'!G727","v":"SECRETARIA DE GOBIERNO"},{"$f":"+'[5]para PQR (2)'!H727","v":"GESTIONADO"}]
[null,{"$f":"+'[5]para PQR (2)'!B728","v":2605542022},{"$f":"+'[5]para PQR (2)'!C728","v":"AREA DE ATENCION A LA CIUDADANIA"},{"$f":"+'[5]para PQR (2)'!D728","v":"WEB"},{"$f":"+'[5]para PQR (2)'!E728","v":"DERECHO DE PETICION DE INTERES GENERAL"},{"$f":"+'[5]para PQR (2)'!F728","v":"Solucionado - Por traslado"},{"$f":"+'[5]para PQR (2)'!G728","v":"IDPYBA"},{"$f":"+'[5]para PQR (2)'!H728","v":"GESTIONADO"}]
[null,{"$f":"+'[5]para PQR (2)'!B729","v":2608102022},{"$f":"+'[5]para PQR (2)'!C729","v":"AREA DE ATENCION A LA CIUDADANIA"},{"$f":"+'[5]para PQR (2)'!D729","v":"TELEFONO"},{"$f":"+'[5]para PQR (2)'!E729","v":"DERECHO DE PETICION DE INTERES GENERAL"},{"$f":"+'[5]para PQR (2)'!F729","v":"Solucionado - Por traslado"},{"$f":"+'[5]para PQR (2)'!G729","v":"SECRETARIA DE INTEGRACION SOCIAL"},{"$f":"+'[5]para PQR (2)'!H729","v":"GESTIONADO"}]
[null,{"$f":"+'[5]para PQR (2)'!B730","v":2609092022},{"$f":"+'[5]para PQR (2)'!C730","v":"SUBDIRECCION DE ADMINISTRACION INMOBILIARIA Y DE ESPACIO PUBLICO"},{"$f":"+'[5]para PQR (2)'!D730","v":"ESCRITO"},{"$f":"+'[5]para PQR (2)'!E730","v":"DERECHO DE PETICION DE INTERES PARTICULAR"},{"$f":"+'[5]para PQR (2)'!F730","v":"Solucionado - Por traslado"},{"$f":"+'[5]para PQR (2)'!G730","v":"UAESP"},{"$f":"+'[5]para PQR (2)'!H730","v":"GESTIONADO"}]
[null,{"$f":"+'[5]para PQR (2)'!B731","v":2610012022},{"$f":"+'[5]para PQR (2)'!C731","v":"AREA DE ATENCION A LA CIUDADANIA"},{"$f":"+'[5]para PQR (2)'!D731","v":"WEB"},{"$f":"+'[5]para PQR (2)'!E731","v":"DERECHO DE PETICION DE INTERES GENERAL"},{"$f":"+'[5]para PQR (2)'!F731","v":"Solucionado - Por traslado"},{"$f":"+'[5]para PQR (2)'!G731","v":"SECRETARIA DE INTEGRACION SOCIAL"},{"$f":"+'[5]para PQR (2)'!H731","v":"GESTIONADO"}]
[null,{"$f":"+'[5]para PQR (2)'!B732","v":2611232022},{"$f":"+'[5]para PQR (2)'!C732","v":"AREA DE ATENCION A LA CIUDADANIA"},{"$f":"+'[5]para PQR (2)'!D732","v":"TELEFONO"},{"$f":"+'[5]para PQR (2)'!E732","v":"DERECHO DE PETICION DE INTERES PARTICULAR"},{"$f":"+'[5]para PQR (2)'!F732","v":"Solucionado - Por traslado"},{"$f":"+'[5]para PQR (2)'!G732","v":"IPES"},{"$f":"+'[5]para PQR (2)'!H732","v":"GESTIONADO"}]
[null,{"$f":"+'[5]para PQR (2)'!B733","v":2611822022},{"$f":"+'[5]para PQR (2)'!C733","v":"AREA DE ATENCION A LA CIUDADANIA"},{"$f":"+'[5]para PQR (2)'!D733","v":"ESCRITO"},{"$f":"+'[5]para PQR (2)'!E733","v":"DERECHO DE PETICION DE INTERES PARTICULAR"},{"$f":"+'[5]para PQR (2)'!F733","v":"Solucionado - Por traslado"},{"$f":"+'[5]para PQR (2)'!G733","v":"UAESP"},{"$f":"+'[5]para PQR (2)'!H733","v":"GESTIONADO"}]
[null,{"$f":"+'[5]para PQR (2)'!B734","v":2612292022},{"$f":"+'[5]para PQR (2)'!C734","v":"AREA DE ATENCION A LA CIUDADANIA"},{"$f":"+'[5]para PQR (2)'!D734","v":"PRESENCIAL"},{"$f":"+'[5]para PQR (2)'!E734","v":"DERECHO DE PETICION DE INTERES GENERAL"},{"$f":"+'[5]para PQR (2)'!F734","v":"Solucionado - Por traslado"},{"$f":"+'[5]para PQR (2)'!G734","v":"SECRETARIA MOVILIDAD"},{"$f":"+'[5]para PQR (2)'!H734","v":"GESTIONADO"}]
[null,{"$f":"+'[5]para PQR (2)'!B735","v":2613922022},{"$f":"+'[5]para PQR (2)'!C735","v":"AREA DE ATENCION A LA CIUDADANIA"},{"$f":"+'[5]para PQR (2)'!D735","v":"WEB"},{"$f":"+'[5]para PQR (2)'!E735","v":"QUEJA"},{"$f":"+'[5]para PQR (2)'!F735","v":"Solucionado - Por traslado"},{"$f":"+'[5]para PQR (2)'!G735","v":"IPES"},{"$f":"+'[5]para PQR (2)'!H735","v":"GESTIONADO"}]
[null,{"$f":"+'[5]para PQR (2)'!B736","v":2614662022},{"$f":"+'[5]para PQR (2)'!C736","v":"SUBDIRECCION DE ADMINISTRACION INMOBILIARIA Y DE ESPACIO PUBLICO"},{"$f":"+'[5]para PQR (2)'!D736","v":"ESCRITO"},{"$f":"+'[5]para PQR (2)'!E736","v":"DERECHO DE PETICION DE INTERES PARTICULAR"},{"$f":"+'[5]para PQR (2)'!F736","v":"Solucionado - Por traslado"},{"$f":"+'[5]para PQR (2)'!G736","v":"SECRETARIA DE GOBIERNO"},{"$f":"+'[5]para PQR (2)'!H736","v":"GESTIONADO"}]
[null,{"$f":"+'[5]para PQR (2)'!B737","v":2618682022},{"$f":"+'[5]para PQR (2)'!C737","v":"AREA DE ATENCION A LA CIUDADANIA"},{"$f":"+'[5]para PQR (2)'!D737","v":"WEB"},{"$f":"+'[5]para PQR (2)'!E737","v":"QUEJA"},{"$f":"+'[5]para PQR (2)'!F737","v":"Solucionado - Por traslado"},{"$f":"+'[5]para PQR (2)'!G737","v":"IDU"},{"$f":"+'[5]para PQR (2)'!H737","v":"GESTIONADO"}]
[null,{"$f":"+'[5]para PQR (2)'!B738","v":2622082022},{"$f":"+'[5]para PQR (2)'!C738","v":"AREA DE ATENCION A LA CIUDADANIA"},{"$f":"+'[5]para PQR (2)'!D738","v":"WEB"},{"$f":"+'[5]para PQR (2)'!E738","v":"QUEJA"},{"$f":"+'[5]para PQR (2)'!F738","v":"Solucionado - Por traslado"},{"$f":"+'[5]para PQR (2)'!G738","v":"SECRETARIA MOVILIDAD"},{"$f":"+'[5]para PQR (2)'!H738","v":"GESTIONADO"}]
[null,{"$f":"+'[5]para PQR (2)'!B739","v":2622572022},{"$f":"+'[5]para PQR (2)'!C739","v":"AREA DE ATENCION A LA CIUDADANIA"},{"$f":"+'[5]para PQR (2)'!D739","v":"WEB"},{"$f":"+'[5]para PQR (2)'!E739","v":"DERECHO DE PETICION DE INTERES PARTICULAR"},{"$f":"+'[5]para PQR (2)'!F739","v":"Solucionado - Por traslado"},{"$f":"+'[5]para PQR (2)'!G739","v":"SECRETARIA DE GOBIERNO"},{"$f":"+'[5]para PQR (2)'!H739","v":"GESTIONADO"}]
[null,{"$f":"+'[5]para PQR (2)'!B740","v":2622632022},{"$f":"+'[5]para PQR (2)'!C740","v":"AREA DE ATENCION A LA CIUDADANIA"},{"$f":"+'[5]para PQR (2)'!D740","v":"WEB"},{"$f":"+'[5]para PQR (2)'!E740","v":"DERECHO DE PETICION DE INTERES PARTICULAR"},{"$f":"+'[5]para PQR (2)'!F740","v":"Solucionado - Por traslado"},{"$f":"+'[5]para PQR (2)'!G740","v":"SECRETARIA DE GOBIERNO"},{"$f":"+'[5]para PQR (2)'!H740","v":"GESTIONADO"}]
[null,{"$f":"+'[5]para PQR (2)'!B741","v":2622882022},{"$f":"+'[5]para PQR (2)'!C741","v":"AREA DE ATENCION A LA CIUDADANIA"},{"$f":"+'[5]para PQR (2)'!D741","v":"WEB"},{"$f":"+'[5]para PQR (2)'!E741","v":"QUEJA"},{"$f":"+'[5]para PQR (2)'!F741","v":"Solucionado - Por traslado"},{"$f":"+'[5]para PQR (2)'!G741","v":"SECRETARIA DE GOBIERNO"},{"$f":"+'[5]para PQR (2)'!H741","v":"GESTIONADO"}]
[null,{"$f":"+'[5]para PQR (2)'!B742","v":2623782022},{"$f":"+'[5]para PQR (2)'!C742","v":"AREA DE ATENCION A LA CIUDADANIA"},{"$f":"+'[5]para PQR (2)'!D742","v":"WEB"},{"$f":"+'[5]para PQR (2)'!E742","v":"QUEJA"},{"$f":"+'[5]para PQR (2)'!F742","v":"Solucionado - Por traslado"},{"$f":"+'[5]para PQR (2)'!G742","v":"CODENSA"},{"$f":"+'[5]para PQR (2)'!H742","v":"GESTIONADO"}]
[null,{"$f":"+'[5]para PQR (2)'!B743","v":2623852022},{"$f":"+'[5]para PQR (2)'!C743","v":"AREA DE ATENCION A LA CIUDADANIA"},{"$f":"+'[5]para PQR (2)'!D743","v":"WEB"},{"$f":"+'[5]para PQR (2)'!E743","v":"QUEJA"},{"$f":"+'[5]para PQR (2)'!F743","v":"Solucionado - Por traslado"},{"$f":"+'[5]para PQR (2)'!G743","v":"SECRETARIA DE GOBIERNO"},{"$f":"+'[5]para PQR (2)'!H743","v":"GESTIONADO"}]
[null,{"$f":"+'[5]para PQR (2)'!B744","v":2624012022},{"$f":"+'[5]para PQR (2)'!C744","v":"AREA DE ATENCION A LA CIUDADANIA"},{"$f":"+'[5]para PQR (2)'!D744","v":"WEB"},{"$f":"+'[5]para PQR (2)'!E744","v":"RECLAMO"},{"$f":"+'[5]para PQR (2)'!F744","v":"Solucionado - Por traslado"},{"$f":"+'[5]para PQR (2)'!G744","v":"SECRETARIA DE GOBIERNO"},{"$f":"+'[5]para PQR (2)'!H744","v":"GESTIONADO"}]
[null,{"$f":"+'[5]para PQR (2)'!B745","v":2624372022},{"$f":"+'[5]para PQR (2)'!C745","v":"AREA DE ATENCION A LA CIUDADANIA"},{"$f":"+'[5]para PQR (2)'!D745","v":"WEB"},{"$f":"+'[5]para PQR (2)'!E745","v":"QUEJA"},{"$f":"+'[5]para PQR (2)'!F745","v":"Solucionado - Por traslado"},{"$f":"+'[5]para PQR (2)'!G745","v":"SECRETARIA DE GOBIERNO"},{"$f":"+'[5]para PQR (2)'!H745","v":"GESTIONADO"}]
[null,{"$f":"+'[5]para PQR (2)'!B746","v":2624612022},{"$f":"+'[5]para PQR (2)'!C746","v":"AREA DE ATENCION A LA CIUDADANIA"},{"$f":"+'[5]para PQR (2)'!D746","v":"WEB"},{"$f":"+'[5]para PQR (2)'!E746","v":"QUEJA"},{"$f":"+'[5]para PQR (2)'!F746","v":"Solucionado - Por traslado"},{"$f":"+'[5]para PQR (2)'!G746","v":"SECRETARIA DE GOBIERNO"},{"$f":"+'[5]para PQR (2)'!H746","v":"GESTIONADO"}]
[null,{"$f":"+'[5]para PQR (2)'!B747","v":2625242022},{"$f":"+'[5]para PQR (2)'!C747","v":"AREA DE ATENCION A LA CIUDADANIA"},{"$f":"+'[5]para PQR (2)'!D747","v":"WEB"},{"$f":"+'[5]para PQR (2)'!E747","v":"DERECHO DE PETICION DE INTERES GENERAL"},{"$f":"+'[5]para PQR (2)'!F747","v":"Solucionado - Por traslado"},{"$f":"+'[5]para PQR (2)'!G747","v":"IDPYBA"},{"$f":"+'[5]para PQR (2)'!H747","v":"GESTIONADO"}]
[null,{"$f":"+'[5]para PQR (2)'!B748","v":2625882022},{"$f":"+'[5]para PQR (2)'!C748","v":"AREA DE ATENCION A LA CIUDADANIA"},{"$f":"+'[5]para PQR (2)'!D748","v":"WEB"},{"$f":"+'[5]para PQR (2)'!E748","v":"QUEJA"},{"$f":"+'[5]para PQR (2)'!F748","v":"Solucionado - Por traslado"},{"$f":"+'[5]para PQR (2)'!G748","v":"SECRETARIA DE AMBIENTE"},{"$f":"+'[5]para PQR (2)'!H748","v":"GESTIONADO"}]
[null,{"$f":"+'[5]para PQR (2)'!B749","v":2625952022},{"$f":"+'[5]para PQR (2)'!C749","v":"AREA DE ATENCION A LA CIUDADANIA"},{"$f":"+'[5]para PQR (2)'!D749","v":"WEB"},{"$f":"+'[5]para PQR (2)'!E749","v":"QUEJA"},{"$f":"+'[5]para PQR (2)'!F749","v":"Solucionado - Por traslado"},{"$f":"+'[5]para PQR (2)'!G749","v":"SECRETARIA DE AMBIENTE"},{"$f":"+'[5]para PQR (2)'!H749","v":"GESTIONADO"}]
[null,{"$f":"+'[5]para PQR (2)'!B750","v":2625992022},{"$f":"+'[5]para PQR (2)'!C750","v":"AREA DE ATENCION A LA CIUDADANIA"},{"$f":"+'[5]para PQR (2)'!D750","v":"WEB"},{"$f":"+'[5]para PQR (2)'!E750","v":"QUEJA"},{"$f":"+'[5]para PQR (2)'!F750","v":"Solucionado - Por traslado"},{"$f":"+'[5]para PQR (2)'!G750","v":"SECRETARIA DE AMBIENTE"},{"$f":"+'[5]para PQR (2)'!H750","v":"GESTIONADO"}]
[null,{"$f":"+'[5]para PQR (2)'!B751","v":2628782022},{"$f":"+'[5]para PQR (2)'!C751","v":"AREA DE ATENCION A LA CIUDADANIA"},{"$f":"+'[5]para PQR (2)'!D751","v":"ESCRITO"},{"$f":"+'[5]para PQR (2)'!E751","v":"DERECHO DE PETICION DE INTERES GENERAL"},{"$f":"+'[5]para PQR (2)'!F751","v":"Solucionado - Por traslado"},{"$f":"+'[5]para PQR (2)'!G751","v":"CODENSA"},{"$f":"+'[5]para PQR (2)'!H751","v":"GESTIONADO"}]
[null,{"$f":"+'[5]para PQR (2)'!B752","v":2629362022},{"$f":"+'[5]para PQR (2)'!C752","v":"AREA DE ATENCION A LA CIUDADANIA"},{"$f":"+'[5]para PQR (2)'!D752","v":"PRESENCIAL"},{"$f":"+'[5]para PQR (2)'!E752","v":"DERECHO DE PETICION DE INTERES PARTICULAR"},{"$f":"+'[5]para PQR (2)'!F752","v":"Solucionado - Por traslado"},{"$f":"+'[5]para PQR (2)'!G752","v":"PERSONERIA DE BOGOTA"},{"$f":"+'[5]para PQR (2)'!H752","v":"GESTIONADO"}]
[null,{"$f":"+'[5]para PQR (2)'!B753","v":2632572022},{"$f":"+'[5]para PQR (2)'!C753","v":"SUBDIRECCION DE ADMINISTRACION INMOBILIARIA Y DE ESPACIO PUBLICO"},{"$f":"+'[5]para PQR (2)'!D753","v":"ESCRITO"},{"$f":"+'[5]para PQR (2)'!E753","v":"DERECHO DE PETICION DE INTERES PARTICULAR"},{"$f":"+'[5]para PQR (2)'!F753","v":"Solucionado - Por traslado"},{"$f":"+'[5]para PQR (2)'!G753","v":"SECRETARIA DE GOBIERNO"},{"$f":"+'[5]para PQR (2)'!H753","v":"GESTIONADO"}]
[null,{"$f":"+'[5]para PQR (2)'!B754","v":2633122022},{"$f":"+'[5]para PQR (2)'!C754","v":"AREA DE ATENCION A LA CIUDADANIA"},{"$f":"+'[5]para PQR (2)'!D754","v":"WEB"},{"$f":"+'[5]para PQR (2)'!E754","v":"DERECHO DE PETICION DE INTERES GENERAL"},{"$f":"+'[5]para PQR (2)'!F754","v":"Solucionado - Por traslado"},{"$f":"+'[5]para PQR (2)'!G754","v":"SECRETARIA MOVILIDAD"},{"$f":"+'[5]para PQR (2)'!H754","v":"GESTIONADO"}]
[null,{"$f":"+'[5]para PQR (2)'!B755","v":2635752022},{"$f":"+'[5]para PQR (2)'!C755","v":"AREA DE ATENCION A LA CIUDADANIA"},{"$f":"+'[5]para PQR (2)'!D755","v":"WEB"},{"$f":"+'[5]para PQR (2)'!E755","v":"DERECHO DE PETICION DE INTERES GENERAL"},{"$f":"+'[5]para PQR (2)'!F755","v":"Solucionado - Por traslado"},{"$f":"+'[5]para PQR (2)'!G755","v":"SECRETARIA DE AMBIENTE"},{"$f":"+'[5]para PQR (2)'!H755","v":"GESTIONADO"}]
[null,{"$f":"+'[5]para PQR (2)'!B756","v":2636482022},{"$f":"+'[5]para PQR (2)'!C756","v":"AREA DE ATENCION A LA CIUDADANIA"},{"$f":"+'[5]para PQR (2)'!D756","v":"WEB"},{"$f":"+'[5]para PQR (2)'!E756","v":"DENUNCIA POR ACTOS DE CORRUPCION"},{"$f":"+'[5]para PQR (2)'!F756","v":"Solucionado - Por traslado"},{"$f":"+'[5]para PQR (2)'!G756","v":"SECRETARIA DE GOBIERNO"},{"$f":"+'[5]para PQR (2)'!H756","v":"GESTIONADO"}]
[null,{"$f":"+'[5]para PQR (2)'!B757","v":2637282022},{"$f":"+'[5]para PQR (2)'!C757","v":"SUBDIRECCION DE ADMINISTRACION INMOBILIARIA Y DE ESPACIO PUBLICO"},{"$f":"+'[5]para PQR (2)'!D757","v":"ESCRITO"},{"$f":"+'[5]para PQR (2)'!E757","v":"DERECHO DE PETICION DE INTERES PARTICULAR"},{"$f":"+'[5]para PQR (2)'!F757","v":"Solucionado - Por traslado"},{"$f":"+'[5]para PQR (2)'!G757","v":"IPES"},{"$f":"+'[5]para PQR (2)'!H757","v":"GESTIONADO"}]
[null,{"$f":"+'[5]para PQR (2)'!B758","v":2638432022},{"$f":"+'[5]para PQR (2)'!C758","v":"AREA DE ATENCION A LA CIUDADANIA"},{"$f":"+'[5]para PQR (2)'!D758","v":"E-MAIL"},{"$f":"+'[5]para PQR (2)'!E758","v":"DERECHO DE PETICION DE INTERES PARTICULAR"},{"$f":"+'[5]para PQR (2)'!F758","v":"Solucionado - Por traslado"},{"$f":"+'[5]para PQR (2)'!G758","v":"SECRETARIA DE PLANEACION"},{"$f":"+'[5]para PQR (2)'!H758","v":"GESTIONADO"}]
[null,{"$f":"+'[5]para PQR (2)'!B759","v":2638802022},{"$f":"+'[5]para PQR (2)'!C759","v":"AREA DE ATENCION A LA CIUDADANIA"},{"$f":"+'[5]para PQR (2)'!D759","v":"WEB"},{"$f":"+'[5]para PQR (2)'!E759","v":"DERECHO DE PETICION DE INTERES GENERAL"},{"$f":"+'[5]para PQR (2)'!F759","v":"Solucionado - Por traslado"},{"$f":"+'[5]para PQR (2)'!G759","v":"SECRETARIA DE AMBIENTE"},{"$f":"+'[5]para PQR (2)'!H759","v":"GESTIONADO"}]
[null,{"$f":"+'[5]para PQR (2)'!B760","v":2642812022},{"$f":"+'[5]para PQR (2)'!C760","v":"AREA DE ATENCION A LA CIUDADANIA"},{"$f":"+'[5]para PQR (2)'!D760","v":"WEB"},{"$f":"+'[5]para PQR (2)'!E760","v":"DERECHO DE PETICION DE INTERES GENERAL"},{"$f":"+'[5]para PQR (2)'!F760","v":"Solucionado - Por traslado"},{"$f":"+'[5]para PQR (2)'!G760","v":"SECRETARIA DE GOBIERNO"},{"$f":"+'[5]para PQR (2)'!H760","v":"GESTIONADO"}]
[null,{"$f":"+'[5]para PQR (2)'!B761","v":2642952022},{"$f":"+'[5]para PQR (2)'!C761","v":"AREA DE ATENCION A LA CIUDADANIA"},{"$f":"+'[5]para PQR (2)'!D761","v":"WEB"},{"$f":"+'[5]para PQR (2)'!E761","v":"DERECHO DE PETICION DE INTERES PARTICULAR"},{"$f":"+'[5]para PQR (2)'!F761","v":"Solucionado - Por traslado"},{"$f":"+'[5]para PQR (2)'!G761","v":"ACUEDUCTO - EAAB-ESP"},{"$f":"+'[5]para PQR (2)'!H761","v":"GESTIONADO"}]
[null,{"$f":"+'[5]para PQR (2)'!B762","v":2646702022},{"$f":"+'[5]para PQR (2)'!C762","v":"AREA DE ATENCION A LA CIUDADANIA"},{"$f":"+'[5]para PQR (2)'!D762","v":"WEB"},{"$f":"+'[5]para PQR (2)'!E762","v":"DERECHO DE PETICION DE INTERES GENERAL"},{"$f":"+'[5]para PQR (2)'!F762","v":"Solucionado - Por traslado"},{"$f":"+'[5]para PQR (2)'!G762","v":"SECRETARIA DE GOBIERNO"},{"$f":"+'[5]para PQR (2)'!H762","v":"GESTIONADO"}]
[null,{"$f":"+'[5]para PQR (2)'!B763","v":2653682022},{"$f":"+'[5]para PQR (2)'!C763","v":"AREA DE ATENCION A LA CIUDADANIA"},{"$f":"+'[5]para PQR (2)'!D763","v":"WEB"},{"$f":"+'[5]para PQR (2)'!E763","v":"QUEJA"},{"$f":"+'[5]para PQR (2)'!F763","v":"Solucionado - Por traslado"},{"$f":"+'[5]para PQR (2)'!G763","v":"SECRETARIA DE GOBIERNO"},{"$f":"+'[5]para PQR (2)'!H763","v":"GESTIONADO"}]
[null,{"$f":"+'[5]para PQR (2)'!B764","v":2658082022},{"$f":"+'[5]para PQR (2)'!C764","v":"AREA DE ATENCION A LA CIUDADANIA"},{"$f":"+'[5]para PQR (2)'!D764","v":"WEB"},{"$f":"+'[5]para PQR (2)'!E764","v":"DERECHO DE PETICION DE INTERES GENERAL"},{"$f":"+'[5]para PQR (2)'!F764","v":"Solucionado - Por traslado"},{"$f":"+'[5]para PQR (2)'!G764","v":"SECRETARIA DE GOBIERNO"},{"$f":"+'[5]para PQR (2)'!H764","v":"GESTIONADO"}]
[null,{"$f":"+'[5]para PQR (2)'!B765","v":2660732022},{"$f":"+'[5]para PQR (2)'!C765","v":"AREA DE ATENCION A LA CIUDADANIA"},{"$f":"+'[5]para PQR (2)'!D765","v":"TELEFONO"},{"$f":"+'[5]para PQR (2)'!E765","v":"DERECHO DE PETICION DE INTERES GENERAL"},{"$f":"+'[5]para PQR (2)'!F765","v":"Solucionado - Por traslado"},{"$f":"+'[5]para PQR (2)'!G765","v":"SECRETARIA DE SEGURIDAD"},{"$f":"+'[5]para PQR (2)'!H765","v":"GESTIONADO"}]
[null,{"$f":"+'[5]para PQR (2)'!B766","v":2663282022},{"$f":"+'[5]para PQR (2)'!C766","v":"AREA DE ATENCION A LA CIUDADANIA"},{"$f":"+'[5]para PQR (2)'!D766","v":"WEB"},{"$f":"+'[5]para PQR (2)'!E766","v":"DERECHO DE PETICION DE INTERES PARTICULAR"},{"$f":"+'[5]para PQR (2)'!F766","v":"Solucionado - Por traslado"},{"$f":"+'[5]para PQR (2)'!G766","v":"SECRETARIA DE GOBIERNO"},{"$f":"+'[5]para PQR (2)'!H766","v":"GESTIONADO"}]
[null,{"$f":"+'[5]para PQR (2)'!B767","v":2663402022},{"$f":"+'[5]para PQR (2)'!C767","v":"AREA DE ATENCION A LA CIUDADANIA"},{"$f":"+'[5]para PQR (2)'!D767","v":"TELEFONO"},{"$f":"+'[5]para PQR (2)'!E767","v":"DERECHO DE PETICION DE INTERES GENERAL"},{"$f":"+'[5]para PQR (2)'!F767","v":"Solucionado - Por traslado"},{"$f":"+'[5]para PQR (2)'!G767","v":"UAESP"},{"$f":"+'[5]para PQR (2)'!H767","v":"GESTIONADO"}]
[null,{"$f":"+'[5]para PQR (2)'!B768","v":2664272022},{"$f":"+'[5]para PQR (2)'!C768","v":"AREA DE ATENCION A LA CIUDADANIA"},{"$f":"+'[5]para PQR (2)'!D768","v":"WEB"},{"$f":"+'[5]para PQR (2)'!E768","v":"DERECHO DE PETICION DE INTERES PARTICULAR"},{"$f":"+'[5]para PQR (2)'!F768","v":"Solucionado - Por traslado"},{"$f":"+'[5]para PQR (2)'!G768","v":"IDRD"},{"$f":"+'[5]para PQR (2)'!H768","v":"GESTIONADO"}]
[null,{"$f":"+'[5]para PQR (2)'!B769","v":2664922022},{"$f":"+'[5]para PQR (2)'!C769","v":"AREA DE ATENCION A LA CIUDADANIA"},{"$f":"+'[5]para PQR (2)'!D769","v":"WEB"},{"$f":"+'[5]para PQR (2)'!E769","v":"QUEJA"},{"$f":"+'[5]para PQR (2)'!F769","v":"Solucionado - Por traslado"},{"$f":"+'[5]para PQR (2)'!G769","v":"IPES"},{"$f":"+'[5]para PQR (2)'!H769","v":"GESTIONADO"}]
[null,{"$f":"+'[5]para PQR (2)'!B770","v":2668222022},{"$f":"+'[5]para PQR (2)'!C770","v":"AREA DE ATENCION A LA CIUDADANIA"},{"$f":"+'[5]para PQR (2)'!D770","v":"WEB"},{"$f":"+'[5]para PQR (2)'!E770","v":"QUEJA"},{"$f":"+'[5]para PQR (2)'!F770","v":"Solucionado - Por traslado"},{"$f":"+'[5]para PQR (2)'!G770","v":"SECRETARIA DE AMBIENTE"},{"$f":"+'[5]para PQR (2)'!H770","v":"GESTIONADO"}]
[null,{"$f":"+'[5]para PQR (2)'!B771","v":2668362022},{"$f":"+'[5]para PQR (2)'!C771","v":"AREA DE ATENCION A LA CIUDADANIA"},{"$f":"+'[5]para PQR (2)'!D771","v":"WEB"},{"$f":"+'[5]para PQR (2)'!E771","v":"FELICITACION"},{"$f":"+'[5]para PQR (2)'!F771","v":"Solucionado - Por traslado"},{"$f":"+'[5]para PQR (2)'!G771","v":"SECRETARIA DE GOBIERNO"},{"$f":"+'[5]para PQR (2)'!H771","v":"GESTIONADO"}]
[null,{"$f":"+'[5]para PQR (2)'!B772","v":2668492022},{"$f":"+'[5]para PQR (2)'!C772","v":"AREA DE ATENCION A LA CIUDADANIA"},{"$f":"+'[5]para PQR (2)'!D772","v":"WEB"},{"$f":"+'[5]para PQR (2)'!E772","v":"QUEJA"},{"$f":"+'[5]para PQR (2)'!F772","v":"Solucionado - Por traslado"},{"$f":"+'[5]para PQR (2)'!G772","v":"SECRETARIA DE AMBIENTE"},{"$f":"+'[5]para PQR (2)'!H772","v":"GESTIONADO"}]
[null,{"$f":"+'[5]para PQR (2)'!B773","v":2668902022},{"$f":"+'[5]para PQR (2)'!C773","v":"AREA DE ATENCION A LA CIUDADANIA"},{"$f":"+'[5]para PQR (2)'!D773","v":"WEB"},{"$f":"+'[5]para PQR (2)'!E773","v":"QUEJA"},{"$f":"+'[5]para PQR (2)'!F773","v":"Solucionado - Por traslado"},{"$f":"+'[5]para PQR (2)'!G773","v":"SECRETARIA DE INTEGRACION SOCIAL"},{"$f":"+'[5]para PQR (2)'!H773","v":"GESTIONADO"}]
[null,{"$f":"+'[5]para PQR (2)'!B774","v":2669702022},{"$f":"+'[5]para PQR (2)'!C774","v":"AREA DE ATENCION A LA CIUDADANIA"},{"$f":"+'[5]para PQR (2)'!D774","v":"WEB"},{"$f":"+'[5]para PQR (2)'!E774","v":"QUEJA"},{"$f":"+'[5]para PQR (2)'!F774","v":"Solucionado - Por traslado"},{"$f":"+'[5]para PQR (2)'!G774","v":"SECRETARIA DE INTEGRACION SOCIAL"},{"$f":"+'[5]para PQR (2)'!H774","v":"GESTIONADO"}]
[null,{"$f":"+'[5]para PQR (2)'!B775","v":2670642022},{"$f":"+'[5]para PQR (2)'!C775","v":"AREA DE ATENCION A LA CIUDADANIA"},{"$f":"+'[5]para PQR (2)'!D775","v":"WEB"},{"$f":"+'[5]para PQR (2)'!E775","v":"DERECHO DE PETICION DE INTERES GENERAL"},{"$f":"+'[5]para PQR (2)'!F775","v":"Solucionado - Por traslado"},{"$f":"+'[5]para PQR (2)'!G775","v":"SECRETARIA DE GOBIERNO"},{"$f":"+'[5]para PQR (2)'!H775","v":"GESTIONADO"}]
[null,{"$f":"+'[5]para PQR (2)'!B776","v":2670852022},{"$f":"+'[5]para PQR (2)'!C776","v":"AREA DE ATENCION A LA CIUDADANIA"},{"$f":"+'[5]para PQR (2)'!D776","v":"WEB"},{"$f":"+'[5]para PQR (2)'!E776","v":"QUEJA"},{"$f":"+'[5]para PQR (2)'!F776","v":"Solucionado - Por traslado"},{"$f":"+'[5]para PQR (2)'!G776","v":"SECRETARIA DE GOBIERNO"},{"$f":"+'[5]para PQR (2)'!H776","v":"GESTIONADO"}]
[null,{"$f":"+'[5]para PQR (2)'!B777","v":2674112022},{"$f":"+'[5]para PQR (2)'!C777","v":"AREA DE ATENCION A LA CIUDADANIA"},{"$f":"+'[5]para PQR (2)'!D777","v":"WEB"},{"$f":"+'[5]para PQR (2)'!E777","v":"DERECHO DE PETICION DE INTERES GENERAL"},{"$f":"+'[5]para PQR (2)'!F777","v":"Solucionado - Por traslado"},{"$f":"+'[5]para PQR (2)'!G777","v":"SECRETARIA DE SALUD"},{"$f":"+'[5]para PQR (2)'!H777","v":"GESTIONADO"}]
[null,{"$f":"+'[5]para PQR (2)'!B778","v":2674432022},{"$f":"+'[5]para PQR (2)'!C778","v":"AREA DE ATENCION A LA CIUDADANIA"},{"$f":"+'[5]para PQR (2)'!D778","v":"WEB"},{"$f":"+'[5]para PQR (2)'!E778","v":"DERECHO DE PETICION DE INTERES GENERAL"},{"$f":"+'[5]para PQR (2)'!F778","v":"Solucionado - Por traslado"},{"$f":"+'[5]para PQR (2)'!G778","v":"SECRETARIA DE GOBIERNO"},{"$f":"+'[5]para PQR (2)'!H778","v":"GESTIONADO"}]
[null,{"$f":"+'[5]para PQR (2)'!B779","v":2679952022},{"$f":"+'[5]para PQR (2)'!C779","v":"AREA DE ATENCION A LA CIUDADANIA"},{"$f":"+'[5]para PQR (2)'!D779","v":"WEB"},{"$f":"+'[5]para PQR (2)'!E779","v":"DERECHO DE PETICION DE INTERES GENERAL"},{"$f":"+'[5]para PQR (2)'!F779","v":"Solucionado por asignar - Trasladar"},{"$f":"+'[5]para PQR (2)'!G779","v":"IDRD"},{"$f":"+'[5]para PQR (2)'!H779","v":"PENDIENTE"}]
[null,{"$f":"+'[5]para PQR (2)'!B780","v":2684392022},{"$f":"+'[5]para PQR (2)'!C780","v":"AREA DE ATENCION A LA CIUDADANIA"},{"$f":"+'[5]para PQR (2)'!D780","v":"WEB"},{"$f":"+'[5]para PQR (2)'!E780","v":"DERECHO DE PETICION DE INTERES PARTICULAR"},{"$f":"+'[5]para PQR (2)'!F780","v":"Solucionado por asignar - Trasladar"},{"$f":"+'[5]para PQR (2)'!G780","v":"IPES"},{"$f":"+'[5]para PQR (2)'!H780","v":"PENDIENTE"}]
[null,{"$f":"+'[5]para PQR (2)'!B781","v":2689262022},{"$f":"+'[5]para PQR (2)'!C781","v":"AREA DE ATENCION A LA CIUDADANIA"},{"$f":"+'[5]para PQR (2)'!D781","v":"WEB"},{"$f":"+'[5]para PQR (2)'!E781","v":"QUEJA"},{"$f":"+'[5]para PQR (2)'!F781","v":"Solucionado - Por traslado"},{"$f":"+'[5]para PQR (2)'!G781","v":"SECRETARIA DE GOBIERNO"},{"$f":"+'[5]para PQR (2)'!H781","v":"GESTIONADO"}]
[null,{"$f":"+'[5]para PQR (2)'!B782","v":2694742022},{"$f":"+'[5]para PQR (2)'!C782","v":"AREA DE ATENCION A LA CIUDADANIA"},{"$f":"+'[5]para PQR (2)'!D782","v":"WEB"},{"$f":"+'[5]para PQR (2)'!E782","v":"DERECHO DE PETICION DE INTERES GENERAL"},{"$f":"+'[5]para PQR (2)'!F782","v":"Solucionado por asignar - Trasladar"},{"$f":"+'[5]para PQR (2)'!G782","v":"SECRETARIA DE GOBIERNO"},{"$f":"+'[5]para PQR (2)'!H782","v":"PENDIENTE"}]
[null,{"$f":"+'[5]para PQR (2)'!B783","v":2696122022},{"$f":"+'[5]para PQR (2)'!C783","v":"AREA DE ATENCION A LA CIUDADANIA"},{"$f":"+'[5]para PQR (2)'!D783","v":"WEB"},{"$f":"+'[5]para PQR (2)'!E783","v":"DERECHO DE PETICION DE INTERES GENERAL"},{"$f":"+'[5]para PQR (2)'!F783","v":"Solucionado - Por traslado"},{"$f":"+'[5]para PQR (2)'!G783","v":"SECRETARIA DE GOBIERNO"},{"$f":"+'[5]para PQR (2)'!H783","v":"GESTIONADO"}]
[null,{"$f":"+'[5]para PQR (2)'!B784","v":2697742022},{"$f":"+'[5]para PQR (2)'!C784","v":"AREA DE ATENCION A LA CIUDADANIA"},{"$f":"+'[5]para PQR (2)'!D784","v":"WEB"},{"$f":"+'[5]para PQR (2)'!E784","v":"DERECHO DE PETICION DE INTERES GENERAL"},{"$f":"+'[5]para PQR (2)'!F784","v":"Solucionado - Por traslado"},{"$f":"+'[5]para PQR (2)'!G784","v":"SECRETARIA DE GOBIERNO"},{"$f":"+'[5]para PQR (2)'!H784","v":"GESTIONADO"}]
[null,{"$f":"+'[5]para PQR (2)'!B785","v":2698912022},{"$f":"+'[5]para PQR (2)'!C785","v":"AREA DE ATENCION A LA CIUDADANIA"},{"$f":"+'[5]para PQR (2)'!D785","v":"WEB"},{"$f":"+'[5]para PQR (2)'!E785","v":"DERECHO DE PETICION DE INTERES GENERAL"},{"$f":"+'[5]para PQR (2)'!F785","v":"Solucionado por asignar - Trasladar"},{"$f":"+'[5]para PQR (2)'!G785","v":"IDPAC"},{"$f":"+'[5]para PQR (2)'!H785","v":"PENDIENTE"}]
[null,{"$f":"+'[5]para PQR (2)'!B786","v":2699392022},{"$f":"+'[5]para PQR (2)'!C786","v":"AREA DE ATENCION A LA CIUDADANIA"},{"$f":"+'[5]para PQR (2)'!D786","v":"WEB"},{"$f":"+'[5]para PQR (2)'!E786","v":"QUEJA"},{"$f":"+'[5]para PQR (2)'!F786","v":"Solucionado - Por traslado"},{"$f":"+'[5]para PQR (2)'!G786","v":"SECRETARIA DE GOBIERNO"},{"$f":"+'[5]para PQR (2)'!H786","v":"GESTIONADO"}]
[null,{"$f":"+'[5]para PQR (2)'!B787","v":2699422022},{"$f":"+'[5]para PQR (2)'!C787","v":"AREA DE ATENCION A LA CIUDADANIA"},{"$f":"+'[5]para PQR (2)'!D787","v":"WEB"},{"$f":"+'[5]para PQR (2)'!E787","v":"RECLAMO"},{"$f":"+'[5]para PQR (2)'!F787","v":"Solucionado - Por traslado"},{"$f":"+'[5]para PQR (2)'!G787","v":"CODENSA"},{"$f":"+'[5]para PQR (2)'!H787","v":"GESTIONADO"}]
[null,{"$f":"+'[5]para PQR (2)'!B788","v":2699792022},{"$f":"+'[5]para PQR (2)'!C788","v":"AREA DE ATENCION A LA CIUDADANIA"},{"$f":"+'[5]para PQR (2)'!D788","v":"WEB"},{"$f":"+'[5]para PQR (2)'!E788","v":"DERECHO DE PETICION DE INTERES PARTICULAR"},{"$f":"+'[5]para PQR (2)'!F788","v":"Solucionado - Por traslado"},{"$f":"+'[5]para PQR (2)'!G788","v":"SECRETARIA DE GOBIERNO"},{"$f":"+'[5]para PQR (2)'!H788","v":"GESTIONADO"}]
[null,{"$f":"+'[5]para PQR (2)'!B789","v":2699842022},{"$f":"+'[5]para PQR (2)'!C789","v":"AREA DE ATENCION A LA CIUDADANIA"},{"$f":"+'[5]para PQR (2)'!D789","v":"WEB"},{"$f":"+'[5]para PQR (2)'!E789","v":"DERECHO DE PETICION DE INTERES PARTICULAR"},{"$f":"+'[5]para PQR (2)'!F789","v":"Solucionado - Por traslado"},{"$f":"+'[5]para PQR (2)'!G789","v":"SECRETARIA DE GOBIERNO"},{"$f":"+'[5]para PQR (2)'!H789","v":"GESTIONADO"}]
[null,{"$f":"+'[5]para PQR (2)'!B790","v":2700342022},{"$f":"+'[5]para PQR (2)'!C790","v":"AREA DE ATENCION A LA CIUDADANIA"},{"$f":"+'[5]para PQR (2)'!D790","v":"WEB"},{"$f":"+'[5]para PQR (2)'!E790","v":"QUEJA"},{"$f":"+'[5]para PQR (2)'!F790","v":"Solucionado - Por traslado"},{"$f":"+'[5]para PQR (2)'!G790","v":"SECRETARIA DE GOBIERNO"},{"$f":"+'[5]para PQR (2)'!H790","v":"GESTIONADO"}]
[null,{"$f":"+'[5]para PQR (2)'!B791","v":2701962022},{"$f":"+'[5]para PQR (2)'!C791","v":"AREA DE ATENCION A LA CIUDADANIA"},{"$f":"+'[5]para PQR (2)'!D791","v":"WEB"},{"$f":"+'[5]para PQR (2)'!E791","v":"DERECHO DE PETICION DE INTERES GENERAL"},{"$f":"+'[5]para PQR (2)'!F791","v":"Solucionado - Por traslado"},{"$f":"+'[5]para PQR (2)'!G791","v":"SECRETARIA DE GOBIERNO"},{"$f":"+'[5]para PQR (2)'!H791","v":"GESTIONADO"}]
[null,{"$f":"+'[5]para PQR (2)'!B792","v":2702742022},{"$f":"+'[5]para PQR (2)'!C792","v":"AREA DE ATENCION A LA CIUDADANIA"},{"$f":"+'[5]para PQR (2)'!D792","v":"WEB"},{"$f":"+'[5]para PQR (2)'!E792","v":"DERECHO DE PETICION DE INTERES PARTICULAR"},{"$f":"+'[5]para PQR (2)'!F792","v":"Solucionado - Por traslado"},{"$f":"+'[5]para PQR (2)'!G792","v":"SECRETARIA DE INTEGRACION SOCIAL"},{"$f":"+'[5]para PQR (2)'!H792","v":"GESTIONADO"}]
[null,{"$f":"+'[5]para PQR (2)'!B793","v":2705862022},{"$f":"+'[5]para PQR (2)'!C793","v":"AREA DE ATENCION A LA CIUDADANIA"},{"$f":"+'[5]para PQR (2)'!D793","v":"WEB"},{"$f":"+'[5]para PQR (2)'!E793","v":"DERECHO DE PETICION DE INTERES GENERAL"},{"$f":"+'[5]para PQR (2)'!F793","v":"Solucionado - Por traslado"},{"$f":"+'[5]para PQR (2)'!G793","v":"SECRETARIA DE GOBIERNO"},{"$f":"+'[5]para PQR (2)'!H793","v":"GESTIONADO"}]
[null,{"$f":"+'[5]para PQR (2)'!B794","v":2708582022},{"$f":"+'[5]para PQR (2)'!C794","v":"AREA DE ATENCION A LA CIUDADANIA"},{"$f":"+'[5]para PQR (2)'!D794","v":"WEB"},{"$f":"+'[5]para PQR (2)'!E794","v":"DERECHO DE PETICION DE INTERES GENERAL"},{"$f":"+'[5]para PQR (2)'!F794","v":"Solucionado por asignar - Trasladar"},{"$f":"+'[5]para PQR (2)'!G794","v":"SECRETARIA DE GOBIERNO"},{"$f":"+'[5]para PQR (2)'!H794","v":"PENDIENTE"}]
[null,{"$f":"+'[5]para PQR (2)'!B795","v":2709432022},{"$f":"+'[5]para PQR (2)'!C795","v":"AREA DE ATENCION A LA CIUDADANIA"},{"$f":"+'[5]para PQR (2)'!D795","v":"WEB"},{"$f":"+'[5]para PQR (2)'!E795","v":"SOLICITUD DE ACCESO A LA INFORMACION"},{"$f":"+'[5]para PQR (2)'!F795","v":"Solucionado - Por traslado"},{"$f":"+'[5]para PQR (2)'!G795","v":"CATASTRO"},{"$f":"+'[5]para PQR (2)'!H795","v":"GESTIONADO"}]
[null,{"$f":"+'[5]para PQR (2)'!B796","v":2713952022},{"$f":"+'[5]para PQR (2)'!C796","v":"OFICINA ASESORA JURIDICA"},{"$f":"+'[5]para PQR (2)'!D796","v":"E-MAIL"},{"$f":"+'[5]para PQR (2)'!E796","v":"DERECHO DE PETICION DE INTERES PARTICULAR"},{"$f":"+'[5]para PQR (2)'!F796","v":"Solucionado por asignar - Trasladar"},{"$f":"+'[5]para PQR (2)'!G796","v":"SECRETARIA DE PLANEACION"},{"$f":"+'[5]para PQR (2)'!H796","v":"PENDIENTE"}]
[null,{"$f":"+'[5]para PQR (2)'!B797","v":2715292022},{"$f":"+'[5]para PQR (2)'!C797","v":"AREA DE ATENCION A LA CIUDADANIA"},{"$f":"+'[5]para PQR (2)'!D797","v":"WEB"},{"$f":"+'[5]para PQR (2)'!E797","v":"CONSULTA"},{"$f":"+'[5]para PQR (2)'!F797","v":"Solucionado - Por traslado"},{"$f":"+'[5]para PQR (2)'!G797","v":"IPES"},{"$f":"+'[5]para PQR (2)'!H797","v":"GESTIONADO"}]
[null,{"$f":"+'[5]para PQR (2)'!B798","v":2716662022},{"$f":"+'[5]para PQR (2)'!C798","v":"AREA DE ATENCION A LA CIUDADANIA"},{"$f":"+'[5]para PQR (2)'!D798","v":"WEB"},{"$f":"+'[5]para PQR (2)'!E798","v":"DERECHO DE PETICION DE INTERES GENERAL"},{"$f":"+'[5]para PQR (2)'!F798","v":"Solucionado - Por traslado"},{"$f":"+'[5]para PQR (2)'!G798","v":"SECRETARIA DE GOBIERNO"},{"$f":"+'[5]para PQR (2)'!H798","v":"GESTIONADO"}]
[null,{"$f":"+'[5]para PQR (2)'!B799","v":2719882022},{"$f":"+'[5]para PQR (2)'!C799","v":"AREA DE ATENCION A LA CIUDADANIA"},{"$f":"+'[5]para PQR (2)'!D799","v":"TELEFONO"},{"$f":"+'[5]para PQR (2)'!E799","v":"DERECHO DE PETICION DE INTERES GENERAL"},{"$f":"+'[5]para PQR (2)'!F799","v":"Solucionado - Por traslado"},{"$f":"+'[5]para PQR (2)'!G799","v":"SECRETARIA DE INTEGRACION SOCIAL"},{"$f":"+'[5]para PQR (2)'!H799","v":"GESTIONADO"}]
[null,{"$f":"+'[5]para PQR (2)'!B800","v":2729322022},{"$f":"+'[5]para PQR (2)'!C800","v":"AREA DE ATENCION A LA CIUDADANIA"},{"$f":"+'[5]para PQR (2)'!D800","v":"WEB"},{"$f":"+'[5]para PQR (2)'!E800","v":"DERECHO DE PETICION DE INTERES GENERAL"},{"$f":"+'[5]para PQR (2)'!F800","v":"Solucionado - Por traslado"},{"$f":"+'[5]para PQR (2)'!G800","v":"SECRETARIA DE GOBIERNO"},{"$f":"+'[5]para PQR (2)'!H800","v":"GESTIONADO"}]
[null,{"$f":"+'[5]para PQR (2)'!B801","v":2731812022},{"$f":"+'[5]para PQR (2)'!C801","v":"AREA DE ATENCION A LA CIUDADANIA"},{"$f":"+'[5]para PQR (2)'!D801","v":"WEB"},{"$f":"+'[5]para PQR (2)'!E801","v":"DERECHO DE PETICION DE INTERES GENERAL"},{"$f":"+'[5]para PQR (2)'!F801","v":"Solucionado - Por traslado"},{"$f":"+'[5]para PQR (2)'!G801","v":"SECRETARIA MOVILIDAD"},{"$f":"+'[5]para PQR (2)'!H801","v":"GESTIONADO"}]
[null,{"$f":"+'[5]para PQR (2)'!B802","v":2735832022},{"$f":"+'[5]para PQR (2)'!C802","v":"AREA DE ATENCION A LA CIUDADANIA"},{"$f":"+'[5]para PQR (2)'!D802","v":"E-MAIL"},{"$f":"+'[5]para PQR (2)'!E802","v":"DERECHO DE PETICION DE INTERES GENERAL"},{"$f":"+'[5]para PQR (2)'!F802","v":"Solucionado - Por traslado"},{"$f":"+'[5]para PQR (2)'!G802","v":"IPES"},{"$f":"+'[5]para PQR (2)'!H802","v":"GESTIONADO"}]
[null,{"$f":"+'[5]para PQR (2)'!B803","v":2738732022},{"$f":"+'[5]para PQR (2)'!C803","v":"AREA DE ATENCION A LA CIUDADANIA"},{"$f":"+'[5]para PQR (2)'!D803","v":"WEB"},{"$f":"+'[5]para PQR (2)'!E803","v":"DERECHO DE PETICION DE INTERES PARTICULAR"},{"$f":"+'[5]para PQR (2)'!F803","v":"Solucionado - Por traslado"},{"$f":"+'[5]para PQR (2)'!G803","v":"SECRETARIA MOVILIDAD"},{"$f":"+'[5]para PQR (2)'!H803","v":"GESTIONADO"}]
[null,{"$f":"+'[5]para PQR (2)'!B804","v":2738872022},{"$f":"+'[5]para PQR (2)'!C804","v":"AREA DE ATENCION A LA CIUDADANIA"},{"$f":"+'[5]para PQR (2)'!D804","v":"WEB"},{"$f":"+'[5]para PQR (2)'!E804","v":"DERECHO DE PETICION DE INTERES PARTICULAR"},{"$f":"+'[5]para PQR (2)'!F804","v":"Solucionado por asignar - Trasladar"},{"$f":"+'[5]para PQR (2)'!G804","v":"IDRD"},{"$f":"+'[5]para PQR (2)'!H804","v":"PENDIENTE"}]
[null,{"$f":"+'[5]para PQR (2)'!B805","v":2740072022},{"$f":"+'[5]para PQR (2)'!C805","v":"AREA DE ATENCION A LA CIUDADANIA"},{"$f":"+'[5]para PQR (2)'!D805","v":"WEB"},{"$f":"+'[5]para PQR (2)'!E805","v":"DERECHO DE PETICION DE INTERES GENERAL"},{"$f":"+'[5]para PQR (2)'!F805","v":"Solucionado por asignar - Trasladar"},{"$f":"+'[5]para PQR (2)'!G805","v":"SECRETARIA DE GOBIERNO"},{"$f":"+'[5]para PQR (2)'!H805","v":"PENDIENTE"}]
[null,{"$f":"+'[5]para PQR (2)'!B806","v":2742832022},{"$f":"+'[5]para PQR (2)'!C806","v":"AREA DE ATENCION A LA CIUDADANIA"},{"$f":"+'[5]para PQR (2)'!D806","v":"WEB"},{"$f":"+'[5]para PQR (2)'!E806","v":"DERECHO DE PETICION DE INTERES GENERAL"},{"$f":"+'[5]para PQR (2)'!F806","v":"Solucionado - Por traslado"},{"$f":"+'[5]para PQR (2)'!G806","v":"SECRETARIA DE GOBIERNO"},{"$f":"+'[5]para PQR (2)'!H806","v":"GESTIONADO"}]
[null,{"$f":"+'[5]para PQR (2)'!B807","v":2753382022},{"$f":"+'[5]para PQR (2)'!C807","v":"AREA DE ATENCION A LA CIUDADANIA"},{"$f":"+'[5]para PQR (2)'!D807","v":"WEB"},{"$f":"+'[5]para PQR (2)'!E807","v":"DERECHO DE PETICION DE INTERES GENERAL"},{"$f":"+'[5]para PQR (2)'!F807","v":"Solucionado por asignar - Trasladar"},{"$f":"+'[5]para PQR (2)'!G807","v":"SECRETARIA DE GOBIERNO"},{"$f":"+'[5]para PQR (2)'!H807","v":"PENDIENTE"}]
[null,{"$f":"+'[5]para PQR (2)'!B808","v":2757162022},{"$f":"+'[5]para PQR (2)'!C808","v":"AREA DE ATENCION A LA CIUDADANIA"},{"$f":"+'[5]para PQR (2)'!D808","v":"WEB"},{"$f":"+'[5]para PQR (2)'!E808","v":"QUEJA"},{"$f":"+'[5]para PQR (2)'!F808","v":"Solucionado - Por traslado"},{"$f":"+'[5]para PQR (2)'!G808","v":"SECRETARIA DE GOBIERNO"},{"$f":"+'[5]para PQR (2)'!H808","v":"GESTIONADO"}]
[null,{"$f":"+'[5]para PQR (2)'!B809","v":2758682022},{"$f":"+'[5]para PQR (2)'!C809","v":"AREA DE ATENCION A LA CIUDADANIA"},{"$f":"+'[5]para PQR (2)'!D809","v":"WEB"},{"$f":"+'[5]para PQR (2)'!E809","v":"DERECHO DE PETICION DE INTERES GENERAL"},{"$f":"+'[5]para PQR (2)'!F809","v":"Solucionado - Por traslado"},{"$f":"+'[5]para PQR (2)'!G809","v":"SECRETARIA DE GOBIERNO"},{"$f":"+'[5]para PQR (2)'!H809","v":"GESTIONADO"}]
[null,{"$f":"+'[5]para PQR (2)'!B810","v":2758922022},{"$f":"+'[5]para PQR (2)'!C810","v":"AREA DE ATENCION A LA CIUDADANIA"},{"$f":"+'[5]para PQR (2)'!D810","v":"WEB"},{"$f":"+'[5]para PQR (2)'!E810","v":"DERECHO DE PETICION DE INTERES GENERAL"},{"$f":"+'[5]para PQR (2)'!F810","v":"Solucionado - Por traslado"},{"$f":"+'[5]para PQR (2)'!G810","v":"SECRETARIA MOVILIDAD"},{"$f":"+'[5]para PQR (2)'!H810","v":"GESTIONADO"}]
[null,{"$f":"+'[5]para PQR (2)'!B811","v":2759562022},{"$f":"+'[5]para PQR (2)'!C811","v":"AREA DE ATENCION A LA CIUDADANIA"},{"$f":"+'[5]para PQR (2)'!D811","v":"WEB"},{"$f":"+'[5]para PQR (2)'!E811","v":"DERECHO DE PETICION DE INTERES GENERAL"},{"$f":"+'[5]para PQR (2)'!F811","v":"Solucionado - Por traslado"},{"$f":"+'[5]para PQR (2)'!G811","v":"SECRETARIA DE GOBIERNO"},{"$f":"+'[5]para PQR (2)'!H811","v":"GESTIONADO"}]
[null,{"$f":"+'[5]para PQR (2)'!B812","v":2761962022},{"$f":"+'[5]para PQR (2)'!C812","v":"AREA DE ATENCION A LA CIUDADANIA"},{"$f":"+'[5]para PQR (2)'!D812","v":"WEB"},{"$f":"+'[5]para PQR (2)'!E812","v":"QUEJA"},{"$f":"+'[5]para PQR (2)'!F812","v":"Solucionado - Por traslado"},{"$f":"+'[5]para PQR (2)'!G812","v":"SECRETARIA DE GOBIERNO"},{"$f":"+'[5]para PQR (2)'!H812","v":"GESTIONADO"}]
[null,{"$f":"+'[5]para PQR (2)'!B813","v":2762202022},{"$f":"+'[5]para PQR (2)'!C813","v":"AREA DE ATENCION A LA CIUDADANIA"},{"$f":"+'[5]para PQR (2)'!D813","v":"TELEFONO"},{"$f":"+'[5]para PQR (2)'!E813","v":"DERECHO DE PETICION DE INTERES GENERAL"},{"$f":"+'[5]para PQR (2)'!F813","v":"Solucionado - Por traslado"},{"$f":"+'[5]para PQR (2)'!G813","v":"IDRD"},{"$f":"+'[5]para PQR (2)'!H813","v":"GESTIONADO"}]
[null,{"$f":"+'[5]para PQR (2)'!B814","v":2762712022},{"$f":"+'[5]para PQR (2)'!C814","v":"AREA DE ATENCION A LA CIUDADANIA"},{"$f":"+'[5]para PQR (2)'!D814","v":"WEB"},{"$f":"+'[5]para PQR (2)'!E814","v":"QUEJA"},{"$f":"+'[5]para PQR (2)'!F814","v":"Solucionado - Por traslado"},{"$f":"+'[5]para PQR (2)'!G814","v":"SECRETARIA DE GOBIERNO"},{"$f":"+'[5]para PQR (2)'!H814","v":"GESTIONADO"}]
[null,{"$f":"+'[5]para PQR (2)'!B815","v":2764502022},{"$f":"+'[5]para PQR (2)'!C815","v":"AREA DE ATENCION A LA CIUDADANIA"},{"$f":"+'[5]para PQR (2)'!D815","v":"WEB"},{"$f":"+'[5]para PQR (2)'!E815","v":"DERECHO DE PETICION DE INTERES PARTICULAR"},{"$f":"+'[5]para PQR (2)'!F815","v":"Solucionado - Por traslado"},{"$f":"+'[5]para PQR (2)'!G815","v":"SECRETARIA DE GOBIERNO"},{"$f":"+'[5]para PQR (2)'!H815","v":"GESTIONADO"}]
[null,{"$f":"+'[5]para PQR (2)'!B816","v":2767712022},{"$f":"+'[5]para PQR (2)'!C816","v":"AREA DE ATENCION A LA CIUDADANIA"},{"$f":"+'[5]para PQR (2)'!D816","v":"E-MAIL"},{"$f":"+'[5]para PQR (2)'!E816","v":"DERECHO DE PETICION DE INTERES PARTICULAR"},{"$f":"+'[5]para PQR (2)'!F816","v":"Solucionado - Por traslado"},{"$f":"+'[5]para PQR (2)'!G816","v":"IPES"},{"$f":"+'[5]para PQR (2)'!H816","v":"GESTIONADO"}]
[null,{"$f":"+'[5]para PQR (2)'!B817","v":2771322022},{"$f":"+'[5]para PQR (2)'!C817","v":"AREA DE ATENCION A LA CIUDADANIA"},{"$f":"+'[5]para PQR (2)'!D817","v":"WEB"},{"$f":"+'[5]para PQR (2)'!E817","v":"DERECHO DE PETICION DE INTERES GENERAL"},{"$f":"+'[5]para PQR (2)'!F817","v":"Solucionado - Por traslado"},{"$f":"+'[5]para PQR (2)'!G817","v":"IPES"},{"$f":"+'[5]para PQR (2)'!H817","v":"GESTIONADO"}]
[null,{"$f":"+'[5]para PQR (2)'!B818","v":2772152022},{"$f":"+'[5]para PQR (2)'!C818","v":"AREA DE ATENCION A LA CIUDADANIA"},{"$f":"+'[5]para PQR (2)'!D818","v":"WEB"},{"$f":"+'[5]para PQR (2)'!E818","v":"DERECHO DE PETICION DE INTERES GENERAL"},{"$f":"+'[5]para PQR (2)'!F818","v":"Solucionado por asignar - Trasladar"},{"$f":"+'[5]para PQR (2)'!G818","v":"SECRETARIA DE GOBIERNO"},{"$f":"+'[5]para PQR (2)'!H818","v":"PENDIENTE"}]
[null,{"$f":"+'[5]para PQR (2)'!B819","v":2773112022},{"$f":"+'[5]para PQR (2)'!C819","v":"AREA DE ATENCION A LA CIUDADANIA"},{"$f":"+'[5]para PQR (2)'!D819","v":"WEB"},{"$f":"+'[5]para PQR (2)'!E819","v":"DERECHO DE PETICION DE INTERES PARTICULAR"},{"$f":"+'[5]para PQR (2)'!F819","v":"Solucionado - Por traslado"},{"$f":"+'[5]para PQR (2)'!G819","v":"SECRETARIA DE GOBIERNO"},{"$f":"+'[5]para PQR (2)'!H819","v":"GESTIONADO"}]

{"sheet":"Asignadas a dependencias","index":4,"n_rows":17,"n_cols":4,"rows_kept":17,"cut":false,"hidden":false,"merged":[[16,1,28,3],[9,1,14,2],[10,3,14,4]]}
[]
[]
[]
[]
[]
[]
[]
[]
[]
[null,"REPORTE  GESTIÓN DE PETICIONES\n\nFecha:   2022- 06- 01    a   2022 - 06 - 30\nEstado de Petición:  Al Periodo"]
[null,null,null,"\n"]
[]
[]
[]
[]
[]
[null,"El tiempo promedio de respuesta general según el Decreto 491 de 2020  de las dependencias y/o áreas de la Defensoría del Espacio Público fue de 13 días como se observa en la tabla, sin embargo la Subdirección Administrativa Financiera y de Control Disciplinario respondío una Denuncia por actos de corrupción cuatro días despues de los terminos de ley  ya que para este tipo de solicitud el tiempo de respuesta es de 30 días y la Subdirección de Administración Inmobiliaria y de Espacio Público respondio una solicitud de copia 2 días después de los terminos de ley, ya que para este tipo de solicitud el tiempo de respuesta es de 20 días."]

{"sheet":"Peticiones asignadas a la entid","index":5,"n_rows":225,"n_cols":7,"rows_kept":225,"cut":false,"hidden":false,"merged":[[9,1,15,2],[12,3,14,4]]}
[]
[]
[]
[]
[]
[]
[]
[]
[]
[null,"REPORTE  GESTIÓN DE PETICIONES\n\nFecha:   2022- 07- 01    a   2022 - 07 - 31\nEstado de Petición:  Al Periodo"]
[]
[]
[]
[]
[]
[]
[]
[]
[null,"Número petición\nNumero de registro en el Sistema","Dependencia:\nNombre asociado al usuario que tiene a cargo la petición ","Canal:\nNombre del canal parametrizado en el sistema por el cual fue registrada la petición","Tipología actualizada: \nTipo de documento utilizado por la entidad","Días gestión\nDías calendario transcurridos desde la fecha de inicio de términos hasta el último día del mes","Estado del Requerimiento\n \"Gestionado\" o \"Pendiente\" de respuesta definitiva por  parte de la Defensoría del Espacio Público o de las entidades competentes"]
[null,{"$f":"+'[5]para PQR (2)'!B1020","v":2344002022},{"$f":"+'[5]para PQR (2)'!C1020","v":"DESPACHO"},{"$f":"+'[5]para PQR (2)'!D1020","v":"E-MAIL"},{"$f":"+'[5]para PQR (2)'!E1020","v":"DERECHO DE PETICION DE INTERES PARTICULAR"},{"$f":"+'[5]para PQR (2)'!F1020","v":1},{"$f":"+'[5]para PQR (2)'!G1020","v":"GESTIONADO"}]
[null,{"$f":"+'[5]para PQR (2)'!B1021","v":2713952022},{"$f":"+'[5]para PQR (2)'!C1021","v":"OFICINA ASESORA JURIDICA"},{"$f":"+'[5]para PQR (2)'!D1021","v":"E-MAIL"},{"$f":"+'[5]para PQR (2)'!E1021","v":"DERECHO DE PETICION DE INTERES PARTICULAR"},{"$f":"+'[5]para PQR (2)'!F1021","v":5},{"$f":"+'[5]para PQR (2)'!G1021","v":"PENDIENTE"}]
[null,{"$f":"+'[5]para PQR (2)'!B1022","v":2460832022},{"$f":"+'[5]para PQR (2)'!C1022","v":"SUBDIRECCION ADMINISTRATIVA  FINANCIERA Y DE CONTROL DISCIPLINARIO"},{"$f":"+'[5]para PQR (2)'!D1022","v":"WEB"},{"$f":"+'[5]para PQR (2)'!E1022","v":"DERECHO DE PETICION DE INTERES GENERAL"},{"$f":"+'[5]para PQR (2)'!F1022","v":1},{"$f":"+'[5]para PQR (2)'!G1022","v":"GESTIONADO"}]
[null,{"$f":"+'[5]para PQR (2)'!B1023","v":2471792022},{"$f":"+'[5]para PQR (2)'!C1023","v":"SUBDIRECCION ADMINISTRATIVA  FINANCIERA Y DE CONTROL DISCIPLINARIO"},{"$f":"+'[5]para PQR (2)'!D1023","v":"WEB"},{"$f":"+'[5]para PQR (2)'!E1023","v":"DENUNCIA POR ACTOS DE CORRUPCION"},{"$f":"+'[5]para PQR (2)'!F1023","v":1},{"$f":"+'[5]para PQR (2)'!G1023","v":"GESTIONADO"}]
[null,{"$f":"+'[5]para PQR (2)'!B1024","v":2505662022},{"$f":"+'[5]para PQR (2)'!C1024","v":"SUBDIRECCION ADMINISTRATIVA  FINANCIERA Y DE CONTROL DISCIPLINARIO"},{"$f":"+'[5]para PQR (2)'!D1024","v":"WEB"},{"$f":"+'[5]para PQR (2)'!E1024","v":"DERECHO DE PETICION DE INTERES GENERAL"},{"$f":"+'[5]para PQR (2)'!F1024","v":1},{"$f":"+'[5]para PQR (2)'!G1024","v":"GESTIONADO"}]
[null,{"$f":"+'[5]para PQR (2)'!B1025","v":2596902022},{"$f":"+'[5]para PQR (2)'!C1025","v":"SUBDIRECCION ADMINISTRATIVA  FINANCIERA Y DE CONTROL DISCIPLINARIO"},{"$f":"+'[5]para PQR (2)'!D1025","v":"ESCRITO"},{"$f":"+'[5]para PQR (2)'!E1025","v":"DERECHO DE PETICION DE INTERES PARTICULAR"},{"$f":"+'[5]para PQR (2)'!F1025","v":7},{"$f":"+'[5]para PQR (2)'!G1025","v":"PENDIENTE"}]
[null,{"$f":"+'[5]para PQR (2)'!B1026","v":2636482022},{"$f":"+'[5]para PQR (2)'!C1026","v":"SUBDIRECCION ADMINISTRATIVA  FINANCIERA Y DE CONTROL DISCIPLINARIO"},{"$f":"+'[5]para PQR (2)'!D1026","v":"WEB"},{"$f":"+'[5]para PQR (2)'!E1026","v":"DENUNCIA POR ACTOS DE CORRUPCION"},{"$f":"+'[5]para PQR (2)'!F1026","v":1},{"$f":"+'[5]para PQR (2)'!G1026","v":"GESTIONADO"}]
[null,{"$f":"+'[5]para PQR (2)'!B1027","v":2742832022},{"$f":"+'[5]para PQR (2)'!C1027","v":"SUBDIRECCION ADMINISTRATIVA  FINANCIERA Y DE CONTROL DISCIPLINARIO"},{"$f":"+'[5]para PQR (2)'!D1027","v":"WEB"},{"$f":"+'[5]para PQR (2)'!E1027","v":"DERECHO DE PETICION DE INTERES GENERAL"},{"$f":"+'[5]para PQR (2)'!F1027","v":1},{"$f":"+'[5]para PQR (2)'!G1027","v":"GESTIONADO"}]
[null,{"$f":"+'[5]para PQR (2)'!B1028","v":2596902022},{"$f":"+'[5]para PQR (2)'!C1028","v":"SUBDIRECCION ADMINISTRATIVA  FINANCIERA Y DE CONTROL DISCIPLINARIO"},{"$f":"+'[5]para PQR (2)'!D1028","v":"ESCRITO"},{"$f":"+'[5]para PQR (2)'!E1028","v":"DERECHO DE PETICION DE INTERES PARTICULAR"},{"$f":"+'[5]para PQR (2)'!F1028","v":7},{"$f":"+'[5]para PQR (2)'!G1028","v":"PENDIENTE"}]
[null,{"$f":"+'[5]para PQR (2)'!B1029","v":2641342022},{"$f":"+'[5]para PQR (2)'!C1029","v":"SUBDIRECCION ADMINISTRATIVA Y FINANCIERA"},{"$f":"+'[5]para PQR (2)'!D1029","v":"E-MAIL"},{"$f":"+'[5]para PQR (2)'!E1029","v":"DERECHO DE PETICION DE INTERES PARTICULAR"},{"$f":"+'[5]para PQR (2)'!F1029","v":6},{"$f":"+'[5]para PQR (2)'!G1029","v":"PENDIENTE"}]
[null,{"$f":"+'[5]para PQR (2)'!B1030","v":2337732022},{"$f":"+'[5]para PQR (2)'!C1030","v":"SUBDIRECCION DE ADMINISTRACION INMOBILIARIA Y DE ESPACIO PUBLICO"},{"$f":"+'[5]para PQR (2)'!D1030","v":"E-MAIL"},{"$f":"+'[5]para PQR (2)'!E1030","v":"DERECHO DE PETICION DE INTERES PARTICULAR"},{"$f":"+'[5]para PQR (2)'!F1030","v":15},{"$f":"+'[5]para PQR (2)'!G1030","v":"GESTIONADO"}]
[null,{"$f":"+'[5]para PQR (2)'!B1031","v":2344002022},{"$f":"+'[5]para PQR (2)'!C1031","v":"DESPACHO"},{"$f":"+'[5]para PQR (2)'!D1031","v":"E-MAIL"},{"$f":"+'[5]para PQR (2)'!E1031","v":"DERECHO DE PETICION DE INTERES PARTICULAR"},{"$f":"+'[5]para PQR (2)'!F1031","v":1},{"$f":"+'[5]para PQR (2)'!G1031","v":"GESTIONADO"}]
[null,{"$f":"+'[5]para PQR (2)'!B1032","v":2408182022},{"$f":"+'[5]para PQR (2)'!C1032","v":"SUBDIRECCION DE ADMINISTRACION INMOBILIARIA Y DE ESPACIO PUBLICO"},{"$f":"+'[5]para PQR (2)'!D1032","v":"E-MAIL"},{"$f":"+'[5]para PQR (2)'!E1032","v":"DERECHO DE PETICION DE INTERES PARTICULAR"},{"$f":"+'[5]para PQR (2)'!F1032","v":15},{"$f":"+'[5]para PQR (2)'!G1032","v":"GESTIONADO"}]
[null,{"$f":"+'[5]para PQR (2)'!B1033","v":2459992022},{"$f":"+'[5]para PQR (2)'!C1033","v":"SUBDIRECCION DE ADMINISTRACION INMOBILIARIA Y DE ESPACIO PUBLICO"},{"$f":"+'[5]para PQR (2)'!D1033","v":"E-MAIL"},{"$f":"+'[5]para PQR (2)'!E1033","v":"DERECHO DE PETICION DE INTERES PARTICULAR"},{"$f":"+'[5]para PQR (2)'!F1033","v":14},{"$f":"+'[5]para PQR (2)'!G1033","v":"GESTIONADO"}]
[null,{"$f":"+'[5]para PQR (2)'!B1034","v":2460272022},{"$f":"+'[5]para PQR (2)'!C1034","v":"SUBDIRECCION DE ADMINISTRACION INMOBILIARIA Y DE ESPACIO PUBLICO"},{"$f":"+'[5]para PQR (2)'!D1034","v":"E-MAIL"},{"$f":"+'[5]para PQR (2)'!E1034","v":"DERECHO DE PETICION DE INTERES PARTICULAR"},{"$f":"+'[5]para PQR (2)'!F1034","v":14},{"$f":"+'[5]para PQR (2)'!G1034","v":"GESTIONADO"}]
[null,{"$f":"+'[5]para PQR (2)'!B1035","v":2460492022},{"$f":"+'[5]para PQR (2)'!C1035","v":"SUBDIRECCION DE ADMINISTRACION INMOBILIARIA Y DE ESPACIO PUBLICO"},{"$f":"+'[5]para PQR (2)'!D1035","v":"E-MAIL"},{"$f":"+'[5]para PQR (2)'!E1035","v":"DERECHO DE PETICION DE INTERES PARTICULAR"},{"$f":"+'[5]para PQR (2)'!F1035","v":14},{"$f":"+'[5]para PQR (2)'!G1035","v":"GESTIONADO"}]
[null,{"$f":"+'[5]para PQR (2)'!B1036","v":2460592022},{"$f":"+'[5]para PQR (2)'!C1036","v":"SUBDIRECCION DE ADMINISTRACION INMOBILIARIA Y DE ESPACIO PUBLICO"},{"$f":"+'[5]para PQR (2)'!D1036","v":"E-MAIL"},{"$f":"+'[5]para PQR (2)'!E1036","v":"DERECHO DE PETICION DE INTERES PARTICULAR"},{"$f":"+'[5]para PQR (2)'!F1036","v":9},{"$f":"+'[5]para PQR (2)'!G1036","v":"GESTIONADO"}]
[null,{"$f":"+'[5]para PQR (2)'!B1037","v":2460832022},{"$f":"+'[5]para PQR (2)'!C1037","v":"SUBDIRECCION ADMINISTRATIVA  FINANCIERA Y DE CONTROL DISCIPLINARIO"},{"$f":"+'[5]para PQR (2)'!D1037","v":"WEB"},{"$f":"+'[5]para PQR (2)'!E1037","v":"DERECHO DE PETICION DE INTERES GENERAL"},{"$f":"+'[5]para PQR (2)'!F1037","v":1},{"$f":"+'[5]para PQR (2)'!G1037","v":"GESTIONADO"}]
[null,{"$f":"+'[5]para PQR (2)'!B1038","v":2461872022},{"$f":"+'[5]para PQR (2)'!C1038","v":"SUBDIRECCION DE ADMINISTRACION INMOBILIARIA Y DE ESPACIO PUBLICO"},{"$f":"+'[5]para PQR (2)'!D1038","v":"WEB"},{"$f":"+'[5]para PQR (2)'!E1038","v":"DERECHO DE PETICION DE INTERES PARTICULAR"},{"$f":"+'[5]para PQR (2)'!F1038","v":13},{"$f":"+'[5]para PQR (2)'!G1038","v":"GESTIONADO"}]
[null,{"$f":"+'[5]para PQR (2)'!B1039","v":2470592022},{"$f":"+'[5]para PQR (2)'!C1039","v":"SUBDIRECCION DE ADMINISTRACION INMOBILIARIA Y DE ESPACIO PUBLICO"},{"$f":"+'[5]para PQR (2)'!D1039","v":"WEB"},{"$f":"+'[5]para PQR (2)'!E1039","v":"DERECHO DE PETICION DE INTERES GENERAL"},{"$f":"+'[5]para PQR (2)'!F1039","v":11},{"$f":"+'[5]para PQR (2)'!G1039","v":"GESTIONADO"}]
[null,{"$f":"+'[5]para PQR (2)'!B1040","v":2477332022},{"$f":"+'[5]para PQR (2)'!C1040","v":"SUBDIRECCION DE ADMINISTRACION INMOBILIARIA Y DE ESPACIO PUBLICO"},{"$f":"+'[5]para PQR (2)'!D1040","v":"E-MAIL"},{"$f":"+'[5]para PQR (2)'!E1040","v":"DERECHO DE PETICION DE INTERES PARTICULAR"},{"$f":"+'[5]para PQR (2)'!F1040","v":7},{"$f":"+'[5]para PQR (2)'!G1040","v":"GESTIONADO"}]
[null,{"$f":"+'[5]para PQR (2)'!B1041","v":2477552022},{"$f":"+'[5]para PQR (2)'!C1041","v":"SUBDIRECCION DE ADMINISTRACION INMOBILIARIA Y DE ESPACIO PUBLICO"},{"$f":"+'[5]para PQR (2)'!D1041","v":"E-MAIL"},{"$f":"+'[5]para PQR (2)'!E1041","v":"DERECHO DE PETICION DE INTERES PARTICULAR"},{"$f":"+'[5]para PQR (2)'!F1041","v":14},{"$f":"+'[5]para PQR (2)'!G1041","v":"GESTIONADO"}]
[null,{"$f":"+'[5]para PQR (2)'!B1042","v":2478172022},{"$f":"+'[5]para PQR (2)'!C1042","v":"SUBDIRECCION DE ADMINISTRACION INMOBILIARIA Y DE ESPACIO PUBLICO"},{"$f":"+'[5]para PQR (2)'!D1042","v":"E-MAIL"},{"$f":"+'[5]para PQR (2)'!E1042","v":"DERECHO DE PETICION DE INTERES PARTICULAR"},{"$f":"+'[5]para PQR (2)'!F1042","v":8},{"$f":"+'[5]para PQR (2)'!G1042","v":"GESTIONADO"}]
[null,{"$f":"+'[5]para PQR (2)'!B1043","v":2478352022},{"$f":"+'[5]para PQR (2)'!C1043","v":"SUBDIRECCION DE ADMINISTRACION INMOBILIARIA Y DE ESPACIO PUBLICO"},{"$f":"+'[5]para PQR (2)'!D1043","v":"E-MAIL"},{"$f":"+'[5]para PQR (2)'!E1043","v":"DERECHO DE PETICION DE INTERES PARTICULAR"},{"$f":"+'[5]para PQR (2)'!F1043","v":8},{"$f":"+'[5]para PQR (2)'!G1043","v":"GESTIONADO"}]
[null,{"$f":"+'[5]para PQR (2)'!B1044","v":2478972022},{"$f":"+'[5]para PQR (2)'!C1044","v":"SUBDIRECCION DE ADMINISTRACION INMOBILIARIA Y DE ESPACIO PUBLICO"},{"$f":"+'[5]para PQR (2)'!D1044","v":"E-MAIL"},{"$f":"+'[5]para PQR (2)'!E1044","v":"DERECHO DE PETICION DE INTERES PARTICULAR"},{"$f":"+'[5]para PQR (2)'!F1044","v":13},{"$f":"+'[5]para PQR (2)'!G1044","v":"GESTIONADO"}]
[null,{"$f":"+'[5]para PQR (2)'!B1045","v":2479172022},{"$f":"+'[5]para PQR (2)'!C1045","v":"SUBDIRECCION DE ADMINISTRACION INMOBILIARIA Y DE ESPACIO PUBLICO"},{"$f":"+'[5]para PQR (2)'!D1045","v":"E-MAIL"},{"$f":"+'[5]para PQR (2)'!E1045","v":"DERECHO DE PETICION DE INTERES PARTICULAR"},{"$f":"+'[5]para PQR (2)'!F1045","v":13},{"$f":"+'[5]para PQR (2)'!G1045","v":"GESTIONADO"}]
[null,{"$f":"+'[5]para PQR (2)'!B1046","v":2479402022},{"$f":"+'[5]para PQR (2)'!C1046","v":"SUBDIRECCION DE ADMINISTRACION INMOBILIARIA Y DE ESPACIO PUBLICO"},{"$f":"+'[5]para PQR (2)'!D1046","v":"E-MAIL"},{"$f":"+'[5]para PQR (2)'!E1046","v":"DERECHO DE PETICION DE INTERES GENERAL"},{"$f":"+'[5]para PQR (2)'!F1046","v":8},{"$f":"+'[5]para PQR (2)'!G1046","v":"GESTIONADO"}]
[null,{"$f":"+'[5]para PQR (2)'!B1047","v":2481672022},{"$f":"+'[5]para PQR (2)'!C1047","v":"SUBDIRECCION DE ADMINISTRACION INMOBILIARIA Y DE ESPACIO PUBLICO"},{"$f":"+'[5]para PQR (2)'!D1047","v":"WEB"},{"$f":"+'[5]para PQR (2)'!E1047","v":"DERECHO DE PETICION DE INTERES GENERAL"},{"$f":"+'[5]para PQR (2)'!F1047","v":15},{"$f":"+'[5]para PQR (2)'!G1047","v":"GESTIONADO"}]
[null,{"$f":"+'[5]para PQR (2)'!B1048","v":2486562022},{"$f":"+'[5]para PQR (2)'!C1048","v":"SUBDIRECCION DE ADMINISTRACION INMOBILIARIA Y DE ESPACIO PUBLICO"},{"$f":"+'[5]para PQR (2)'!D1048","v":"E-MAIL"},{"$f":"+'[5]para PQR (2)'!E1048","v":"DERECHO DE PETICION DE INTERES PARTICULAR"},{"$f":"+'[5]para PQR (2)'!F1048","v":14},{"$f":"+'[5]para PQR (2)'!G1048","v":"GESTIONADO"}]
[null,{"$f":"+'[5]para PQR (2)'!B1049","v":2496122022},{"$f":"+'[5]para PQR (2)'!C1049","v":"SUBDIRECCION DE ADMINISTRACION INMOBILIARIA Y DE ESPACIO PUBLICO"},{"$f":"+'[5]para PQR (2)'!D1049","v":"E-MAIL"},{"$f":"+'[5]para PQR (2)'!E1049","v":"DERECHO DE PETICION DE INTERES PARTICULAR"},{"$f":"+'[5]para PQR (2)'!F1049","v":13},{"$f":"+'[5]para PQR (2)'!G1049","v":"GESTIONADO"}]
[null,{"$f":"+'[5]para PQR (2)'!B1050","v":2496562022},{"$f":"+'[5]para PQR (2)'!C1050","v":"SUBDIRECCION DE ADMINISTRACION INMOBILIARIA Y DE ESPACIO PUBLICO"},{"$f":"+'[5]para PQR (2)'!D1050","v":"E-MAIL"},{"$f":"+'[5]para PQR (2)'!E1050","v":"DERECHO DE PETICION DE INTERES PARTICULAR"},{"$f":"+'[5]para PQR (2)'!F1050","v":9},{"$f":"+'[5]para PQR (2)'!G1050","v":"GESTIONADO"}]
[null,{"$f":"+'[5]para PQR (2)'!B1051","v":2496792022},{"$f":"+'[5]para PQR (2)'!C1051","v":"SUBDIRECCION DE ADMINISTRACION INMOBILIARIA Y DE ESPACIO PUBLICO"},{"$f":"+'[5]para PQR (2)'!D1051","v":"E-MAIL"},{"$f":"+'[5]para PQR (2)'!E1051","v":"DERECHO DE PETICION DE INTERES PARTICULAR"},{"$f":"+'[5]para PQR (2)'!F1051","v":12},{"$f":"+'[5]para PQR (2)'!G1051","v":"GESTIONADO"}]
[null,{"$f":"+'[5]para PQR (2)'!B1052","v":2501942022},{"$f":"+'[5]para PQR (2)'!C1052","v":"SUBDIRECCION DE ADMINISTRACION INMOBILIARIA Y DE ESPACIO PUBLICO"},{"$f":"+'[5]para PQR (2)'!D1052","v":"WEB"},{"$f":"+'[5]para PQR (2)'!E1052","v":"DERECHO DE PETICION DE INTERES PARTICULAR"},{"$f":"+'[5]para PQR (2)'!F1052","v":12},{"$f":"+'[5]para PQR (2)'!G1052","v":"GESTIONADO"}]
[null,{"$f":"+'[5]para PQR (2)'!B1053","v":2503382022},{"$f":"+'[5]para PQR (2)'!C1053","v":"SUBDIRECCION DE ADMINISTRACION INMOBILIARIA Y DE ESPACIO PUBLICO"},{"$f":"+'[5]para PQR (2)'!D1053","v":"E-MAIL"},{"$f":"+'[5]para PQR (2)'!E1053","v":"DERECHO DE PETICION DE INTERES PARTICULAR"},{"$f":"+'[5]para PQR (2)'!F1053","v":14},{"$f":"+'[5]para PQR (2)'!G1053","v":"GESTIONADO"}]
[null,{"$f":"+'[5]para PQR (2)'!B1054","v":2503472022},{"$f":"+'[5]para PQR (2)'!C1054","v":"SUBDIRECCION DE ADMINISTRACION INMOBILIARIA Y DE ESPACIO PUBLICO"},{"$f":"+'[5]para PQR (2)'!D1054","v":"E-MAIL"},{"$f":"+'[5]para PQR (2)'!E1054","v":"DERECHO DE PETICION DE INTERES PARTICULAR"},{"$f":"+'[5]para PQR (2)'!F1054","v":5},{"$f":"+'[5]para PQR (2)'!G1054","v":"GESTIONADO"}]
[null,{"$f":"+'[5]para PQR (2)'!B1055","v":2503592022},{"$f":"+'[5]para PQR (2)'!C1055","v":"SUBDIRECCION DE ADMINISTRACION INMOBILIARIA Y DE ESPACIO PUBLICO"},{"$f":"+'[5]para PQR (2)'!D1055","v":"E-MAIL"},{"$f":"+'[5]para PQR (2)'!E1055","v":"DERECHO DE PETICION DE INTERES PARTICULAR"},{"$f":"+'[5]para PQR (2)'!F1055","v":14},{"$f":"+'[5]para PQR (2)'!G1055","v":"GESTIONADO"}]
[null,{"$f":"+'[5]para PQR (2)'!B1056","v":2506252022},{"$f":"+'[5]para PQR (2)'!C1056","v":"SUBDIRECCION DE ADMINISTRACION INMOBILIARIA Y DE ESPACIO PUBLICO"},{"$f":"+'[5]para PQR (2)'!D1056","v":"WEB"},{"$f":"+'[5]para PQR (2)'!E1056","v":"DERECHO DE PETICION DE INTERES GENERAL"},{"$f":"+'[5]para PQR (2)'!F1056","v":12},{"$f":"+'[5]para PQR (2)'!G1056","v":"GESTIONADO"}]
[null,{"$f":"+'[5]para PQR (2)'!B1057","v":2509462022},{"$f":"+'[5]para PQR (2)'!C1057","v":"SUBDIRECCION DE ADMINISTRACION INMOBILIARIA Y DE ESPACIO PUBLICO"},{"$f":"+'[5]para PQR (2)'!D1057","v":"E-MAIL"},{"$f":"+'[5]para PQR (2)'!E1057","v":"DERECHO DE PETICION DE INTERES PARTICULAR"},{"$f":"+'[5]para PQR (2)'!F1057","v":14},{"$f":"+'[5]para PQR (2)'!G1057","v":"GESTIONADO"}]
[null,{"$f":"+'[5]para PQR (2)'!B1058","v":2509852022},{"$f":"+'[5]para PQR (2)'!C1058","v":"SUBDIRECCION DE ADMINISTRACION INMOBILIARIA Y DE ESPACIO PUBLICO"},{"$f":"+'[5]para PQR (2)'!D1058","v":"E-MAIL"},{"$f":"+'[5]para PQR (2)'!E1058","v":"DERECHO DE PETICION DE INTERES PARTICULAR"},{"$f":"+'[5]para PQR (2)'!F1058","v":11},{"$f":"+'[5]para PQR (2)'!G1058","v":"GESTIONADO"}]
[null,{"$f":"+'[5]para PQR (2)'!B1059","v":2510022022},{"$f":"+'[5]para PQR (2)'!C1059","v":"SUBDIRECCION DE ADMINISTRACION INMOBILIARIA Y DE ESPACIO PUBLICO"},{"$f":"+'[5]para PQR (2)'!D1059","v":"E-MAIL"},{"$f":"+'[5]para PQR (2)'!E1059","v":"DERECHO DE PETICION DE INTERES PARTICULAR"},{"$f":"+'[5]para PQR (2)'!F1059","v":15},{"$f":"+'[5]para PQR (2)'!G1059","v":"GESTIONADO"}]
[null,{"$f":"+'[5]para PQR (2)'!B1060","v":2510372022},{"$f":"+'[5]para PQR (2)'!C1060","v":"SUBDIRECCION DE ADMINISTRACION INMOBILIARIA Y DE ESPACIO PUBLICO"},{"$f":"+'[5]para PQR (2)'!D1060","v":"E-MAIL"},{"$f":"+'[5]para PQR (2)'!E1060","v":"DERECHO DE PETICION DE INTERES PARTICULAR"},{"$f":"+'[5]para PQR (2)'!F1060","v":11},{"$f":"+'[5]para PQR (2)'!G1060","v":"GESTIONADO"}]
[null,{"$f":"+'[5]para PQR (2)'!B1061","v":2517322022},{"$f":"+'[5]para PQR (2)'!C1061","v":"SUBDIRECCION DE ADMINISTRACION INMOBILIARIA Y DE ESPACIO PUBLICO"},{"$f":"+'[5]para PQR (2)'!D1061","v":"WEB"},{"$f":"+'[5]para PQR (2)'!E1061","v":"DERECHO DE PETICION DE INTERES GENERAL"},{"$f":"+'[5]para PQR (2)'!F1061","v":11},{"$f":"+'[5]para PQR (2)'!G1061","v":"GESTIONADO"}]
[null,{"$f":"+'[5]para PQR (2)'!B1062","v":2517792022},{"$f":"+'[5]para PQR (2)'!C1062","v":"SUBDIRECCION DE ADMINISTRACION INMOBILIARIA Y DE ESPACIO PUBLICO"},{"$f":"+'[5]para PQR (2)'!D1062","v":"WEB"},{"$f":"+'[5]para PQR (2)'!E1062","v":"DERECHO DE PETICION DE INTERES GENERAL"},{"$f":"+'[5]para PQR (2)'!F1062","v":15},{"$f":"+'[5]para PQR (2)'!G1062","v":"GESTIONADO"}]
[null,{"$f":"+'[5]para PQR (2)'!B1063","v":2523602022},{"$f":"+'[5]para PQR (2)'!C1063","v":"SUBDIRECCION DE ADMINISTRACION INMOBILIARIA Y DE ESPACIO PUBLICO"},{"$f":"+'[5]para PQR (2)'!D1063","v":"E-MAIL"},{"$f":"+'[5]para PQR (2)'!E1063","v":"DERECHO DE PETICION DE INTERES PARTICULAR"},{"$f":"+'[5]para PQR (2)'!F1063","v":10},{"$f":"+'[5]para PQR (2)'!G1063","v":"GESTIONADO"}]
[null,{"$f":"+'[5]para PQR (2)'!B1064","v":2527242022},{"$f":"+'[5]para PQR (2)'!C1064","v":"SUBDIRECCION DE ADMINISTRACION INMOBILIARIA Y DE ESPACIO PUBLICO"},{"$f":"+'[5]para PQR (2)'!D1064","v":"E-MAIL"},{"$f":"+'[5]para PQR (2)'!E1064","v":"DERECHO DE PETICION DE INTERES GENERAL"},{"$f":"+'[5]para PQR (2)'!F1064","v":5},{"$f":"+'[5]para PQR (2)'!G1064","v":"GESTIONADO"}]
[null,{"$f":"+'[5]para PQR (2)'!B1065","v":2528452022},{"$f":"+'[5]para PQR (2)'!C1065","v":"SUBDIRECCION DE ADMINISTRACION INMOBILIARIA Y DE ESPACIO PUBLICO"},{"$f":"+'[5]para PQR (2)'!D1065","v":"WEB"},{"$f":"+'[5]para PQR (2)'!E1065","v":"DERECHO DE PETICION DE INTERES GENERAL"},{"$f":"+'[5]para PQR (2)'!F1065","v":11},{"$f":"+'[5]para PQR (2)'!G1065","v":"PENDIENTE"}]
[null,{"$f":"+'[5]para PQR (2)'!B1066","v":2528532022},{"$f":"+'[5]para PQR (2)'!C1066","v":"SUBDIRECCION DE ADMINISTRACION INMOBILIARIA Y DE ESPACIO PUBLICO"},{"$f":"+'[5]para PQR (2)'!D1066","v":"WEB"},{"$f":"+'[5]para PQR (2)'!E1066","v":"DERECHO DE PETICION DE INTERES GENERAL"},{"$f":"+'[5]para PQR (2)'!F1066","v":10},{"$f":"+'[5]para PQR (2)'!G1066","v":"GESTIONADO"}]
[null,{"$f":"+'[5]para PQR (2)'!B1067","v":2535782022},{"$f":"+'[5]para PQR (2)'!C1067","v":"SUBDIRECCION DE ADMINISTRACION INMOBILIARIA Y DE ESPACIO PUBLICO"},{"$f":"+'[5]para PQR (2)'!D1067","v":"WEB"},{"$f":"+'[5]para PQR (2)'!E1067","v":"SUGERENCIA"},{"$f":"+'[5]para PQR (2)'!F1067","v":9},{"$f":"+'[5]para PQR (2)'!G1067","v":"GESTIONADO"}]
[null,{"$f":"+'[5]para PQR (2)'!B1068","v":2542552022},{"$f":"+'[5]para PQR (2)'!C1068","v":"SUBDIRECCION DE ADMINISTRACION INMOBILIARIA Y DE ESPACIO PUBLICO"},{"$f":"+'[5]para PQR (2)'!D1068","v":"WEB"},{"$f":"+'[5]para PQR (2)'!E1068","v":"DERECHO DE PETICION DE INTERES GENERAL"},{"$f":"+'[5]para PQR (2)'!F1068","v":14},{"$f":"+'[5]para PQR (2)'!G1068","v":"PENDIENTE"}]
[null,{"$f":"+'[5]para PQR (2)'!B1069","v":2545232022},{"$f":"+'[5]para PQR (2)'!C1069","v":"SUBDIRECCION DE ADMINISTRACION INMOBILIARIA Y DE ESPACIO PUBLICO"},{"$f":"+'[5]para PQR (2)'!D1069","v":"E-MAIL"},{"$f":"+'[5]para PQR (2)'!E1069","v":"DERECHO DE PETICION DE INTERES PARTICULAR"},{"$f":"+'[5]para PQR (2)'!F1069","v":14},{"$f":"+'[5]para PQR (2)'!G1069","v":"PENDIENTE"}]
[null,{"$f":"+'[5]para PQR (2)'!B1070","v":2545442022},{"$f":"+'[5]para PQR (2)'!C1070","v":"SUBDIRECCION DE ADMINISTRACION INMOBILIARIA Y DE ESPACIO PUBLICO"},{"$f":"+'[5]para PQR (2)'!D1070","v":"E-MAIL"},{"$f":"+'[5]para PQR (2)'!E1070","v":"DERECHO DE PETICION DE INTERES PARTICULAR"},{"$f":"+'[5]para PQR (2)'!F1070","v":10},{"$f":"+'[5]para PQR (2)'!G1070","v":"GESTIONADO"}]
[null,{"$f":"+'[5]para PQR (2)'!B1071","v":2545722022},{"$f":"+'[5]para PQR (2)'!C1071","v":"SUBDIRECCION DE ADMINISTRACION INMOBILIARIA Y DE ESPACIO PUBLICO"},{"$f":"+'[5]para PQR (2)'!D1071","v":"E-MAIL"},{"$f":"+'[5]para PQR (2)'!E1071","v":"DERECHO DE PETICION DE INTERES PARTICULAR"},{"$f":"+'[5]para PQR (2)'!F1071","v":11},{"$f":"+'[5]para PQR (2)'!G1071","v":"GESTIONADO"}]
[null,{"$f":"+'[5]para PQR (2)'!B1072","v":2546072022},{"$f":"+'[5]para PQR (2)'!C1072","v":"SUBDIRECCION DE ADMINISTRACION INMOBILIARIA Y DE ESPACIO PUBLICO"},{"$f":"+'[5]para PQR (2)'!D1072","v":"E-MAIL"},{"$f":"+'[5]para PQR (2)'!E1072","v":"DERECHO DE PETICION DE INTERES PARTICULAR"},{"$f":"+'[5]para PQR (2)'!F1072","v":9},{"$f":"+'[5]para PQR (2)'!G1072","v":"GESTIONADO"}]
[null,{"$f":"+'[5]para PQR (2)'!B1073","v":2546532022},{"$f":"+'[5]para PQR (2)'!C1073","v":"SUBDIRECCION DE ADMINISTRACION INMOBILIARIA Y DE ESPACIO PUBLICO"},{"$f":"+'[5]para PQR (2)'!D1073","v":"E-MAIL"},{"$f":"+'[5]para PQR (2)'!E1073","v":"DERECHO DE PETICION DE INTERES PARTICULAR"},{"$f":"+'[5]para PQR (2)'!F1073","v":10},{"$f":"+'[5]para PQR (2)'!G1073","v":"GESTIONADO"}]
[null,{"$f":"+'[5]para PQR (2)'!B1074","v":2546692022},{"$f":"+'[5]para PQR (2)'!C1074","v":"SUBDIRECCION DE ADMINISTRACION INMOBILIARIA Y DE ESPACIO PUBLICO"},{"$f":"+'[5]para PQR (2)'!D1074","v":"E-MAIL"},{"$f":"+'[5]para PQR (2)'!E1074","v":"DERECHO DE PETICION DE INTERES PARTICULAR"},{"$f":"+'[5]para PQR (2)'!F1074","v":14},{"$f":"+'[5]para PQR (2)'!G1074","v":"PENDIENTE"}]
[null,{"$f":"+'[5]para PQR (2)'!B1075","v":2546982022},{"$f":"+'[5]para PQR (2)'!C1075","v":"SUBDIRECCION DE ADMINISTRACION INMOBILIARIA Y DE ESPACIO PUBLICO"},{"$f":"+'[5]para PQR (2)'!D1075","v":"E-MAIL"},{"$f":"+'[5]para PQR (2)'!E1075","v":"DERECHO DE PETICION DE INTERES PARTICULAR"},{"$f":"+'[5]para PQR (2)'!F1075","v":10},{"$f":"+'[5]para PQR (2)'!G1075","v":"GESTIONADO"}]
[null,{"$f":"+'[5]para PQR (2)'!B1076","v":2548002022},{"$f":"+'[5]para PQR (2)'!C1076","v":"SUBDIRECCION DE ADMINISTRACION INMOBILIARIA Y DE ESPACIO PUBLICO"},{"$f":"+'[5]para PQR (2)'!D1076","v":"E-MAIL"},{"$f":"+'[5]para PQR (2)'!E1076","v":"DERECHO DE PETICION DE INTERES PARTICULAR"},{"$f":"+'[5]para PQR (2)'!F1076","v":10},{"$f":"+'[5]para PQR (2)'!G1076","v":"GESTIONADO"}]
[null,{"$f":"+'[5]para PQR (2)'!B1077","v":2548212022},{"$f":"+'[5]para PQR (2)'!C1077","v":"SUBDIRECCION DE ADMINISTRACION INMOBILIARIA Y DE ESPACIO PUBLICO"},{"$f":"+'[5]para PQR (2)'!D1077","v":"E-MAIL"},{"$f":"+'[5]para PQR (2)'!E1077","v":"DERECHO DE PETICION DE INTERES PARTICULAR"},{"$f":"+'[5]para PQR (2)'!F1077","v":10},{"$f":"+'[5]para PQR (2)'!G1077","v":"GESTIONADO"}]
[null,{"$f":"+'[5]para PQR (2)'!B1078","v":2548432022},{"$f":"+'[5]para PQR (2)'!C1078","v":"SUBDIRECCION DE ADMINISTRACION INMOBILIARIA Y DE ESPACIO PUBLICO"},{"$f":"+'[5]para PQR (2)'!D1078","v":"E-MAIL"},{"$f":"+'[5]para PQR (2)'!E1078","v":"DERECHO DE PETICION DE INTERES PARTICULAR"},{"$f":"+'[5]para PQR (2)'!F1078","v":10},{"$f":"+'[5]para PQR (2)'!G1078","v":"GESTIONADO"}]
[null,{"$f":"+'[5]para PQR (2)'!B1079","v":2551142022},{"$f":"+'[5]para PQR (2)'!C1079","v":"SUBDIRECCION DE ADMINISTRACION INMOBILIARIA Y DE ESPACIO PUBLICO"},{"$f":"+'[5]para PQR (2)'!D1079","v":"E-MAIL"},{"$f":"+'[5]para PQR (2)'!E1079","v":"DERECHO DE PETICION DE INTERES GENERAL"},{"$f":"+'[5]para PQR (2)'!F1079","v":10},{"$f":"+'[5]para PQR (2)'!G1079","v":"GESTIONADO"}]
[null,{"$f":"+'[5]para PQR (2)'!B1080","v":2551192022},{"$f":"+'[5]para PQR (2)'!C1080","v":"SUBDIRECCION DE ADMINISTRACION INMOBILIARIA Y DE ESPACIO PUBLICO"},{"$f":"+'[5]para PQR (2)'!D1080","v":"WEB"},{"$f":"+'[5]para PQR (2)'!E1080","v":"DERECHO DE PETICION DE INTERES GENERAL"},{"$f":"+'[5]para PQR (2)'!F1080","v":10},{"$f":"+'[5]para PQR (2)'!G1080","v":"GESTIONADO"}]
[null,{"$f":"+'[5]para PQR (2)'!B1081","v":2551962022},{"$f":"+'[5]para PQR (2)'!C1081","v":"SUBDIRECCION DE ADMINISTRACION INMOBILIARIA Y DE ESPACIO PUBLICO"},{"$f":"+'[5]para PQR (2)'!D1081","v":"TELEFONO"},{"$f":"+'[5]para PQR (2)'!E1081","v":"DERECHO DE PETICION DE INTERES GENERAL"},{"$f":"+'[5]para PQR (2)'!F1081","v":11},{"$f":"+'[5]para PQR (2)'!G1081","v":"GESTIONADO"}]
[null,{"$f":"+'[5]para PQR (2)'!B1082","v":2553982022},{"$f":"+'[5]para PQR (2)'!C1082","v":"SUBDIRECCION DE ADMINISTRACION INMOBILIARIA Y DE ESPACIO PUBLICO"},{"$f":"+'[5]para PQR (2)'!D1082","v":"E-MAIL"},{"$f":"+'[5]para PQR (2)'!E1082","v":"DERECHO DE PETICION DE INTERES PARTICULAR"},{"$f":"+'[5]para PQR (2)'!F1082","v":10},{"$f":"+'[5]para PQR (2)'!G1082","v":"GESTIONADO"}]
[null,{"$f":"+'[5]para PQR (2)'!B1083","v":2554042022},{"$f":"+'[5]para PQR (2)'!C1083","v":"SUBDIRECCION DE ADMINISTRACION INMOBILIARIA Y DE ESPACIO PUBLICO"},{"$f":"+'[5]para PQR (2)'!D1083","v":"E-MAIL"},{"$f":"+'[5]para PQR (2)'!E1083","v":"DERECHO DE PETICION DE INTERES PARTICULAR"},{"$f":"+'[5]para PQR (2)'!F1083","v":11},{"$f":"+'[5]para PQR (2)'!G1083","v":"GESTIONADO"}]
[null,{"$f":"+'[5]para PQR (2)'!B1084","v":2558252022},{"$f":"+'[5]para PQR (2)'!C1084","v":"SUBDIRECCION DE ADMINISTRACION INMOBILIARIA Y DE ESPACIO PUBLICO"},{"$f":"+'[5]para PQR (2)'!D1084","v":"ESCRITO"},{"$f":"+'[5]para PQR (2)'!E1084","v":"DERECHO DE PETICION DE INTERES GENERAL"},{"$f":"+'[5]para PQR (2)'!F1084","v":12},{"$f":"+'[5]para PQR (2)'!G1084","v":"GESTIONADO"}]
[null,{"$f":"+'[5]para PQR (2)'!B1085","v":2561632022},{"$f":"+'[5]para PQR (2)'!C1085","v":"SUBDIRECCION DE ADMINISTRACION INMOBILIARIA Y DE ESPACIO PUBLICO"},{"$f":"+'[5]para PQR (2)'!D1085","v":"ESCRITO"},{"$f":"+'[5]para PQR (2)'!E1085","v":"DERECHO DE PETICION DE INTERES PARTICULAR"},{"$f":"+'[5]para PQR (2)'!F1085","v":9},{"$f":"+'[5]para PQR (2)'!G1085","v":"GESTIONADO"}]
[null,{"$f":"+'[5]para PQR (2)'!B1086","v":2561902022},{"$f":"+'[5]para PQR (2)'!C1086","v":"SUBDIRECCION DE ADMINISTRACION INMOBILIARIA Y DE ESPACIO PUBLICO"},{"$f":"+'[5]para PQR (2)'!D1086","v":"ESCRITO"},{"$f":"+'[5]para PQR (2)'!E1086","v":"DERECHO DE PETICION DE INTERES PARTICULAR"},{"$f":"+'[5]para PQR (2)'!F1086","v":13},{"$f":"+'[5]para PQR (2)'!G1086","v":"PENDIENTE"}]
[null,{"$f":"+'[5]para PQR (2)'!B1087","v":2566532022},{"$f":"+'[5]para PQR (2)'!C1087","v":"SUBDIRECCION DE ADMINISTRACION INMOBILIARIA Y DE ESPACIO PUBLICO"},{"$f":"+'[5]para PQR (2)'!D1087","v":"ESCRITO"},{"$f":"+'[5]para PQR (2)'!E1087","v":"DERECHO DE PETICION DE INTERES PARTICULAR"},{"$f":"+'[5]para PQR (2)'!F1087","v":12},{"$f":"+'[5]para PQR (2)'!G1087","v":"GESTIONADO"}]
[null,{"$f":"+'[5]para PQR (2)'!B1088","v":2566852022},{"$f":"+'[5]para PQR (2)'!C1088","v":"SUBDIRECCION DE ADMINISTRACION INMOBILIARIA Y DE ESPACIO PUBLICO"},{"$f":"+'[5]para PQR (2)'!D1088","v":"ESCRITO"},{"$f":"+'[5]para PQR (2)'!E1088","v":"DERECHO DE PETICION DE INTERES PARTICULAR"},{"$f":"+'[5]para PQR (2)'!F1088","v":9},{"$f":"+'[5]para PQR (2)'!G1088","v":"GESTIONADO"}]
[null,{"$f":"+'[5]para PQR (2)'!B1089","v":2567882022},{"$f":"+'[5]para PQR (2)'!C1089","v":"SUBDIRECCION DE ADMINISTRACION INMOBILIARIA Y DE ESPACIO PUBLICO"},{"$f":"+'[5]para PQR (2)'!D1089","v":"ESCRITO"},{"$f":"+'[5]para PQR (2)'!E1089","v":"DERECHO DE PETICION DE INTERES PARTICULAR"},{"$f":"+'[5]para PQR (2)'!F1089","v":13},{"$f":"+'[5]para PQR (2)'!G1089","v":"PENDIENTE"}]
[null,{"$f":"+'[5]para PQR (2)'!B1090","v":2573452022},{"$f":"+'[5]para PQR (2)'!C1090","v":"SUBDIRECCION DE ADMINISTRACION INMOBILIARIA Y DE ESPACIO PUBLICO"},{"$f":"+'[5]para PQR (2)'!D1090","v":"ESCRITO"},{"$f":"+'[5]para PQR (2)'!E1090","v":"DERECHO DE PETICION DE INTERES PARTICULAR"},{"$f":"+'[5]para PQR (2)'!F1090","v":7},{"$f":"+'[5]para PQR (2)'!G1090","v":"GESTIONADO"}]
[null,{"$f":"+'[5]para PQR (2)'!B1091","v":2577802022},{"$f":"+'[5]para PQR (2)'!C1091","v":"SUBDIRECCION DE ADMINISTRACION INMOBILIARIA Y DE ESPACIO PUBLICO"},{"$f":"+'[5]para PQR (2)'!D1091","v":"ESCRITO"},{"$f":"+'[5]para PQR (2)'!E1091","v":"DERECHO DE PETICION DE INTERES PARTICULAR"},{"$f":"+'[5]para PQR (2)'!F1091","v":12},{"$f":"+'[5]para PQR (2)'!G1091","v":"PENDIENTE"}]
[null,{"$f":"+'[5]para PQR (2)'!B1092","v":2578212022},{"$f":"+'[5]para PQR (2)'!C1092","v":"SUBDIRECCION DE ADMINISTRACION INMOBILIARIA Y DE ESPACIO PUBLICO"},{"$f":"+'[5]para PQR (2)'!D1092","v":"ESCRITO"},{"$f":"+'[5]para PQR (2)'!E1092","v":"DERECHO DE PETICION DE INTERES GENERAL"},{"$f":"+'[5]para PQR (2)'!F1092","v":9},{"$f":"+'[5]para PQR (2)'!G1092","v":"GESTIONADO"}]
[null,{"$f":"+'[5]para PQR (2)'!B1093","v":2593182022},{"$f":"+'[5]para PQR (2)'!C1093","v":"SUBDIRECCION DE ADMINISTRACION INMOBILIARIA Y DE ESPACIO PUBLICO"},{"$f":"+'[5]para PQR (2)'!D1093","v":"E-MAIL"},{"$f":"+'[5]para PQR (2)'!E1093","v":"DERECHO DE PETICION DE INTERES GENERAL"},{"$f":"+'[5]para PQR (2)'!F1093","v":9},{"$f":"+'[5]para PQR (2)'!G1093","v":"GESTIONADO"}]
[null,{"$f":"+'[5]para PQR (2)'!B1094","v":2593662022},{"$f":"+'[5]para PQR (2)'!C1094","v":"SUBDIRECCION DE ADMINISTRACION INMOBILIARIA Y DE ESPACIO PUBLICO"},{"$f":"+'[5]para PQR (2)'!D1094","v":"E-MAIL"},{"$f":"+'[5]para PQR (2)'!E1094","v":"DERECHO DE PETICION DE INTERES GENERAL"},{"$f":"+'[5]para PQR (2)'!F1094","v":11},{"$f":"+'[5]para PQR (2)'!G1094","v":"PENDIENTE"}]
[null,{"$f":"+'[5]para PQR (2)'!B1095","v":2594502022},{"$f":"+'[5]para PQR (2)'!C1095","v":"SUBDIRECCION DE ADMINISTRACION INMOBILIARIA Y DE ESPACIO PUBLICO"},{"$f":"+'[5]para PQR (2)'!D1095","v":"ESCRITO"},{"$f":"+'[5]para PQR (2)'!E1095","v":"DERECHO DE PETICION DE INTERES GENERAL"},{"$f":"+'[5]para PQR (2)'!F1095","v":11},{"$f":"+'[5]para PQR (2)'!G1095","v":"PENDIENTE"}]
[null,{"$f":"+'[5]para PQR (2)'!B1096","v":2594632022},{"$f":"+'[5]para PQR (2)'!C1096","v":"SUBDIRECCION DE ADMINISTRACION INMOBILIARIA Y DE ESPACIO PUBLICO"},{"$f":"+'[5]para PQR (2)'!D1096","v":"ESCRITO"},{"$f":"+'[5]para PQR (2)'!E1096","v":"DERECHO DE PETICION DE INTERES GENERAL"},{"$f":"+'[5]para PQR (2)'!F1096","v":11},{"$f":"+'[5]para PQR (2)'!G1096","v":"PENDIENTE"}]
[null,{"$f":"+'[5]para PQR (2)'!B1097","v":2596362022},{"$f":"+'[5]para PQR (2)'!C1097","v":"SUBDIRECCION DE ADMINISTRACION INMOBILIARIA Y DE ESPACIO PUBLICO"},{"$f":"+'[5]para PQR (2)'!D1097","v":"ESCRITO"},{"$f":"+'[5]para PQR (2)'!E1097","v":"DERECHO DE PETICION DE INTERES PARTICULAR"},{"$f":"+'[5]para PQR (2)'!F1097","v":10},{"$f":"+'[5]para PQR (2)'!G1097","v":"GESTIONADO"}]
[null,{"$f":"+'[5]para PQR (2)'!B1098","v":2596452022},{"$f":"+'[5]para PQR (2)'!C1098","v":"SUBDIRECCION DE ADMINISTRACION INMOBILIARIA Y DE ESPACIO PUBLICO"},{"$f":"+'[5]para PQR (2)'!D1098","v":"ESCRITO"},{"$f":"+'[5]para PQR (2)'!E1098","v":"DERECHO DE PETICION DE INTERES PARTICULAR"},{"$f":"+'[5]para PQR (2)'!F1098","v":11},{"$f":"+'[5]para PQR (2)'!G1098","v":"PENDIENTE"}]
[null,{"$f":"+'[5]para PQR (2)'!B1099","v":2596902022},{"$f":"+'[5]para PQR (2)'!C1099","v":"SUBDIRECCION ADMINISTRATIVA  FINANCIERA Y DE CONTROL DISCIPLINARIO"},{"$f":"+'[5]para PQR (2)'!D1099","v":"ESCRITO"},{"$f":"+'[5]para PQR (2)'!E1099","v":"DERECHO DE PETICION DE INTERES PARTICULAR"},{"$f":"+'[5]para PQR (2)'!F1099","v":7},{"$f":"+'[5]para PQR (2)'!G1099","v":"PENDIENTE"}]
[null,{"$f":"+'[5]para PQR (2)'!B1100","v":2597172022},{"$f":"+'[5]para PQR (2)'!C1100","v":"SUBDIRECCION DE ADMINISTRACION INMOBILIARIA Y DE ESPACIO PUBLICO"},{"$f":"+'[5]para PQR (2)'!D1100","v":"ESCRITO"},{"$f":"+'[5]para PQR (2)'!E1100","v":"DERECHO DE PETICION DE INTERES PARTICULAR"},{"$f":"+'[5]para PQR (2)'!F1100","v":8},{"$f":"+'[5]para PQR (2)'!G1100","v":"GESTIONADO"}]
[null,{"$f":"+'[5]para PQR (2)'!B1101","v":2600572022},{"$f":"+'[5]para PQR (2)'!C1101","v":"SUBDIRECCION DE ADMINISTRACION INMOBILIARIA Y DE ESPACIO PUBLICO"},{"$f":"+'[5]para PQR (2)'!D1101","v":"WEB"},{"$f":"+'[5]para PQR (2)'!E1101","v":"DERECHO DE PETICION DE INTERES GENERAL"},{"$f":"+'[5]para PQR (2)'!F1101","v":7},{"$f":"+'[5]para PQR (2)'!G1101","v":"GESTIONADO"}]
[null,{"$f":"+'[5]para PQR (2)'!B1102","v":2609092022},{"$f":"+'[5]para PQR (2)'!C1102","v":"SUBDIRECCION DE ADMINISTRACION INMOBILIARIA Y DE ESPACIO PUBLICO"},{"$f":"+'[5]para PQR (2)'!D1102","v":"ESCRITO"},{"$f":"+'[5]para PQR (2)'!E1102","v":"DERECHO DE PETICION DE INTERES PARTICULAR"},{"$f":"+'[5]para PQR (2)'!F1102","v":8},{"$f":"+'[5]para PQR (2)'!G1102","v":"GESTIONADO"}]
[null,{"$f":"+'[5]para PQR (2)'!B1103","v":2614112022},{"$f":"+'[5]para PQR (2)'!C1103","v":"SUBDIRECCION DE ADMINISTRACION INMOBILIARIA Y DE ESPACIO PUBLICO"},{"$f":"+'[5]para PQR (2)'!D1103","v":"ESCRITO"},{"$f":"+'[5]para PQR (2)'!E1103","v":"DERECHO DE PETICION DE INTERES PARTICULAR"},{"$f":"+'[5]para PQR (2)'!F1103","v":10},{"$f":"+'[5]para PQR (2)'!G1103","v":"PENDIENTE"}]
[null,{"$f":"+'[5]para PQR (2)'!B1104","v":2614592022},{"$f":"+'[5]para PQR (2)'!C1104","v":"SUBDIRECCION DE ADMINISTRACION INMOBILIARIA Y DE ESPACIO PUBLICO"},{"$f":"+'[5]para PQR (2)'!D1104","v":"ESCRITO"},{"$f":"+'[5]para PQR (2)'!E1104","v":"DERECHO DE PETICION DE INTERES PARTICULAR"},{"$f":"+'[5]para PQR (2)'!F1104","v":10},{"$f":"+'[5]para PQR (2)'!G1104","v":"PENDIENTE"}]
[null,{"$f":"+'[5]para PQR (2)'!B1105","v":2614662022},{"$f":"+'[5]para PQR (2)'!C1105","v":"SUBDIRECCION DE ADMINISTRACION INMOBILIARIA Y DE ESPACIO PUBLICO"},{"$f":"+'[5]para PQR (2)'!D1105","v":"ESCRITO"},{"$f":"+'[5]para PQR (2)'!E1105","v":"DERECHO DE PETICION DE INTERES PARTICULAR"},{"$f":"+'[5]para PQR (2)'!F1105","v":7},{"$f":"+'[5]para PQR (2)'!G1105","v":"GESTIONADO"}]
[null,{"$f":"+'[5]para PQR (2)'!B1106","v":2619802022},{"$f":"+'[5]para PQR (2)'!C1106","v":"SUBDIRECCION DE ADMINISTRACION INMOBILIARIA Y DE ESPACIO PUBLICO"},{"$f":"+'[5]para PQR (2)'!D1106","v":"TELEFONO"},{"$f":"+'[5]para PQR (2)'!E1106","v":"DERECHO DE PETICION DE INTERES GENERAL"},{"$f":"+'[5]para PQR (2)'!F1106","v":10},{"$f":"+'[5]para PQR (2)'!G1106","v":"PENDIENTE"}]
[null,{"$f":"+'[5]para PQR (2)'!B1107","v":2630812022},{"$f":"+'[5]para PQR (2)'!C1107","v":"SUBDIRECCION DE ADMINISTRACION INMOBILIARIA Y DE ESPACIO PUBLICO"},{"$f":"+'[5]para PQR (2)'!D1107","v":"ESCRITO"},{"$f":"+'[5]para PQR (2)'!E1107","v":"SOLICITUD DE COPIA"},{"$f":"+'[5]para PQR (2)'!F1107","v":9},{"$f":"+'[5]para PQR (2)'!G1107","v":"PENDIENTE"}]
[null,{"$f":"+'[5]para PQR (2)'!B1108","v":2632362022},{"$f":"+'[5]para PQR (2)'!C1108","v":"SUBDIRECCION DE ADMINISTRACION INMOBILIARIA Y DE ESPACIO PUBLICO"},{"$f":"+'[5]para PQR (2)'!D1108","v":"ESCRITO"},{"$f":"+'[5]para PQR (2)'!E1108","v":"DERECHO DE PETICION DE INTERES PARTICULAR"},{"$f":"+'[5]para PQR (2)'!F1108","v":9},{"$f":"+'[5]para PQR (2)'!G1108","v":"PENDIENTE"}]
[null,{"$f":"+'[5]para PQR (2)'!B1109","v":2632572022},{"$f":"+'[5]para PQR (2)'!C1109","v":"SUBDIRECCION DE ADMINISTRACION INMOBILIARIA Y DE ESPACIO PUBLICO"},{"$f":"+'[5]para PQR (2)'!D1109","v":"ESCRITO"},{"$f":"+'[5]para PQR (2)'!E1109","v":"DERECHO DE PETICION DE INTERES PARTICULAR"},{"$f":"+'[5]para PQR (2)'!F1109","v":8},{"$f":"+'[5]para PQR (2)'!G1109","v":"GESTIONADO"}]
[null,{"$f":"+'[5]para PQR (2)'!B1110","v":2633872022},{"$f":"+'[5]para PQR (2)'!C1110","v":"SUBDIRECCION DE ADMINISTRACION INMOBILIARIA Y DE ESPACIO PUBLICO"},{"$f":"+'[5]para PQR (2)'!D1110","v":"ESCRITO"},{"$f":"+'[5]para PQR (2)'!E1110","v":"DERECHO DE PETICION DE INTERES PARTICULAR"},{"$f":"+'[5]para PQR (2)'!F1110","v":9},{"$f":"+'[5]para PQR (2)'!G1110","v":"PENDIENTE"}]
[null,{"$f":"+'[5]para PQR (2)'!B1111","v":2637282022},{"$f":"+'[5]para PQR (2)'!C1111","v":"SUBDIRECCION DE ADMINISTRACION INMOBILIARIA Y DE ESPACIO PUBLICO"},{"$f":"+'[5]para PQR (2)'!D1111","v":"ESCRITO"},{"$f":"+'[5]para PQR (2)'!E1111","v":"DERECHO DE PETICION DE INTERES PARTICULAR"},{"$f":"+'[5]para PQR (2)'!F1111","v":5},{"$f":"+'[5]para PQR (2)'!G1111","v":"GESTIONADO"}]
[null,{"$f":"+'[5]para PQR (2)'!B1112","v":2637482022},{"$f":"+'[5]para PQR (2)'!C1112","v":"SUBDIRECCION DE ADMINISTRACION INMOBILIARIA Y DE ESPACIO PUBLICO"},{"$f":"+'[5]para PQR (2)'!D1112","v":"ESCRITO"},{"$f":"+'[5]para PQR (2)'!E1112","v":"DERECHO DE PETICION DE INTERES PARTICULAR"},{"$f":"+'[5]para PQR (2)'!F1112","v":9},{"$f":"+'[5]para PQR (2)'!G1112","v":"PENDIENTE"}]
[null,{"$f":"+'[5]para PQR (2)'!B1113","v":2637812022},{"$f":"+'[5]para PQR (2)'!C1113","v":"SUBDIRECCION DE ADMINISTRACION INMOBILIARIA Y DE ESPACIO PUBLICO"},{"$f":"+'[5]para PQR (2)'!D1113","v":"ESCRITO"},{"$f":"+'[5]para PQR (2)'!E1113","v":"DERECHO DE PETICION DE INTERES GENERAL"},{"$f":"+'[5]para PQR (2)'!F1113","v":9},{"$f":"+'[5]para PQR (2)'!G1113","v":"PENDIENTE"}]
[null,{"$f":"+'[5]para PQR (2)'!B1114","v":2651332022},{"$f":"+'[5]para PQR (2)'!C1114","v":"SUBDIRECCION DE ADMINISTRACION INMOBILIARIA Y DE ESPACIO PUBLICO"},{"$f":"+'[5]para PQR (2)'!D1114","v":"ESCRITO"},{"$f":"+'[5]para PQR (2)'!E1114","v":"DERECHO DE PETICION DE INTERES PARTICULAR"},{"$f":"+'[5]para PQR (2)'!F1114","v":8},{"$f":"+'[5]para PQR (2)'!G1114","v":"PENDIENTE"}]
[null,{"$f":"+'[5]para PQR (2)'!B1115","v":2652132022},{"$f":"+'[5]para PQR (2)'!C1115","v":"SUBDIRECCION DE ADMINISTRACION INMOBILIARIA Y DE ESPACIO PUBLICO"},{"$f":"+'[5]para PQR (2)'!D1115","v":"ESCRITO"},{"$f":"+'[5]para PQR (2)'!E1115","v":"DERECHO DE PETICION DE INTERES PARTICULAR"},{"$f":"+'[5]para PQR (2)'!F1115","v":8},{"$f":"+'[5]para PQR (2)'!G1115","v":"PENDIENTE"}]
[null,{"$f":"+'[5]para PQR (2)'!B1116","v":2652362022},{"$f":"+'[5]para PQR (2)'!C1116","v":"SUBDIRECCION DE ADMINISTRACION INMOBILIARIA Y DE ESPACIO PUBLICO"},{"$f":"+'[5]para PQR (2)'!D1116","v":"ESCRITO"},{"$f":"+'[5]para PQR (2)'!E1116","v":"DERECHO DE PETICION DE INTERES PARTICULAR"},{"$f":"+'[5]para PQR (2)'!F1116","v":8},{"$f":"+'[5]para PQR (2)'!G1116","v":"PENDIENTE"}]
[null,{"$f":"+'[5]para PQR (2)'!B1117","v":2656192022},{"$f":"+'[5]para PQR (2)'!C1117","v":"SUBDIRECCION DE ADMINISTRACION INMOBILIARIA Y DE ESPACIO PUBLICO"},{"$f":"+'[5]para PQR (2)'!D1117","v":"ESCRITO"},{"$f":"+'[5]para PQR (2)'!E1117","v":"DERECHO DE PETICION DE INTERES PARTICULAR"},{"$f":"+'[5]para PQR (2)'!F1117","v":7},{"$f":"+'[5]para PQR (2)'!G1117","v":"PENDIENTE"}]
[null,{"$f":"+'[5]para PQR (2)'!B1118","v":2659552022},{"$f":"+'[5]para PQR (2)'!C1118","v":"SUBDIRECCION DE ADMINISTRACION INMOBILIARIA Y DE ESPACIO PUBLICO"},{"$f":"+'[5]para PQR (2)'!D1118","v":"TELEFONO"},{"$f":"+'[5]para PQR (2)'!E1118","v":"DERECHO DE PETICION DE INTERES GENERAL"},{"$f":"+'[5]para PQR (2)'!F1118","v":8},{"$f":"+'[5]para PQR (2)'!G1118","v":"PENDIENTE"}]
[null,{"$f":"+'[5]para PQR (2)'!B1119","v":2664532022},{"$f":"+'[5]para PQR (2)'!C1119","v":"SUBDIRECCION DE ADMINISTRACION INMOBILIARIA Y DE ESPACIO PUBLICO"},{"$f":"+'[5]para PQR (2)'!D1119","v":"E-MAIL"},{"$f":"+'[5]para PQR (2)'!E1119","v":"DERECHO DE PETICION DE INTERES PARTICULAR"},{"$f":"+'[5]para PQR (2)'!F1119","v":7},{"$f":"+'[5]para PQR (2)'!G1119","v":"PENDIENTE"}]
[null,{"$f":"+'[5]para PQR (2)'!B1120","v":2667152022},{"$f":"+'[5]para PQR (2)'!C1120","v":"SUBDIRECCION DE ADMINISTRACION INMOBILIARIA Y DE ESPACIO PUBLICO"},{"$f":"+'[5]para PQR (2)'!D1120","v":"WEB"},{"$f":"+'[5]para PQR (2)'!E1120","v":"DERECHO DE PETICION DE INTERES GENERAL"},{"$f":"+'[5]para PQR (2)'!F1120","v":7},{"$f":"+'[5]para PQR (2)'!G1120","v":"PENDIENTE"}]
[null,{"$f":"+'[5]para PQR (2)'!B1121","v":2667182022},{"$f":"+'[5]para PQR (2)'!C1121","v":"SUBDIRECCION DE ADMINISTRACION INMOBILIARIA Y DE ESPACIO PUBLICO"},{"$f":"+'[5]para PQR (2)'!D1121","v":"WEB"},{"$f":"+'[5]para PQR (2)'!E1121","v":"DERECHO DE PETICION DE INTERES PARTICULAR"},{"$f":"+'[5]para PQR (2)'!F1121","v":7},{"$f":"+'[5]para PQR (2)'!G1121","v":"PENDIENTE"}]
[null,{"$f":"+'[5]para PQR (2)'!B1122","v":2671102022},{"$f":"+'[5]para PQR (2)'!C1122","v":"SUBDIRECCION DE ADMINISTRACION INMOBILIARIA Y DE ESPACIO PUBLICO"},{"$f":"+'[5]para PQR (2)'!D1122","v":"ESCRITO"},{"$f":"+'[5]para PQR (2)'!E1122","v":"DERECHO DE PETICION DE INTERES PARTICULAR"},{"$f":"+'[5]para PQR (2)'!F1122","v":7},{"$f":"+'[5]para PQR (2)'!G1122","v":"PENDIENTE"}]
[null,{"$f":"+'[5]para PQR (2)'!B1123","v":2671342022},{"$f":"+'[5]para PQR (2)'!C1123","v":"SUBDIRECCION DE ADMINISTRACION INMOBILIARIA Y DE ESPACIO PUBLICO"},{"$f":"+'[5]para PQR (2)'!D1123","v":"ESCRITO"},{"$f":"+'[5]para PQR (2)'!E1123","v":"DERECHO DE PETICION DE INTERES PARTICULAR"},{"$f":"+'[5]para PQR (2)'!F1123","v":7},{"$f":"+'[5]para PQR (2)'!G1123","v":"PENDIENTE"}]
[null,{"$f":"+'[5]para PQR (2)'!B1124","v":2671472022},{"$f":"+'[5]para PQR (2)'!C1124","v":"SUBDIRECCION DE ADMINISTRACION INMOBILIARIA Y DE ESPACIO PUBLICO"},{"$f":"+'[5]para PQR (2)'!D1124","v":"ESCRITO"},{"$f":"+'[5]para PQR (2)'!E1124","v":"DERECHO DE PETICION DE INTERES PARTICULAR"},{"$f":"+'[5]para PQR (2)'!F1124","v":7},{"$f":"+'[5]para PQR (2)'!G1124","v":"PENDIENTE"}]
[null,{"$f":"+'[5]para PQR (2)'!B1125","v":2671612022},{"$f":"+'[5]para PQR (2)'!C1125","v":"SUBDIRECCION DE ADMINISTRACION INMOBILIARIA Y DE ESPACIO PUBLICO"},{"$f":"+'[5]para PQR (2)'!D1125","v":"ESCRITO"},{"$f":"+'[5]para PQR (2)'!E1125","v":"DERECHO DE PETICION DE INTERES PARTICULAR"},{"$f":"+'[5]para PQR (2)'!F1125","v":7},{"$f":"+'[5]para PQR (2)'!G1125","v":"PENDIENTE"}]
[null,{"$f":"+'[5]para PQR (2)'!B1126","v":2671992022},{"$f":"+'[5]para PQR (2)'!C1126","v":"SUBDIRECCION DE ADMINISTRACION INMOBILIARIA Y DE ESPACIO PUBLICO"},{"$f":"+'[5]para PQR (2)'!D1126","v":"ESCRITO"},{"$f":"+'[5]para PQR (2)'!E1126","v":"DERECHO DE PETICION DE INTERES PARTICULAR"},{"$f":"+'[5]para PQR (2)'!F1126","v":7},{"$f":"+'[5]para PQR (2)'!G1126","v":"PENDIENTE"}]
[null,{"$f":"+'[5]para PQR (2)'!B1127","v":2672062022},{"$f":"+'[5]para PQR (2)'!C1127","v":"SUBDIRECCION DE ADMINISTRACION INMOBILIARIA Y DE ESPACIO PUBLICO"},{"$f":"+'[5]para PQR (2)'!D1127","v":"ESCRITO"},{"$f":"+'[5]para PQR (2)'!E1127","v":"DERECHO DE PETICION DE INTERES PARTICULAR"},{"$f":"+'[5]para PQR (2)'!F1127","v":7},{"$f":"+'[5]para PQR (2)'!G1127","v":"PENDIENTE"}]
[null,{"$f":"+'[5]para PQR (2)'!B1128","v":2672462022},{"$f":"+'[5]para PQR (2)'!C1128","v":"SUBDIRECCION DE ADMINISTRACION INMOBILIARIA Y DE ESPACIO PUBLICO"},{"$f":"+'[5]para PQR (2)'!D1128","v":"ESCRITO"},{"$f":"+'[5]para PQR (2)'!E1128","v":"DERECHO DE PETICION DE INTERES PARTICULAR"},{"$f":"+'[5]para PQR (2)'!F1128","v":7},{"$f":"+'[5]para PQR (2)'!G1128","v":"PENDIENTE"}]
[null,{"$f":"+'[5]para PQR (2)'!B1129","v":2672522022},{"$f":"+'[5]para PQR (2)'!C1129","v":"SUBDIRECCION DE ADMINISTRACION INMOBILIARIA Y DE ESPACIO PUBLICO"},{"$f":"+'[5]para PQR (2)'!D1129","v":"WEB"},{"$f":"+'[5]para PQR (2)'!E1129","v":"DERECHO DE PETICION DE INTERES GENERAL"},{"$f":"+'[5]para PQR (2)'!F1129","v":7},{"$f":"+'[5]para PQR (2)'!G1129","v":"PENDIENTE"}]
[null,{"$f":"+'[5]para PQR (2)'!B1130","v":2674452022},{"$f":"+'[5]para PQR (2)'!C1130","v":"SUBDIRECCION DE ADMINISTRACION INMOBILIARIA Y DE ESPACIO PUBLICO"},{"$f":"+'[5]para PQR (2)'!D1130","v":"ESCRITO"},{"$f":"+'[5]para PQR (2)'!E1130","v":"DERECHO DE PETICION DE INTERES PARTICULAR"},{"$f":"+'[5]para PQR (2)'!F1130","v":7},{"$f":"+'[5]para PQR (2)'!G1130","v":"PENDIENTE"}]
[null,{"$f":"+'[5]para PQR (2)'!B1131","v":2674622022},{"$f":"+'[5]para PQR (2)'!C1131","v":"SUBDIRECCION DE ADMINISTRACION INMOBILIARIA Y DE ESPACIO PUBLICO"},{"$f":"+'[5]para PQR (2)'!D1131","v":"ESCRITO"},{"$f":"+'[5]para PQR (2)'!E1131","v":"DERECHO DE PETICION DE INTERES PARTICULAR"},{"$f":"+'[5]para PQR (2)'!F1131","v":7},{"$f":"+'[5]para PQR (2)'!G1131","v":"PENDIENTE"}]
[null,{"$f":"+'[5]para PQR (2)'!B1132","v":2675032022},{"$f":"+'[5]para PQR (2)'!C1132","v":"SUBDIRECCION DE ADMINISTRACION INMOBILIARIA Y DE ESPACIO PUBLICO"},{"$f":"+'[5]para PQR (2)'!D1132","v":"ESCRITO"},{"$f":"+'[5]para PQR (2)'!E1132","v":"DERECHO DE PETICION DE INTERES GENERAL"},{"$f":"+'[5]para PQR (2)'!F1132","v":6},{"$f":"+'[5]para PQR (2)'!G1132","v":"PENDIENTE"}]
[null,{"$f":"+'[5]para PQR (2)'!B1133","v":2677452022},{"$f":"+'[5]para PQR (2)'!C1133","v":"SUBDIRECCION DE ADMINISTRACION INMOBILIARIA Y DE ESPACIO PUBLICO"},{"$f":"+'[5]para PQR (2)'!D1133","v":"E-MAIL"},{"$f":"+'[5]para PQR (2)'!E1133","v":"DERECHO DE PETICION DE INTERES GENERAL"},{"$f":"+'[5]para PQR (2)'!F1133","v":7},{"$f":"+'[5]para PQR (2)'!G1133","v":"PENDIENTE"}]
[null,{"$f":"+'[5]para PQR (2)'!B1134","v":2679952022},{"$f":"+'[5]para PQR (2)'!C1134","v":"SUBDIRECCION DE ADMINISTRACION INMOBILIARIA Y DE ESPACIO PUBLICO"},{"$f":"+'[5]para PQR (2)'!D1134","v":"WEB"},{"$f":"+'[5]para PQR (2)'!E1134","v":"DERECHO DE PETICION DE INTERES GENERAL"},{"$f":"+'[5]para PQR (2)'!F1134","v":7},{"$f":"+'[5]para PQR (2)'!G1134","v":"PENDIENTE"}]
[null,{"$f":"+'[5]para PQR (2)'!B1135","v":2680932022},{"$f":"+'[5]para PQR (2)'!C1135","v":"SUBDIRECCION DE ADMINISTRACION INMOBILIARIA Y DE ESPACIO PUBLICO"},{"$f":"+'[5]para PQR (2)'!D1135","v":"ESCRITO"},{"$f":"+'[5]para PQR (2)'!E1135","v":"DERECHO DE PETICION DE INTERES PARTICULAR"},{"$f":"+'[5]para PQR (2)'!F1135","v":7},{"$f":"+'[5]para PQR (2)'!G1135","v":"PENDIENTE"}]
[null,{"$f":"+'[5]para PQR (2)'!B1136","v":2680962022},{"$f":"+'[5]para PQR (2)'!C1136","v":"SUBDIRECCION DE ADMINISTRACION INMOBILIARIA Y DE ESPACIO PUBLICO"},{"$f":"+'[5]para PQR (2)'!D1136","v":"ESCRITO"},{"$f":"+'[5]para PQR (2)'!E1136","v":"DERECHO DE PETICION DE INTERES PARTICULAR"},{"$f":"+'[5]para PQR (2)'!F1136","v":7},{"$f":"+'[5]para PQR (2)'!G1136","v":"PENDIENTE"}]
[null,{"$f":"+'[5]para PQR (2)'!B1137","v":2680972022},{"$f":"+'[5]para PQR (2)'!C1137","v":"SUBDIRECCION DE ADMINISTRACION INMOBILIARIA Y DE ESPACIO PUBLICO"},{"$f":"+'[5]para PQR (2)'!D1137","v":"ESCRITO"},{"$f":"+'[5]para PQR (2)'!E1137","v":"DERECHO DE PETICION DE INTERES PARTICULAR"},{"$f":"+'[5]para PQR (2)'!F1137","v":7},{"$f":"+'[5]para PQR (2)'!G1137","v":"PENDIENTE"}]
[null,{"$f":"+'[5]para PQR (2)'!B1138","v":2683232022},{"$f":"+'[5]para PQR (2)'!C1138","v":"SUBDIRECCION DE ADMINISTRACION INMOBILIARIA Y DE ESPACIO PUBLICO"},{"$f":"+'[5]para PQR (2)'!D1138","v":"E-MAIL"},{"$f":"+'[5]para PQR (2)'!E1138","v":"DERECHO DE PETICION DE INTERES GENERAL"},{"$f":"+'[5]para PQR (2)'!F1138","v":6},{"$f":"+'[5]para PQR (2)'!G1138","v":"PENDIENTE"}]
[null,{"$f":"+'[5]para PQR (2)'!B1139","v":2683332022},{"$f":"+'[5]para PQR (2)'!C1139","v":"SUBDIRECCION DE ADMINISTRACION INMOBILIARIA Y DE ESPACIO PUBLICO"},{"$f":"+'[5]para PQR (2)'!D1139","v":"TELEFONO"},{"$f":"+'[5]para PQR (2)'!E1139","v":"DERECHO DE PETICION DE INTERES GENERAL"},{"$f":"+'[5]para PQR (2)'!F1139","v":6},{"$f":"+'[5]para PQR (2)'!G1139","v":"PENDIENTE"}]
[null,{"$f":"+'[5]para PQR (2)'!B1140","v":2684392022},{"$f":"+'[5]para PQR (2)'!C1140","v":"SUBDIRECCION DE ADMINISTRACION INMOBILIARIA Y DE ESPACIO PUBLICO"},{"$f":"+'[5]para PQR (2)'!D1140","v":"WEB"},{"$f":"+'[5]para PQR (2)'!E1140","v":"DERECHO DE PETICION DE INTERES PARTICULAR"},{"$f":"+'[5]para PQR (2)'!F1140","v":5},{"$f":"+'[5]para PQR (2)'!G1140","v":"PENDIENTE"}]
[null,{"$f":"+'[5]para PQR (2)'!B1141","v":2687652022},{"$f":"+'[5]para PQR (2)'!C1141","v":"SUBDIRECCION DE ADMINISTRACION INMOBILIARIA Y DE ESPACIO PUBLICO"},{"$f":"+'[5]para PQR (2)'!D1141","v":"E-MAIL"},{"$f":"+'[5]para PQR (2)'!E1141","v":"DERECHO DE PETICION DE INTERES GENERAL"},{"$f":"+'[5]para PQR (2)'!F1141","v":6},{"$f":"+'[5]para PQR (2)'!G1141","v":"PENDIENTE"}]
[null,{"$f":"+'[5]para PQR (2)'!B1142","v":2694742022},{"$f":"+'[5]para PQR (2)'!C1142","v":"SUBDIRECCION DE ADMINISTRACION INMOBILIARIA Y DE ESPACIO PUBLICO"},{"$f":"+'[5]para PQR (2)'!D1142","v":"WEB"},{"$f":"+'[5]para PQR (2)'!E1142","v":"DERECHO DE PETICION DE INTERES GENERAL"},{"$f":"+'[5]para PQR (2)'!F1142","v":6},{"$f":"+'[5]para PQR (2)'!G1142","v":"PENDIENTE"}]
[null,{"$f":"+'[5]para PQR (2)'!B1143","v":2698912022},{"$f":"+'[5]para PQR (2)'!C1143","v":"SUBDIRECCION DE ADMINISTRACION INMOBILIARIA Y DE ESPACIO PUBLICO"},{"$f":"+'[5]para PQR (2)'!D1143","v":"WEB"},{"$f":"+'[5]para PQR (2)'!E1143","v":"DERECHO DE PETICION DE INTERES GENERAL"},{"$f":"+'[5]para PQR (2)'!F1143","v":6},{"$f":"+'[5]para PQR (2)'!G1143","v":"PENDIENTE"}]
[null,{"$f":"+'[5]para PQR (2)'!B1144","v":2701422022},{"$f":"+'[5]para PQR (2)'!C1144","v":"SUBDIRECCION DE ADMINISTRACION INMOBILIARIA Y DE ESPACIO PUBLICO"},{"$f":"+'[5]para PQR (2)'!D1144","v":"ESCRITO"},{"$f":"+'[5]para PQR (2)'!E1144","v":"DERECHO DE PETICION DE INTERES PARTICULAR"},{"$f":"+'[5]para PQR (2)'!F1144","v":6},{"$f":"+'[5]para PQR (2)'!G1144","v":"PENDIENTE"}]
[null,{"$f":"+'[5]para PQR (2)'!B1145","v":2701522022},{"$f":"+'[5]para PQR (2)'!C1145","v":"SUBDIRECCION DE ADMINISTRACION INMOBILIARIA Y DE ESPACIO PUBLICO"},{"$f":"+'[5]para PQR (2)'!D1145","v":"E-MAIL"},{"$f":"+'[5]para PQR (2)'!E1145","v":"DERECHO DE PETICION DE INTERES GENERAL"},{"$f":"+'[5]para PQR (2)'!F1145","v":4},{"$f":"+'[5]para PQR (2)'!G1145","v":"PENDIENTE"}]
[null,{"$f":"+'[5]para PQR (2)'!B1146","v":2702982022},{"$f":"+'[5]para PQR (2)'!C1146","v":"SUBDIRECCION DE ADMINISTRACION INMOBILIARIA Y DE ESPACIO PUBLICO"},{"$f":"+'[5]para PQR (2)'!D1146","v":"WEB"},{"$f":"+'[5]para PQR (2)'!E1146","v":"DERECHO DE PETICION DE INTERES PARTICULAR"},{"$f":"+'[5]para PQR (2)'!F1146","v":6},{"$f":"+'[5]para PQR (2)'!G1146","v":"PENDIENTE"}]
[null,{"$f":"+'[5]para PQR (2)'!B1147","v":2708582022},{"$f":"+'[5]para PQR (2)'!C1147","v":"SUBDIRECCION DE ADMINISTRACION INMOBILIARIA Y DE ESPACIO PUBLICO"},{"$f":"+'[5]para PQR (2)'!D1147","v":"WEB"},{"$f":"+'[5]para PQR (2)'!E1147","v":"DERECHO DE PETICION DE INTERES GENERAL"},{"$f":"+'[5]para PQR (2)'!F1147","v":5},{"$f":"+'[5]para PQR (2)'!G1147","v":"PENDIENTE"}]
[null,{"$f":"+'[5]para PQR (2)'!B1148","v":2716942022},{"$f":"+'[5]para PQR (2)'!C1148","v":"SUBDIRECCION DE ADMINISTRACION INMOBILIARIA Y DE ESPACIO PUBLICO"},{"$f":"+'[5]para PQR (2)'!D1148","v":"ESCRITO"},{"$f":"+'[5]para PQR (2)'!E1148","v":"DERECHO DE PETICION DE INTERES PARTICULAR"},{"$f":"+'[5]para PQR (2)'!F1148","v":5},{"$f":"+'[5]para PQR (2)'!G1148","v":"PENDIENTE"}]
[null,{"$f":"+'[5]para PQR (2)'!B1149","v":2718552022},{"$f":"+'[5]para PQR (2)'!C1149","v":"SUBDIRECCION DE ADMINISTRACION INMOBILIARIA Y DE ESPACIO PUBLICO"},{"$f":"+'[5]para PQR (2)'!D1149","v":"ESCRITO"},{"$f":"+'[5]para PQR (2)'!E1149","v":"DERECHO DE PETICION DE INTERES PARTICULAR"},{"$f":"+'[5]para PQR (2)'!F1149","v":5},{"$f":"+'[5]para PQR (2)'!G1149","v":"PENDIENTE"}]
[null,{"$f":"+'[5]para PQR (2)'!B1150","v":2718662022},{"$f":"+'[5]para PQR (2)'!C1150","v":"SUBDIRECCION DE ADMINISTRACION INMOBILIARIA Y DE ESPACIO PUBLICO"},{"$f":"+'[5]para PQR (2)'!D1150","v":"WEB"},{"$f":"+'[5]para PQR (2)'!E1150","v":"DERECHO DE PETICION DE INTERES PARTICULAR"},{"$f":"+'[5]para PQR (2)'!F1150","v":5},{"$f":"+'[5]para PQR (2)'!G1150","v":"PENDIENTE"}]
[null,{"$f":"+'[5]para PQR (2)'!B1151","v":2721852022},{"$f":"+'[5]para PQR (2)'!C1151","v":"SUBDIRECCION DE ADMINISTRACION INMOBILIARIA Y DE ESPACIO PUBLICO"},{"$f":"+'[5]para PQR (2)'!D1151","v":"ESCRITO"},{"$f":"+'[5]para PQR (2)'!E1151","v":"DERECHO DE PETICION DE INTERES GENERAL"},{"$f":"+'[5]para PQR (2)'!F1151","v":4},{"$f":"+'[5]para PQR (2)'!G1151","v":"PENDIENTE"}]
[null,{"$f":"+'[5]para PQR (2)'!B1152","v":2722062022},{"$f":"+'[5]para PQR (2)'!C1152","v":"SUBDIRECCION DE ADMINISTRACION INMOBILIARIA Y DE ESPACIO PUBLICO"},{"$f":"+'[5]para PQR (2)'!D1152","v":"ESCRITO"},{"$f":"+'[5]para PQR (2)'!E1152","v":"DERECHO DE PETICION DE INTERES PARTICULAR"},{"$f":"+'[5]para PQR (2)'!F1152","v":4},{"$f":"+'[5]para PQR (2)'!G1152","v":"PENDIENTE"}]
[null,{"$f":"+'[5]para PQR (2)'!B1153","v":2723922022},{"$f":"+'[5]para PQR (2)'!C1153","v":"SUBDIRECCION DE ADMINISTRACION INMOBILIARIA Y DE ESPACIO PUBLICO"},{"$f":"+'[5]para PQR (2)'!D1153","v":"ESCRITO"},{"$f":"+'[5]para PQR (2)'!E1153","v":"DERECHO DE PETICION DE INTERES PARTICULAR"},{"$f":"+'[5]para PQR (2)'!F1153","v":4},{"$f":"+'[5]para PQR (2)'!G1153","v":"PENDIENTE"}]
[null,{"$f":"+'[5]para PQR (2)'!B1154","v":2724882022},{"$f":"+'[5]para PQR (2)'!C1154","v":"SUBDIRECCION DE ADMINISTRACION INMOBILIARIA Y DE ESPACIO PUBLICO"},{"$f":"+'[5]para PQR (2)'!D1154","v":"ESCRITO"},{"$f":"+'[5]para PQR (2)'!E1154","v":"DERECHO DE PETICION DE INTERES GENERAL"},{"$f":"+'[5]para PQR (2)'!F1154","v":4},{"$f":"+'[5]para PQR (2)'!G1154","v":"PENDIENTE"}]
[null,{"$f":"+'[5]para PQR (2)'!B1155","v":2725032022},{"$f":"+'[5]para PQR (2)'!C1155","v":"SUBDIRECCION DE ADMINISTRACION INMOBILIARIA Y DE ESPACIO PUBLICO"},{"$f":"+'[5]para PQR (2)'!D1155","v":"ESCRITO"},{"$f":"+'[5]para PQR (2)'!E1155","v":"DERECHO DE PETICION DE INTERES GENERAL"},{"$f":"+'[5]para PQR (2)'!F1155","v":4},{"$f":"+'[5]para PQR (2)'!G1155","v":"PENDIENTE"}]
[null,{"$f":"+'[5]para PQR (2)'!B1156","v":2726882022},{"$f":"+'[5]para PQR (2)'!C1156","v":"SUBDIRECCION DE ADMINISTRACION INMOBILIARIA Y DE ESPACIO PUBLICO"},{"$f":"+'[5]para PQR (2)'!D1156","v":"WEB"},{"$f":"+'[5]para PQR (2)'!E1156","v":"SOLICITUD DE COPIA"},{"$f":"+'[5]para PQR (2)'!F1156","v":4},{"$f":"+'[5]para PQR (2)'!G1156","v":"PENDIENTE"}]
[null,{"$f":"+'[5]para PQR (2)'!B1157","v":2728122022},{"$f":"+'[5]para PQR (2)'!C1157","v":"SUBDIRECCION DE ADMINISTRACION INMOBILIARIA Y DE ESPACIO PUBLICO"},{"$f":"+'[5]para PQR (2)'!D1157","v":"ESCRITO"},{"$f":"+'[5]para PQR (2)'!E1157","v":"DERECHO DE PETICION DE INTERES PARTICULAR"},{"$f":"+'[5]para PQR (2)'!F1157","v":4},{"$f":"+'[5]para PQR (2)'!G1157","v":"PENDIENTE"}]
[null,{"$f":"+'[5]para PQR (2)'!B1158","v":2729782022},{"$f":"+'[5]para PQR (2)'!C1158","v":"SUBDIRECCION DE ADMINISTRACION INMOBILIARIA Y DE ESPACIO PUBLICO"},{"$f":"+'[5]para PQR (2)'!D1158","v":"ESCRITO"},{"$f":"+'[5]para PQR (2)'!E1158","v":"DERECHO DE PETICION DE INTERES PARTICULAR"},{"$f":"+'[5]para PQR (2)'!F1158","v":4},{"$f":"+'[5]para PQR (2)'!G1158","v":"PENDIENTE"}]
[null,{"$f":"+'[5]para PQR (2)'!B1159","v":2735112022},{"$f":"+'[5]para PQR (2)'!C1159","v":"SUBDIRECCION DE ADMINISTRACION INMOBILIARIA Y DE ESPACIO PUBLICO"},{"$f":"+'[5]para PQR (2)'!D1159","v":"ESCRITO"},{"$f":"+'[5]para PQR (2)'!E1159","v":"DERECHO DE PETICION DE INTERES PARTICULAR"},{"$f":"+'[5]para PQR (2)'!F1159","v":3},{"$f":"+'[5]para PQR (2)'!G1159","v":"PENDIENTE"}]
[null,{"$f":"+'[5]para PQR (2)'!B1160","v":2737492022},{"$f":"+'[5]para PQR (2)'!C1160","v":"SUBDIRECCION DE ADMINISTRACION INMOBILIARIA Y DE ESPACIO PUBLICO"},{"$f":"+'[5]para PQR (2)'!D1160","v":"ESCRITO"},{"$f":"+'[5]para PQR (2)'!E1160","v":"DERECHO DE PETICION DE INTERES PARTICULAR"},{"$f":"+'[5]para PQR (2)'!F1160","v":3},{"$f":"+'[5]para PQR (2)'!G1160","v":"PENDIENTE"}]
[null,{"$f":"+'[5]para PQR (2)'!B1161","v":2738092022},{"$f":"+'[5]para PQR (2)'!C1161","v":"SUBDIRECCION DE ADMINISTRACION INMOBILIARIA Y DE ESPACIO PUBLICO"},{"$f":"+'[5]para PQR (2)'!D1161","v":"WEB"},{"$f":"+'[5]para PQR (2)'!E1161","v":"DERECHO DE PETICION DE INTERES PARTICULAR"},{"$f":"+'[5]para PQR (2)'!F1161","v":3},{"$f":"+'[5]para PQR (2)'!G1161","v":"PENDIENTE"}]
[null,{"$f":"+'[5]para PQR (2)'!B1162","v":2738452022},{"$f":"+'[5]para PQR (2)'!C1162","v":"SUBDIRECCION DE ADMINISTRACION INMOBILIARIA Y DE ESPACIO PUBLICO"},{"$f":"+'[5]para PQR (2)'!D1162","v":"ESCRITO"},{"$f":"+'[5]para PQR (2)'!E1162","v":"DERECHO DE PETICION DE INTERES PARTICULAR"},{"$f":"+'[5]para PQR (2)'!F1162","v":3},{"$f":"+'[5]para PQR (2)'!G1162","v":"PENDIENTE"}]
[null,{"$f":"+'[5]para PQR (2)'!B1163","v":2739082022},{"$f":"+'[5]para PQR (2)'!C1163","v":"SUBDIRECCION DE ADMINISTRACION INMOBILIARIA Y DE ESPACIO PUBLICO"},{"$f":"+'[5]para PQR (2)'!D1163","v":"WEB"},{"$f":"+'[5]para PQR (2)'!E1163","v":"SOLICITUD DE ACCESO A LA INFORMACION"},{"$f":"+'[5]para PQR (2)'!F1163","v":1},{"$f":"+'[5]para PQR (2)'!G1163","v":"PENDIENTE"}]
[null,{"$f":"+'[5]para PQR (2)'!B1164","v":2740072022},{"$f":"+'[5]para PQR (2)'!C1164","v":"SUBDIRECCION DE ADMINISTRACION INMOBILIARIA Y DE ESPACIO PUBLICO"},{"$f":"+'[5]para PQR (2)'!D1164","v":"WEB"},{"$f":"+'[5]para PQR (2)'!E1164","v":"DERECHO DE PETICION DE INTERES GENERAL"},{"$f":"+'[5]para PQR (2)'!F1164","v":3},{"$f":"+'[5]para PQR (2)'!G1164","v":"PENDIENTE"}]
[null,{"$f":"+'[5]para PQR (2)'!B1165","v":2742592022},{"$f":"+'[5]para PQR (2)'!C1165","v":"SUBDIRECCION DE ADMINISTRACION INMOBILIARIA Y DE ESPACIO PUBLICO"},{"$f":"+'[5]para PQR (2)'!D1165","v":"ESCRITO"},{"$f":"+'[5]para PQR (2)'!E1165","v":"DERECHO DE PETICION DE INTERES PARTICULAR"},{"$f":"+'[5]para PQR (2)'!F1165","v":3},{"$f":"+'[5]para PQR (2)'!G1165","v":"PENDIENTE"}]
[null,{"$f":"+'[5]para PQR (2)'!B1166","v":2745322022},{"$f":"+'[5]para PQR (2)'!C1166","v":"SUBDIRECCION DE ADMINISTRACION INMOBILIARIA Y DE ESPACIO PUBLICO"},{"$f":"+'[5]para PQR (2)'!D1166","v":"ESCRITO"},{"$f":"+'[5]para PQR (2)'!E1166","v":"DERECHO DE PETICION DE INTERES GENERAL"},{"$f":"+'[5]para PQR (2)'!F1166","v":2},{"$f":"+'[5]para PQR (2)'!G1166","v":"PENDIENTE"}]
[null,{"$f":"+'[5]para PQR (2)'!B1167","v":2748872022},{"$f":"+'[5]para PQR (2)'!C1167","v":"SUBDIRECCION DE ADMINISTRACION INMOBILIARIA Y DE ESPACIO PUBLICO"},{"$f":"+'[5]para PQR (2)'!D1167","v":"ESCRITO"},{"$f":"+'[5]para PQR (2)'!E1167","v":"DERECHO DE PETICION DE INTERES GENERAL"},{"$f":"+'[5]para PQR (2)'!F1167","v":2},{"$f":"+'[5]para PQR (2)'!G1167","v":"PENDIENTE"}]
[null,{"$f":"+'[5]para PQR (2)'!B1168","v":2751732022},{"$f":"+'[5]para PQR (2)'!C1168","v":"SUBDIRECCION DE ADMINISTRACION INMOBILIARIA Y DE ESPACIO PUBLICO"},{"$f":"+'[5]para PQR (2)'!D1168","v":"ESCRITO"},{"$f":"+'[5]para PQR (2)'!E1168","v":"DERECHO DE PETICION DE INTERES PARTICULAR"},{"$f":"+'[5]para PQR (2)'!F1168","v":2},{"$f":"+'[5]para PQR (2)'!G1168","v":"PENDIENTE"}]
[null,{"$f":"+'[5]para PQR (2)'!B1169","v":2753382022},{"$f":"+'[5]para PQR (2)'!C1169","v":"SUBDIRECCION DE ADMINISTRACION INMOBILIARIA Y DE ESPACIO PUBLICO"},{"$f":"+'[5]para PQR (2)'!D1169","v":"WEB"},{"$f":"+'[5]para PQR (2)'!E1169","v":"DERECHO DE PETICION DE INTERES GENERAL"},{"$f":"+'[5]para PQR (2)'!F1169","v":2},{"$f":"+'[5]para PQR (2)'!G1169","v":"PENDIENTE"}]
[null,{"$f":"+'[5]para PQR (2)'!B1170","v":2754792022},{"$f":"+'[5]para PQR (2)'!C1170","v":"SUBDIRECCION DE ADMINISTRACION INMOBILIARIA Y DE ESPACIO PUBLICO"},{"$f":"+'[5]para PQR (2)'!D1170","v":"WEB"},{"$f":"+'[5]para PQR (2)'!E1170","v":"DERECHO DE PETICION DE INTERES GENERAL"},{"$f":"+'[5]para PQR (2)'!F1170","v":2},{"$f":"+'[5]para PQR (2)'!G1170","v":"PENDIENTE"}]
[null,{"$f":"+'[5]para PQR (2)'!B1171","v":2755862022},{"$f":"+'[5]para PQR (2)'!C1171","v":"SUBDIRECCION DE ADMINISTRACION INMOBILIARIA Y DE ESPACIO PUBLICO"},{"$f":"+'[5]para PQR (2)'!D1171","v":"ESCRITO"},{"$f":"+'[5]para PQR (2)'!E1171","v":"DERECHO DE PETICION DE INTERES PARTICULAR"},{"$f":"+'[5]para PQR (2)'!F1171","v":2},{"$f":"+'[5]para PQR (2)'!G1171","v":"PENDIENTE"}]
[null,{"$f":"+'[5]para PQR (2)'!B1172","v":2758322022},{"$f":"+'[5]para PQR (2)'!C1172","v":"SUBDIRECCION DE ADMINISTRACION INMOBILIARIA Y DE ESPACIO PUBLICO"},{"$f":"+'[5]para PQR (2)'!D1172","v":"E-MAIL"},{"$f":"+'[5]para PQR (2)'!E1172","v":"DERECHO DE PETICION DE INTERES PARTICULAR"},{"$f":"+'[5]para PQR (2)'!F1172","v":2},{"$f":"+'[5]para PQR (2)'!G1172","v":"PENDIENTE"}]
[null,{"$f":"+'[5]para PQR (2)'!B1173","v":2761202022},{"$f":"+'[5]para PQR (2)'!C1173","v":"SUBDIRECCION DE ADMINISTRACION INMOBILIARIA Y DE ESPACIO PUBLICO"},{"$f":"+'[5]para PQR (2)'!D1173","v":"ESCRITO"},{"$f":"+'[5]para PQR (2)'!E1173","v":"DERECHO DE PETICION DE INTERES PARTICULAR"},{"$f":"+'[5]para PQR (2)'!F1173","v":2},{"$f":"+'[5]para PQR (2)'!G1173","v":"PENDIENTE"}]
[null,{"$f":"+'[5]para PQR (2)'!B1174","v":2761702022},{"$f":"+'[5]para PQR (2)'!C1174","v":"SUBDIRECCION DE ADMINISTRACION INMOBILIARIA Y DE ESPACIO PUBLICO"},{"$f":"+'[5]para PQR (2)'!D1174","v":"ESCRITO"},{"$f":"+'[5]para PQR (2)'!E1174","v":"DERECHO DE PETICION DE INTERES PARTICULAR"},{"$f":"+'[5]para PQR (2)'!F1174","v":2},{"$f":"+'[5]para PQR (2)'!G1174","v":"PENDIENTE"}]
[null,{"$f":"+'[5]para PQR (2)'!B1175","v":2764162022},{"$f":"+'[5]para PQR (2)'!C1175","v":"SUBDIRECCION DE ADMINISTRACION INMOBILIARIA Y DE ESPACIO PUBLICO"},{"$f":"+'[5]para PQR (2)'!D1175","v":"ESCRITO"},{"$f":"+'[5]para PQR (2)'!E1175","v":"DERECHO DE PETICION DE INTERES PARTICULAR"},{"$f":"+'[5]para PQR (2)'!F1175","v":1},{"$f":"+'[5]para PQR (2)'!G1175","v":"PENDIENTE"}]
[null,{"$f":"+'[5]para PQR (2)'!B1176","v":2764412022},{"$f":"+'[5]para PQR (2)'!C1176","v":"SUBDIRECCION DE ADMINISTRACION INMOBILIARIA Y DE ESPACIO PUBLICO"},{"$f":"+'[5]para PQR (2)'!D1176","v":"ESCRITO"},{"$f":"+'[5]para PQR (2)'!E1176","v":"DERECHO DE PETICION DE INTERES PARTICULAR"},{"$f":"+'[5]para PQR (2)'!F1176","v":1},{"$f":"+'[5]para PQR (2)'!G1176","v":"PENDIENTE"}]
[null,{"$f":"+'[5]para PQR (2)'!B1177","v":2764812022},{"$f":"+'[5]para PQR (2)'!C1177","v":"SUBDIRECCION DE ADMINISTRACION INMOBILIARIA Y DE ESPACIO PUBLICO"},{"$f":"+'[5]para PQR (2)'!D1177","v":"ESCRITO"},{"$f":"+'[5]para PQR (2)'!E1177","v":"DERECHO DE PETICION DE INTERES PARTICULAR"},{"$f":"+'[5]para PQR (2)'!F1177","v":1},{"$f":"+'[5]para PQR (2)'!G1177","v":"PENDIENTE"}]
[null,{"$f":"+'[5]para PQR (2)'!B1178","v":2770002022},{"$f":"+'[5]para PQR (2)'!C1178","v":"SUBDIRECCION DE ADMINISTRACION INMOBILIARIA Y DE ESPACIO PUBLICO"},{"$f":"+'[5]para PQR (2)'!D1178","v":"E-MAIL"},{"$f":"+'[5]para PQR (2)'!E1178","v":"DERECHO DE PETICION DE INTERES GENERAL"},{"$f":"+'[5]para PQR (2)'!F1178","v":1},{"$f":"+'[5]para PQR (2)'!G1178","v":"PENDIENTE"}]
[null,{"$f":"+'[5]para PQR (2)'!B1179","v":2772152022},{"$f":"+'[5]para PQR (2)'!C1179","v":"SUBDIRECCION DE ADMINISTRACION INMOBILIARIA Y DE ESPACIO PUBLICO"},{"$f":"+'[5]para PQR (2)'!D1179","v":"WEB"},{"$f":"+'[5]para PQR (2)'!E1179","v":"DERECHO DE PETICION DE INTERES GENERAL"},{"$f":"+'[5]para PQR (2)'!F1179","v":1},{"$f":"+'[5]para PQR (2)'!G1179","v":"PENDIENTE"}]
[null,{"$f":"+'[5]para PQR (2)'!B1180","v":2265492022},{"$f":"+'[5]para PQR (2)'!C1180","v":"SUBDIRECCION DE REGISTRO INMOBILIARIO"},{"$f":"+'[5]para PQR (2)'!D1180","v":"WEB"},{"$f":"+'[5]para PQR (2)'!E1180","v":"DERECHO DE PETICION DE INTERES GENERAL"},{"$f":"+'[5]para PQR (2)'!F1180","v":12},{"$f":"+'[5]para PQR (2)'!G1180","v":"GESTIONADO"}]
[null,{"$f":"+'[5]para PQR (2)'!B1181","v":2377062022},{"$f":"+'[5]para PQR (2)'!C1181","v":"SUBDIRECCION DE REGISTRO INMOBILIARIO"},{"$f":"+'[5]para PQR (2)'!D1181","v":"E-MAIL"},{"$f":"+'[5]para PQR (2)'!E1181","v":"DERECHO DE PETICION DE INTERES PARTICULAR"},{"$f":"+'[5]para PQR (2)'!F1181","v":14},{"$f":"+'[5]para PQR (2)'!G1181","v":"GESTIONADO"}]
[null,{"$f":"+'[5]para PQR (2)'!B1182","v":2449342022},{"$f":"+'[5]para PQR (2)'!C1182","v":"SUBDIRECCION DE REGISTRO INMOBILIARIO"},{"$f":"+'[5]para PQR (2)'!D1182","v":"WEB"},{"$f":"+'[5]para PQR (2)'!E1182","v":"DERECHO DE PETICION DE INTERES PARTICULAR"},{"$f":"+'[5]para PQR (2)'!F1182","v":3},{"$f":"+'[5]para PQR (2)'!G1182","v":"PENDIENTE"}]
[null,{"$f":"+'[5]para PQR (2)'!B1183","v":2459772022},{"$f":"+'[5]para PQR (2)'!C1183","v":"SUBDIRECCION DE REGISTRO INMOBILIARIO"},{"$f":"+'[5]para PQR (2)'!D1183","v":"E-MAIL"},{"$f":"+'[5]para PQR (2)'!E1183","v":"DERECHO DE PETICION DE INTERES PARTICULAR"},{"$f":"+'[5]para PQR (2)'!F1183","v":14},{"$f":"+'[5]para PQR (2)'!G1183","v":"GESTIONADO"}]
[null,{"$f":"+'[5]para PQR (2)'!B1184","v":2477332022},{"$f":"+'[5]para PQR (2)'!C1184","v":"SUBDIRECCION DE ADMINISTRACION INMOBILIARIA Y DE ESPACIO PUBLICO"},{"$f":"+'[5]para PQR (2)'!D1184","v":"E-MAIL"},{"$f":"+'[5]para PQR (2)'!E1184","v":"DERECHO DE PETICION DE INTERES PARTICULAR"},{"$f":"+'[5]para PQR (2)'!F1184","v":7},{"$f":"+'[5]para PQR (2)'!G1184","v":"GESTIONADO"}]
[null,{"$f":"+'[5]para PQR (2)'!B1185","v":2477902022},{"$f":"+'[5]para PQR (2)'!C1185","v":"SUBDIRECCION DE REGISTRO INMOBILIARIO"},{"$f":"+'[5]para PQR (2)'!D1185","v":"WEB"},{"$f":"+'[5]para PQR (2)'!E1185","v":"DERECHO DE PETICION DE INTERES PARTICULAR"},{"$f":"+'[5]para PQR (2)'!F1185","v":12},{"$f":"+'[5]para PQR (2)'!G1185","v":"GESTIONADO"}]
[null,{"$f":"+'[5]para PQR (2)'!B1186","v":2478602022},{"$f":"+'[5]para PQR (2)'!C1186","v":"SUBDIRECCION DE REGISTRO INMOBILIARIO"},{"$f":"+'[5]para PQR (2)'!D1186","v":"E-MAIL"},{"$f":"+'[5]para PQR (2)'!E1186","v":"DERECHO DE PETICION DE INTERES PARTICULAR"},{"$f":"+'[5]para PQR (2)'!F1186","v":12},{"$f":"+'[5]para PQR (2)'!G1186","v":"GESTIONADO"}]
[null,{"$f":"+'[5]para PQR (2)'!B1187","v":2491262022},{"$f":"+'[5]para PQR (2)'!C1187","v":"SUBDIRECCION DE REGISTRO INMOBILIARIO"},{"$f":"+'[5]para PQR (2)'!D1187","v":"WEB"},{"$f":"+'[5]para PQR (2)'!E1187","v":"DERECHO DE PETICION DE INTERES PARTICULAR"},{"$f":"+'[5]para PQR (2)'!F1187","v":11},{"$f":"+'[5]para PQR (2)'!G1187","v":"GESTIONADO"}]
[null,{"$f":"+'[5]para PQR (2)'!B1188","v":2498342022},{"$f":"+'[5]para PQR (2)'!C1188","v":"SUBDIRECCION DE REGISTRO INMOBILIARIO"},{"$f":"+'[5]para PQR (2)'!D1188","v":"WEB"},{"$f":"+'[5]para PQR (2)'!E1188","v":"DERECHO DE PETICION DE INTERES PARTICULAR"},{"$f":"+'[5]para PQR (2)'!F1188","v":10},{"$f":"+'[5]para PQR (2)'!G1188","v":"GESTIONADO"}]
[null,{"$f":"+'[5]para PQR (2)'!B1189","v":2503472022},{"$f":"+'[5]para PQR (2)'!C1189","v":"SUBDIRECCION DE ADMINISTRACION INMOBILIARIA Y DE ESPACIO PUBLICO"},{"$f":"+'[5]para PQR (2)'!D1189","v":"E-MAIL"},{"$f":"+'[5]para PQR (2)'!E1189","v":"DERECHO DE PETICION DE INTERES PARTICULAR"},{"$f":"+'[5]para PQR (2)'!F1189","v":5},{"$f":"+'[5]para PQR (2)'!G1189","v":"GESTIONADO"}]
[null,{"$f":"+'[5]para PQR (2)'!B1190","v":2509292022},{"$f":"+'[5]para PQR (2)'!C1190","v":"SUBDIRECCION DE REGISTRO INMOBILIARIO"},{"$f":"+'[5]para PQR (2)'!D1190","v":"E-MAIL"},{"$f":"+'[5]para PQR (2)'!E1190","v":"DERECHO DE PETICION DE INTERES PARTICULAR"},{"$f":"+'[5]para PQR (2)'!F1190","v":10},{"$f":"+'[5]para PQR (2)'!G1190","v":"GESTIONADO"}]
[null,{"$f":"+'[5]para PQR (2)'!B1191","v":2509622022},{"$f":"+'[5]para PQR (2)'!C1191","v":"SUBDIRECCION DE REGISTRO INMOBILIARIO"},{"$f":"+'[5]para PQR (2)'!D1191","v":"E-MAIL"},{"$f":"+'[5]para PQR (2)'!E1191","v":"DERECHO DE PETICION DE INTERES PARTICULAR"},{"$f":"+'[5]para PQR (2)'!F1191","v":12},{"$f":"+'[5]para PQR (2)'!G1191","v":"GESTIONADO"}]
[null,{"$f":"+'[5]para PQR (2)'!B1192","v":2510022022},{"$f":"+'[5]para PQR (2)'!C1192","v":"SUBDIRECCION DE ADMINISTRACION INMOBILIARIA Y DE ESPACIO PUBLICO"},{"$f":"+'[5]para PQR (2)'!D1192","v":"E-MAIL"},{"$f":"+'[5]para PQR (2)'!E1192","v":"DERECHO DE PETICION DE INTERES PARTICULAR"},{"$f":"+'[5]para PQR (2)'!F1192","v":15},{"$f":"+'[5]para PQR (2)'!G1192","v":"GESTIONADO"}]
[null,{"$f":"+'[5]para PQR (2)'!B1193","v":2515282022},{"$f":"+'[5]para PQR (2)'!C1193","v":"SUBDIRECCION DE REGISTRO INMOBILIARIO"},{"$f":"+'[5]para PQR (2)'!D1193","v":"WEB"},{"$f":"+'[5]para PQR (2)'!E1193","v":"DERECHO DE PETICION DE INTERES GENERAL"},{"$f":"+'[5]para PQR (2)'!F1193","v":10},{"$f":"+'[5]para PQR (2)'!G1193","v":"GESTIONADO"}]
[null,{"$f":"+'[5]para PQR (2)'!B1194","v":2515482022},{"$f":"+'[5]para PQR (2)'!C1194","v":"SUBDIRECCION DE REGISTRO INMOBILIARIO"},{"$f":"+'[5]para PQR (2)'!D1194","v":"WEB"},{"$f":"+'[5]para PQR (2)'!E1194","v":"DERECHO DE PETICION DE INTERES PARTICULAR"},{"$f":"+'[5]para PQR (2)'!F1194","v":14},{"$f":"+'[5]para PQR (2)'!G1194","v":"GESTIONADO"}]
[null,{"$f":"+'[5]para PQR (2)'!B1195","v":2522342022},{"$f":"+'[5]para PQR (2)'!C1195","v":"SUBDIRECCION DE REGISTRO INMOBILIARIO"},{"$f":"+'[5]para PQR (2)'!D1195","v":"WEB"},{"$f":"+'[5]para PQR (2)'!E1195","v":"DERECHO DE PETICION DE INTERES PARTICULAR"},{"$f":"+'[5]para PQR (2)'!F1195","v":12},{"$f":"+'[5]para PQR (2)'!G1195","v":"GESTIONADO"}]
[null,{"$f":"+'[5]para PQR (2)'!B1196","v":2523872022},{"$f":"+'[5]para PQR (2)'!C1196","v":"SUBDIRECCION DE REGISTRO INMOBILIARIO"},{"$f":"+'[5]para PQR (2)'!D1196","v":"E-MAIL"},{"$f":"+'[5]para PQR (2)'!E1196","v":"DERECHO DE PETICION DE INTERES PARTICULAR"},{"$f":"+'[5]para PQR (2)'!F1196","v":14},{"$f":"+'[5]para PQR (2)'!G1196","v":"GESTIONADO"}]
[null,{"$f":"+'[5]para PQR (2)'!B1197","v":2529112022},{"$f":"+'[5]para PQR (2)'!C1197","v":"SUBDIRECCION DE REGISTRO INMOBILIARIO"},{"$f":"+'[5]para PQR (2)'!D1197","v":"WEB"},{"$f":"+'[5]para PQR (2)'!E1197","v":"CONSULTA"},{"$f":"+'[5]para PQR (2)'!F1197","v":15},{"$f":"+'[5]para PQR (2)'!G1197","v":"PENDIENTE"}]
[null,{"$f":"+'[5]para PQR (2)'!B1198","v":2532512022},{"$f":"+'[5]para PQR (2)'!C1198","v":"SUBDIRECCION DE REGISTRO INMOBILIARIO"},{"$f":"+'[5]para PQR (2)'!D1198","v":"WEB"},{"$f":"+'[5]para PQR (2)'!E1198","v":"DERECHO DE PETICION DE INTERES PARTICULAR"},{"$f":"+'[5]para PQR (2)'!F1198","v":4},{"$f":"+'[5]para PQR (2)'!G1198","v":"PENDIENTE"}]
[null,{"$f":"+'[5]para PQR (2)'!B1199","v":2534872022},{"$f":"+'[5]para PQR (2)'!C1199","v":"SUBDIRECCION DE REGISTRO INMOBILIARIO"},{"$f":"+'[5]para PQR (2)'!D1199","v":"WEB"},{"$f":"+'[5]para PQR (2)'!E1199","v":"CONSULTA"},{"$f":"+'[5]para PQR (2)'!F1199","v":15},{"$f":"+'[5]para PQR (2)'!G1199","v":"PENDIENTE"}]
[null,{"$f":"+'[5]para PQR (2)'!B1200","v":2546072022},{"$f":"+'[5]para PQR (2)'!C1200","v":"SUBDIRECCION DE ADMINISTRACION INMOBILIARIA Y DE ESPACIO PUBLICO"},{"$f":"+'[5]para PQR (2)'!D1200","v":"E-MAIL"},{"$f":"+'[5]para PQR (2)'!E1200","v":"DERECHO DE PETICION DE INTERES PARTICULAR"},{"$f":"+'[5]para PQR (2)'!F1200","v":9},{"$f":"+'[5]para PQR (2)'!G1200","v":"GESTIONADO"}]
[null,{"$f":"+'[5]para PQR (2)'!B1201","v":2551372022},{"$f":"+'[5]para PQR (2)'!C1201","v":"SUBDIRECCION DE REGISTRO INMOBILIARIO"},{"$f":"+'[5]para PQR (2)'!D1201","v":"WEB"},{"$f":"+'[5]para PQR (2)'!E1201","v":"DERECHO DE PETICION DE INTERES PARTICULAR"},{"$f":"+'[5]para PQR (2)'!F1201","v":14},{"$f":"+'[5]para PQR (2)'!G1201","v":"PENDIENTE"}]
[null,{"$f":"+'[5]para PQR (2)'!B1202","v":2562072022},{"$f":"+'[5]para PQR (2)'!C1202","v":"SUBDIRECCION DE REGISTRO INMOBILIARIO"},{"$f":"+'[5]para PQR (2)'!D1202","v":"ESCRITO"},{"$f":"+'[5]para PQR (2)'!E1202","v":"DERECHO DE PETICION DE INTERES PARTICULAR"},{"$f":"+'[5]para PQR (2)'!F1202","v":13},{"$f":"+'[5]para PQR (2)'!G1202","v":"PENDIENTE"}]
[null,{"$f":"+'[5]para PQR (2)'!B1203","v":2595832022},{"$f":"+'[5]para PQR (2)'!C1203","v":"SUBDIRECCION DE REGISTRO INMOBILIARIO"},{"$f":"+'[5]para PQR (2)'!D1203","v":"ESCRITO"},{"$f":"+'[5]para PQR (2)'!E1203","v":"DERECHO DE PETICION DE INTERES PARTICULAR"},{"$f":"+'[5]para PQR (2)'!F1203","v":11},{"$f":"+'[5]para PQR (2)'!G1203","v":"PENDIENTE"}]
[null,{"$f":"+'[5]para PQR (2)'!B1204","v":2614312022},{"$f":"+'[5]para PQR (2)'!C1204","v":"SUBDIRECCION DE REGISTRO INMOBILIARIO"},{"$f":"+'[5]para PQR (2)'!D1204","v":"ESCRITO"},{"$f":"+'[5]para PQR (2)'!E1204","v":"DERECHO DE PETICION DE INTERES PARTICULAR"},{"$f":"+'[5]para PQR (2)'!F1204","v":10},{"$f":"+'[5]para PQR (2)'!G1204","v":"PENDIENTE"}]
[null,{"$f":"+'[5]para PQR (2)'!B1205","v":2614452022},{"$f":"+'[5]para PQR (2)'!C1205","v":"SUBDIRECCION DE REGISTRO INMOBILIARIO"},{"$f":"+'[5]para PQR (2)'!D1205","v":"ESCRITO"},{"$f":"+'[5]para PQR (2)'!E1205","v":"DERECHO DE PETICION DE INTERES PARTICULAR"},{"$f":"+'[5]para PQR (2)'!F1205","v":10},{"$f":"+'[5]para PQR (2)'!G1205","v":"PENDIENTE"}]
[null,{"$f":"+'[5]para PQR (2)'!B1206","v":2614922022},{"$f":"+'[5]para PQR (2)'!C1206","v":"SUBDIRECCION DE REGISTRO INMOBILIARIO"},{"$f":"+'[5]para PQR (2)'!D1206","v":"ESCRITO"},{"$f":"+'[5]para PQR (2)'!E1206","v":"DERECHO DE PETICION DE INTERES PARTICULAR"},{"$f":"+'[5]para PQR (2)'!F1206","v":10},{"$f":"+'[5]para PQR (2)'!G1206","v":"PENDIENTE"}]
[null,{"$f":"+'[5]para PQR (2)'!B1207","v":2631232022},{"$f":"+'[5]para PQR (2)'!C1207","v":"SUBDIRECCION DE REGISTRO INMOBILIARIO"},{"$f":"+'[5]para PQR (2)'!D1207","v":"ESCRITO"},{"$f":"+'[5]para PQR (2)'!E1207","v":"DERECHO DE PETICION DE INTERES PARTICULAR"},{"$f":"+'[5]para PQR (2)'!F1207","v":9},{"$f":"+'[5]para PQR (2)'!G1207","v":"PENDIENTE"}]
[null,{"$f":"+'[5]para PQR (2)'!B1208","v":2632712022},{"$f":"+'[5]para PQR (2)'!C1208","v":"SUBDIRECCION DE REGISTRO INMOBILIARIO"},{"$f":"+'[5]para PQR (2)'!D1208","v":"ESCRITO"},{"$f":"+'[5]para PQR (2)'!E1208","v":"DERECHO DE PETICION DE INTERES PARTICULAR"},{"$f":"+'[5]para PQR (2)'!F1208","v":9},{"$f":"+'[5]para PQR (2)'!G1208","v":"PENDIENTE"}]
[null,{"$f":"+'[5]para PQR (2)'!B1209","v":2636932022},{"$f":"+'[5]para PQR (2)'!C1209","v":"SUBDIRECCION DE REGISTRO INMOBILIARIO"},{"$f":"+'[5]para PQR (2)'!D1209","v":"ESCRITO"},{"$f":"+'[5]para PQR (2)'!E1209","v":"DERECHO DE PETICION DE INTERES PARTICULAR"},{"$f":"+'[5]para PQR (2)'!F1209","v":9},{"$f":"+'[5]para PQR (2)'!G1209","v":"PENDIENTE"}]
[null,{"$f":"+'[5]para PQR (2)'!B1210","v":2638792022},{"$f":"+'[5]para PQR (2)'!C1210","v":"SUBDIRECCION DE REGISTRO INMOBILIARIO"},{"$f":"+'[5]para PQR (2)'!D1210","v":"E-MAIL"},{"$f":"+'[5]para PQR (2)'!E1210","v":"DERECHO DE PETICION DE INTERES PARTICULAR"},{"$f":"+'[5]para PQR (2)'!F1210","v":6},{"$f":"+'[5]para PQR (2)'!G1210","v":"PENDIENTE"}]
[null,{"$f":"+'[5]para PQR (2)'!B1211","v":2645942022},{"$f":"+'[5]para PQR (2)'!C1211","v":"SUBDIRECCION DE REGISTRO INMOBILIARIO"},{"$f":"+'[5]para PQR (2)'!D1211","v":"E-MAIL"},{"$f":"+'[5]para PQR (2)'!E1211","v":"DERECHO DE PETICION DE INTERES PARTICULAR"},{"$f":"+'[5]para PQR (2)'!F1211","v":8},{"$f":"+'[5]para PQR (2)'!G1211","v":"PENDIENTE"}]
[null,{"$f":"+'[5]para PQR (2)'!B1212","v":2651612022},{"$f":"+'[5]para PQR (2)'!C1212","v":"SUBDIRECCION DE REGISTRO INMOBILIARIO"},{"$f":"+'[5]para PQR (2)'!D1212","v":"ESCRITO"},{"$f":"+'[5]para PQR (2)'!E1212","v":"DERECHO DE PETICION DE INTERES PARTICULAR"},{"$f":"+'[5]para PQR (2)'!F1212","v":8},{"$f":"+'[5]para PQR (2)'!G1212","v":"PENDIENTE"}]
[null,{"$f":"+'[5]para PQR (2)'!B1213","v":2651882022},{"$f":"+'[5]para PQR (2)'!C1213","v":"SUBDIRECCION DE REGISTRO INMOBILIARIO"},{"$f":"+'[5]para PQR (2)'!D1213","v":"ESCRITO"},{"$f":"+'[5]para PQR (2)'!E1213","v":"DERECHO DE PETICION DE INTERES PARTICULAR"},{"$f":"+'[5]para PQR (2)'!F1213","v":8},{"$f":"+'[5]para PQR (2)'!G1213","v":"PENDIENTE"}]
[null,{"$f":"+'[5]para PQR (2)'!B1214","v":2671882022},{"$f":"+'[5]para PQR (2)'!C1214","v":"SUBDIRECCION DE REGISTRO INMOBILIARIO"},{"$f":"+'[5]para PQR (2)'!D1214","v":"ESCRITO"},{"$f":"+'[5]para PQR (2)'!E1214","v":"DERECHO DE PETICION DE INTERES PARTICULAR"},{"$f":"+'[5]para PQR (2)'!F1214","v":6},{"$f":"+'[5]para PQR (2)'!G1214","v":"GESTIONADO"}]
[null,{"$f":"+'[5]para PQR (2)'!B1215","v":2691812022},{"$f":"+'[5]para PQR (2)'!C1215","v":"SUBDIRECCION DE REGISTRO INMOBILIARIO"},{"$f":"+'[5]para PQR (2)'!D1215","v":"E-MAIL"},{"$f":"+'[5]para PQR (2)'!E1215","v":"DERECHO DE PETICION DE INTERES PARTICULAR"},{"$f":"+'[5]para PQR (2)'!F1215","v":6},{"$f":"+'[5]para PQR (2)'!G1215","v":"PENDIENTE"}]
[null,{"$f":"+'[5]para PQR (2)'!B1216","v":2701342022},{"$f":"+'[5]para PQR (2)'!C1216","v":"SUBDIRECCION DE REGISTRO INMOBILIARIO"},{"$f":"+'[5]para PQR (2)'!D1216","v":"ESCRITO"},{"$f":"+'[5]para PQR (2)'!E1216","v":"DERECHO DE PETICION DE INTERES PARTICULAR"},{"$f":"+'[5]para PQR (2)'!F1216","v":6},{"$f":"+'[5]para PQR (2)'!G1216","v":"PENDIENTE"}]
[null,{"$f":"+'[5]para PQR (2)'!B1217","v":2716712022},{"$f":"+'[5]para PQR (2)'!C1217","v":"SUBDIRECCION DE REGISTRO INMOBILIARIO"},{"$f":"+'[5]para PQR (2)'!D1217","v":"WEB"},{"$f":"+'[5]para PQR (2)'!E1217","v":"DERECHO DE PETICION DE INTERES GENERAL"},{"$f":"+'[5]para PQR (2)'!F1217","v":5},{"$f":"+'[5]para PQR (2)'!G1217","v":"PENDIENTE"}]
[null,{"$f":"+'[5]para PQR (2)'!B1218","v":2718712022},{"$f":"+'[5]para PQR (2)'!C1218","v":"SUBDIRECCION DE REGISTRO INMOBILIARIO"},{"$f":"+'[5]para PQR (2)'!D1218","v":"WEB"},{"$f":"+'[5]para PQR (2)'!E1218","v":"DERECHO DE PETICION DE INTERES GENERAL"},{"$f":"+'[5]para PQR (2)'!F1218","v":2},{"$f":"+'[5]para PQR (2)'!G1218","v":"PENDIENTE"}]
[null,{"$f":"+'[5]para PQR (2)'!B1219","v":2719592022},{"$f":"+'[5]para PQR (2)'!C1219","v":"SUBDIRECCION DE REGISTRO INMOBILIARIO"},{"$f":"+'[5]para PQR (2)'!D1219","v":"ESCRITO"},{"$f":"+'[5]para PQR (2)'!E1219","v":"DERECHO DE PETICION DE INTERES PARTICULAR"},{"$f":"+'[5]para PQR (2)'!F1219","v":4},{"$f":"+'[5]para PQR (2)'!G1219","v":"PENDIENTE"}]
[null,{"$f":"+'[5]para PQR (2)'!B1220","v":2727212022},{"$f":"+'[5]para PQR (2)'!C1220","v":"SUBDIRECCION DE REGISTRO INMOBILIARIO"},{"$f":"+'[5]para PQR (2)'!D1220","v":"ESCRITO"},{"$f":"+'[5]para PQR (2)'!E1220","v":"DERECHO DE PETICION DE INTERES PARTICULAR"},{"$f":"+'[5]para PQR (2)'!F1220","v":4},{"$f":"+'[5]para PQR (2)'!G1220","v":"PENDIENTE"}]
[null,{"$f":"+'[5]para PQR (2)'!B1221","v":2738872022},{"$f":"+'[5]para PQR (2)'!C1221","v":"SUBDIRECCION DE REGISTRO INMOBILIARIO"},{"$f":"+'[5]para PQR (2)'!D1221","v":"WEB"},{"$f":"+'[5]para PQR (2)'!E1221","v":"DERECHO DE PETICION DE INTERES PARTICULAR"},{"$f":"+'[5]para PQR (2)'!F1221","v":3},{"$f":"+'[5]para PQR (2)'!G1221","v":"PENDIENTE"}]
[null,{"$f":"+'[5]para PQR (2)'!B1222","v":2739082022},{"$f":"+'[5]para PQR (2)'!C1222","v":"SUBDIRECCION DE ADMINISTRACION INMOBILIARIA Y DE ESPACIO PUBLICO"},{"$f":"+'[5]para PQR (2)'!D1222","v":"WEB"},{"$f":"+'[5]para PQR (2)'!E1222","v":"SOLICITUD DE ACCESO A LA INFORMACION"},{"$f":"+'[5]para PQR (2)'!F1222","v":1},{"$f":"+'[5]para PQR (2)'!G1222","v":"PENDIENTE"}]
[null,{"$f":"+'[5]para PQR (2)'!B1223","v":2747382022},{"$f":"+'[5]para PQR (2)'!C1223","v":"SUBDIRECCION DE REGISTRO INMOBILIARIO"},{"$f":"+'[5]para PQR (2)'!D1223","v":"ESCRITO"},{"$f":"+'[5]para PQR (2)'!E1223","v":"DERECHO DE PETICION DE INTERES PARTICULAR"},{"$f":"+'[5]para PQR (2)'!F1223","v":3},{"$f":"+'[5]para PQR (2)'!G1223","v":"PENDIENTE"}]
[null,{"$f":"+'[5]para PQR (2)'!B1224","v":2747502022},{"$f":"+'[5]para PQR (2)'!C1224","v":"SUBDIRECCION DE REGISTRO INMOBILIARIO"},{"$f":"+'[5]para PQR (2)'!D1224","v":"ESCRITO"},{"$f":"+'[5]para PQR (2)'!E1224","v":"DERECHO DE PETICION DE INTERES PARTICULAR"},{"$f":"+'[5]para PQR (2)'!F1224","v":3},{"$f":"+'[5]para PQR (2)'!G1224","v":"PENDIENTE"}]
[null,{"$f":"+'[5]para PQR (2)'!B1225","v":2747742022},{"$f":"+'[5]para PQR (2)'!C1225","v":"SUBDIRECCION DE REGISTRO INMOBILIARIO"},{"$f":"+'[5]para PQR (2)'!D1225","v":"ESCRITO"},{"$f":"+'[5]para PQR (2)'!E1225","v":"DERECHO DE PETICION DE INTERES PARTICULAR"},{"$f":"+'[5]para PQR (2)'!F1225","v":3},{"$f":"+'[5]para PQR (2)'!G1225","v":"PENDIENTE"}]

{"sheet":"Peticiones ciudadanas por tema","index":6,"n_rows":29,"n_cols":6,"rows_kept":29,"cut":false,"hidden":false,"merged":[[24,1,28,1],[8,2,9,5],[10,2,10,5],[11,1,12,5],[13,5,27,7],[19,1,23,1],[14,1,16,1]]}
[]
[]
[]
[]
[]
[]
[]
[]
[]
[]
[]
[]
[]
[null,"Dependencia","Tema de la petición","Cantidad",null,"En el cuadro se presenta el TOP 5 por dependencia, de los temas mas frecuentes asociados a los trámites y servicios en las PQRS presentadas por la ciudadanía, durante el periodo en estudio y asignadas a la entidad, registrados en el formato 127- FORAC-19 establecido en el Sistema de Gestión Institucional ."]
[null,"OFICINA ASESORA JURIDICA","Asuntos Jurídicos",2]
[null,null,"Asesoria en contratos de administración",1]
[null,null,"Contratos jurídica",1]
[null,"SUBDIRECCION ADMINISTRATIVA  FINANCIERA Y DE CONTROL DISCIPLINARIO","Asesoría en administración y sostenibilidad del espacio público",1]
[null,"SUBDIRECCION ADMINISTRATIVA Y FINANCIERA","Talento humano",1]
[null,"SUBDIRECCION DE ADMINISTRACION INMOBILIARIA Y DE ESPACIO PUBLICO","Asesoria en contratos de administración",12]
[null,null,"Asesoría en administración y sostenibilidad del espacio público",10]
[null,null,"Recuperación de Espacio Público",8]
[null,null,"Autorización de uso",7]
[null,null,"Parqueaderos",5]
[null,"SUBDIRECCION DE REGISTRO INMOBILIARIO","Certificación de la propiedad inmobiliaria",19]
[null,null,"Asesoría en titulación ",4]
[null,null,"Certificación_de_la_propiedad_inmobiliaria_distrital",3]
[null,null,"Denuncia otros elementos",1]
[null,null,"Incorporación de zonas de cesión",1]

{"sheet":"Recomendaciones a la ciudadanía","index":7,"n_rows":13,"n_cols":11,"rows_kept":13,"cut":false,"hidden":false,"merged":[[10,1,23,9],[12,10,12,13],[25,3,25,14],[27,3,27,13]]}
[]
[]
[]
[]
[]
[]
[]
[]
[]
[]
[null,"Se recomienda a la ciudadanía y a otras entidades del distrito, para el registro y/o asignación de peticiones, Quejas, Reclamos o Sugerencias-PQRS tener en cuenta la competencia en materia de recuperación de espacio público y el alcance de  las competencias del DADEP.\n\nLo anterior para evitar los traslados entre entidades y así mejorar la oportunidad de las respuestas de conformidad con los  términos de Ley."]
[]
[null,null,null,null,null,null,null,null,null,null,"Preguntas frecuentes"]

{"sheet":"para pqr","index":8,"n_rows":2252,"n_cols":7,"rows_kept":2252,"cut":false,"hidden":true,"merged":[[2208,0,2212,0],[2182,0,2186,0],[2187,0,2190,0],[2191,0,2195,0],[2196,0,2200,0],[2201,0,2205,0],[2206,0,2207,0]]}
["REGISTRADAS Y RECIBIDAS"]
["Número petición\nNumero de registro en el Sistema","Dependencia:\nNombre asociado al usuario que tiene a cargo la petición ","Canal:\nNombre del canal parametrizado en el sistema por el cual fue registrada la petición","Tipología actualizada: \nTipo de documento utilizado por la entidad","Días gestión\nDías calendario transcurridos desde la fecha de inicio de términos hasta el último día del mes","Estado del Requerimiento\n \"Gestionado\" o \"Pendiente\" de respuesta definitiva por  parte de la Defensoría del Espacio Público o de las entidades competentes"]
["Número petición","Dependencia","Canal","Tipo petición","Días gestión","Tipo reporte"]
[2024192021,"AREA DE ATENCION A LA CIUDADANIA","WEB","DERECHO DE PETICION DE INTERES GENERAL",86,"GESTIONADOS"]
[2842242021,"SUBDIRECCION DE REGISTRO INMOBILIARIO","ESCRITO","DERECHO DE PETICION DE INTERES PARTICULAR",23,"GESTIONADOS"]
[2861072021,"SUBDIRECCION DE ADMINISTRACION INMOBILIARIA Y DE ESPACIO PUBLICO","WEB","DERECHO DE PETICION DE INTERES GENERAL",26,"GESTIONADOS"]
[2950712021,"SUBDIRECCION DE REGISTRO INMOBILIARIO","WEB","DERECHO DE PETICION DE INTERES GENERAL",24,"GESTIONADOS"]
[2991912021,"SUBDIRECCION DE REGISTRO INMOBILIARIO","WEB","CONSULTA",34,"GESTIONADOS"]
[2993652021,"AREA DE ATENCION A LA CIUDADANIA","WEB","DERECHO DE PETICION DE INTERES PARTICULAR",1,"GESTIONADOS"]
[2998152021,"AREA DE ATENCION A LA CIUDADANIA","ESCRITO","DERECHO DE PETICION DE INTERES PARTICULAR",29,"GESTIONADOS"]
[2998262021,"SUBDIRECCION DE ADMINISTRACION INMOBILIARIA Y DE ESPACIO PUBLICO","ESCRITO","DERECHO DE PETICION DE INTERES PARTICULAR",29,"GESTIONADOS"]
[2999072021,"SUBDIRECCION DE REGISTRO INMOBILIARIO","ESCRITO","DERECHO DE PETICION DE INTERES PARTICULAR",29,"GESTIONADOS"]
[3015422021,"AREA DE ATENCION A LA CIUDADANIA","ESCRITO","SOLICITUD DE COPIA",29,"GESTIONADOS"]
[3015422021,"SUBDIRECCION DE ADMINISTRACION INMOBILIARIA Y DE ESPACIO PUBLICO","ESCRITO","SOLICITUD DE COPIA",29,"GESTIONADOS"]
[3015422021,"SUBDIRECCION DE REGISTRO INMOBILIARIO","ESCRITO","SOLICITUD DE COPIA",30,"GESTIONADOS"]
[3033252021,"AREA DE ATENCION A LA CIUDADANIA","E-MAIL","DERECHO DE PETICION DE INTERES GENERAL",1,"GESTIONADOS"]
[3057872021,"SUBDIRECCION DE ADMINISTRACION INMOBILIARIA Y DE ESPACIO PUBLICO","WEB","DERECHO DE PETICION DE INTERES GENERAL",27,"GESTIONADOS"]
[3058842021,"SUBDIRECCION DE ADMINISTRACION INMOBILIARIA Y DE ESPACIO PUBLICO","ESCRITO","DERECHO DE PETICION DE INTERES PARTICULAR",27,"GESTIONADOS"]
[3066402021,"SUBDIRECCION DE ADMINISTRACION INMOBILIARIA Y DE ESPACIO PUBLICO","ESCRITO","DERECHO DE PETICION DE INTERES PARTICULAR",27,"GESTIONADOS"]
[3066402021,"SUBDIRECCION DE REGISTRO INMOBILIARIO","ESCRITO","DERECHO DE PETICION DE INTERES PARTICULAR",29,"GESTIONADOS"]
[3067332021,"SUBDIRECCION DE ADMINISTRACION INMOBILIARIA Y DE ESPACIO PUBLICO","ESCRITO","DERECHO DE PETICION DE INTERES PARTICULAR",27,"GESTIONADOS"]
[3067362021,"SUBDIRECCION DE ADMINISTRACION INMOBILIARIA Y DE ESPACIO PUBLICO","ESCRITO","DERECHO DE PETICION DE INTERES PARTICULAR",27,"GESTIONADOS"]
[3067402021,"SUBDIRECCION DE ADMINISTRACION INMOBILIARIA Y DE ESPACIO PUBLICO","ESCRITO","DERECHO DE PETICION DE INTERES PARTICULAR",27,"GESTIONADOS"]
[3067802021,"SUBDIRECCION DE ADMINISTRACION INMOBILIARIA Y DE ESPACIO PUBLICO","ESCRITO","DERECHO DE PETICION DE INTERES PARTICULAR",27,"GESTIONADOS"]
[3071582021,"SUBDIRECCION DE REGISTRO INMOBILIARIO","ESCRITO","DERECHO DE PETICION DE INTERES PARTICULAR",30,"GESTIONADOS"]
[3071972021,"SUBDIRECCION DE ADMINISTRACION INMOBILIARIA Y DE ESPACIO PUBLICO","ESCRITO","DERECHO DE PETICION DE INTERES PARTICULAR",26,"GESTIONADOS"]
[3072662021,"SUBDIRECCION DE ADMINISTRACION INMOBILIARIA Y DE ESPACIO PUBLICO","ESCRITO","DERECHO DE PETICION DE INTERES PARTICULAR",26,"GESTIONADOS"]
[3074242021,"SUBDIRECCION DE ADMINISTRACION INMOBILIARIA Y DE ESPACIO PUBLICO","ESCRITO","DERECHO DE PETICION DE INTERES PARTICULAR",28,"GESTIONADOS"]
[3074292021,"SUBDIRECCION DE ADMINISTRACION INMOBILIARIA Y DE ESPACIO PUBLICO","WEB","DERECHO DE PETICION DE INTERES PARTICULAR",26,"GESTIONADOS"]
[3074602021,"SUBDIRECCION DE ADMINISTRACION INMOBILIARIA Y DE ESPACIO PUBLICO","WEB","DERECHO DE PETICION DE INTERES PARTICULAR",25,"GESTIONADOS"]
[3075822021,"SUBDIRECCION DE ADMINISTRACION INMOBILIARIA Y DE ESPACIO PUBLICO","WEB","CONSULTA",29,"GESTIONADOS"]
[3085172021,"SUBDIRECCION DE ADMINISTRACION INMOBILIARIA Y DE ESPACIO PUBLICO","WEB","CONSULTA",29,"GESTIONADOS"]
[3086572021,"AREA DE ATENCION A LA CIUDADANIA","WEB","DERECHO DE PETICION DE INTERES PARTICULAR",28,"GESTIONADOS"]
[3086572021,"SUBDIRECCION ADMINISTRATIVA  FINANCIERA Y DE CONTROL DISCIPLINARIO","WEB","DERECHO DE PETICION DE INTERES PARTICULAR",28,"GESTIONADOS"]
[3086572021,"SUBDIRECCION DE ADMINISTRACION INMOBILIARIA Y DE ESPACIO PUBLICO","WEB","DERECHO DE PETICION DE INTERES PARTICULAR",26,"GESTIONADOS"]
[3086962021,"SUBDIRECCION DE ADMINISTRACION INMOBILIARIA Y DE ESPACIO PUBLICO","WEB","DERECHO DE PETICION DE INTERES GENERAL",26,"GESTIONADOS"]
[3089232021,"SUBDIRECCION DE ADMINISTRACION INMOBILIARIA Y DE ESPACIO PUBLICO","WEB","DERECHO DE PETICION DE INTERES GENERAL",27,"PENDIENTE"]
[3089252021,"SUBDIRECCION DE ADMINISTRACION INMOBILIARIA Y DE ESPACIO PUBLICO","WEB","DERECHO DE PETICION DE INTERES GENERAL",27,"GESTIONADOS"]
[3090522021,"SUBDIRECCION DE ADMINISTRACION INMOBILIARIA Y DE ESPACIO PUBLICO","WEB","QUEJA",26,"GESTIONADOS"]
[3090862021,"SUBDIRECCION DE ADMINISTRACION INMOBILIARIA Y DE ESPACIO PUBLICO","WEB","DERECHO DE PETICION DE INTERES GENERAL",26,"GESTIONADOS"]
[3091092021,"SUBDIRECCION DE ADMINISTRACION INMOBILIARIA Y DE ESPACIO PUBLICO","WEB","DERECHO DE PETICION DE INTERES GENERAL",26,"GESTIONADOS"]
[3096512021,"SUBDIRECCION DE ADMINISTRACION INMOBILIARIA Y DE ESPACIO PUBLICO","ESCRITO","DERECHO DE PETICION DE INTERES PARTICULAR",25,"GESTIONADOS"]
[3096512021,"SUBDIRECCION DE REGISTRO INMOBILIARIO","ESCRITO","DERECHO DE PETICION DE INTERES PARTICULAR",28,"GESTIONADOS"]
[3097292021,"SUBDIRECCION DE ADMINISTRACION INMOBILIARIA Y DE ESPACIO PUBLICO","ESCRITO","DERECHO DE PETICION DE INTERES PARTICULAR",25,"GESTIONADOS"]
[3097332021,"SUBDIRECCION DE ADMINISTRACION INMOBILIARIA Y DE ESPACIO PUBLICO","ESCRITO","DERECHO DE PETICION DE INTERES PARTICULAR",26,"GESTIONADOS"]
[3097432021,"AREA DE ATENCION A LA CIUDADANIA","ESCRITO","DERECHO DE PETICION DE INTERES PARTICULAR",35,"GESTIONADOS"]
[3097432021,"SUBDIRECCION DE ADMINISTRACION INMOBILIARIA Y DE ESPACIO PUBLICO","ESCRITO","DERECHO DE PETICION DE INTERES PARTICULAR",29,"GESTIONADOS"]
[3097522021,"SUBDIRECCION DE ADMINISTRACION INMOBILIARIA Y DE ESPACIO PUBLICO","WEB","DERECHO DE PETICION DE INTERES PARTICULAR",26,"GESTIONADOS"]
[3097762021,"SUBDIRECCION DE REGISTRO INMOBILIARIO","ESCRITO","DERECHO DE PETICION DE INTERES PARTICULAR",27,"GESTIONADOS"]
[3098382021,"SUBDIRECCION DE ADMINISTRACION INMOBILIARIA Y DE ESPACIO PUBLICO","WEB","DERECHO DE PETICION DE INTERES GENERAL",24,"GESTIONADOS"]
[3099322021,"SUBDIRECCION DE REGISTRO INMOBILIARIO","ESCRITO","DERECHO DE PETICION DE INTERES PARTICULAR",26,"GESTIONADOS"]
[3100742021,"SUBDIRECCION DE ADMINISTRACION INMOBILIARIA Y DE ESPACIO PUBLICO","WEB","DERECHO DE PETICION DE INTERES GENERAL",24,"GESTIONADOS"]
[3102452021,"SUBDIRECCION DE REGISTRO INMOBILIARIO","ESCRITO","DERECHO DE PETICION DE INTERES PARTICULAR",28,"GESTIONADOS"]
[3109932021,"SUBDIRECCION DE ADMINISTRACION INMOBILIARIA Y DE ESPACIO PUBLICO","TELEFONO","DERECHO DE PETICION DE INTERES GENERAL",25,"GESTIONADOS"]
[3110772021,"SUBDIRECCION DE REGISTRO INMOBILIARIO","WEB","DERECHO DE PETICION DE INTERES GENERAL",27,"GESTIONADOS"]
[3115712021,"SUBDIRECCION DE ADMINISTRACION INMOBILIARIA Y DE ESPACIO PUBLICO","WEB","DERECHO DE PETICION DE INTERES GENERAL",25,"GESTIONADOS"]
[3117872021,"SUBDIRECCION DE ADMINISTRACION INMOBILIARIA Y DE ESPACIO PUBLICO","ESCRITO","DERECHO DE PETICION DE INTERES PARTICULAR",28,"GESTIONADOS"]
[3118262021,"SUBDIRECCION DE ADMINISTRACION INMOBILIARIA Y DE ESPACIO PUBLICO","WEB","DERECHO DE PETICION DE INTERES GENERAL",25,"GESTIONADOS"]
[3118442021,"SUBDIRECCION DE ADMINISTRACION INMOBILIARIA Y DE ESPACIO PUBLICO","ESCRITO","DERECHO DE PETICION DE INTERES PARTICULAR",25,"GESTIONADOS"]
[3119852021,"SUBDIRECCION DE ADMINISTRACION INMOBILIARIA Y DE ESPACIO PUBLICO","WEB","RECLAMO",25,"GESTIONADOS"]
[3122132021,"SUBDIRECCION DE ADMINISTRACION INMOBILIARIA Y DE ESPACIO PUBLICO","WEB","DERECHO DE PETICION DE INTERES GENERAL",25,"GESTIONADOS"]
[3125862021,"SUBDIRECCION DE REGISTRO INMOBILIARIO","ESCRITO","DERECHO DE PETICION DE INTERES PARTICULAR",22,"GESTIONADOS"]
[3125872021,"SUBDIRECCION DE ADMINISTRACION INMOBILIARIA Y DE ESPACIO PUBLICO","ESCRITO","DERECHO DE PETICION DE INTERES PARTICULAR",25,"GESTIONADOS"]
[3125892021,"SUBDIRECCION DE ADMINISTRACION INMOBILIARIA Y DE ESPACIO PUBLICO","ESCRITO","DERECHO DE PETICION DE INTERES GENERAL",25,"GESTIONADOS"]
[3125932021,"SUBDIRECCION DE REGISTRO INMOBILIARIO","ESCRITO","DERECHO DE PETICION DE INTERES PARTICULAR",25,"GESTIONADOS"]
[3126022021,"SUBDIRECCION DE REGISTRO INMOBILIARIO","ESCRITO","DERECHO DE PETICION DE INTERES PARTICULAR",26,"GESTIONADOS"]
[3126202021,"SUBDIRECCION DE ADMINISTRACION INMOBILIARIA Y DE ESPACIO PUBLICO","ESCRITO","DERECHO DE PETICION DE INTERES PARTICULAR",25,"GESTIONADOS"]
[3126302021,"AREA DE ATENCION A LA CIUDADANIA","ESCRITO","DERECHO DE PETICION DE INTERES PARTICULAR",41,"GESTIONADOS"]
[3126302021,"SUBDIRECCION DE ADMINISTRACION INMOBILIARIA Y DE ESPACIO PUBLICO","ESCRITO","DERECHO DE PETICION DE INTERES PARTICULAR",25,"GESTIONADOS"]
[3126852021,"AREA DE ATENCION A LA CIUDADANIA","ESCRITO","DERECHO DE PETICION DE INTERES GENERAL",25,"GESTIONADOS"]
[3126852021,"SUBDIRECCION DE ADMINISTRACION INMOBILIARIA Y DE ESPACIO PUBLICO","ESCRITO","DERECHO DE PETICION DE INTERES GENERAL",25,"GESTIONADOS"]
[3128382021,"SUBDIRECCION DE ADMINISTRACION INMOBILIARIA Y DE ESPACIO PUBLICO","WEB","DERECHO DE PETICION DE INTERES GENERAL",25,"GESTIONADOS"]
[3129282021,"SUBDIRECCION DE ADMINISTRACION INMOBILIARIA Y DE ESPACIO PUBLICO","ESCRITO","DERECHO DE PETICION DE INTERES PARTICULAR",25,"GESTIONADOS"]
[3129862021,"SUBDIRECCION DE ADMINISTRACION INMOBILIARIA Y DE ESPACIO PUBLICO","ESCRITO","DERECHO DE PETICION DE INTERES PARTICULAR",25,"GESTIONADOS"]
[3129992021,"SUBDIRECCION DE ADMINISTRACION INMOBILIARIA Y DE ESPACIO PUBLICO","WEB","QUEJA",25,"GESTIONADOS"]
[3130412021,"SUBDIRECCION DE ADMINISTRACION INMOBILIARIA Y DE ESPACIO PUBLICO","ESCRITO","DERECHO DE PETICION DE INTERES PARTICULAR",25,"GESTIONADOS"]
[3130602021,"SUBDIRECCION DE ADMINISTRACION INMOBILIARIA Y DE ESPACIO PUBLICO","E-MAIL","DERECHO DE PETICION DE INTERES PARTICULAR",25,"GESTIONADOS"]
[3131602021,"SUBDIRECCION DE ADMINISTRACION INMOBILIARIA Y DE ESPACIO PUBLICO","ESCRITO","DERECHO DE PETICION DE INTERES PARTICULAR",25,"GESTIONADOS"]
[3132302021,"SUBDIRECCION DE ADMINISTRACION INMOBILIARIA Y DE ESPACIO PUBLICO","ESCRITO","DERECHO DE PETICION DE INTERES PARTICULAR",25,"GESTIONADOS"]
[3132602021,"SUBDIRECCION DE ADMINISTRACION INMOBILIARIA Y DE ESPACIO PUBLICO","E-MAIL","DERECHO DE PETICION DE INTERES GENERAL",25,"GESTIONADOS"]
[3133822021,"SUBDIRECCION DE ADMINISTRACION INMOBILIARIA Y DE ESPACIO PUBLICO","WEB","DERECHO DE PETICION DE INTERES PARTICULAR",25,"GESTIONADOS"]
[3149112021,"SUBDIRECCION DE ADMINISTRACION INMOBILIARIA Y DE ESPACIO PUBLICO","TELEFONO","DERECHO DE PETICION DE INTERES PARTICULAR",25,"GESTIONADOS"]
[3149492021,"SUBDIRECCION DE ADMINISTRACION INMOBILIARIA Y DE ESPACIO PUBLICO","WEB","QUEJA",26,"GESTIONADOS"]
[3150272021,"SUBDIRECCION DE ADMINISTRACION INMOBILIARIA Y DE ESPACIO PUBLICO","WEB","DERECHO DE PETICION DE INTERES GENERAL",26,"GESTIONADOS"]
[3150282021,"AREA DE ATENCION A LA CIUDADANIA","WEB","DERECHO DE PETICION DE INTERES GENERAL",28,"GESTIONADOS"]
[3150282021,"SUBDIRECCION DE ADMINISTRACION INMOBILIARIA Y DE ESPACIO PUBLICO","WEB","DERECHO DE PETICION DE INTERES GENERAL",28,"GESTIONADOS"]
[3152802021,"SUBDIRECCION DE ADMINISTRACION INMOBILIARIA Y DE ESPACIO PUBLICO","WEB","DERECHO DE PETICION DE INTERES GENERAL",26,"GESTIONADOS"]
[3156922021,"AREA DE ATENCION A LA CIUDADANIA","WEB","QUEJA",23,"GESTIONADOS"]
[3157052021,"AREA DE ATENCION A LA CIUDADANIA","WEB","DERECHO DE PETICION DE INTERES PARTICULAR",1,"GESTIONADOS"]
[3157052021,"SUBDIRECCION DE ADMINISTRACION INMOBILIARIA Y DE ESPACIO PUBLICO","WEB","DERECHO DE PETICION DE INTERES PARTICULAR",11,"PENDIENTE"]
[3157092021,"SUBDIRECCION DE ADMINISTRACION INMOBILIARIA Y DE ESPACIO PUBLICO","ESCRITO","DERECHO DE PETICION DE INTERES PARTICULAR",25,"GESTIONADOS"]
[3157102021,"SUBDIRECCION DE ADMINISTRACION INMOBILIARIA Y DE ESPACIO PUBLICO","ESCRITO","DERECHO DE PETICION DE INTERES PARTICULAR",25,"GESTIONADOS"]
[3157112021,"SUBDIRECCION DE ADMINISTRACION INMOBILIARIA Y DE ESPACIO PUBLICO","ESCRITO","DERECHO DE PETICION DE INTERES PARTICULAR",25,"GESTIONADOS"]
[3157122021,"SUBDIRECCION DE REGISTRO INMOBILIARIO","ESCRITO","DERECHO DE PETICION DE INTERES PARTICULAR",25,"GESTIONADOS"]
[3157132021,"SUBDIRECCION DE ADMINISTRACION INMOBILIARIA Y DE ESPACIO PUBLICO","ESCRITO","DERECHO DE PETICION DE INTERES PARTICULAR",23,"GESTIONADOS"]
[3157152021,"SUBDIRECCION DE ADMINISTRACION INMOBILIARIA Y DE ESPACIO PUBLICO","ESCRITO","DERECHO DE PETICION DE INTERES PARTICULAR",25,"GESTIONADOS"]
[3157182021,"SUBDIRECCION DE ADMINISTRACION INMOBILIARIA Y DE ESPACIO PUBLICO","ESCRITO","DERECHO DE PETICION DE INTERES PARTICULAR",25,"GESTIONADOS"]
[3160972021,"SUBDIRECCION DE ADMINISTRACION INMOBILIARIA Y DE ESPACIO PUBLICO","WEB","QUEJA",25,"GESTIONADOS"]
[3162702021,"SUBDIRECCION DE ADMINISTRACION INMOBILIARIA Y DE ESPACIO PUBLICO","WEB","DERECHO DE PETICION DE INTERES GENERAL",25,"GESTIONADOS"]
[3163562021,"SUBDIRECCION DE ADMINISTRACION INMOBILIARIA Y DE ESPACIO PUBLICO","WEB","QUEJA",25,"GESTIONADOS"]
[3167002021,"SUBDIRECCION DE ADMINISTRACION INMOBILIARIA Y DE ESPACIO PUBLICO","E-MAIL","DERECHO DE PETICION DE INTERES PARTICULAR",28,"GESTIONADOS"]
[3167252021,"SUBDIRECCION DE ADMINISTRACION INMOBILIARIA Y DE ESPACIO PUBLICO","ESCRITO","DERECHO DE PETICION DE INTERES PARTICULAR",24,"GESTIONADOS"]
[3171232021,"SUBDIRECCION DE ADMINISTRACION INMOBILIARIA Y DE ESPACIO PUBLICO","WEB","QUEJA",25,"GESTIONADOS"]
[3171392021,"SUBDIRECCION DE ADMINISTRACION INMOBILIARIA Y DE ESPACIO PUBLICO","WEB","DERECHO DE PETICION DE INTERES GENERAL",25,"GESTIONADOS"]
[3175732021,"SUBDIRECCION DE ADMINISTRACION INMOBILIARIA Y DE ESPACIO PUBLICO","TELEFONO","DERECHO DE PETICION DE INTERES GENERAL",25,"GESTIONADOS"]
[3176722021,"AREA DE ATENCION A LA CIUDADANIA","WEB","SOLICITUD DE ACCESO A LA INFORMACION",13,"GESTIONADOS"]
[3178682021,"SUBDIRECCION DE ADMINISTRACION INMOBILIARIA Y DE ESPACIO PUBLICO","WEB","DERECHO DE PETICION DE INTERES GENERAL",27,"GESTIONADOS"]
[3179292021,"SUBDIRECCION DE ADMINISTRACION INMOBILIARIA Y DE ESPACIO PUBLICO","WEB","QUEJA",27,"GESTIONADOS"]
[3179942021,"SUBDIRECCION DE ADMINISTRACION INMOBILIARIA Y DE ESPACIO PUBLICO","WEB","DERECHO DE PETICION DE INTERES PARTICULAR",27,"GESTIONADOS"]
[3182672021,"SUBDIRECCION DE ADMINISTRACION INMOBILIARIA Y DE ESPACIO PUBLICO","WEB","DERECHO DE PETICION DE INTERES GENERAL",27,"GESTIONADOS"]
[3184432021,"SUBDIRECCION DE ADMINISTRACION INMOBILIARIA Y DE ESPACIO PUBLICO","WEB","DERECHO DE PETICION DE INTERES GENERAL",27,"GESTIONADOS"]
[3185162021,"SUBDIRECCION DE ADMINISTRACION INMOBILIARIA Y DE ESPACIO PUBLICO","ESCRITO","DERECHO DE PETICION DE INTERES GENERAL",23,"GESTIONADOS"]
[3186402021,"SUBDIRECCION DE ADMINISTRACION INMOBILIARIA Y DE ESPACIO PUBLICO","WEB","QUEJA",24,"GESTIONADOS"]
[3186522021,"SUBDIRECCION DE ADMINISTRACION INMOBILIARIA Y DE ESPACIO PUBLICO","ESCRITO","DERECHO DE PETICION DE INTERES PARTICULAR",27,"GESTIONADOS"]
[3186842021,"AREA DE ATENCION A LA CIUDADANIA","WEB","RECLAMO",22,"GESTIONADOS"]
[3187682021,"SUBDIRECCION DE ADMINISTRACION INMOBILIARIA Y DE ESPACIO PUBLICO","ESCRITO","DERECHO DE PETICION DE INTERES PARTICULAR",28,"GESTIONADOS"]
[3187822021,"AREA DE ATENCION A LA CIUDADANIA","ESCRITO","DERECHO DE PETICION DE INTERES PARTICULAR",25,"GESTIONADOS"]
[3187822021,"SUBDIRECCION DE ADMINISTRACION INMOBILIARIA Y DE ESPACIO PUBLICO","ESCRITO","DERECHO DE PETICION DE INTERES PARTICULAR",25,"GESTIONADOS"]
[3187852021,"SUBDIRECCION DE ADMINISTRACION INMOBILIARIA Y DE ESPACIO PUBLICO","ESCRITO","DERECHO DE PETICION DE INTERES PARTICULAR",24,"GESTIONADOS"]
[3187912021,"SUBDIRECCION DE ADMINISTRACION INMOBILIARIA Y DE ESPACIO PUBLICO","ESCRITO","DERECHO DE PETICION DE INTERES PARTICULAR",23,"GESTIONADOS"]
[3188312021,"SUBDIRECCION DE ADMINISTRACION INMOBILIARIA Y DE ESPACIO PUBLICO","ESCRITO","DERECHO DE PETICION DE INTERES GENERAL",23,"GESTIONADOS"]
[3190482021,"SUBDIRECCION DE REGISTRO INMOBILIARIO","WEB","DERECHO DE PETICION DE INTERES PARTICULAR",26,"GESTIONADOS"]
[3191152021,"SUBDIRECCION DE ADMINISTRACION INMOBILIARIA Y DE ESPACIO PUBLICO","ESCRITO","DERECHO DE PETICION DE INTERES GENERAL",27,"GESTIONADOS"]
[3191382021,"SUBDIRECCION DE ADMINISTRACION INMOBILIARIA Y DE ESPACIO PUBLICO","ESCRITO","DERECHO DE PETICION DE INTERES GENERAL",23,"GESTIONADOS"]
[3191582021,"SUBDIRECCION DE ADMINISTRACION INMOBILIARIA Y DE ESPACIO PUBLICO","ESCRITO","DERECHO DE PETICION DE INTERES PARTICULAR",24,"GESTIONADOS"]
[3192772021,"AREA DE ATENCION A LA CIUDADANIA","E-MAIL","DERECHO DE PETICION DE INTERES PARTICULAR",1,"GESTIONADOS"]
[3194262021,"SUBDIRECCION DE ADMINISTRACION INMOBILIARIA Y DE ESPACIO PUBLICO","E-MAIL","DERECHO DE PETICION DE INTERES PARTICULAR",24,"GESTIONADOS"]
[3194302021,"SUBDIRECCION DE ADMINISTRACION INMOBILIARIA Y DE ESPACIO PUBLICO","E-MAIL","DERECHO DE PETICION DE INTERES PARTICULAR",24,"GESTIONADOS"]
[3200452021,"SUBDIRECCION DE ADMINISTRACION INMOBILIARIA Y DE ESPACIO PUBLICO","ESCRITO","DERECHO DE PETICION DE INTERES PARTICULAR",26,"GESTIONADOS"]
[3200582021,"SUBDIRECCION DE ADMINISTRACION INMOBILIARIA Y DE ESPACIO PUBLICO","ESCRITO","DERECHO DE PETICION DE INTERES PARTICULAR",26,"GESTIONADOS"]
[3200702021,"SUBDIRECCION DE ADMINISTRACION INMOBILIARIA Y DE ESPACIO PUBLICO","ESCRITO","DERECHO DE PETICION DE INTERES PARTICULAR",26,"GESTIONADOS"]
[3200852021,"SUBDIRECCION DE ADMINISTRACION INMOBILIARIA Y DE ESPACIO PUBLICO","ESCRITO","CONSULTA",32,"GESTIONADOS"]
[3202812021,"SUBDIRECCION DE ADMINISTRACION INMOBILIARIA Y DE ESPACIO PUBLICO","TELEFONO","DERECHO DE PETICION DE INTERES GENERAL",23,"GESTIONADOS"]
[3204982021,"SUBDIRECCION DE ADMINISTRACION INMOBILIARIA Y DE ESPACIO PUBLICO","ESCRITO","DERECHO DE PETICION DE INTERES PARTICULAR",30,"GESTIONADOS"]
[3205082021,"SUBDIRECCION DE ADMINISTRACION INMOBILIARIA Y DE ESPACIO PUBLICO","ESCRITO","DERECHO DE PETICION DE INTERES PARTICULAR",26,"GESTIONADOS"]
[3205952021,"SUBDIRECCION DE ADMINISTRACION INMOBILIARIA Y DE ESPACIO PUBLICO","WEB","DERECHO DE PETICION DE INTERES PARTICULAR",26,"GESTIONADOS"]
[3207102021,"SUBDIRECCION DE REGISTRO INMOBILIARIO","WEB","DERECHO DE PETICION DE INTERES GENERAL",25,"GESTIONADOS"]
[3208472021,"SUBDIRECCION DE ADMINISTRACION INMOBILIARIA Y DE ESPACIO PUBLICO","E-MAIL","DERECHO DE PETICION DE INTERES GENERAL",26,"GESTIONADOS"]
[3210172021,"SUBDIRECCION DE ADMINISTRACION INMOBILIARIA Y DE ESPACIO PUBLICO","WEB","DERECHO DE PETICION DE INTERES GENERAL",26,"GESTIONADOS"]
[3217932021,"AREA DE ATENCION A LA CIUDADANIA","WEB","DERECHO DE PETICION DE INTERES PARTICULAR",20,"GESTIONADOS"]
[3218112021,"SUBDIRECCION DE REGISTRO INMOBILIARIO","ESCRITO","DERECHO DE PETICION DE INTERES GENERAL",8,"GESTIONADOS"]
[3218592021,"SUBDIRECCION DE ADMINISTRACION INMOBILIARIA Y DE ESPACIO PUBLICO","ESCRITO","DERECHO DE PETICION DE INTERES PARTICULAR",26,"GESTIONADOS"]
[3218772021,"SUBDIRECCION DE ADMINISTRACION INMOBILIARIA Y DE ESPACIO PUBLICO","ESCRITO","DERECHO DE PETICION DE INTERES PARTICULAR",26,"GESTIONADOS"]
[3218912021,"SUBDIRECCION DE ADMINISTRACION INMOBILIARIA Y DE ESPACIO PUBLICO","ESCRITO","DERECHO DE PETICION DE INTERES PARTICULAR",29,"GESTIONADOS"]
[3220072021,"SUBDIRECCION DE ADMINISTRACION INMOBILIARIA Y DE ESPACIO PUBLICO","WEB","DERECHO DE PETICION DE INTERES PARTICULAR",26,"GESTIONADOS"]
[3222362021,"SUBDIRECCION DE ADMINISTRACION INMOBILIARIA Y DE ESPACIO PUBLICO","WEB","DERECHO DE PETICION DE INTERES PARTICULAR",26,"GESTIONADOS"]
[3222362021,"SUBDIRECCION DE REGISTRO INMOBILIARIO","WEB","DERECHO DE PETICION DE INTERES PARTICULAR",27,"GESTIONADOS"]
[3222432021,"SUBDIRECCION DE REGISTRO INMOBILIARIO","WEB","DERECHO DE PETICION DE INTERES PARTICULAR",21,"GESTIONADOS"]
[3222622021,"SUBDIRECCION DE ADMINISTRACION INMOBILIARIA Y DE ESPACIO PUBLICO","ESCRITO","DERECHO DE PETICION DE INTERES PARTICULAR",26,"GESTIONADOS"]
[3222812021,"SUBDIRECCION DE ADMINISTRACION INMOBILIARIA Y DE ESPACIO PUBLICO","E-MAIL","DERECHO DE PETICION DE INTERES PARTICULAR",26,"GESTIONADOS"]
[3223612021,"SUBDIRECCION DE ADMINISTRACION INMOBILIARIA Y DE ESPACIO PUBLICO","ESCRITO","DERECHO DE PETICION DE INTERES PARTICULAR",26,"GESTIONADOS"]
[3224062021,"SUBDIRECCION DE ADMINISTRACION INMOBILIARIA Y DE ESPACIO PUBLICO","ESCRITO","DERECHO DE PETICION DE INTERES PARTICULAR",26,"GESTIONADOS"]
[3224132021,"AREA DE ATENCION A LA CIUDADANIA","WEB","CONSULTA",20,"GESTIONADOS"]
[3224952021,"SUBDIRECCION DE ADMINISTRACION INMOBILIARIA Y DE ESPACIO PUBLICO","WEB","DERECHO DE PETICION DE INTERES PARTICULAR",26,"GESTIONADOS"]
[3225682021,"SUBDIRECCION DE REGISTRO INMOBILIARIO","ESCRITO","DERECHO DE PETICION DE INTERES PARTICULAR",29,"GESTIONADOS"]
[3228272021,"DESPACHO","WEB","FELICITACION",18,"GESTIONADOS"]
[3229712021,"SUBDIRECCION DE ADMINISTRACION INMOBILIARIA Y DE ESPACIO PUBLICO","WEB","DERECHO DE PETICION DE INTERES PARTICULAR",27,"GESTIONADOS"]
[3230872021,"SUBDIRECCION DE REGISTRO INMOBILIARIO","ESCRITO","DERECHO DE PETICION DE INTERES PARTICULAR",16,"GESTIONADOS"]
[3230892021,"SUBDIRECCION DE ADMINISTRACION INMOBILIARIA Y DE ESPACIO PUBLICO","ESCRITO","DERECHO DE PETICION DE INTERES PARTICULAR",27,"GESTIONADOS"]
[3231132021,"SUBDIRECCION DE ADMINISTRACION INMOBILIARIA Y DE ESPACIO PUBLICO","ESCRITO","DERECHO DE PETICION DE INTERES GENERAL",27,"GESTIONADOS"]
[3231642021,"SUBDIRECCION DE ADMINISTRACION INMOBILIARIA Y DE ESPACIO PUBLICO","ESCRITO","DERECHO DE PETICION DE INTERES PARTICULAR",27,"GESTIONADOS"]
[3234622021,"SUBDIRECCION DE ADMINISTRACION INMOBILIARIA Y DE ESPACIO PUBLICO","TELEFONO","DERECHO DE PETICION DE INTERES GENERAL",27,"GESTIONADOS"]
[3243162021,"SUBDIRECCION DE ADMINISTRACION INMOBILIARIA Y DE ESPACIO PUBLICO","WEB","DERECHO DE PETICION DE INTERES PARTICULAR",27,"GESTIONADOS"]
[3245782021,"SUBDIRECCION DE REGISTRO INMOBILIARIO","WEB","DERECHO DE PETICION DE INTERES PARTICULAR",22,"GESTIONADOS"]
[3247182021,"AREA DE ATENCION A LA CIUDADANIA","E-MAIL","DERECHO DE PETICION DE INTERES PARTICULAR",17,"PENDIENTE"]
[3249962021,"SUBDIRECCION DE REGISTRO INMOBILIARIO","ESCRITO","DERECHO DE PETICION DE INTERES PARTICULAR",24,"GESTIONADOS"]
[3250002021,"SUBDIRECCION DE REGISTRO INMOBILIARIO","ESCRITO","DERECHO DE PETICION DE INTERES PARTICULAR",22,"GESTIONADOS"]
[3250092021,"SUBDIRECCION DE ADMINISTRACION INMOBILIARIA Y DE ESPACIO PUBLICO","ESCRITO","DERECHO DE PETICION DE INTERES PARTICULAR",27,"GESTIONADOS"]
[3250162021,"SUBDIRECCION DE ADMINISTRACION INMOBILIARIA Y DE ESPACIO PUBLICO","WEB","DERECHO DE PETICION DE INTERES GENERAL",27,"GESTIONADOS"]
[3250182021,"SUBDIRECCION DE ADMINISTRACION INMOBILIARIA Y DE ESPACIO PUBLICO","ESCRITO","DERECHO DE PETICION DE INTERES PARTICULAR",27,"GESTIONADOS"]
[3251122021,"SUBDIRECCION DE ADMINISTRACION INMOBILIARIA Y DE ESPACIO PUBLICO","ESCRITO","DERECHO DE PETICION DE INTERES PARTICULAR",27,"GESTIONADOS"]
[3251132021,"AREA DE ATENCION A LA CIUDADANIA","WEB","DERECHO DE PETICION DE INTERES GENERAL",22,"GESTIONADOS"]
[3251722021,"SUBDIRECCION DE ADMINISTRACION INMOBILIARIA Y DE ESPACIO PUBLICO","E-MAIL","DERECHO DE PETICION DE INTERES PARTICULAR",27,"GESTIONADOS"]
[3252042021,"SUBDIRECCION DE REGISTRO INMOBILIARIO","ESCRITO","DERECHO DE PETICION DE INTERES PARTICULAR",16,"GESTIONADOS"]
[3252632021,"SUBDIRECCION DE REGISTRO INMOBILIARIO","ESCRITO","DERECHO DE PETICION DE INTERES PARTICULAR",25,"GESTIONADOS"]
[3252852021,"SUBDIRECCION DE ADMINISTRACION INMOBILIARIA Y DE ESPACIO PUBLICO","ESCRITO","DERECHO DE PETICION DE INTERES PARTICULAR",27,"GESTIONADOS"]
[3253582021,"SUBDIRECCION DE ADMINISTRACION INMOBILIARIA Y DE ESPACIO PUBLICO","ESCRITO","DERECHO DE PETICION DE INTERES PARTICULAR",27,"GESTIONADOS"]
[3253822021,"SUBDIRECCION DE REGISTRO INMOBILIARIO","ESCRITO","DERECHO DE PETICION DE INTERES PARTICULAR",16,"GESTIONADOS"]
[3258612021,"SUBDIRECCION DE ADMINISTRACION INMOBILIARIA Y DE ESPACIO PUBLICO","WEB","DERECHO DE PETICION DE INTERES PARTICULAR",27,"GESTIONADOS"]
[3260632021,"SUBDIRECCION DE ADMINISTRACION INMOBILIARIA Y DE ESPACIO PUBLICO","WEB","DERECHO DE PETICION DE INTERES GENERAL",27,"GESTIONADOS"]
[3261342021,"SUBDIRECCION DE ADMINISTRACION INMOBILIARIA Y DE ESPACIO PUBLICO","WEB","DERECHO DE PETICION DE INTERES PARTICULAR",27,"GESTIONADOS"]
[3263632021,"SUBDIRECCION DE ADMINISTRACION INMOBILIARIA Y DE ESPACIO PUBLICO","WEB","QUEJA",27,"GESTIONADOS"]
[3264652021,"SUBDIRECCION DE ADMINISTRACION INMOBILIARIA Y DE ESPACIO PUBLICO","WEB","DERECHO DE PETICION DE INTERES PARTICULAR",27,"GESTIONADOS"]
[3264892021,"AREA DE ATENCION A LA CIUDADANIA","WEB","DERECHO DE PETICION DE INTERES PARTICULAR",29,"GESTIONADOS"]
[3264892021,"SUBDIRECCION DE ADMINISTRACION INMOBILIARIA Y DE ESPACIO PUBLICO","WEB","DERECHO DE PETICION DE INTERES PARTICULAR",27,"GESTIONADOS"]
[3272782021,"SUBDIRECCION DE ADMINISTRACION INMOBILIARIA Y DE ESPACIO PUBLICO","ESCRITO","DERECHO DE PETICION DE INTERES PARTICULAR",27,"GESTIONADOS"]
[3272982021,"SUBDIRECCION DE REGISTRO INMOBILIARIO","ESCRITO","DERECHO DE PETICION DE INTERES PARTICULAR",16,"GESTIONADOS"]
[3273412021,"SUBDIRECCION DE ADMINISTRACION INMOBILIARIA Y DE ESPACIO PUBLICO","ESCRITO","DERECHO DE PETICION DE INTERES PARTICULAR",27,"GESTIONADOS"]
[3274212021,"SUBDIRECCION DE REGISTRO INMOBILIARIO","ESCRITO","DERECHO DE PETICION DE INTERES PARTICULAR",16,"GESTIONADOS"]
[3274432021,"AREA DE ATENCION A LA CIUDADANIA","E-MAIL","DERECHO DE PETICION DE INTERES GENERAL",1,"GESTIONADOS"]
[3274432021,"OFICINA ASESORA JURIDICA","E-MAIL","DERECHO DE PETICION DE INTERES GENERAL",1,"GESTIONADOS"]
[3274432021,"SUBDIRECCION DE ADMINISTRACION INMOBILIARIA Y DE ESPACIO PUBLICO","E-MAIL","DERECHO DE PETICION DE INTERES GENERAL",18,"PENDIENTE"]
[3276682021,"SUBDIRECCION DE REGISTRO INMOBILIARIO","E-MAIL","RECLAMO",22,"GESTIONADOS"]
[3276802021,"AREA DE ATENCION A LA CIUDADANIA","E-MAIL","DERECHO DE PETICION DE INTERES PARTICULAR",1,"GESTIONADOS"]
[3276802021,"SUBDIRECCION DE REGISTRO INMOBILIARIO","E-MAIL","DERECHO DE PETICION DE INTERES PARTICULAR",18,"PENDIENTE"]
[3277272021,"SUBDIRECCION DE ADMINISTRACION INMOBILIARIA Y DE ESPACIO PUBLICO","WEB","DERECHO DE PETICION DE INTERES GENERAL",27,"GESTIONADOS"]
[3281132021,"AREA DE ATENCION A LA CIUDADANIA","ESCRITO","DERECHO DE PETICION DE INTERES PARTICULAR",28,"GESTIONADOS"]
[3281132021,"SUBDIRECCION DE REGISTRO INMOBILIARIO","ESCRITO","DERECHO DE PETICION DE INTERES PARTICULAR",28,"GESTIONADOS"]
[3281712021,"SUBDIRECCION DE ADMINISTRACION INMOBILIARIA Y DE ESPACIO PUBLICO","ESCRITO","DERECHO DE PETICION DE INTERES PARTICULAR",27,"GESTIONADOS"]
[3281762021,"SUBDIRECCION DE REGISTRO INMOBILIARIO","ESCRITO","DERECHO DE PETICION DE INTERES PARTICULAR",23,"GESTIONADOS"]
[3282232021,"SUBDIRECCION DE ADMINISTRACION INMOBILIARIA Y DE ESPACIO PUBLICO","ESCRITO","DERECHO DE PETICION DE INTERES GENERAL",27,"GESTIONADOS"]
[3283322021,"SUBDIRECCION DE ADMINISTRACION INMOBILIARIA Y DE ESPACIO PUBLICO","WEB","DERECHO DE PETICION DE INTERES PARTICULAR",27,"GESTIONADOS"]
[3287602021,"SUBDIRECCION DE ADMINISTRACION INMOBILIARIA Y DE ESPACIO PUBLICO","ESCRITO","DERECHO DE PETICION DE INTERES GENERAL",29,"GESTIONADOS"]
[3287692021,"SUBDIRECCION DE REGISTRO INMOBILIARIO","ESCRITO","DERECHO DE PETICION DE INTERES PARTICULAR",21,"GESTIONADOS"]
[3287812021,"AREA DE ATENCION A LA CIUDADANIA","ESCRITO","DERECHO DE PETICION DE INTERES PARTICULAR",28,"GESTIONADOS"]
[3287812021,"SUBDIRECCION DE ADMINISTRACION INMOBILIARIA Y DE ESPACIO PUBLICO","ESCRITO","DERECHO DE PETICION DE INTERES PARTICULAR",27,"GESTIONADOS"]
[3287982021,"AREA DE ATENCION A LA CIUDADANIA","ESCRITO","DERECHO DE PETICION DE INTERES PARTICULAR",29,"GESTIONADOS"]
[3287982021,"SUBDIRECCION DE ADMINISTRACION INMOBILIARIA Y DE ESPACIO PUBLICO","ESCRITO","DERECHO DE PETICION DE INTERES PARTICULAR",27,"GESTIONADOS"]
[3287982021,"SUBDIRECCION DE REGISTRO INMOBILIARIO","ESCRITO","DERECHO DE PETICION DE INTERES PARTICULAR",29,"GESTIONADOS"]
[3288412021,"SUBDIRECCION DE ADMINISTRACION INMOBILIARIA Y DE ESPACIO PUBLICO","ESCRITO","DERECHO DE PETICION DE INTERES PARTICULAR",27,"GESTIONADOS"]
[3288592021,"SUBDIRECCION DE ADMINISTRACION INMOBILIARIA Y DE ESPACIO PUBLICO","ESCRITO","DERECHO DE PETICION DE INTERES PARTICULAR",27,"GESTIONADOS"]
[3288732021,"SUBDIRECCION DE ADMINISTRACION INMOBILIARIA Y DE ESPACIO PUBLICO","TELEFONO","DERECHO DE PETICION DE INTERES GENERAL",27,"GESTIONADOS"]
[3288962021,"SUBDIRECCION DE ADMINISTRACION INMOBILIARIA Y DE ESPACIO PUBLICO","ESCRITO","DERECHO DE PETICION DE INTERES PARTICULAR",29,"GESTIONADOS"]
[3289352021,"SUBDIRECCION DE ADMINISTRACION INMOBILIARIA Y DE ESPACIO PUBLICO","ESCRITO","DERECHO DE PETICION DE INTERES PARTICULAR",27,"GESTIONADOS"]
[3289562021,"SUBDIRECCION DE ADMINISTRACION INMOBILIARIA Y DE ESPACIO PUBLICO","ESCRITO","DERECHO DE PETICION DE INTERES PARTICULAR",27,"GESTIONADOS"]
[3290232021,"SUBDIRECCION DE ADMINISTRACION INMOBILIARIA Y DE ESPACIO PUBLICO","ESCRITO","DERECHO DE PETICION DE INTERES PARTICULAR",27,"GESTIONADOS"]
[3290672021,"SUBDIRECCION DE ADMINISTRACION INMOBILIARIA Y DE ESPACIO PUBLICO","ESCRITO","DERECHO DE PETICION DE INTERES PARTICULAR",27,"GESTIONADOS"]
[3290942021,"SUBDIRECCION DE ADMINISTRACION INMOBILIARIA Y DE ESPACIO PUBLICO","ESCRITO","DERECHO DE PETICION DE INTERES PARTICULAR",28,"GESTIONADOS"]
[3290942021,"SUBDIRECCION DE REGISTRO INMOBILIARIO","ESCRITO","DERECHO DE PETICION DE INTERES PARTICULAR",18,"GESTIONADOS"]
[3292992021,"AREA DE ATENCION A LA CIUDADANIA","ESCRITO","DERECHO DE PETICION DE INTERES PARTICULAR",32,"GESTIONADOS"]
[3292992021,"SUBDIRECCION DE ADMINISTRACION INMOBILIARIA Y DE ESPACIO PUBLICO","ESCRITO","DERECHO DE PETICION DE INTERES PARTICULAR",27,"GESTIONADOS"]
[3293052021,"SUBDIRECCION DE REGISTRO INMOBILIARIO","ESCRITO","DERECHO DE PETICION DE INTERES PARTICULAR",21,"GESTIONADOS"]
[3305332021,"SUBDIRECCION DE REGISTRO INMOBILIARIO","ESCRITO","DERECHO DE PETICION DE INTERES PARTICULAR",20,"GESTIONADOS"]
[3305352021,"SUBDIRECCION DE REGISTRO INMOBILIARIO","ESCRITO","DERECHO DE PETICION DE INTERES PARTICULAR",26,"GESTIONADOS"]
[3305402021,"SUBDIRECCION DE REGISTRO INMOBILIARIO","ESCRITO","DERECHO DE PETICION DE INTERES PARTICULAR",28,"GESTIONADOS"]
[3305642021,"SUBDIRECCION DE REGISTRO INMOBILIARIO","ESCRITO","DERECHO DE PETICION DE INTERES PARTICULAR",20,"GESTIONADOS"]
[3305732021,"AREA DE ATENCION A LA CIUDADANIA","ESCRITO","DERECHO DE PETICION DE INTERES PARTICULAR",30,"GESTIONADOS"]
[3305732021,"SUBDIRECCION DE ADMINISTRACION INMOBILIARIA Y DE ESPACIO PUBLICO","ESCRITO","DERECHO DE PETICION DE INTERES PARTICULAR",29,"GESTIONADOS"]
[3305762021,"SUBDIRECCION DE REGISTRO INMOBILIARIO","ESCRITO","DERECHO DE PETICION DE INTERES PARTICULAR",20,"GESTIONADOS"]
[3307752021,"AREA DE ATENCION A LA CIUDADANIA","ESCRITO","DERECHO DE PETICION DE INTERES PARTICULAR",30,"GESTIONADOS"]
[3307752021,"SUBDIRECCION DE ADMINISTRACION INMOBILIARIA Y DE ESPACIO PUBLICO","ESCRITO","DERECHO DE PETICION DE INTERES PARTICULAR",29,"GESTIONADOS"]
[3307892021,"SUBDIRECCION DE ADMINISTRACION INMOBILIARIA Y DE ESPACIO PUBLICO","ESCRITO","DERECHO DE PETICION DE INTERES PARTICULAR",29,"GESTIONADOS"]
[3308012021,"SUBDIRECCION DE REGISTRO INMOBILIARIO","ESCRITO","DERECHO DE PETICION DE INTERES PARTICULAR",29,"GESTIONADOS"]
[3308322021,"OFICINA ASESORA JURIDICA","WEB","DERECHO DE PETICION DE INTERES PARTICULAR",9,"GESTIONADOS"]
[3308502021,"SUBDIRECCION DE REGISTRO INMOBILIARIO","ESCRITO","DERECHO DE PETICION DE INTERES PARTICULAR",26,"GESTIONADOS"]
[3308772021,"SUBDIRECCION DE ADMINISTRACION INMOBILIARIA Y DE ESPACIO PUBLICO","ESCRITO","DERECHO DE PETICION DE INTERES PARTICULAR",29,"GESTIONADOS"]
[3308982021,"SUBDIRECCION DE ADMINISTRACION INMOBILIARIA Y DE ESPACIO PUBLICO","WEB","DERECHO DE PETICION DE INTERES PARTICULAR",29,"GESTIONADOS"]
[3309282021,"SUBDIRECCION DE ADMINISTRACION INMOBILIARIA Y DE ESPACIO PUBLICO","E-MAIL","DERECHO DE PETICION DE INTERES PARTICULAR",29,"GESTIONADOS"]
[3309312021,"SUBDIRECCION DE ADMINISTRACION INMOBILIARIA Y DE ESPACIO PUBLICO","WEB","DERECHO DE PETICION DE INTERES PARTICULAR",28,"GESTIONADOS"]
[3309432021,"SUBDIRECCION DE ADMINISTRACION INMOBILIARIA Y DE ESPACIO PUBLICO","ESCRITO","DERECHO DE PETICION DE INTERES PARTICULAR",29,"GESTIONADOS"]
[3309862021,"SUBDIRECCION DE ADMINISTRACION INMOBILIARIA Y DE ESPACIO PUBLICO","WEB","DERECHO DE PETICION DE INTERES PARTICULAR",28,"GESTIONADOS"]
[3310012021,"SUBDIRECCION DE ADMINISTRACION INMOBILIARIA Y DE ESPACIO PUBLICO","WEB","DERECHO DE PETICION DE INTERES PARTICULAR",29,"GESTIONADOS"]
[3310062021,"SUBDIRECCION DE ADMINISTRACION INMOBILIARIA Y DE ESPACIO PUBLICO","WEB","DERECHO DE PETICION DE INTERES PARTICULAR",28,"GESTIONADOS"]
[3311152021,"SUBDIRECCION DE ADMINISTRACION INMOBILIARIA Y DE ESPACIO PUBLICO","E-MAIL","DERECHO DE PETICION DE INTERES PARTICULAR",29,"GESTIONADOS"]
[3311292021,"SUBDIRECCION DE ADMINISTRACION INMOBILIARIA Y DE ESPACIO PUBLICO","E-MAIL","DERECHO DE PETICION DE INTERES PARTICULAR",29,"GESTIONADOS"]
[3311522021,"SUBDIRECCION DE REGISTRO INMOBILIARIO","E-MAIL","DERECHO DE PETICION DE INTERES PARTICULAR",26,"GESTIONADOS"]
[3311742021,"SUBDIRECCION DE ADMINISTRACION INMOBILIARIA Y DE ESPACIO PUBLICO","E-MAIL","DERECHO DE PETICION DE INTERES PARTICULAR",29,"GESTIONADOS"]
[3311892021,"SUBDIRECCION DE ADMINISTRACION INMOBILIARIA Y DE ESPACIO PUBLICO","E-MAIL","DERECHO DE PETICION DE INTERES PARTICULAR",29,"GESTIONADOS"]
[3312132021,"SUBDIRECCION DE ADMINISTRACION INMOBILIARIA Y DE ESPACIO PUBLICO","E-MAIL","DERECHO DE PETICION DE INTERES PARTICULAR",29,"GESTIONADOS"]
[3312292021,"AREA DE ATENCION A LA CIUDADANIA","E-MAIL","DERECHO DE PETICION DE INTERES PARTICULAR",30,"GESTIONADOS"]
[3312292021,"SUBDIRECCION DE ADMINISTRACION INMOBILIARIA Y DE ESPACIO PUBLICO","E-MAIL","DERECHO DE PETICION DE INTERES PARTICULAR",29,"GESTIONADOS"]
[3312382021,"SUBDIRECCION DE ADMINISTRACION INMOBILIARIA Y DE ESPACIO PUBLICO","WEB","QUEJA",28,"GESTIONADOS"]
[3312462021,"SUBDIRECCION DE ADMINISTRACION INMOBILIARIA Y DE ESPACIO PUBLICO","E-MAIL","DERECHO DE PETICION DE INTERES PARTICULAR",29,"GESTIONADOS"]
[3312542021,"SUBDIRECCION DE REGISTRO INMOBILIARIO","WEB","DERECHO DE PETICION DE INTERES GENERAL",20,"GESTIONADOS"]
[3312602021,"SUBDIRECCION DE REGISTRO INMOBILIARIO","ESCRITO","DERECHO DE PETICION DE INTERES PARTICULAR",27,"GESTIONADOS"]
[3313422021,"SUBDIRECCION DE ADMINISTRACION INMOBILIARIA Y DE ESPACIO PUBLICO","WEB","CONSULTA",29,"GESTIONADOS"]
[3313452021,"SUBDIRECCION DE ADMINISTRACION INMOBILIARIA Y DE ESPACIO PUBLICO","ESCRITO","DERECHO DE PETICION DE INTERES PARTICULAR",29,"GESTIONADOS"]
[3313642021,"SUBDIRECCION DE ADMINISTRACION INMOBILIARIA Y DE ESPACIO PUBLICO","ESCRITO","DERECHO DE PETICION DE INTERES PARTICULAR",29,"GESTIONADOS"]
[3313702021,"SUBDIRECCION DE REGISTRO INMOBILIARIO","WEB","DERECHO DE PETICION DE INTERES GENERAL",26,"GESTIONADOS"]
[3313802021,"SUBDIRECCION DE ADMINISTRACION INMOBILIARIA Y DE ESPACIO PUBLICO","ESCRITO","DERECHO DE PETICION DE INTERES PARTICULAR",29,"GESTIONADOS"]
[3317272021,"SUBDIRECCION DE REGISTRO INMOBILIARIO","WEB","DERECHO DE PETICION DE INTERES GENERAL",26,"GESTIONADOS"]
[3318982021,"AREA DE ATENCION A LA CIUDADANIA","ESCRITO","DERECHO DE PETICION DE INTERES PARTICULAR",30,"GESTIONADOS"]
[3318982021,"SUBDIRECCION DE ADMINISTRACION INMOBILIARIA Y DE ESPACIO PUBLICO","ESCRITO","DERECHO DE PETICION DE INTERES PARTICULAR",29,"GESTIONADOS"]
[3319022021,"SUBDIRECCION DE ADMINISTRACION INMOBILIARIA Y DE ESPACIO PUBLICO","ESCRITO","DERECHO DE PETICION DE INTERES PARTICULAR",29,"GESTIONADOS"]
[3319022021,"SUBDIRECCION DE REGISTRO INMOBILIARIO","ESCRITO","DERECHO DE PETICION DE INTERES PARTICULAR",29,"GESTIONADOS"]
[3322502021,"SUBDIRECCION DE ADMINISTRACION INMOBILIARIA Y DE ESPACIO PUBLICO","TELEFONO","DERECHO DE PETICION DE INTERES GENERAL",28,"GESTIONADOS"]
[3325852021,"SUBDIRECCION DE REGISTRO INMOBILIARIO","ESCRITO","DERECHO DE PETICION DE INTERES PARTICULAR",27,"GESTIONADOS"]
[3326052021,"SUBDIRECCION DE REGISTRO INMOBILIARIO","E-MAIL","DERECHO DE PETICION DE INTERES PARTICULAR",19,"GESTIONADOS"]
[3326292021,"OFICINA ASESORA JURIDICA","ESCRITO","DERECHO DE PETICION DE INTERES PARTICULAR",12,"GESTIONADOS"]
[3326802021,"SUBDIRECCION DE REGISTRO INMOBILIARIO","E-MAIL","DERECHO DE PETICION DE INTERES PARTICULAR",24,"GESTIONADOS"]
[3326832021,"SUBDIRECCION DE ADMINISTRACION INMOBILIARIA Y DE ESPACIO PUBLICO","ESCRITO","DERECHO DE PETICION DE INTERES PARTICULAR",28,"GESTIONADOS"]
[3328022021,"AREA DE ATENCION A LA CIUDADANIA","WEB","DERECHO DE PETICION DE INTERES GENERAL",14,"GESTIONADOS"]
[3328122021,"SUBDIRECCION DE ADMINISTRACION INMOBILIARIA Y DE ESPACIO PUBLICO","WEB","DERECHO DE PETICION DE INTERES GENERAL",28,"GESTIONADOS"]
[3328302021,"AREA DE ATENCION A LA CIUDADANIA","WEB","DERECHO DE PETICION DE INTERES PARTICULAR",1,"GESTIONADOS"]
[3329172021,"DESPACHO","ESCRITO","DERECHO DE PETICION DE INTERES PARTICULAR",12,"GESTIONADOS"]
[3329502021,"SUBDIRECCION DE ADMINISTRACION INMOBILIARIA Y DE ESPACIO PUBLICO","ESCRITO","DERECHO DE PETICION DE INTERES PARTICULAR",28,"GESTIONADOS"]
[3338142021,"SUBDIRECCION DE ADMINISTRACION INMOBILIARIA Y DE ESPACIO PUBLICO","WEB","DERECHO DE PETICION DE INTERES PARTICULAR",28,"GESTIONADOS"]
[3338972021,"SUBDIRECCION DE ADMINISTRACION INMOBILIARIA Y DE ESPACIO PUBLICO","ESCRITO","DERECHO DE PETICION DE INTERES PARTICULAR",28,"GESTIONADOS"]
[3339052021,"SUBDIRECCION DE REGISTRO INMOBILIARIO","ESCRITO","DERECHO DE PETICION DE INTERES PARTICULAR",25,"GESTIONADOS"]
[3339152021,"SUBDIRECCION DE ADMINISTRACION INMOBILIARIA Y DE ESPACIO PUBLICO","ESCRITO","DERECHO DE PETICION DE INTERES PARTICULAR",29,"GESTIONADOS"]
[3339572021,"SUBDIRECCION DE ADMINISTRACION INMOBILIARIA Y DE ESPACIO PUBLICO","WEB","DERECHO DE PETICION DE INTERES GENERAL",22,"GESTIONADOS"]
[3342412021,"SUBDIRECCION DE ADMINISTRACION INMOBILIARIA Y DE ESPACIO PUBLICO","ESCRITO","DERECHO DE PETICION DE INTERES PARTICULAR",28,"GESTIONADOS"]
[3344672021,"SUBDIRECCION DE ADMINISTRACION INMOBILIARIA Y DE ESPACIO PUBLICO","ESCRITO","DERECHO DE PETICION DE INTERES PARTICULAR",28,"GESTIONADOS"]
[3345452021,"SUBDIRECCION DE ADMINISTRACION INMOBILIARIA Y DE ESPACIO PUBLICO","ESCRITO","DERECHO DE PETICION DE INTERES PARTICULAR",28,"GESTIONADOS"]
[3345592021,"SUBDIRECCION DE ADMINISTRACION INMOBILIARIA Y DE ESPACIO PUBLICO","ESCRITO","DERECHO DE PETICION DE INTERES PARTICULAR",28,"GESTIONADOS"]
[3345652021,"SUBDIRECCION DE ADMINISTRACION INMOBILIARIA Y DE ESPACIO PUBLICO","ESCRITO","DERECHO DE PETICION DE INTERES PARTICULAR",28,"GESTIONADOS"]
[3345892021,"SUBDIRECCION DE ADMINISTRACION INMOBILIARIA Y DE ESPACIO PUBLICO","WEB","DERECHO DE PETICION DE INTERES PARTICULAR",28,"GESTIONADOS"]
[3348592021,"AREA DE ATENCION A LA CIUDADANIA","ESCRITO","DERECHO DE PETICION DE INTERES PARTICULAR",28,"GESTIONADOS"]
[3348592021,"SUBDIRECCION DE ADMINISTRACION INMOBILIARIA Y DE ESPACIO PUBLICO","ESCRITO","DERECHO DE PETICION DE INTERES PARTICULAR",28,"GESTIONADOS"]
[3348832021,"AREA DE ATENCION A LA CIUDADANIA","ESCRITO","DERECHO DE PETICION DE INTERES PARTICULAR",29,"GESTIONADOS"]
[3348832021,"SUBDIRECCION DE ADMINISTRACION INMOBILIARIA Y DE ESPACIO PUBLICO","ESCRITO","DERECHO DE PETICION DE INTERES PARTICULAR",28,"GESTIONADOS"]
[3349012021,"SUBDIRECCION DE ADMINISTRACION INMOBILIARIA Y DE ESPACIO PUBLICO","ESCRITO","DERECHO DE PETICION DE INTERES PARTICULAR",28,"GESTIONADOS"]
[3349172021,"AREA DE ATENCION A LA CIUDADANIA","ESCRITO","DERECHO DE PETICION DE INTERES GENERAL",29,"GESTIONADOS"]
[3349172021,"SUBDIRECCION DE ADMINISTRACION INMOBILIARIA Y DE ESPACIO PUBLICO","ESCRITO","DERECHO DE PETICION DE INTERES GENERAL",28,"GESTIONADOS"]
[3349312021,"SUBDIRECCION DE ADMINISTRACION INMOBILIARIA Y DE ESPACIO PUBLICO","ESCRITO","DERECHO DE PETICION DE INTERES PARTICULAR",28,"GESTIONADOS"]
[3351312021,"SUBDIRECCION DE ADMINISTRACION INMOBILIARIA Y DE ESPACIO PUBLICO","WEB","DERECHO DE PETICION DE INTERES GENERAL",28,"GESTIONADOS"]
[3354892021,"SUBDIRECCION DE ADMINISTRACION INMOBILIARIA Y DE ESPACIO PUBLICO","TELEFONO","DERECHO DE PETICION DE INTERES GENERAL",28,"GESTIONADOS"]
[3356972021,"SUBDIRECCION DE ADMINISTRACION INMOBILIARIA Y DE ESPACIO PUBLICO","WEB","DERECHO DE PETICION DE INTERES GENERAL",28,"GESTIONADOS"]
[3358332021,"AREA DE ATENCION A LA CIUDADANIA","WEB","DERECHO DE PETICION DE INTERES GENERAL",15,"GESTIONADOS"]
[3358352021,"AREA DE ATENCION A LA CIUDADANIA","WEB","DERECHO DE PETICION DE INTERES GENERAL",23,"GESTIONADOS"]
[3358412021,"SUBDIRECCION DE ADMINISTRACION INMOBILIARIA Y DE ESPACIO PUBLICO","WEB","DERECHO DE PETICION DE INTERES GENERAL",28,"GESTIONADOS"]
[3359432021,"SUBDIRECCION DE ADMINISTRACION INMOBILIARIA Y DE ESPACIO PUBLICO","TELEFONO","DERECHO DE PETICION DE INTERES PARTICULAR",28,"GESTIONADOS"]
[3361772021,"SUBDIRECCION DE ADMINISTRACION INMOBILIARIA Y DE ESPACIO PUBLICO","ESCRITO","DERECHO DE PETICION DE INTERES PARTICULAR",28,"GESTIONADOS"]
[3361962021,"SUBDIRECCION DE ADMINISTRACION INMOBILIARIA Y DE ESPACIO PUBLICO","ESCRITO","DERECHO DE PETICION DE INTERES PARTICULAR",28,"GESTIONADOS"]
[3362022021,"SUBDIRECCION DE ADMINISTRACION INMOBILIARIA Y DE ESPACIO PUBLICO","ESCRITO","DERECHO DE PETICION DE INTERES PARTICULAR",28,"GESTIONADOS"]
[3362122021,"SUBDIRECCION DE ADMINISTRACION INMOBILIARIA Y DE ESPACIO PUBLICO","ESCRITO","DERECHO DE PETICION DE INTERES GENERAL",28,"PENDIENTE"]
[3362142021,"SUBDIRECCION DE REGISTRO INMOBILIARIO","ESCRITO","DERECHO DE PETICION DE INTERES PARTICULAR",17,"GESTIONADOS"]
[3362342021,"AREA DE ATENCION A LA CIUDADANIA","ESCRITO","DERECHO DE PETICION DE INTERES PARTICULAR",15,"GESTIONADOS"]
[3367672021,"SUBDIRECCION DE REGISTRO INMOBILIARIO","ESCRITO","DERECHO DE PETICION DE INTERES PARTICULAR",23,"GESTIONADOS"]
[3367832021,"OFICINA ASESORA JURIDICA","ESCRITO","DERECHO DE PETICION DE INTERES PARTICULAR",16,"GESTIONADOS"]
[3367832021,"SUBDIRECCION DE ADMINISTRACION INMOBILIARIA Y DE ESPACIO PUBLICO","ESCRITO","DERECHO DE PETICION DE INTERES PARTICULAR",14,"GESTIONADOS"]
[3368012021,"SUBDIRECCION DE ADMINISTRACION INMOBILIARIA Y DE ESPACIO PUBLICO","ESCRITO","DERECHO DE PETICION DE INTERES PARTICULAR",28,"GESTIONADOS"]
[3368282021,"SUBDIRECCION DE ADMINISTRACION INMOBILIARIA Y DE ESPACIO PUBLICO","ESCRITO","DERECHO DE PETICION DE INTERES PARTICULAR",28,"GESTIONADOS"]
[3368562021,"SUBDIRECCION DE ADMINISTRACION INMOBILIARIA Y DE ESPACIO PUBLICO","ESCRITO","DERECHO DE PETICION DE INTERES PARTICULAR",28,"GESTIONADOS"]
[3368922021,"SUBDIRECCION DE ADMINISTRACION INMOBILIARIA Y DE ESPACIO PUBLICO","ESCRITO","DERECHO DE PETICION DE INTERES PARTICULAR",28,"GESTIONADOS"]
[3369242021,"SUBDIRECCION DE ADMINISTRACION INMOBILIARIA Y DE ESPACIO PUBLICO","E-MAIL","DERECHO DE PETICION DE INTERES PARTICULAR",28,"GESTIONADOS"]
[3370492021,"SUBDIRECCION DE REGISTRO INMOBILIARIO","ESCRITO","DERECHO DE PETICION DE INTERES PARTICULAR",26,"GESTIONADOS"]
[3371042021,"SUBDIRECCION DE ADMINISTRACION INMOBILIARIA Y DE ESPACIO PUBLICO","ESCRITO","DERECHO DE PETICION DE INTERES PARTICULAR",28,"GESTIONADOS"]
[3371172021,"SUBDIRECCION DE REGISTRO INMOBILIARIO","ESCRITO","DERECHO DE PETICION DE INTERES PARTICULAR",25,"GESTIONADOS"]
[3371552021,"SUBDIRECCION DE ADMINISTRACION INMOBILIARIA Y DE ESPACIO PUBLICO","ESCRITO","DERECHO DE PETICION DE INTERES PARTICULAR",28,"GESTIONADOS"]
[3372262021,"SUBDIRECCION DE ADMINISTRACION INMOBILIARIA Y DE ESPACIO PUBLICO","ESCRITO","DERECHO DE PETICION DE INTERES PARTICULAR",28,"GESTIONADOS"]
[3374862021,"SUBDIRECCION DE ADMINISTRACION INMOBILIARIA Y DE ESPACIO PUBLICO","ESCRITO","DERECHO DE PETICION DE INTERES PARTICULAR",28,"GESTIONADOS"]
[3374872021,"SUBDIRECCION DE REGISTRO INMOBILIARIO","ESCRITO","DERECHO DE PETICION DE INTERES PARTICULAR",23,"GESTIONADOS"]
[3374912021,"SUBDIRECCION DE ADMINISTRACION INMOBILIARIA Y DE ESPACIO PUBLICO","ESCRITO","DERECHO DE PETICION DE INTERES PARTICULAR",28,"GESTIONADOS"]
[3375112021,"SUBDIRECCION DE ADMINISTRACION INMOBILIARIA Y DE ESPACIO PUBLICO","ESCRITO","DERECHO DE PETICION DE INTERES PARTICULAR",28,"GESTIONADOS"]
[3375222021,"SUBDIRECCION DE REGISTRO INMOBILIARIO","ESCRITO","DERECHO DE PETICION DE INTERES PARTICULAR",28,"GESTIONADOS"]
[3376532021,"AREA DE ATENCION A LA CIUDADANIA","WEB","QUEJA",21,"GESTIONADOS"]
[3376592021,"AREA DE ATENCION A LA CIUDADANIA","WEB","DERECHO DE PETICION DE INTERES PARTICULAR",21,"GESTIONADOS"]
[3376792021,"SUBDIRECCION DE ADMINISTRACION INMOBILIARIA Y DE ESPACIO PUBLICO","WEB","DERECHO DE PETICION DE INTERES PARTICULAR",28,"GESTIONADOS"]
[3376862021,"SUBDIRECCION DE ADMINISTRACION INMOBILIARIA Y DE ESPACIO PUBLICO","WEB","DERECHO DE PETICION DE INTERES GENERAL",28,"GESTIONADOS"]
[3378062021,"SUBDIRECCION DE ADMINISTRACION INMOBILIARIA Y DE ESPACIO PUBLICO","WEB","DERECHO DE PETICION DE INTERES GENERAL",28,"GESTIONADOS"]
[3379722021,"SUBDIRECCION DE REGISTRO INMOBILIARIO","WEB","DERECHO DE PETICION DE INTERES GENERAL",15,"GESTIONADOS"]
[3382022021,"SUBDIRECCION DE ADMINISTRACION INMOBILIARIA Y DE ESPACIO PUBLICO","ESCRITO","DERECHO DE PETICION DE INTERES PARTICULAR",27,"PENDIENTE"]
[3382082021,"SUBDIRECCION DE ADMINISTRACION INMOBILIARIA Y DE ESPACIO PUBLICO","ESCRITO","DERECHO DE PETICION DE INTERES PARTICULAR",27,"PENDIENTE"]
[3382082021,"SUBDIRECCION DE REGISTRO INMOBILIARIO","ESCRITO","DERECHO DE PETICION DE INTERES PARTICULAR",22,"GESTIONADOS"]
[3384192021,"SUBDIRECCION DE ADMINISTRACION INMOBILIARIA Y DE ESPACIO PUBLICO","ESCRITO","DERECHO DE PETICION DE INTERES PARTICULAR",27,"PENDIENTE"]
[3385392021,"SUBDIRECCION DE ADMINISTRACION INMOBILIARIA Y DE ESPACIO PUBLICO","ESCRITO","DERECHO DE PETICION DE INTERES PARTICULAR",27,"PENDIENTE"]
[3385612021,"SUBDIRECCION DE ADMINISTRACION INMOBILIARIA Y DE ESPACIO PUBLICO","ESCRITO","DERECHO DE PETICION DE INTERES PARTICULAR",27,"PENDIENTE"]
[3385832021,"SUBDIRECCION DE REGISTRO INMOBILIARIO","ESCRITO","DERECHO DE PETICION DE INTERES PARTICULAR",22,"GESTIONADOS"]
[3386572021,"SUBDIRECCION DE ADMINISTRACION INMOBILIARIA Y DE ESPACIO PUBLICO","WEB","DERECHO DE PETICION DE INTERES PARTICULAR",27,"PENDIENTE"]
[3387142021,"SUBDIRECCION DE ADMINISTRACION INMOBILIARIA Y DE ESPACIO PUBLICO","WEB","DERECHO DE PETICION DE INTERES GENERAL",27,"PENDIENTE"]
[3387572021,"AREA DE ATENCION A LA CIUDADANIA","WEB","DERECHO DE PETICION DE INTERES PARTICULAR",20,"GESTIONADOS"]
[3396832021,"SUBDIRECCION DE ADMINISTRACION INMOBILIARIA Y DE ESPACIO PUBLICO","WEB","DERECHO DE PETICION DE INTERES PARTICULAR",27,"PENDIENTE"]
[3397672021,"SUBDIRECCION DE ADMINISTRACION INMOBILIARIA Y DE ESPACIO PUBLICO","WEB","DERECHO DE PETICION DE INTERES GENERAL",27,"PENDIENTE"]
[3399382021,"SUBDIRECCION DE ADMINISTRACION INMOBILIARIA Y DE ESPACIO PUBLICO","WEB","DERECHO DE PETICION DE INTERES PARTICULAR",26,"PENDIENTE"]
[3399732021,"SUBDIRECCION DE ADMINISTRACION INMOBILIARIA Y DE ESPACIO PUBLICO","ESCRITO","DERECHO DE PETICION DE INTERES GENERAL",26,"PENDIENTE"]
[3399872021,"SUBDIRECCION DE REGISTRO INMOBILIARIO","ESCRITO","DERECHO DE PETICION DE INTERES PARTICULAR",18,"GESTIONADOS"]
[3399932021,"SUBDIRECCION DE ADMINISTRACION INMOBILIARIA Y DE ESPACIO PUBLICO","ESCRITO","DERECHO DE PETICION DE INTERES PARTICULAR",26,"PENDIENTE"]
[3400022021,"SUBDIRECCION DE ADMINISTRACION INMOBILIARIA Y DE ESPACIO PUBLICO","ESCRITO","DERECHO DE PETICION DE INTERES GENERAL",26,"PENDIENTE"]
[3400082021,"SUBDIRECCION DE ADMINISTRACION INMOBILIARIA Y DE ESPACIO PUBLICO","ESCRITO","DERECHO DE PETICION DE INTERES PARTICULAR",26,"PENDIENTE"]
[3405442021,"SUBDIRECCION DE ADMINISTRACION INMOBILIARIA Y DE ESPACIO PUBLICO","WEB","DERECHO DE PETICION DE INTERES PARTICULAR",26,"PENDIENTE"]
[3407242021,"DESPACHO","ESCRITO","DERECHO DE PETICION DE INTERES PARTICULAR",13,"GESTIONADOS"]
[3407512021,"SUBDIRECCION DE REGISTRO INMOBILIARIO","ESCRITO","DERECHO DE PETICION DE INTERES PARTICULAR",18,"GESTIONADOS"]
[3408362021,"SUBDIRECCION DE REGISTRO INMOBILIARIO","ESCRITO","DERECHO DE PETICION DE INTERES PARTICULAR",26,"PENDIENTE"]
[3409632021,"SUBDIRECCION DE ADMINISTRACION INMOBILIARIA Y DE ESPACIO PUBLICO","WEB","DERECHO DE PETICION DE INTERES PARTICULAR",26,"PENDIENTE"]
[3410042021,"SUBDIRECCION DE ADMINISTRACION INMOBILIARIA Y DE ESPACIO PUBLICO","ESCRITO","DERECHO DE PETICION DE INTERES PARTICULAR",26,"PENDIENTE"]
[3410252021,"SUBDIRECCION DE ADMINISTRACION INMOBILIARIA Y DE ESPACIO PUBLICO","ESCRITO","DERECHO DE PETICION DE INTERES PARTICULAR",26,"PENDIENTE"]
[3414602021,"SUBDIRECCION DE REGISTRO INMOBILIARIO","WEB","DERECHO DE PETICION DE INTERES PARTICULAR",26,"PENDIENTE"]
[3414872021,"SUBDIRECCION DE REGISTRO INMOBILIARIO","WEB","DERECHO DE PETICION DE INTERES PARTICULAR",24,"PENDIENTE"]
[3414962021,"SUBDIRECCION DE ADMINISTRACION INMOBILIARIA Y DE ESPACIO PUBLICO","WEB","DERECHO DE PETICION DE INTERES GENERAL",26,"PENDIENTE"]
[3415032021,"SUBDIRECCION DE REGISTRO INMOBILIARIO","E-MAIL","DERECHO DE PETICION DE INTERES GENERAL",26,"GESTIONADOS"]
[3415062021,"SUBDIRECCION DE ADMINISTRACION INMOBILIARIA Y DE ESPACIO PUBLICO","ESCRITO","DERECHO DE PETICION DE INTERES PARTICULAR",26,"PENDIENTE"]
[3415802021,"SUBDIRECCION DE ADMINISTRACION INMOBILIARIA Y DE ESPACIO PUBLICO","WEB","DERECHO DE PETICION DE INTERES GENERAL",26,"PENDIENTE"]
[3415802021,"SUBDIRECCION DE REGISTRO INMOBILIARIO","WEB","DERECHO DE PETICION DE INTERES GENERAL",18,"GESTIONADOS"]
[3416912021,"SUBDIRECCION DE ADMINISTRACION INMOBILIARIA Y DE ESPACIO PUBLICO","WEB","DERECHO DE PETICION DE INTERES PARTICULAR",25,"PENDIENTE"]
[3417382021,"SUBDIRECCION DE ADMINISTRACION INMOBILIARIA Y DE ESPACIO PUBLICO","WEB","DERECHO DE PETICION DE INTERES PARTICULAR",26,"PENDIENTE"]
[3418602021,"SUBDIRECCION DE REGISTRO INMOBILIARIO","ESCRITO","DERECHO DE PETICION DE INTERES PARTICULAR",25,"PENDIENTE"]
[3418712021,"SUBDIRECCION DE ADMINISTRACION INMOBILIARIA Y DE ESPACIO PUBLICO","ESCRITO","DERECHO DE PETICION DE INTERES PARTICULAR",25,"PENDIENTE"]
[3418862021,"SUBDIRECCION DE ADMINISTRACION INMOBILIARIA Y DE ESPACIO PUBLICO","ESCRITO","DERECHO DE PETICION DE INTERES GENERAL",25,"PENDIENTE"]
[3425362021,"DESPACHO","ESCRITO","DERECHO DE PETICION DE INTERES PARTICULAR",25,"PENDIENTE"]
[3425612021,"SUBDIRECCION DE ADMINISTRACION INMOBILIARIA Y DE ESPACIO PUBLICO","ESCRITO","DERECHO DE PETICION DE INTERES PARTICULAR",25,"PENDIENTE"]
[3425802021,"SUBDIRECCION DE ADMINISTRACION INMOBILIARIA Y DE ESPACIO PUBLICO","ESCRITO","DERECHO DE PETICION DE INTERES PARTICULAR",25,"PENDIENTE"]
[3425882021,"SUBDIRECCION DE ADMINISTRACION INMOBILIARIA Y DE ESPACIO PUBLICO","ESCRITO","DERECHO DE PETICION DE INTERES PARTICULAR",25,"PENDIENTE"]
[3425922021,"SUBDIRECCION DE ADMINISTRACION INMOBILIARIA Y DE ESPACIO PUBLICO","TELEFONO","DERECHO DE PETICION DE INTERES PARTICULAR",25,"PENDIENTE"]
[3426302021,"SUBDIRECCION DE ADMINISTRACION INMOBILIARIA Y DE ESPACIO PUBLICO","ESCRITO","DERECHO DE PETICION DE INTERES PARTICULAR",25,"PENDIENTE"]
[3431452021,"SUBDIRECCION DE ADMINISTRACION INMOBILIARIA Y DE ESPACIO PUBLICO","E-MAIL","DERECHO DE PETICION DE INTERES GENERAL",25,"PENDIENTE"]
[3435642021,"SUBDIRECCION DE ADMINISTRACION INMOBILIARIA Y DE ESPACIO PUBLICO","WEB","DERECHO DE PETICION DE INTERES GENERAL",25,"PENDIENTE"]
[3439692021,"SUBDIRECCION DE ADMINISTRACION INMOBILIARIA Y DE ESPACIO PUBLICO","WEB","DERECHO DE PETICION DE INTERES GENERAL",23,"PENDIENTE"]
[3444202021,"SUBDIRECCION DE ADMINISTRACION INMOBILIARIA Y DE ESPACIO PUBLICO","WEB","QUEJA",25,"PENDIENTE"]
[3446552021,"SUBDIRECCION DE REGISTRO INMOBILIARIO","WEB","QUEJA",22,"GESTIONADOS"]
[3447442021,"SUBDIRECCION DE ADMINISTRACION INMOBILIARIA Y DE ESPACIO PUBLICO","ESCRITO","DERECHO DE PETICION DE INTERES PARTICULAR",24,"PENDIENTE"]
[3447852021,"SUBDIRECCION DE REGISTRO INMOBILIARIO","WEB","DERECHO DE PETICION DE INTERES PARTICULAR",19,"GESTIONADOS"]
[3449912021,"SUBDIRECCION DE ADMINISTRACION INMOBILIARIA Y DE ESPACIO PUBLICO","ESCRITO","DERECHO DE PETICION DE INTERES PARTICULAR",24,"PENDIENTE"]
[3450142021,"SUBDIRECCION DE ADMINISTRACION INMOBILIARIA Y DE ESPACIO PUBLICO","ESCRITO","DERECHO DE PETICION DE INTERES PARTICULAR",24,"PENDIENTE"]
[3450482021,"SUBDIRECCION DE ADMINISTRACION INMOBILIARIA Y DE ESPACIO PUBLICO","ESCRITO","DERECHO DE PETICION DE INTERES PARTICULAR",24,"PENDIENTE"]
[3450682021,"SUBDIRECCION DE ADMINISTRACION INMOBILIARIA Y DE ESPACIO PUBLICO","ESCRITO","DERECHO DE PETICION DE INTERES PARTICULAR",24,"PENDIENTE"]
[3450812021,"AREA DE ATENCION A LA CIUDADANIA","WEB","QUEJA",15,"GESTIONADOS"]
[3451282021,"SUBDIRECCION DE REGISTRO INMOBILIARIO","ESCRITO","DERECHO DE PETICION DE INTERES PARTICULAR",16,"GESTIONADOS"]
[3451602021,"SUBDIRECCION DE ADMINISTRACION INMOBILIARIA Y DE ESPACIO PUBLICO","ESCRITO","DERECHO DE PETICION DE INTERES PARTICULAR",24,"PENDIENTE"]
[3453922021,"SUBDIRECCION DE REGISTRO INMOBILIARIO","WEB","DERECHO DE PETICION DE INTERES PARTICULAR",21,"GESTIONADOS"]
[3458032021,"SUBDIRECCION DE ADMINISTRACION INMOBILIARIA Y DE ESPACIO PUBLICO","WEB","DERECHO DE PETICION DE INTERES PARTICULAR",24,"PENDIENTE"]
[3458122021,"SUBDIRECCION DE REGISTRO INMOBILIARIO","WEB","DERECHO DE PETICION DE INTERES PARTICULAR",24,"PENDIENTE"]
[3458522021,"SUBDIRECCION DE ADMINISTRACION INMOBILIARIA Y DE ESPACIO PUBLICO","WEB","CONSULTA",21,"PENDIENTE"]
[3458812021,"AREA DE ATENCION A LA CIUDADANIA","WEB","DERECHO DE PETICION DE INTERES PARTICULAR",22,"GESTIONADOS"]
[3460972021,"SUBDIRECCION DE ADMINISTRACION INMOBILIARIA Y DE ESPACIO PUBLICO","WEB","DERECHO DE PETICION DE INTERES PARTICULAR",24,"PENDIENTE"]
[3461902021,"SUBDIRECCION DE ADMINISTRACION INMOBILIARIA Y DE ESPACIO PUBLICO","ESCRITO","DERECHO DE PETICION DE INTERES PARTICULAR",23,"PENDIENTE"]
[3462032021,"SUBDIRECCION DE ADMINISTRACION INMOBILIARIA Y DE ESPACIO PUBLICO","ESCRITO","DERECHO DE PETICION DE INTERES PARTICULAR",23,"PENDIENTE"]
[3462312021,"SUBDIRECCION DE ADMINISTRACION INMOBILIARIA Y DE ESPACIO PUBLICO","ESCRITO","DERECHO DE PETICION DE INTERES PARTICULAR",23,"PENDIENTE"]
[3463242021,"SUBDIRECCION DE ADMINISTRACION INMOBILIARIA Y DE ESPACIO PUBLICO","ESCRITO","DERECHO DE PETICION DE INTERES PARTICULAR",23,"PENDIENTE"]
[3463842021,"SUBDIRECCION DE ADMINISTRACION INMOBILIARIA Y DE ESPACIO PUBLICO","ESCRITO","DERECHO DE PETICION DE INTERES PARTICULAR",23,"PENDIENTE"]
[3463962021,"SUBDIRECCION DE REGISTRO INMOBILIARIO","ESCRITO","DERECHO DE PETICION DE INTERES GENERAL",18,"GESTIONADOS"]
[3464092021,"SUBDIRECCION DE ADMINISTRACION INMOBILIARIA Y DE ESPACIO PUBLICO","ESCRITO","DERECHO DE PETICION DE INTERES PARTICULAR",23,"PENDIENTE"]
[3464472021,"SUBDIRECCION DE ADMINISTRACION INMOBILIARIA Y DE ESPACIO PUBLICO","ESCRITO","DERECHO DE PETICION DE INTERES PARTICULAR",23,"PENDIENTE"]
[3464662021,"SUBDIRECCION DE ADMINISTRACION INMOBILIARIA Y DE ESPACIO PUBLICO","ESCRITO","DERECHO DE PETICION DE INTERES PARTICULAR",23,"PENDIENTE"]
[3464852021,"SUBDIRECCION DE ADMINISTRACION INMOBILIARIA Y DE ESPACIO PUBLICO","ESCRITO","DERECHO DE PETICION DE INTERES GENERAL",23,"PENDIENTE"]
[3464982021,"SUBDIRECCION DE REGISTRO INMOBILIARIO","ESCRITO","DERECHO DE PETICION DE INTERES PARTICULAR",20,"GESTIONADOS"]
[3465002021,"SUBDIRECCION DE ADMINISTRACION INMOBILIARIA Y DE ESPACIO PUBLICO","ESCRITO","DERECHO DE PETICION DE INTERES PARTICULAR",23,"PENDIENTE"]
[3465032021,"SUBDIRECCION DE REGISTRO INMOBILIARIO","ESCRITO","DERECHO DE PETICION DE INTERES PARTICULAR",18,"GESTIONADOS"]
[3465082021,"SUBDIRECCION DE ADMINISTRACION INMOBILIARIA Y DE ESPACIO PUBLICO","ESCRITO","DERECHO DE PETICION DE INTERES PARTICULAR",23,"PENDIENTE"]
[3467512021,"SUBDIRECCION DE ADMINISTRACION INMOBILIARIA Y DE ESPACIO PUBLICO","ESCRITO","DERECHO DE PETICION DE INTERES PARTICULAR",23,"PENDIENTE"]
[3467652021,"SUBDIRECCION DE ADMINISTRACION INMOBILIARIA Y DE ESPACIO PUBLICO","ESCRITO","DERECHO DE PETICION DE INTERES PARTICULAR",23,"PENDIENTE"]
[3467872021,"SUBDIRECCION DE ADMINISTRACION INMOBILIARIA Y DE ESPACIO PUBLICO","WEB","DERECHO DE PETICION DE INTERES PARTICULAR",23,"PENDIENTE"]
[3468112021,"SUBDIRECCION DE ADMINISTRACION INMOBILIARIA Y DE ESPACIO PUBLICO","ESCRITO","DERECHO DE PETICION DE INTERES PARTICULAR",23,"PENDIENTE"]
[3468522021,"SUBDIRECCION DE ADMINISTRACION INMOBILIARIA Y DE ESPACIO PUBLICO","ESCRITO","DERECHO DE PETICION DE INTERES PARTICULAR",23,"PENDIENTE"]
[3468582021,"SUBDIRECCION DE ADMINISTRACION INMOBILIARIA Y DE ESPACIO PUBLICO","WEB","CONSULTA",23,"PENDIENTE"]
[3468882021,"SUBDIRECCION DE ADMINISTRACION INMOBILIARIA Y DE ESPACIO PUBLICO","ESCRITO","DERECHO DE PETICION DE INTERES PARTICULAR",23,"PENDIENTE"]
[3469242021,"SUBDIRECCION DE ADMINISTRACION INMOBILIARIA Y DE ESPACIO PUBLICO","ESCRITO","DERECHO DE PETICION DE INTERES PARTICULAR",23,"PENDIENTE"]
[3469542021,"SUBDIRECCION DE ADMINISTRACION INMOBILIARIA Y DE ESPACIO PUBLICO","ESCRITO","DERECHO DE PETICION DE INTERES PARTICULAR",23,"PENDIENTE"]
[3470502021,"SUBDIRECCION DE ADMINISTRACION INMOBILIARIA Y DE ESPACIO PUBLICO","WEB","DERECHO DE PETICION DE INTERES PARTICULAR",23,"PENDIENTE"]
[3472892021,"SUBDIRECCION DE REGISTRO INMOBILIARIO","ESCRITO","DERECHO DE PETICION DE INTERES PARTICULAR",23,"PENDIENTE"]
[3472932021,"SUBDIRECCION DE ADMINISTRACION INMOBILIARIA Y DE ESPACIO PUBLICO","ESCRITO","DERECHO DE PETICION DE INTERES PARTICULAR",23,"PENDIENTE"]
[3473832021,"SUBDIRECCION DE ADMINISTRACION INMOBILIARIA Y DE ESPACIO PUBLICO","WEB","DERECHO DE PETICION DE INTERES PARTICULAR",23,"PENDIENTE"]
[3479192021,"SUBDIRECCION DE ADMINISTRACION INMOBILIARIA Y DE ESPACIO PUBLICO","ESCRITO","DERECHO DE PETICION DE INTERES PARTICULAR",23,"PENDIENTE"]
[3480872021,"AREA DE ATENCION A LA CIUDADANIA","ESCRITO","DERECHO DE PETICION DE INTERES PARTICULAR",6,"PENDIENTE"]
[3480932021,"SUBDIRECCION DE ADMINISTRACION INMOBILIARIA Y DE ESPACIO PUBLICO","WEB","DERECHO DE PETICION DE INTERES GENERAL",22,"PENDIENTE"]
[3483672021,"AREA DE ATENCION A LA CIUDADANIA","E-MAIL","DERECHO DE PETICION DE INTERES GENERAL",1,"GESTIONADOS"]
[3483672021,"SUBDIRECCION DE ADMINISTRACION INMOBILIARIA Y DE ESPACIO PUBLICO","E-MAIL","DERECHO DE PETICION DE INTERES GENERAL",10,"PENDIENTE"]
[3484872021,"SUBDIRECCION DE ADMINISTRACION INMOBILIARIA Y DE ESPACIO PUBLICO","WEB","DERECHO DE PETICION DE INTERES GENERAL",22,"PENDIENTE"]
[3484982021,"SUBDIRECCION DE ADMINISTRACION INMOBILIARIA Y DE ESPACIO PUBLICO","WEB","DERECHO DE PETICION DE INTERES GENERAL",22,"PENDIENTE"]
[3485242021,"SUBDIRECCION DE ADMINISTRACION INMOBILIARIA Y DE ESPACIO PUBLICO","WEB","DERECHO DE PETICION DE INTERES GENERAL",22,"PENDIENTE"]
[3485302021,"SUBDIRECCION DE ADMINISTRACION INMOBILIARIA Y DE ESPACIO PUBLICO","WEB","DERECHO DE PETICION DE INTERES GENERAL",22,"PENDIENTE"]
[3487682021,"SUBDIRECCION DE ADMINISTRACION INMOBILIARIA Y DE ESPACIO PUBLICO","ESCRITO","DERECHO DE PETICION DE INTERES PARTICULAR",22,"PENDIENTE"]
[3496192021,"SUBDIRECCION DE ADMINISTRACION INMOBILIARIA Y DE ESPACIO PUBLICO","WEB","DERECHO DE PETICION DE INTERES PARTICULAR",22,"PENDIENTE"]
[3497322021,"SUBDIRECCION DE ADMINISTRACION INMOBILIARIA Y DE ESPACIO PUBLICO","ESCRITO","DERECHO DE PETICION DE INTERES PARTICULAR",22,"PENDIENTE"]
[3497372021,"SUBDIRECCION DE REGISTRO INMOBILIARIO","ESCRITO","DERECHO DE PETICION DE INTERES PARTICULAR",18,"GESTIONADOS"]
[3497392021,"SUBDIRECCION DE REGISTRO INMOBILIARIO","ESCRITO","DERECHO DE PETICION DE INTERES PARTICULAR",22,"GESTIONADOS"]
[3499682021,"SUBDIRECCION DE REGISTRO INMOBILIARIO","ESCRITO","DERECHO DE PETICION DE INTERES PARTICULAR",19,"GESTIONADOS"]
[3500822021,"SUBDIRECCION DE ADMINISTRACION INMOBILIARIA Y DE ESPACIO PUBLICO","ESCRITO","DERECHO DE PETICION DE INTERES PARTICULAR",21,"PENDIENTE"]
[3501332021,"DESPACHO","ESCRITO","DERECHO DE PETICION DE INTERES PARTICULAR",3,"GESTIONADOS"]
[3501332021,"SUBDIRECCION DE REGISTRO INMOBILIARIO","ESCRITO","DERECHO DE PETICION DE INTERES PARTICULAR",17,"GESTIONADOS"]
[3501752021,"SUBDIRECCION DE ADMINISTRACION INMOBILIARIA Y DE ESPACIO PUBLICO","ESCRITO","DERECHO DE PETICION DE INTERES GENERAL",21,"PENDIENTE"]
[3501982021,"SUBDIRECCION DE ADMINISTRACION INMOBILIARIA Y DE ESPACIO PUBLICO","ESCRITO","DERECHO DE PETICION DE INTERES PARTICULAR",21,"PENDIENTE"]
[3502112021,"SUBDIRECCION DE REGISTRO INMOBILIARIO","ESCRITO","DERECHO DE PETICION DE INTERES GENERAL",16,"GESTIONADOS"]
[3502162021,"SUBDIRECCION DE ADMINISTRACION INMOBILIARIA Y DE ESPACIO PUBLICO","ESCRITO","DERECHO DE PETICION DE INTERES PARTICULAR",21,"PENDIENTE"]
[3502172021,"SUBDIRECCION DE ADMINISTRACION INMOBILIARIA Y DE ESPACIO PUBLICO","ESCRITO","DERECHO DE PETICION DE INTERES PARTICULAR",21,"PENDIENTE"]
[3502202021,"SUBDIRECCION DE ADMINISTRACION INMOBILIARIA Y DE ESPACIO PUBLICO","ESCRITO","DERECHO DE PETICION DE INTERES PARTICULAR",21,"PENDIENTE"]
[3504172021,"AREA DE ATENCION A LA CIUDADANIA","WEB","DERECHO DE PETICION DE INTERES PARTICULAR",1,"GESTIONADOS"]
[3504512021,"AREA DE ATENCION A LA CIUDADANIA","WEB","DERECHO DE PETICION DE INTERES PARTICULAR",1,"GESTIONADOS"]
[3505672021,"AREA DE ATENCION A LA CIUDADANIA","WEB","QUEJA",20,"GESTIONADOS"]
[3506422021,"AREA DE ATENCION A LA CIUDADANIA","WEB","QUEJA",20,"GESTIONADOS"]
[3508412021,"SUBDIRECCION DE ADMINISTRACION INMOBILIARIA Y DE ESPACIO PUBLICO","TELEFONO","DERECHO DE PETICION DE INTERES GENERAL",21,"PENDIENTE"]
[3509442021,"SUBDIRECCION DE ADMINISTRACION INMOBILIARIA Y DE ESPACIO PUBLICO","WEB","DERECHO DE PETICION DE INTERES PARTICULAR",21,"PENDIENTE"]
[3509962021,"AREA DE ATENCION A LA CIUDADANIA","WEB","DERECHO DE PETICION DE INTERES GENERAL",1,"GESTIONADOS"]
[3514942021,"SUBDIRECCION DE ADMINISTRACION INMOBILIARIA Y DE ESPACIO PUBLICO","ESCRITO","DERECHO DE PETICION DE INTERES PARTICULAR",20,"PENDIENTE"]
[3514982021,"SUBDIRECCION DE REGISTRO INMOBILIARIO","ESCRITO","DERECHO DE PETICION DE INTERES PARTICULAR",15,"GESTIONADOS"]
[3515472021,"OFICINA ASESORA JURIDICA","ESCRITO","DERECHO DE PETICION DE INTERES PARTICULAR",2,"GESTIONADOS"]
[3516502021,"SUBDIRECCION DE REGISTRO INMOBILIARIO","WEB","DERECHO DE PETICION DE INTERES GENERAL",20,"PENDIENTE"]
[3517422021,"SUBDIRECCION DE ADMINISTRACION INMOBILIARIA Y DE ESPACIO PUBLICO","WEB","DERECHO DE PETICION DE INTERES GENERAL",20,"PENDIENTE"]
[3518772021,"SUBDIRECCION DE REGISTRO INMOBILIARIO","WEB","DERECHO DE PETICION DE INTERES GENERAL",20,"PENDIENTE"]
[3519432021,"AREA DE ATENCION A LA CIUDADANIA","WEB","SOLICITUD DE ACCESO A LA INFORMACION",1,"GESTIONADOS"]
[3519432021,"SUBDIRECCION DE REGISTRO INMOBILIARIO","WEB","SOLICITUD DE ACCESO A LA INFORMACION",14,"PENDIENTE"]
[3521242021,"SUBDIRECCION DE ADMINISTRACION INMOBILIARIA Y DE ESPACIO PUBLICO","WEB","DERECHO DE PETICION DE INTERES GENERAL",20,"PENDIENTE"]
[3521512021,"SUBDIRECCION DE ADMINISTRACION INMOBILIARIA Y DE ESPACIO PUBLICO","ESCRITO","DERECHO DE PETICION DE INTERES PARTICULAR",20,"PENDIENTE"]
[3521782021,"SUBDIRECCION DE REGISTRO INMOBILIARIO","ESCRITO","DERECHO DE PETICION DE INTERES PARTICULAR",15,"GESTIONADOS"]
[3521922021,"SUBDIRECCION DE ADMINISTRACION INMOBILIARIA Y DE ESPACIO PUBLICO","ESCRITO","DERECHO DE PETICION DE INTERES PARTICULAR",20,"PENDIENTE"]
[3522022021,"SUBDIRECCION DE ADMINISTRACION INMOBILIARIA Y DE ESPACIO PUBLICO","ESCRITO","DERECHO DE PETICION DE INTERES PARTICULAR",20,"PENDIENTE"]
[3522152021,"SUBDIRECCION DE ADMINISTRACION INMOBILIARIA Y DE ESPACIO PUBLICO","ESCRITO","DERECHO DE PETICION DE INTERES PARTICULAR",20,"PENDIENTE"]
[3522322021,"SUBDIRECCION DE ADMINISTRACION INMOBILIARIA Y DE ESPACIO PUBLICO","ESCRITO","DERECHO DE PETICION DE INTERES PARTICULAR",20,"PENDIENTE"]
[3522442021,"SUBDIRECCION DE ADMINISTRACION INMOBILIARIA Y DE ESPACIO PUBLICO","ESCRITO","DERECHO DE PETICION DE INTERES PARTICULAR",20,"PENDIENTE"]
[3523142021,"AREA DE ATENCION A LA CIUDADANIA","WEB","DERECHO DE PETICION DE INTERES GENERAL",1,"GESTIONADOS"]
[3523142021,"SUBDIRECCION DE ADMINISTRACION INMOBILIARIA Y DE ESPACIO PUBLICO","WEB","DERECHO DE PETICION DE INTERES GENERAL",19,"PENDIENTE"]
[3524492021,"SUBDIRECCION DE REGISTRO INMOBILIARIO","ESCRITO","DERECHO DE PETICION DE INTERES PARTICULAR",15,"GESTIONADOS"]
[3524712021,"SUBDIRECCION DE ADMINISTRACION INMOBILIARIA Y DE ESPACIO PUBLICO","ESCRITO","DERECHO DE PETICION DE INTERES PARTICULAR",20,"PENDIENTE"]
[3525082021,"SUBDIRECCION DE ADMINISTRACION INMOBILIARIA Y DE ESPACIO PUBLICO","ESCRITO","DERECHO DE PETICION DE INTERES PARTICULAR",20,"PENDIENTE"]
[3525292021,"AREA DE ATENCION A LA CIUDADANIA","ESCRITO","DERECHO DE PETICION DE INTERES PARTICULAR",19,"GESTIONADOS"]
[3525292021,"SUBDIRECCION DE REGISTRO INMOBILIARIO","ESCRITO","DERECHO DE PETICION DE INTERES PARTICULAR",19,"GESTIONADOS"]
[3532872021,"AREA DE ATENCION A LA CIUDADANIA","WEB","QUEJA",1,"GESTIONADOS"]
[3532972021,"AREA DE ATENCION A LA CIUDADANIA","WEB","QUEJA",1,"GESTIONADOS"]
[3534762021,"AREA DE ATENCION A LA CIUDADANIA","WEB","DERECHO DE PETICION DE INTERES GENERAL",1,"GESTIONADOS"]
[3534762021,"SUBDIRECCION DE ADMINISTRACION INMOBILIARIA Y DE ESPACIO PUBLICO","WEB","DERECHO DE PETICION DE INTERES GENERAL",17,"PENDIENTE"]
[3535722021,"AREA DE ATENCION A LA CIUDADANIA","WEB","DERECHO DE PETICION DE INTERES GENERAL",1,"GESTIONADOS"]
[3536552021,"AREA DE ATENCION A LA CIUDADANIA","TELEFONO","DERECHO DE PETICION DE INTERES PARTICULAR",1,"GESTIONADOS"]
[3536722021,"AREA DE ATENCION A LA CIUDADANIA","WEB","DERECHO DE PETICION DE INTERES GENERAL",1,"GESTIONADOS"]
[3536742021,"AREA DE ATENCION A LA CIUDADANIA","TELEFONO","DERECHO DE PETICION DE INTERES GENERAL",1,"GESTIONADOS"]
[3537272021,"AREA DE ATENCION A LA CIUDADANIA","E-MAIL","DERECHO DE PETICION DE INTERES GENERAL",1,"GESTIONADOS"]
[3537792021,"AREA DE ATENCION A LA CIUDADANIA","WEB","DERECHO DE PETICION DE INTERES GENERAL",1,"GESTIONADOS"]
[3537812021,"AREA DE ATENCION A LA CIUDADANIA","WEB","DERECHO DE PETICION DE INTERES PARTICULAR",1,"GESTIONADOS"]
[3537822021,"AREA DE ATENCION A LA CIUDADANIA","WEB","DERECHO DE PETICION DE INTERES GENERAL",1,"GESTIONADOS"]
[3537822021,"SUBDIRECCION DE ADMINISTRACION INMOBILIARIA Y DE ESPACIO PUBLICO","WEB","DERECHO DE PETICION DE INTERES GENERAL",20,"PENDIENTE"]
[3539262021,"AREA DE ATENCION A LA CIUDADANIA","WEB","DERECHO DE PETICION DE INTERES PARTICULAR",1,"GESTIONADOS"]
[3540052021,"AREA DE ATENCION A LA CIUDADANIA","TELEFONO","DERECHO DE PETICION DE INTERES PARTICULAR",1,"GESTIONADOS"]
[3540052021,"SUBDIRECCION DE ADMINISTRACION INMOBILIARIA Y DE ESPACIO PUBLICO","TELEFONO","DERECHO DE PETICION DE INTERES PARTICULAR",19,"PENDIENTE"]
[3541982021,"AREA DE ATENCION A LA CIUDADANIA","ESCRITO","DERECHO DE PETICION DE INTERES PARTICULAR",1,"GESTIONADOS"]
[3541982021,"SUBDIRECCION DE REGISTRO INMOBILIARIO","ESCRITO","DERECHO DE PETICION DE INTERES PARTICULAR",19,"PENDIENTE"]
[3542372021,"AREA DE ATENCION A LA CIUDADANIA","ESCRITO","DERECHO DE PETICION DE INTERES PARTICULAR",1,"GESTIONADOS"]
[3542372021,"SUBDIRECCION DE REGISTRO INMOBILIARIO","ESCRITO","DERECHO DE PETICION DE INTERES PARTICULAR",19,"GESTIONADOS"]
[3542582021,"AREA DE ATENCION A LA CIUDADANIA","ESCRITO","DERECHO DE PETICION DE INTERES PARTICULAR",1,"GESTIONADOS"]
[3542582021,"SUBDIRECCION DE REGISTRO INMOBILIARIO","ESCRITO","DERECHO DE PETICION DE INTERES PARTICULAR",15,"GESTIONADOS"]
[3542642021,"AREA DE ATENCION A LA CIUDADANIA","WEB","DERECHO DE PETICION DE INTERES GENERAL",1,"GESTIONADOS"]
[3542832021,"AREA DE ATENCION A LA CIUDADANIA","ESCRITO","DERECHO DE PETICION DE INTERES GENERAL",1,"GESTIONADOS"]
[3542832021,"SUBDIRECCION DE ADMINISTRACION INMOBILIARIA Y DE ESPACIO PUBLICO","ESCRITO","DERECHO DE PETICION DE INTERES GENERAL",19,"PENDIENTE"]
[3542902021,"AREA DE ATENCION A LA CIUDADANIA","ESCRITO","DERECHO DE PETICION DE INTERES PARTICULAR",1,"GESTIONADOS"]
[3542902021,"SUBDIRECCION DE REGISTRO INMOBILIARIO","ESCRITO","DERECHO DE PETICION DE INTERES PARTICULAR",19,"PENDIENTE"]
[3542952021,"AREA DE ATENCION A LA CIUDADANIA","ESCRITO","DERECHO DE PETICION DE INTERES GENERAL",1,"GESTIONADOS"]
[3542952021,"SUBDIRECCION DE REGISTRO INMOBILIARIO","ESCRITO","DERECHO DE PETICION DE INTERES GENERAL",15,"GESTIONADOS"]
[3542992021,"AREA DE ATENCION A LA CIUDADANIA","ESCRITO","DERECHO DE PETICION DE INTERES PARTICULAR",1,"GESTIONADOS"]
[3542992021,"SUBDIRECCION DE ADMINISTRACION INMOBILIARIA Y DE ESPACIO PUBLICO","ESCRITO","DERECHO DE PETICION DE INTERES PARTICULAR",19,"PENDIENTE"]
[3543202021,"AREA DE ATENCION A LA CIUDADANIA","TELEFONO","DERECHO DE PETICION DE INTERES GENERAL",1,"GESTIONADOS"]
[3543202021,"SUBDIRECCION DE REGISTRO INMOBILIARIO","TELEFONO","DERECHO DE PETICION DE INTERES GENERAL",19,"PENDIENTE"]
[3543352021,"AREA DE ATENCION A LA CIUDADANIA","ESCRITO","DERECHO DE PETICION DE INTERES PARTICULAR",1,"GESTIONADOS"]
[3543352021,"SUBDIRECCION DE ADMINISTRACION INMOBILIARIA Y DE ESPACIO PUBLICO","ESCRITO","DERECHO DE PETICION DE INTERES PARTICULAR",19,"PENDIENTE"]
[3543602021,"AREA DE ATENCION A LA CIUDADANIA","ESCRITO","DERECHO DE PETICION DE INTERES PARTICULAR",1,"GESTIONADOS"]
[3543602021,"SUBDIRECCION DE ADMINISTRACION INMOBILIARIA Y DE ESPACIO PUBLICO","ESCRITO","DERECHO DE PETICION DE INTERES PARTICULAR",19,"PENDIENTE"]
[3543742021,"AREA DE ATENCION A LA CIUDADANIA","WEB","DERECHO DE PETICION DE INTERES PARTICULAR",1,"GESTIONADOS"]
[3543742021,"SUBDIRECCION DE ADMINISTRACION INMOBILIARIA Y DE ESPACIO PUBLICO","WEB","DERECHO DE PETICION DE INTERES PARTICULAR",19,"PENDIENTE"]
[3544612021,"AREA DE ATENCION A LA CIUDADANIA","TELEFONO","DERECHO DE PETICION DE INTERES GENERAL",1,"GESTIONADOS"]
[3545152021,"AREA DE ATENCION A LA CIUDADANIA","WEB","QUEJA",1,"GESTIONADOS"]
[3545382021,"AREA DE ATENCION A LA CIUDADANIA","WEB","DERECHO DE PETICION DE INTERES PARTICULAR",1,"GESTIONADOS"]
[3545382021,"SUBDIRECCION DE REGISTRO INMOBILIARIO","WEB","DERECHO DE PETICION DE INTERES PARTICULAR",19,"PENDIENTE"]
[3545772021,"AREA DE ATENCION A LA CIUDADANIA","TELEFONO","DERECHO DE PETICION DE INTERES PARTICULAR",1,"GESTIONADOS"]
[3546502021,"AREA DE ATENCION A LA CIUDADANIA","ESCRITO","DERECHO DE PETICION DE INTERES PARTICULAR",1,"GESTIONADOS"]
[3546502021,"SUBDIRECCION DE ADMINISTRACION INMOBILIARIA Y DE ESPACIO PUBLICO","ESCRITO","DERECHO DE PETICION DE INTERES PARTICULAR",19,"PENDIENTE"]
[3546792021,"AREA DE ATENCION A LA CIUDADANIA","ESCRITO","DERECHO DE PETICION DE INTERES PARTICULAR",1,"GESTIONADOS"]
[3546792021,"SUBDIRECCION DE REGISTRO INMOBILIARIO","ESCRITO","DERECHO DE PETICION DE INTERES PARTICULAR",16,"GESTIONADOS"]
[3546892021,"AREA DE ATENCION A LA CIUDADANIA","ESCRITO","DERECHO DE PETICION DE INTERES PARTICULAR",1,"GESTIONADOS"]
[3546892021,"SUBDIRECCION DE ADMINISTRACION INMOBILIARIA Y DE ESPACIO PUBLICO","ESCRITO","DERECHO DE PETICION DE INTERES PARTICULAR",19,"PENDIENTE"]
[3552452021,"AREA DE ATENCION A LA CIUDADANIA","TELEFONO","DERECHO DE PETICION DE INTERES GENERAL",1,"GESTIONADOS"]
[3552452021,"SUBDIRECCION DE REGISTRO INMOBILIARIO","TELEFONO","DERECHO DE PETICION DE INTERES GENERAL",19,"PENDIENTE"]
[3552732021,"AREA DE ATENCION A LA CIUDADANIA","WEB","DERECHO DE PETICION DE INTERES PARTICULAR",1,"GESTIONADOS"]
[3552882021,"AREA DE ATENCION A LA CIUDADANIA","ESCRITO","DERECHO DE PETICION DE INTERES PARTICULAR",1,"GESTIONADOS"]
[3552882021,"SUBDIRECCION DE ADMINISTRACION INMOBILIARIA Y DE ESPACIO PUBLICO","ESCRITO","DERECHO DE PETICION DE INTERES PARTICULAR",19,"PENDIENTE"]
[3552902021,"AREA DE ATENCION A LA CIUDADANIA","ESCRITO","DERECHO DE PETICION DE INTERES PARTICULAR",1,"GESTIONADOS"]
[3552902021,"SUBDIRECCION DE ADMINISTRACION INMOBILIARIA Y DE ESPACIO PUBLICO","ESCRITO","DERECHO DE PETICION DE INTERES PARTICULAR",19,"PENDIENTE"]
[3555482021,"AREA DE ATENCION A LA CIUDADANIA","ESCRITO","DERECHO DE PETICION DE INTERES PARTICULAR",1,"GESTIONADOS"]
[3555482021,"SUBDIRECCION DE ADMINISTRACION INMOBILIARIA Y DE ESPACIO PUBLICO","ESCRITO","DERECHO DE PETICION DE INTERES PARTICULAR",19,"PENDIENTE"]
[3555522021,"AREA DE ATENCION A LA CIUDADANIA","ESCRITO","DERECHO DE PETICION DE INTERES PARTICULAR",1,"GESTIONADOS"]
[3555522021,"SUBDIRECCION DE ADMINISTRACION INMOBILIARIA Y DE ESPACIO PUBLICO","ESCRITO","DERECHO DE PETICION DE INTERES PARTICULAR",19,"PENDIENTE"]
[3555582021,"AREA DE ATENCION A LA CIUDADANIA","ESCRITO","DERECHO DE PETICION DE INTERES PARTICULAR",1,"GESTIONADOS"]
[3555582021,"SUBDIRECCION DE ADMINISTRACION INMOBILIARIA Y DE ESPACIO PUBLICO","ESCRITO","DERECHO DE PETICION DE INTERES PARTICULAR",19,"PENDIENTE"]
[3555652021,"AREA DE ATENCION A LA CIUDADANIA","ESCRITO","DERECHO DE PETICION DE INTERES PARTICULAR",1,"GESTIONADOS"]
[3555652021,"SUBDIRECCION DE ADMINISTRACION INMOBILIARIA Y DE ESPACIO PUBLICO","ESCRITO","DERECHO DE PETICION DE INTERES PARTICULAR",19,"PENDIENTE"]
[3555702021,"AREA DE ATENCION A LA CIUDADANIA","ESCRITO","DERECHO DE PETICION DE INTERES PARTICULAR",1,"GESTIONADOS"]
[3555702021,"SUBDIRECCION DE ADMINISTRACION INMOBILIARIA Y DE ESPACIO PUBLICO","ESCRITO","DERECHO DE PETICION DE INTERES PARTICULAR",19,"PENDIENTE"]
[3555922021,"AREA DE ATENCION A LA CIUDADANIA","WEB","DERECHO DE PETICION DE INTERES PARTICULAR",1,"GESTIONADOS"]
[3556912021,"AREA DE ATENCION A LA CIUDADANIA","WEB","DERECHO DE PETICION DE INTERES PARTICULAR",1,"GESTIONADOS"]
[3557062021,"AREA DE ATENCION A LA CIUDADANIA","ESCRITO","DERECHO DE PETICION DE INTERES PARTICULAR",1,"GESTIONADOS"]
[3558322021,"AREA DE ATENCION A LA CIUDADANIA","WEB","DERECHO DE PETICION DE INTERES PARTICULAR",1,"GESTIONADOS"]
[3559112021,"AREA DE ATENCION A LA CIUDADANIA","TELEFONO","DERECHO DE PETICION DE INTERES PARTICULAR",1,"GESTIONADOS"]
[3559952021,"AREA DE ATENCION A LA CIUDADANIA","WEB","DERECHO DE PETICION DE INTERES PARTICULAR",1,"GESTIONADOS"]
[3559952021,"SUBDIRECCION DE ADMINISTRACION INMOBILIARIA Y DE ESPACIO PUBLICO","WEB","DERECHO DE PETICION DE INTERES PARTICULAR",17,"PENDIENTE"]
[3562352021,"AREA DE ATENCION A LA CIUDADANIA","WEB","DERECHO DE PETICION DE INTERES PARTICULAR",1,"GESTIONADOS"]
[3562352021,"SUBDIRECCION DE REGISTRO INMOBILIARIO","WEB","DERECHO DE PETICION DE INTERES PARTICULAR",16,"GESTIONADOS"]
[3565632021,"AREA DE ATENCION A LA CIUDADANIA","ESCRITO","DERECHO DE PETICION DE INTERES PARTICULAR",1,"GESTIONADOS"]
[3565632021,"SUBDIRECCION DE ADMINISTRACION INMOBILIARIA Y DE ESPACIO PUBLICO","ESCRITO","DERECHO DE PETICION DE INTERES PARTICULAR",18,"PENDIENTE"]
[3565982021,"AREA DE ATENCION A LA CIUDADANIA","ESCRITO","DERECHO DE PETICION DE INTERES PARTICULAR",1,"GESTIONADOS"]
[3565982021,"SUBDIRECCION DE ADMINISTRACION INMOBILIARIA Y DE ESPACIO PUBLICO","ESCRITO","DERECHO DE PETICION DE INTERES PARTICULAR",18,"PENDIENTE"]
[3566122021,"AREA DE ATENCION A LA CIUDADANIA","ESCRITO","DERECHO DE PETICION DE INTERES PARTICULAR",1,"GESTIONADOS"]
[3566122021,"SUBDIRECCION DE ADMINISTRACION INMOBILIARIA Y DE ESPACIO PUBLICO","ESCRITO","DERECHO DE PETICION DE INTERES PARTICULAR",18,"PENDIENTE"]
[3566482021,"AREA DE ATENCION A LA CIUDADANIA","ESCRITO","DERECHO DE PETICION DE INTERES PARTICULAR",1,"GESTIONADOS"]
[3566482021,"SUBDIRECCION DE ADMINISTRACION INMOBILIARIA Y DE ESPACIO PUBLICO","ESCRITO","DERECHO DE PETICION DE INTERES PARTICULAR",18,"PENDIENTE"]
[3566902021,"AREA DE ATENCION A LA CIUDADANIA","WEB","DERECHO DE PETICION DE INTERES GENERAL",1,"GESTIONADOS"]
[3568312021,"AREA DE ATENCION A LA CIUDADANIA","WEB","DERECHO DE PETICION DE INTERES PARTICULAR",1,"GESTIONADOS"]
[3570852021,"AREA DE ATENCION A LA CIUDADANIA","WEB","DERECHO DE PETICION DE INTERES PARTICULAR",1,"GESTIONADOS"]
[3570852021,"SUBDIRECCION DE ADMINISTRACION INMOBILIARIA Y DE ESPACIO PUBLICO","WEB","DERECHO DE PETICION DE INTERES PARTICULAR",14,"PENDIENTE"]
[3571502021,"AREA DE ATENCION A LA CIUDADANIA","WEB","DERECHO DE PETICION DE INTERES PARTICULAR",1,"GESTIONADOS"]
[3571502021,"SUBDIRECCION DE ADMINISTRACION INMOBILIARIA Y DE ESPACIO PUBLICO","WEB","DERECHO DE PETICION DE INTERES PARTICULAR",18,"PENDIENTE"]
[3572312021,"AREA DE ATENCION A LA CIUDADANIA","WEB","DERECHO DE PETICION DE INTERES GENERAL",1,"GESTIONADOS"]
[3572312021,"SUBDIRECCION DE ADMINISTRACION INMOBILIARIA Y DE ESPACIO PUBLICO","WEB","DERECHO DE PETICION DE INTERES GENERAL",18,"PENDIENTE"]
[3574562021,"AREA DE ATENCION A LA CIUDADANIA","WEB","DERECHO DE PETICION DE INTERES GENERAL",1,"GESTIONADOS"]
[3574892021,"AREA DE ATENCION A LA CIUDADANIA","WEB","DERECHO DE PETICION DE INTERES PARTICULAR",1,"GESTIONADOS"]
[3574892021,"SUBDIRECCION DE REGISTRO INMOBILIARIO","WEB","DERECHO DE PETICION DE INTERES PARTICULAR",18,"PENDIENTE"]
[3577722021,"AREA DE ATENCION A LA CIUDADANIA","ESCRITO","DERECHO DE PETICION DE INTERES PARTICULAR",1,"GESTIONADOS"]
[3577722021,"SUBDIRECCION DE ADMINISTRACION INMOBILIARIA Y DE ESPACIO PUBLICO","ESCRITO","DERECHO DE PETICION DE INTERES PARTICULAR",17,"PENDIENTE"]
[3577782021,"AREA DE ATENCION A LA CIUDADANIA","ESCRITO","DERECHO DE PETICION DE INTERES PARTICULAR",1,"GESTIONADOS"]
[3577782021,"SUBDIRECCION DE ADMINISTRACION INMOBILIARIA Y DE ESPACIO PUBLICO","ESCRITO","DERECHO DE PETICION DE INTERES PARTICULAR",17,"PENDIENTE"]
[3577882021,"AREA DE ATENCION A LA CIUDADANIA","ESCRITO","DERECHO DE PETICION DE INTERES PARTICULAR",1,"GESTIONADOS"]
[3577882021,"SUBDIRECCION DE ADMINISTRACION INMOBILIARIA Y DE ESPACIO PUBLICO","ESCRITO","DERECHO DE PETICION DE INTERES PARTICULAR",17,"PENDIENTE"]
[3577952021,"AREA DE ATENCION A LA CIUDADANIA","ESCRITO","DERECHO DE PETICION DE INTERES PARTICULAR",1,"GESTIONADOS"]
[3577952021,"SUBDIRECCION DE ADMINISTRACION INMOBILIARIA Y DE ESPACIO PUBLICO","ESCRITO","DERECHO DE PETICION DE INTERES PARTICULAR",17,"PENDIENTE"]
[3578222021,"AREA DE ATENCION A LA CIUDADANIA","ESCRITO","DERECHO DE PETICION DE INTERES PARTICULAR",1,"GESTIONADOS"]
[3578222021,"SUBDIRECCION DE ADMINISTRACION INMOBILIARIA Y DE ESPACIO PUBLICO","ESCRITO","DERECHO DE PETICION DE INTERES PARTICULAR",17,"PENDIENTE"]
[3578292021,"AREA DE ATENCION A LA CIUDADANIA","ESCRITO","DERECHO DE PETICION DE INTERES PARTICULAR",1,"GESTIONADOS"]
[3578292021,"SUBDIRECCION DE ADMINISTRACION INMOBILIARIA Y DE ESPACIO PUBLICO","ESCRITO","DERECHO DE PETICION DE INTERES PARTICULAR",17,"PENDIENTE"]
[3578312021,"AREA DE ATENCION A LA CIUDADANIA","ESCRITO","DERECHO DE PETICION DE INTERES PARTICULAR",1,"GESTIONADOS"]
[3578312021,"SUBDIRECCION DE REGISTRO INMOBILIARIO","ESCRITO","DERECHO DE PETICION DE INTERES PARTICULAR",17,"GESTIONADOS"]
[3578462021,"AREA DE ATENCION A LA CIUDADANIA","ESCRITO","DERECHO DE PETICION DE INTERES GENERAL",1,"GESTIONADOS"]
[3578462021,"SUBDIRECCION DE ADMINISTRACION INMOBILIARIA Y DE ESPACIO PUBLICO","ESCRITO","DERECHO DE PETICION DE INTERES GENERAL",17,"PENDIENTE"]
[3581102021,"AREA DE ATENCION A LA CIUDADANIA","WEB","DERECHO DE PETICION DE INTERES GENERAL",1,"GESTIONADOS"]
[3582832021,"AREA DE ATENCION A LA CIUDADANIA","BUZON","DERECHO DE PETICION DE INTERES GENERAL",1,"GESTIONADOS"]
[3583222021,"AREA DE ATENCION A LA CIUDADANIA","WEB","DERECHO DE PETICION DE INTERES GENERAL",1,"GESTIONADOS"]
[3584422021,"AREA DE ATENCION A LA CIUDADANIA","E-MAIL","DERECHO DE PETICION DE INTERES PARTICULAR",1,"GESTIONADOS"]
[3584422021,"SUBDIRECCION DE ADMINISTRACION INMOBILIARIA Y DE ESPACIO PUBLICO","E-MAIL","DERECHO DE PETICION DE INTERES PARTICULAR",17,"PENDIENTE"]
[3584952021,"AREA DE ATENCION A LA CIUDADANIA","WEB","DERECHO DE PETICION DE INTERES GENERAL",2,"GESTIONADOS"]
[3585332021,"AREA DE ATENCION A LA CIUDADANIA","WEB","DERECHO DE PETICION DE INTERES GENERAL",1,"GESTIONADOS"]
[3585332021,"SUBDIRECCION ADMINISTRATIVA  FINANCIERA Y DE CONTROL DISCIPLINARIO","WEB","DERECHO DE PETICION DE INTERES GENERAL",1,"GESTIONADOS"]
[3585332021,"SUBDIRECCION DE ADMINISTRACION INMOBILIARIA Y DE ESPACIO PUBLICO","WEB","DERECHO DE PETICION DE INTERES GENERAL",17,"PENDIENTE"]
[3588902021,"AREA DE ATENCION A LA CIUDADANIA","ESCRITO","DERECHO DE PETICION DE INTERES PARTICULAR",1,"GESTIONADOS"]
[3588902021,"SUBDIRECCION DE ADMINISTRACION INMOBILIARIA Y DE ESPACIO PUBLICO","ESCRITO","DERECHO DE PETICION DE INTERES PARTICULAR",17,"PENDIENTE"]
[3589302021,"AREA DE ATENCION A LA CIUDADANIA","ESCRITO","DERECHO DE PETICION DE INTERES PARTICULAR",1,"GESTIONADOS"]
[3589302021,"SUBDIRECCION DE ADMINISTRACION INMOBILIARIA Y DE ESPACIO PUBLICO","ESCRITO","DERECHO DE PETICION DE INTERES PARTICULAR",17,"PENDIENTE"]
[3589462021,"AREA DE ATENCION A LA CIUDADANIA","ESCRITO","DERECHO DE PETICION DE INTERES PARTICULAR",1,"GESTIONADOS"]
[3589462021,"SUBDIRECCION DE ADMINISTRACION INMOBILIARIA Y DE ESPACIO PUBLICO","ESCRITO","DERECHO DE PETICION DE INTERES PARTICULAR",17,"PENDIENTE"]
[3589602021,"AREA DE ATENCION A LA CIUDADANIA","WEB","DERECHO DE PETICION DE INTERES GENERAL",1,"GESTIONADOS"]
[3589602021,"SUBDIRECCION ADMINISTRATIVA  FINANCIERA Y DE CONTROL DISCIPLINARIO","WEB","DERECHO DE PETICION DE INTERES GENERAL",1,"GESTIONADOS"]
[3590122021,"AREA DE ATENCION A LA CIUDADANIA","ESCRITO","DERECHO DE PETICION DE INTERES PARTICULAR",1,"GESTIONADOS"]
[3590122021,"SUBDIRECCION DE ADMINISTRACION INMOBILIARIA Y DE ESPACIO PUBLICO","ESCRITO","DERECHO DE PETICION DE INTERES PARTICULAR",17,"PENDIENTE"]
[3590342021,"AREA DE ATENCION A LA CIUDADANIA","WEB","QUEJA",1,"GESTIONADOS"]
[3590342021,"SUBDIRECCION DE ADMINISTRACION INMOBILIARIA Y DE ESPACIO PUBLICO","WEB","QUEJA",17,"PENDIENTE"]
[3590452021,"AREA DE ATENCION A LA CIUDADANIA","WEB","QUEJA",1,"GESTIONADOS"]
[3590472021,"AREA DE ATENCION A LA CIUDADANIA","WEB","CONSULTA",1,"GESTIONADOS"]
[3591552021,"AREA DE ATENCION A LA CIUDADANIA","TELEFONO","DERECHO DE PETICION DE INTERES PARTICULAR",1,"GESTIONADOS"]
[3591552021,"SUBDIRECCION DE ADMINISTRACION INMOBILIARIA Y DE ESPACIO PUBLICO","TELEFONO","DERECHO DE PETICION DE INTERES PARTICULAR",17,"PENDIENTE"]
[3593202021,"AREA DE ATENCION A LA CIUDADANIA","TELEFONO","DERECHO DE PETICION DE INTERES GENERAL",1,"GESTIONADOS"]
[3593202021,"SUBDIRECCION DE ADMINISTRACION INMOBILIARIA Y DE ESPACIO PUBLICO","TELEFONO","DERECHO DE PETICION DE INTERES GENERAL",17,"PENDIENTE"]
[3593332021,"AREA DE ATENCION A LA CIUDADANIA","WEB","CONSULTA",1,"GESTIONADOS"]
[3593332021,"SUBDIRECCION DE REGISTRO INMOBILIARIO","WEB","CONSULTA",17,"PENDIENTE"]
[3600372021,"AREA DE ATENCION A LA CIUDADANIA","E-MAIL","DERECHO DE PETICION DE INTERES PARTICULAR",1,"GESTIONADOS"]
[3600632021,"AREA DE ATENCION A LA CIUDADANIA","TELEFONO","DERECHO DE PETICION DE INTERES GENERAL",1,"GESTIONADOS"]
[3602222021,"AREA DE ATENCION A LA CIUDADANIA","WEB","DERECHO DE PETICION DE INTERES PARTICULAR",1,"GESTIONADOS"]
[3603322021,"AREA DE ATENCION A LA CIUDADANIA","ESCRITO","DERECHO DE PETICION DE INTERES PARTICULAR",1,"GESTIONADOS"]
[3603322021,"SUBDIRECCION DE ADMINISTRACION INMOBILIARIA Y DE ESPACIO PUBLICO","ESCRITO","DERECHO DE PETICION DE INTERES PARTICULAR",16,"PENDIENTE"]
[3603612021,"AREA DE ATENCION A LA CIUDADANIA","ESCRITO","DERECHO DE PETICION DE INTERES PARTICULAR",1,"GESTIONADOS"]
[3603612021,"SUBDIRECCION ADMINISTRATIVA  FINANCIERA Y DE CONTROL DISCIPLINARIO","ESCRITO","DERECHO DE PETICION DE INTERES PARTICULAR",1,"GESTIONADOS"]
[3603612021,"SUBDIRECCION ADMINISTRATIVA Y FINANCIERA","ESCRITO","DERECHO DE PETICION DE INTERES PARTICULAR",7,"GESTIONADOS"]
[3603712021,"AREA DE ATENCION A LA CIUDADANIA","ESCRITO","DERECHO DE PETICION DE INTERES PARTICULAR",1,"GESTIONADOS"]
[3603712021,"SUBDIRECCION ADMINISTRATIVA  FINANCIERA Y DE CONTROL DISCIPLINARIO","ESCRITO","DERECHO DE PETICION DE INTERES PARTICULAR",1,"GESTIONADOS"]
[3603712021,"SUBDIRECCION ADMINISTRATIVA Y FINANCIERA","ESCRITO","DERECHO DE PETICION DE INTERES PARTICULAR",7,"GESTIONADOS"]
[3603962021,"AREA DE ATENCION A LA CIUDADANIA","ESCRITO","DERECHO DE PETICION DE INTERES PARTICULAR",1,"GESTIONADOS"]
[3603962021,"SUBDIRECCION ADMINISTRATIVA  FINANCIERA Y DE CONTROL DISCIPLINARIO","ESCRITO","DERECHO DE PETICION DE INTERES PARTICULAR",1,"GESTIONADOS"]
[3603962021,"SUBDIRECCION ADMINISTRATIVA Y FINANCIERA","ESCRITO","DERECHO DE PETICION DE INTERES PARTICULAR",7,"GESTIONADOS"]
[3604142021,"AREA DE ATENCION A LA CIUDADANIA","ESCRITO","DERECHO DE PETICION DE INTERES PARTICULAR",1,"GESTIONADOS"]
[3604142021,"SUBDIRECCION DE ADMINISTRACION INMOBILIARIA Y DE ESPACIO PUBLICO","ESCRITO","DERECHO DE PETICION DE INTERES PARTICULAR",16,"PENDIENTE"]
[3604332021,"AREA DE ATENCION A LA CIUDADANIA","ESCRITO","DERECHO DE PETICION DE INTERES PARTICULAR",1,"GESTIONADOS"]
[3604332021,"SUBDIRECCION DE ADMINISTRACION INMOBILIARIA Y DE ESPACIO PUBLICO","ESCRITO","DERECHO DE PETICION DE INTERES PARTICULAR",16,"PENDIENTE"]
[3604802021,"AREA DE ATENCION A LA CIUDADANIA","ESCRITO","DERECHO DE PETICION DE INTERES PARTICULAR",1,"GESTIONADOS"]
[3604802021,"SUBDIRECCION DE ADMINISTRACION INMOBILIARIA Y DE ESPACIO PUBLICO","ESCRITO","DERECHO DE PETICION DE INTERES PARTICULAR",16,"PENDIENTE"]
[3604942021,"AREA DE ATENCION A LA CIUDADANIA","ESCRITO","DERECHO DE PETICION DE INTERES PARTICULAR",1,"GESTIONADOS"]
[3604942021,"SUBDIRECCION DE ADMINISTRACION INMOBILIARIA Y DE ESPACIO PUBLICO","ESCRITO","DERECHO DE PETICION DE INTERES PARTICULAR",16,"PENDIENTE"]
[3605092021,"AREA DE ATENCION A LA CIUDADANIA","ESCRITO","DERECHO DE PETICION DE INTERES PARTICULAR",1,"GESTIONADOS"]
[3605092021,"SUBDIRECCION ADMINISTRATIVA Y FINANCIERA","ESCRITO","DERECHO DE PETICION DE INTERES PARTICULAR",7,"GESTIONADOS"]
[3605092021,"SUBDIRECCION DE ADMINISTRACION INMOBILIARIA Y DE ESPACIO PUBLICO","ESCRITO","DERECHO DE PETICION DE INTERES PARTICULAR",3,"GESTIONADOS"]
[3605222021,"AREA DE ATENCION A LA CIUDADANIA","ESCRITO","DERECHO DE PETICION DE INTERES PARTICULAR",1,"GESTIONADOS"]
[3605222021,"SUBDIRECCION DE ADMINISTRACION INMOBILIARIA Y DE ESPACIO PUBLICO","ESCRITO","DERECHO DE PETICION DE INTERES PARTICULAR",16,"PENDIENTE"]
[3605222021,"SUBDIRECCION DE REGISTRO INMOBILIARIO","ESCRITO","DERECHO DE PETICION DE INTERES PARTICULAR",12,"GESTIONADOS"]
[3605472021,"AREA DE ATENCION A LA CIUDADANIA","ESCRITO","DERECHO DE PETICION DE INTERES PARTICULAR",1,"GESTIONADOS"]
[3605472021,"SUBDIRECCION DE ADMINISTRACION INMOBILIARIA Y DE ESPACIO PUBLICO","ESCRITO","DERECHO DE PETICION DE INTERES PARTICULAR",16,"PENDIENTE"]
[3608142021,"AREA DE ATENCION A LA CIUDADANIA","WEB","DERECHO DE PETICION DE INTERES GENERAL",1,"GESTIONADOS"]
[3609012021,"AREA DE ATENCION A LA CIUDADANIA","ESCRITO","DERECHO DE PETICION DE INTERES PARTICULAR",1,"GESTIONADOS"]
[3609012021,"SUBDIRECCION DE ADMINISTRACION INMOBILIARIA Y DE ESPACIO PUBLICO","ESCRITO","DERECHO DE PETICION DE INTERES PARTICULAR",16,"PENDIENTE"]
[3609152021,"AREA DE ATENCION A LA CIUDADANIA","ESCRITO","DERECHO DE PETICION DE INTERES GENERAL",1,"GESTIONADOS"]
[3609152021,"SUBDIRECCION DE REGISTRO INMOBILIARIO","ESCRITO","DERECHO DE PETICION DE INTERES GENERAL",16,"PENDIENTE"]
[3609192021,"AREA DE ATENCION A LA CIUDADANIA","WEB","DERECHO DE PETICION DE INTERES GENERAL",1,"GESTIONADOS"]
[3609222021,"AREA DE ATENCION A LA CIUDADANIA","PRESENCIAL","DERECHO DE PETICION DE INTERES PARTICULAR",1,"GESTIONADOS"]
[3609282021,"AREA DE ATENCION A LA CIUDADANIA","ESCRITO","DERECHO DE PETICION DE INTERES PARTICULAR",1,"GESTIONADOS"]
[3609282021,"SUBDIRECCION DE ADMINISTRACION INMOBILIARIA Y DE ESPACIO PUBLICO","ESCRITO","DERECHO DE PETICION DE INTERES PARTICULAR",16,"PENDIENTE"]
[3609352021,"AREA DE ATENCION A LA CIUDADANIA","ESCRITO","DERECHO DE PETICION DE INTERES PARTICULAR",1,"GESTIONADOS"]
[3609352021,"SUBDIRECCION DE ADMINISTRACION INMOBILIARIA Y DE ESPACIO PUBLICO","ESCRITO","DERECHO DE PETICION DE INTERES PARTICULAR",16,"PENDIENTE"]
[3609422021,"AREA DE ATENCION A LA CIUDADANIA","ESCRITO","DERECHO DE PETICION DE INTERES PARTICULAR",1,"GESTIONADOS"]
[3609422021,"SUBDIRECCION DE ADMINISTRACION INMOBILIARIA Y DE ESPACIO PUBLICO","ESCRITO","DERECHO DE PETICION DE INTERES PARTICULAR",16,"PENDIENTE"]
[3609502021,"AREA DE ATENCION A LA CIUDADANIA","ESCRITO","DERECHO DE PETICION DE INTERES PARTICULAR",1,"GESTIONADOS"]
[3609502021,"SUBDIRECCION DE ADMINISTRACION INMOBILIARIA Y DE ESPACIO PUBLICO","ESCRITO","DERECHO DE PETICION DE INTERES PARTICULAR",16,"PENDIENTE"]
[3609702021,"AREA DE ATENCION A LA CIUDADANIA","ESCRITO","DERECHO DE PETICION DE INTERES PARTICULAR",1,"GESTIONADOS"]
[3609702021,"SUBDIRECCION DE ADMINISTRACION INMOBILIARIA Y DE ESPACIO PUBLICO","ESCRITO","DERECHO DE PETICION DE INTERES PARTICULAR",16,"PENDIENTE"]
[3609792021,"AREA DE ATENCION A LA CIUDADANIA","ESCRITO","DERECHO DE PETICION DE INTERES PARTICULAR",1,"GESTIONADOS"]
[3609792021,"SUBDIRECCION ADMINISTRATIVA Y FINANCIERA","ESCRITO","DERECHO DE PETICION DE INTERES PARTICULAR",7,"GESTIONADOS"]
[3609912021,"AREA DE ATENCION A LA CIUDADANIA","ESCRITO","DERECHO DE PETICION DE INTERES PARTICULAR",1,"GESTIONADOS"]
[3609912021,"SUBDIRECCION DE REGISTRO INMOBILIARIO","ESCRITO","DERECHO DE PETICION DE INTERES PARTICULAR",16,"GESTIONADOS"]
[3610022021,"AREA DE ATENCION A LA CIUDADANIA","ESCRITO","DERECHO DE PETICION DE INTERES PARTICULAR",1,"GESTIONADOS"]
[3610022021,"SUBDIRECCION DE ADMINISTRACION INMOBILIARIA Y DE ESPACIO PUBLICO","ESCRITO","DERECHO DE PETICION DE INTERES PARTICULAR",16,"PENDIENTE"]
[3610092021,"AREA DE ATENCION A LA CIUDADANIA","WEB","DERECHO DE PETICION DE INTERES PARTICULAR",1,"GESTIONADOS"]
[3610252021,"AREA DE ATENCION A LA CIUDADANIA","ESCRITO","DERECHO DE PETICION DE INTERES PARTICULAR",1,"GESTIONADOS"]
[3610252021,"SUBDIRECCION DE REGISTRO INMOBILIARIO","ESCRITO","DERECHO DE PETICION DE INTERES PARTICULAR",16,"PENDIENTE"]
[3610462021,"AREA DE ATENCION A LA CIUDADANIA","ESCRITO","DERECHO DE PETICION DE INTERES PARTICULAR",1,"GESTIONADOS"]
[3610462021,"SUBDIRECCION DE ADMINISTRACION INMOBILIARIA Y DE ESPACIO PUBLICO","ESCRITO","DERECHO DE PETICION DE INTERES PARTICULAR",16,"PENDIENTE"]
[3610582021,"AREA DE ATENCION A LA CIUDADANIA","ESCRITO","DERECHO DE PETICION DE INTERES PARTICULAR",1,"GESTIONADOS"]
[3610582021,"SUBDIRECCION DE ADMINISTRACION INMOBILIARIA Y DE ESPACIO PUBLICO","ESCRITO","DERECHO DE PETICION DE INTERES PARTICULAR",16,"PENDIENTE"]
[3610712021,"AREA DE ATENCION A LA CIUDADANIA","ESCRITO","DERECHO DE PETICION DE INTERES PARTICULAR",1,"GESTIONADOS"]
[3610712021,"SUBDIRECCION DE ADMINISTRACION INMOBILIARIA Y DE ESPACIO PUBLICO","ESCRITO","DERECHO DE PETICION DE INTERES PARTICULAR",16,"PENDIENTE"]
[3610772021,"AREA DE ATENCION A LA CIUDADANIA","ESCRITO","DERECHO DE PETICION DE INTERES PARTICULAR",1,"GESTIONADOS"]
[3610772021,"SUBDIRECCION DE REGISTRO INMOBILIARIO","ESCRITO","DERECHO DE PETICION DE INTERES PARTICULAR",16,"PENDIENTE"]
[3610842021,"AREA DE ATENCION A LA CIUDADANIA","ESCRITO","DERECHO DE PETICION DE INTERES PARTICULAR",1,"GESTIONADOS"]
[3610842021,"SUBDIRECCION DE ADMINISTRACION INMOBILIARIA Y DE ESPACIO PUBLICO","ESCRITO","DERECHO DE PETICION DE INTERES PARTICULAR",16,"PENDIENTE"]
[3610882021,"AREA DE ATENCION A LA CIUDADANIA","ESCRITO","DERECHO DE PETICION DE INTERES PARTICULAR",1,"GESTIONADOS"]
[3610882021,"SUBDIRECCION DE ADMINISTRACION INMOBILIARIA Y DE ESPACIO PUBLICO","ESCRITO","DERECHO DE PETICION DE INTERES PARTICULAR",16,"PENDIENTE"]
[3610912021,"AREA DE ATENCION A LA CIUDADANIA","ESCRITO","DERECHO DE PETICION DE INTERES PARTICULAR",1,"GESTIONADOS"]
[3610912021,"SUBDIRECCION DE ADMINISTRACION INMOBILIARIA Y DE ESPACIO PUBLICO","ESCRITO","DERECHO DE PETICION DE INTERES PARTICULAR",16,"PENDIENTE"]
[3612752021,"AREA DE ATENCION A LA CIUDADANIA","WEB","DERECHO DE PETICION DE INTERES GENERAL",1,"GESTIONADOS"]
[3612862021,"AREA DE ATENCION A LA CIUDADANIA","WEB","DERECHO DE PETICION DE INTERES GENERAL",2,"GESTIONADOS"]
[3614782021,"AREA DE ATENCION A LA CIUDADANIA","TELEFONO","DERECHO DE PETICION DE INTERES GENERAL",1,"GESTIONADOS"]
[3615472021,"AREA DE ATENCION A LA CIUDADANIA","WEB","DERECHO DE PETICION DE INTERES PARTICULAR",1,"GESTIONADOS"]
[3616442021,"AREA DE ATENCION A LA CIUDADANIA","WEB","DERECHO DE PETICION DE INTERES PARTICULAR",1,"GESTIONADOS"]
[3616442021,"SUBDIRECCION DE ADMINISTRACION INMOBILIARIA Y DE ESPACIO PUBLICO","WEB","DERECHO DE PETICION DE INTERES PARTICULAR",16,"PENDIENTE"]
[3616612021,"AREA DE ATENCION A LA CIUDADANIA","WEB","DERECHO DE PETICION DE INTERES GENERAL",1,"GESTIONADOS"]
[3616612021,"SUBDIRECCION DE ADMINISTRACION INMOBILIARIA Y DE ESPACIO PUBLICO","WEB","DERECHO DE PETICION DE INTERES GENERAL",16,"PENDIENTE"]
[3616662021,"AREA DE ATENCION A LA CIUDADANIA","WEB","CONSULTA",1,"GESTIONADOS"]
[3616852021,"AREA DE ATENCION A LA CIUDADANIA","WEB","DERECHO DE PETICION DE INTERES GENERAL",1,"GESTIONADOS"]
[3616852021,"SUBDIRECCION ADMINISTRATIVA  FINANCIERA Y DE CONTROL DISCIPLINARIO","WEB","DERECHO DE PETICION DE INTERES GENERAL",1,"GESTIONADOS"]
[3616892021,"AREA DE ATENCION A LA CIUDADANIA","WEB","DERECHO DE PETICION DE INTERES GENERAL",1,"GESTIONADOS"]
[3616892021,"SUBDIRECCION ADMINISTRATIVA  FINANCIERA Y DE CONTROL DISCIPLINARIO","WEB","DERECHO DE PETICION DE INTERES GENERAL",1,"GESTIONADOS"]
[3617092021,"AREA DE ATENCION A LA CIUDADANIA","WEB","DERECHO DE PETICION DE INTERES GENERAL",1,"GESTIONADOS"]
[3617362021,"AREA DE ATENCION A LA CIUDADANIA","WEB","DERECHO DE PETICION DE INTERES GENERAL",1,"GESTIONADOS"]
[3617642021,"AREA DE ATENCION A LA CIUDADANIA","WEB","DERECHO DE PETICION DE INTERES GENERAL",1,"GESTIONADOS"]
[3617642021,"SUBDIRECCION DE ADMINISTRACION INMOBILIARIA Y DE ESPACIO PUBLICO","WEB","DERECHO DE PETICION DE INTERES GENERAL",16,"PENDIENTE"]
[3617662021,"AREA DE ATENCION A LA CIUDADANIA","WEB","DERECHO DE PETICION DE INTERES GENERAL",1,"GESTIONADOS"]
[3618572021,"AREA DE ATENCION A LA CIUDADANIA","WEB","CONSULTA",1,"GESTIONADOS"]
[3618572021,"SUBDIRECCION DE ADMINISTRACION INMOBILIARIA Y DE ESPACIO PUBLICO","WEB","CONSULTA",16,"PENDIENTE"]
[3618912021,"AREA DE ATENCION A LA CIUDADANIA","WEB","QUEJA",1,"GESTIONADOS"]
[3619072021,"AREA DE ATENCION A LA CIUDADANIA","WEB","DERECHO DE PETICION DE INTERES GENERAL",1,"GESTIONADOS"]
[3619072021,"SUBDIRECCION DE ADMINISTRACION INMOBILIARIA Y DE ESPACIO PUBLICO","WEB","DERECHO DE PETICION DE INTERES GENERAL",16,"PENDIENTE"]
[3619392021,"AREA DE ATENCION A LA CIUDADANIA","WEB","DERECHO DE PETICION DE INTERES PARTICULAR",2,"GESTIONADOS"]
[3620502021,"AREA DE ATENCION A LA CIUDADANIA","WEB","DERECHO DE PETICION DE INTERES PARTICULAR",1,"GESTIONADOS"]
[3620782021,"AREA DE ATENCION A LA CIUDADANIA","WEB","QUEJA",1,"GESTIONADOS"]
[3622022021,"AREA DE ATENCION A LA CIUDADANIA","WEB","DERECHO DE PETICION DE INTERES GENERAL",1,"GESTIONADOS"]
[3622042021,"AREA DE ATENCION A LA CIUDADANIA","WEB","QUEJA",1,"GESTIONADOS"]
[3622082021,"AREA DE ATENCION A LA CIUDADANIA","WEB","QUEJA",1,"GESTIONADOS"]
[3622092021,"AREA DE ATENCION A LA CIUDADANIA","WEB","DERECHO DE PETICION DE INTERES PARTICULAR",1,"GESTIONADOS"]
[3622092021,"SUBDIRECCION DE ADMINISTRACION INMOBILIARIA Y DE ESPACIO PUBLICO","WEB","DERECHO DE PETICION DE INTERES PARTICULAR",15,"PENDIENTE"]
[3625272021,"AREA DE ATENCION A LA CIUDADANIA","WEB","DERECHO DE PETICION DE INTERES GENERAL",1,"GESTIONADOS"]
[3627132021,"AREA DE ATENCION A LA CIUDADANIA","TELEFONO","DERECHO DE PETICION DE INTERES GENERAL",1,"GESTIONADOS"]
[3627132021,"SUBDIRECCION DE ADMINISTRACION INMOBILIARIA Y DE ESPACIO PUBLICO","TELEFONO","DERECHO DE PETICION DE INTERES GENERAL",15,"PENDIENTE"]
[3627542021,"AREA DE ATENCION A LA CIUDADANIA","WEB","DERECHO DE PETICION DE INTERES GENERAL",2,"GESTIONADOS"]
[3628122021,"AREA DE ATENCION A LA CIUDADANIA","WEB","DERECHO DE PETICION DE INTERES PARTICULAR",1,"GESTIONADOS"]
[3628122021,"SUBDIRECCION DE ADMINISTRACION INMOBILIARIA Y DE ESPACIO PUBLICO","WEB","DERECHO DE PETICION DE INTERES PARTICULAR",15,"PENDIENTE"]
[3628562021,"AREA DE ATENCION A LA CIUDADANIA","WEB","QUEJA",1,"GESTIONADOS"]
[3629122021,"AREA DE ATENCION A LA CIUDADANIA","WEB","DERECHO DE PETICION DE INTERES PARTICULAR",1,"GESTIONADOS"]
[3629122021,"SUBDIRECCION DE ADMINISTRACION INMOBILIARIA Y DE ESPACIO PUBLICO","WEB","DERECHO DE PETICION DE INTERES PARTICULAR",14,"PENDIENTE"]
[3629212021,"AREA DE ATENCION A LA CIUDADANIA","ESCRITO","DERECHO DE PETICION DE INTERES PARTICULAR",2,"GESTIONADOS"]
[3629212021,"SUBDIRECCION ADMINISTRATIVA  FINANCIERA Y DE CONTROL DISCIPLINARIO","ESCRITO","DERECHO DE PETICION DE INTERES PARTICULAR",2,"GESTIONADOS"]
[3629212021,"SUBDIRECCION ADMINISTRATIVA Y FINANCIERA","ESCRITO","DERECHO DE PETICION DE INTERES PARTICULAR",15,"PENDIENTE"]
[3629382021,"AREA DE ATENCION A LA CIUDADANIA","ESCRITO","DERECHO DE PETICION DE INTERES PARTICULAR",3,"GESTIONADOS"]
[3629382021,"SUBDIRECCION ADMINISTRATIVA  FINANCIERA Y DE CONTROL DISCIPLINARIO","ESCRITO","DERECHO DE PETICION DE INTERES PARTICULAR",5,"GESTIONADOS"]
[3629382021,"SUBDIRECCION ADMINISTRATIVA Y FINANCIERA","ESCRITO","DERECHO DE PETICION DE INTERES PARTICULAR",15,"PENDIENTE"]
[3629482021,"AREA DE ATENCION A LA CIUDADANIA","ESCRITO","DERECHO DE PETICION DE INTERES PARTICULAR",2,"GESTIONADOS"]
[3629482021,"SUBDIRECCION ADMINISTRATIVA  FINANCIERA Y DE CONTROL DISCIPLINARIO","ESCRITO","DERECHO DE PETICION DE INTERES PARTICULAR",2,"GESTIONADOS"]
[3629482021,"SUBDIRECCION ADMINISTRATIVA Y FINANCIERA","ESCRITO","DERECHO DE PETICION DE INTERES PARTICULAR",15,"PENDIENTE"]
[3629812021,"AREA DE ATENCION A LA CIUDADANIA","ESCRITO","DERECHO DE PETICION DE INTERES PARTICULAR",1,"GESTIONADOS"]
[3629812021,"SUBDIRECCION DE ADMINISTRACION INMOBILIARIA Y DE ESPACIO PUBLICO","ESCRITO","DERECHO DE PETICION DE INTERES PARTICULAR",15,"PENDIENTE"]
[3629962021,"AREA DE ATENCION A LA CIUDADANIA","ESCRITO","DERECHO DE PETICION DE INTERES PARTICULAR",1,"GESTIONADOS"]
[3629962021,"SUBDIRECCION DE ADMINISTRACION INMOBILIARIA Y DE ESPACIO PUBLICO","ESCRITO","DERECHO DE PETICION DE INTERES PARTICULAR",15,"PENDIENTE"]
[3630092021,"AREA DE ATENCION A LA CIUDADANIA","TELEFONO","DERECHO DE PETICION DE INTERES GENERAL",1,"GESTIONADOS"]
[3630152021,"AREA DE ATENCION A LA CIUDADANIA","ESCRITO","DERECHO DE PETICION DE INTERES PARTICULAR",1,"GESTIONADOS"]
[3630152021,"SUBDIRECCION DE ADMINISTRACION INMOBILIARIA Y DE ESPACIO PUBLICO","ESCRITO","DERECHO DE PETICION DE INTERES PARTICULAR",15,"PENDIENTE"]
[3631502021,"AREA DE ATENCION A LA CIUDADANIA","ESCRITO","DERECHO DE PETICION DE INTERES PARTICULAR",1,"GESTIONADOS"]
[3631502021,"SUBDIRECCION DE ADMINISTRACION INMOBILIARIA Y DE ESPACIO PUBLICO","ESCRITO","DERECHO DE PETICION DE INTERES PARTICULAR",15,"PENDIENTE"]
[3631622021,"AREA DE ATENCION A LA CIUDADANIA","ESCRITO","DERECHO DE PETICION DE INTERES PARTICULAR",1,"GESTIONADOS"]
[3631622021,"SUBDIRECCION DE ADMINISTRACION INMOBILIARIA Y DE ESPACIO PUBLICO","ESCRITO","DERECHO DE PETICION DE INTERES PARTICULAR",15,"PENDIENTE"]
[3631772021,"AREA DE ATENCION A LA CIUDADANIA","ESCRITO","DERECHO DE PETICION DE INTERES PARTICULAR",1,"GESTIONADOS"]
[3631772021,"SUBDIRECCION DE ADMINISTRACION INMOBILIARIA Y DE ESPACIO PUBLICO","ESCRITO","DERECHO DE PETICION DE INTERES PARTICULAR",15,"PENDIENTE"]
[3631812021,"AREA DE ATENCION A LA CIUDADANIA","WEB","DERECHO DE PETICION DE INTERES GENERAL",1,"GESTIONADOS"]
[3631902021,"AREA DE ATENCION A LA CIUDADANIA","ESCRITO","DERECHO DE PETICION DE INTERES PARTICULAR",1,"GESTIONADOS"]
[3631902021,"SUBDIRECCION DE REGISTRO INMOBILIARIO","ESCRITO","DERECHO DE PETICION DE INTERES PARTICULAR",15,"PENDIENTE"]
[3632102021,"AREA DE ATENCION A LA CIUDADANIA","ESCRITO","DERECHO DE PETICION DE INTERES PARTICULAR",1,"GESTIONADOS"]
[3632102021,"SUBDIRECCION DE REGISTRO INMOBILIARIO","ESCRITO","DERECHO DE PETICION DE INTERES PARTICULAR",14,"GESTIONADOS"]
[3633032021,"AREA DE ATENCION A LA CIUDADANIA","ESCRITO","DERECHO DE PETICION DE INTERES GENERAL",1,"GESTIONADOS"]
[3633032021,"SUBDIRECCION DE ADMINISTRACION INMOBILIARIA Y DE ESPACIO PUBLICO","ESCRITO","DERECHO DE PETICION DE INTERES GENERAL",15,"PENDIENTE"]
[3633072021,"AREA DE ATENCION A LA CIUDADANIA","ESCRITO","DERECHO DE PETICION DE INTERES PARTICULAR",1,"GESTIONADOS"]
[3633072021,"SUBDIRECCION DE REGISTRO INMOBILIARIO","ESCRITO","DERECHO DE PETICION DE INTERES PARTICULAR",15,"PENDIENTE"]
[3633162021,"AREA DE ATENCION A LA CIUDADANIA","ESCRITO","DERECHO DE PETICION DE INTERES PARTICULAR",1,"GESTIONADOS"]
[3633162021,"SUBDIRECCION DE ADMINISTRACION INMOBILIARIA Y DE ESPACIO PUBLICO","ESCRITO","DERECHO DE PETICION DE INTERES PARTICULAR",15,"PENDIENTE"]
[3633412021,"AREA DE ATENCION A LA CIUDADANIA","ESCRITO","DERECHO DE PETICION DE INTERES PARTICULAR",1,"GESTIONADOS"]
[3633412021,"SUBDIRECCION DE ADMINISTRACION INMOBILIARIA Y DE ESPACIO PUBLICO","ESCRITO","DERECHO DE PETICION DE INTERES PARTICULAR",15,"PENDIENTE"]
[3633522021,"AREA DE ATENCION A LA CIUDADANIA","ESCRITO","DERECHO DE PETICION DE INTERES PARTICULAR",1,"GESTIONADOS"]
[3633522021,"SUBDIRECCION DE ADMINISTRACION INMOBILIARIA Y DE ESPACIO PUBLICO","ESCRITO","DERECHO DE PETICION DE INTERES PARTICULAR",15,"PENDIENTE"]
[3633762021,"AREA DE ATENCION A LA CIUDADANIA","ESCRITO","DERECHO DE PETICION DE INTERES PARTICULAR",1,"GESTIONADOS"]
[3633762021,"SUBDIRECCION DE ADMINISTRACION INMOBILIARIA Y DE ESPACIO PUBLICO","ESCRITO","DERECHO DE PETICION DE INTERES PARTICULAR",15,"PENDIENTE"]
[3633962021,"AREA DE ATENCION A LA CIUDADANIA","ESCRITO","DERECHO DE PETICION DE INTERES PARTICULAR",1,"GESTIONADOS"]
[3633962021,"SUBDIRECCION DE ADMINISTRACION INMOBILIARIA Y DE ESPACIO PUBLICO","ESCRITO","DERECHO DE PETICION DE INTERES PARTICULAR",15,"PENDIENTE"]
[3638072021,"AREA DE ATENCION A LA CIUDADANIA","ESCRITO","DERECHO DE PETICION DE INTERES PARTICULAR",1,"GESTIONADOS"]
[3638072021,"SUBDIRECCION DE ADMINISTRACION INMOBILIARIA Y DE ESPACIO PUBLICO","ESCRITO","DERECHO DE PETICION DE INTERES PARTICULAR",15,"PENDIENTE"]
[3638362021,"AREA DE ATENCION A LA CIUDADANIA","WEB","DERECHO DE PETICION DE INTERES GENERAL",1,"GESTIONADOS"]
[3638462021,"AREA DE ATENCION A LA CIUDADANIA","WEB","DERECHO DE PETICION DE INTERES GENERAL",1,"GESTIONADOS"]
[3639112021,"AREA DE ATENCION A LA CIUDADANIA","WEB","DERECHO DE PETICION DE INTERES GENERAL",1,"GESTIONADOS"]
[3639122021,"AREA DE ATENCION A LA CIUDADANIA","WEB","DERECHO DE PETICION DE INTERES PARTICULAR",1,"GESTIONADOS"]
[3639182021,"AREA DE ATENCION A LA CIUDADANIA","ESCRITO","DERECHO DE PETICION DE INTERES PARTICULAR",1,"GESTIONADOS"]
[3639182021,"SUBDIRECCION DE ADMINISTRACION INMOBILIARIA Y DE ESPACIO PUBLICO","ESCRITO","DERECHO DE PETICION DE INTERES PARTICULAR",15,"PENDIENTE"]
[3639192021,"AREA DE ATENCION A LA CIUDADANIA","ESCRITO","DERECHO DE PETICION DE INTERES PARTICULAR",1,"GESTIONADOS"]
[3639192021,"SUBDIRECCION DE ADMINISTRACION INMOBILIARIA Y DE ESPACIO PUBLICO","ESCRITO","DERECHO DE PETICION DE INTERES PARTICULAR",15,"PENDIENTE"]
[3639252021,"AREA DE ATENCION A LA CIUDADANIA","ESCRITO","DERECHO DE PETICION DE INTERES PARTICULAR",1,"GESTIONADOS"]
[3639252021,"SUBDIRECCION DE ADMINISTRACION INMOBILIARIA Y DE ESPACIO PUBLICO","ESCRITO","DERECHO DE PETICION DE INTERES PARTICULAR",15,"PENDIENTE"]
[3639272021,"AREA DE ATENCION A LA CIUDADANIA","ESCRITO","DERECHO DE PETICION DE INTERES PARTICULAR",1,"GESTIONADOS"]
[3639272021,"SUBDIRECCION DE REGISTRO INMOBILIARIO","ESCRITO","DERECHO DE PETICION DE INTERES PARTICULAR",15,"PENDIENTE"]
[3639302021,"AREA DE ATENCION A LA CIUDADANIA","ESCRITO","DERECHO DE PETICION DE INTERES PARTICULAR",1,"GESTIONADOS"]
[3639302021,"SUBDIRECCION DE REGISTRO INMOBILIARIO","ESCRITO","DERECHO DE PETICION DE INTERES PARTICULAR",15,"PENDIENTE"]
[3639332021,"AREA DE ATENCION A LA CIUDADANIA","ESCRITO","DERECHO DE PETICION DE INTERES PARTICULAR",1,"GESTIONADOS"]
[3639332021,"SUBDIRECCION DE ADMINISTRACION INMOBILIARIA Y DE ESPACIO PUBLICO","ESCRITO","DERECHO DE PETICION DE INTERES PARTICULAR",15,"PENDIENTE"]
[3641462021,"AREA DE ATENCION A LA CIUDADANIA","WEB","DERECHO DE PETICION DE INTERES GENERAL",14,"PENDIENTE"]
[3641462021,"SUBDIRECCION ADMINISTRATIVA  FINANCIERA Y DE CONTROL DISCIPLINARIO","WEB","DERECHO DE PETICION DE INTERES GENERAL",1,"GESTIONADOS"]
[3641962021,"AREA DE ATENCION A LA CIUDADANIA","WEB","DERECHO DE PETICION DE INTERES GENERAL",1,"GESTIONADOS"]
[3641962021,"SUBDIRECCION ADMINISTRATIVA  FINANCIERA Y DE CONTROL DISCIPLINARIO","WEB","DERECHO DE PETICION DE INTERES GENERAL",1,"GESTIONADOS"]
[3641962021,"SUBDIRECCION DE ADMINISTRACION INMOBILIARIA Y DE ESPACIO PUBLICO","WEB","DERECHO DE PETICION DE INTERES GENERAL",14,"PENDIENTE"]
[3642462021,"AREA DE ATENCION A LA CIUDADANIA","WEB","QUEJA",1,"GESTIONADOS"]
[3643272021,"AREA DE ATENCION A LA CIUDADANIA","WEB","DERECHO DE PETICION DE INTERES GENERAL",1,"GESTIONADOS"]
[3643752021,"AREA DE ATENCION A LA CIUDADANIA","TELEFONO","DERECHO DE PETICION DE INTERES GENERAL",1,"GESTIONADOS"]
[3644262021,"AREA DE ATENCION A LA CIUDADANIA","WEB","DERECHO DE PETICION DE INTERES GENERAL",1,"GESTIONADOS"]
[3646582021,"AREA DE ATENCION A LA CIUDADANIA","WEB","CONSULTA",1,"GESTIONADOS"]
[3646582021,"SUBDIRECCION DE ADMINISTRACION INMOBILIARIA Y DE ESPACIO PUBLICO","WEB","CONSULTA",14,"PENDIENTE"]
[3646962021,"AREA DE ATENCION A LA CIUDADANIA","WEB","DERECHO DE PETICION DE INTERES PARTICULAR",3,"GESTIONADOS"]
[3646962021,"SUBDIRECCION DE ADMINISTRACION INMOBILIARIA Y DE ESPACIO PUBLICO","WEB","DERECHO DE PETICION DE INTERES PARTICULAR",14,"PENDIENTE"]
[3648522021,"AREA DE ATENCION A LA CIUDADANIA","WEB","DERECHO DE PETICION DE INTERES PARTICULAR",1,"GESTIONADOS"]
[3648522021,"SUBDIRECCION DE ADMINISTRACION INMOBILIARIA Y DE ESPACIO PUBLICO","WEB","DERECHO DE PETICION DE INTERES PARTICULAR",14,"PENDIENTE"]
[3648572021,"AREA DE ATENCION A LA CIUDADANIA","ESCRITO","DERECHO DE PETICION DE INTERES PARTICULAR",1,"GESTIONADOS"]
[3648572021,"SUBDIRECCION DE ADMINISTRACION INMOBILIARIA Y DE ESPACIO PUBLICO","ESCRITO","DERECHO DE PETICION DE INTERES PARTICULAR",14,"PENDIENTE"]
[3648682021,"AREA DE ATENCION A LA CIUDADANIA","WEB","QUEJA",1,"GESTIONADOS"]
[3648682021,"SUBDIRECCION DE ADMINISTRACION INMOBILIARIA Y DE ESPACIO PUBLICO","WEB","QUEJA",14,"PENDIENTE"]
[3648742021,"AREA DE ATENCION A LA CIUDADANIA","ESCRITO","DERECHO DE PETICION DE INTERES PARTICULAR",1,"GESTIONADOS"]
[3648742021,"SUBDIRECCION DE ADMINISTRACION INMOBILIARIA Y DE ESPACIO PUBLICO","ESCRITO","DERECHO DE PETICION DE INTERES PARTICULAR",14,"PENDIENTE"]
[3650252021,"AREA DE ATENCION A LA CIUDADANIA","ESCRITO","DERECHO DE PETICION DE INTERES PARTICULAR",1,"GESTIONADOS"]
[3650252021,"DESPACHO","ESCRITO","DERECHO DE PETICION DE INTERES PARTICULAR",1,"GESTIONADOS"]
[3650252021,"SUBDIRECCION DE ADMINISTRACION INMOBILIARIA Y DE ESPACIO PUBLICO","ESCRITO","DERECHO DE PETICION DE INTERES PARTICULAR",14,"PENDIENTE"]
[3650362021,"AREA DE ATENCION A LA CIUDADANIA","ESCRITO","DERECHO DE PETICION DE INTERES PARTICULAR",1,"GESTIONADOS"]
[3650362021,"SUBDIRECCION DE ADMINISTRACION INMOBILIARIA Y DE ESPACIO PUBLICO","ESCRITO","DERECHO DE PETICION DE INTERES PARTICULAR",14,"PENDIENTE"]
[3650582021,"AREA DE ATENCION A LA CIUDADANIA","ESCRITO","DERECHO DE PETICION DE INTERES PARTICULAR",1,"GESTIONADOS"]
[3650582021,"SUBDIRECCION DE ADMINISTRACION INMOBILIARIA Y DE ESPACIO PUBLICO","ESCRITO","DERECHO DE PETICION DE INTERES PARTICULAR",14,"PENDIENTE"]
[3650732021,"AREA DE ATENCION A LA CIUDADANIA","ESCRITO","DERECHO DE PETICION DE INTERES PARTICULAR",1,"GESTIONADOS"]
[3650732021,"SUBDIRECCION DE ADMINISTRACION INMOBILIARIA Y DE ESPACIO PUBLICO","ESCRITO","DERECHO DE PETICION DE INTERES PARTICULAR",14,"PENDIENTE"]
[3650872021,"AREA DE ATENCION A LA CIUDADANIA","ESCRITO","DERECHO DE PETICION DE INTERES PARTICULAR",1,"GESTIONADOS"]
[3650872021,"SUBDIRECCION DE ADMINISTRACION INMOBILIARIA Y DE ESPACIO PUBLICO","ESCRITO","DERECHO DE PETICION DE INTERES PARTICULAR",14,"PENDIENTE"]
[3650912021,"AREA DE ATENCION A LA CIUDADANIA","ESCRITO","DERECHO DE PETICION DE INTERES PARTICULAR",1,"GESTIONADOS"]
[3650912021,"SUBDIRECCION DE ADMINISTRACION INMOBILIARIA Y DE ESPACIO PUBLICO","ESCRITO","DERECHO DE PETICION DE INTERES PARTICULAR",14,"PENDIENTE"]
[3650942021,"AREA DE ATENCION A LA CIUDADANIA","ESCRITO","DERECHO DE PETICION DE INTERES PARTICULAR",1,"GESTIONADOS"]
[3650942021,"SUBDIRECCION DE ADMINISTRACION INMOBILIARIA Y DE ESPACIO PUBLICO","ESCRITO","DERECHO DE PETICION DE INTERES PARTICULAR",14,"PENDIENTE"]
[3651022021,"AREA DE ATENCION A LA CIUDADANIA","ESCRITO","DERECHO DE PETICION DE INTERES PARTICULAR",1,"GESTIONADOS"]
[3651022021,"SUBDIRECCION DE ADMINISTRACION INMOBILIARIA Y DE ESPACIO PUBLICO","ESCRITO","DERECHO DE PETICION DE INTERES PARTICULAR",14,"PENDIENTE"]
[3654732021,"AREA DE ATENCION A LA CIUDADANIA","WEB","DERECHO DE PETICION DE INTERES PARTICULAR",1,"GESTIONADOS"]
[3654732021,"SUBDIRECCION DE ADMINISTRACION INMOBILIARIA Y DE ESPACIO PUBLICO","WEB","DERECHO DE PETICION DE INTERES PARTICULAR",10,"PENDIENTE"]
[3655602021,"AREA DE ATENCION A LA CIUDADANIA","WEB","DERECHO DE PETICION DE INTERES GENERAL",1,"GESTIONADOS"]
[3655852021,"AREA DE ATENCION A LA CIUDADANIA","WEB","DERECHO DE PETICION DE INTERES GENERAL",1,"GESTIONADOS"]
[3656392021,"AREA DE ATENCION A LA CIUDADANIA","WEB","DERECHO DE PETICION DE INTERES GENERAL",1,"GESTIONADOS"]
[3657032021,"AREA DE ATENCION A LA CIUDADANIA","WEB","DERECHO DE PETICION DE INTERES GENERAL",1,"GESTIONADOS"]
[3657032021,"SUBDIRECCION DE ADMINISTRACION INMOBILIARIA Y DE ESPACIO PUBLICO","WEB","DERECHO DE PETICION DE INTERES GENERAL",14,"PENDIENTE"]
[3657052021,"AREA DE ATENCION A LA CIUDADANIA","WEB","DERECHO DE PETICION DE INTERES PARTICULAR",1,"GESTIONADOS"]
[3657182021,"AREA DE ATENCION A LA CIUDADANIA","WEB","DERECHO DE PETICION DE INTERES GENERAL",1,"GESTIONADOS"]
[3657282021,"AREA DE ATENCION A LA CIUDADANIA","WEB","DERECHO DE PETICION DE INTERES GENERAL",1,"GESTIONADOS"]
[3657582021,"AREA DE ATENCION A LA CIUDADANIA","WEB","DERECHO DE PETICION DE INTERES PARTICULAR",1,"GESTIONADOS"]
[3658862021,"AREA DE ATENCION A LA CIUDADANIA","ESCRITO","DERECHO DE PETICION DE INTERES GENERAL",1,"GESTIONADOS"]
[3658862021,"SUBDIRECCION DE ADMINISTRACION INMOBILIARIA Y DE ESPACIO PUBLICO","ESCRITO","DERECHO DE PETICION DE INTERES GENERAL",12,"PENDIENTE"]
[3658952021,"AREA DE ATENCION A LA CIUDADANIA","ESCRITO","DERECHO DE PETICION DE INTERES GENERAL",1,"GESTIONADOS"]
[3658952021,"SUBDIRECCION DE ADMINISTRACION INMOBILIARIA Y DE ESPACIO PUBLICO","ESCRITO","DERECHO DE PETICION DE INTERES GENERAL",12,"PENDIENTE"]
[3661682021,"AREA DE ATENCION A LA CIUDADANIA","WEB","DERECHO DE PETICION DE INTERES GENERAL",1,"GESTIONADOS"]
[3662482021,"AREA DE ATENCION A LA CIUDADANIA","WEB","DERECHO DE PETICION DE INTERES GENERAL",1,"GESTIONADOS"]
[3662482021,"SUBDIRECCION DE ADMINISTRACION INMOBILIARIA Y DE ESPACIO PUBLICO","WEB","DERECHO DE PETICION DE INTERES GENERAL",13,"PENDIENTE"]
[3663212021,"AREA DE ATENCION A LA CIUDADANIA","WEB","QUEJA",1,"GESTIONADOS"]
[3664582021,"AREA DE ATENCION A LA CIUDADANIA","WEB","DERECHO DE PETICION DE INTERES PARTICULAR",1,"GESTIONADOS"]
[3665952021,"AREA DE ATENCION A LA CIUDADANIA","WEB","DERECHO DE PETICION DE INTERES GENERAL",1,"GESTIONADOS"]
[3665952021,"SUBDIRECCION ADMINISTRATIVA  FINANCIERA Y DE CONTROL DISCIPLINARIO","WEB","DERECHO DE PETICION DE INTERES GENERAL",1,"GESTIONADOS"]
[3667062021,"AREA DE ATENCION A LA CIUDADANIA","WEB","DERECHO DE PETICION DE INTERES PARTICULAR",1,"GESTIONADOS"]
[3667062021,"SUBDIRECCION DE ADMINISTRACION INMOBILIARIA Y DE ESPACIO PUBLICO","WEB","DERECHO DE PETICION DE INTERES PARTICULAR",13,"PENDIENTE"]
[3668112021,"AREA DE ATENCION A LA CIUDADANIA","WEB","DERECHO DE PETICION DE INTERES PARTICULAR",1,"GESTIONADOS"]
[3668112021,"SUBDIRECCION DE REGISTRO INMOBILIARIO","WEB","DERECHO DE PETICION DE INTERES PARTICULAR",13,"PENDIENTE"]
[3668982021,"AREA DE ATENCION A LA CIUDADANIA","ESCRITO","DERECHO DE PETICION DE INTERES PARTICULAR",1,"GESTIONADOS"]
[3668982021,"SUBDIRECCION DE ADMINISTRACION INMOBILIARIA Y DE ESPACIO PUBLICO","ESCRITO","DERECHO DE PETICION DE INTERES PARTICULAR",13,"PENDIENTE"]
[3669092021,"AREA DE ATENCION A LA CIUDADANIA","ESCRITO","DERECHO DE PETICION DE INTERES PARTICULAR",1,"GESTIONADOS"]
[3669092021,"SUBDIRECCION DE ADMINISTRACION INMOBILIARIA Y DE ESPACIO PUBLICO","ESCRITO","DERECHO DE PETICION DE INTERES PARTICULAR",13,"PENDIENTE"]
[3669642021,"AREA DE ATENCION A LA CIUDADANIA","WEB","DERECHO DE PETICION DE INTERES GENERAL",1,"GESTIONADOS"]
[3669672021,"AREA DE ATENCION A LA CIUDADANIA","ESCRITO","DERECHO DE PETICION DE INTERES PARTICULAR",1,"GESTIONADOS"]
[3669672021,"SUBDIRECCION DE REGISTRO INMOBILIARIO","ESCRITO","DERECHO DE PETICION DE INTERES PARTICULAR",13,"PENDIENTE"]
[3670222021,"AREA DE ATENCION A LA CIUDADANIA","REDES SOCIALES","DERECHO DE PETICION DE INTERES PARTICULAR",1,"GESTIONADOS"]
[3670412021,"AREA DE ATENCION A LA CIUDADANIA","ESCRITO","DERECHO DE PETICION DE INTERES PARTICULAR",1,"GESTIONADOS"]
[3670412021,"SUBDIRECCION DE ADMINISTRACION INMOBILIARIA Y DE ESPACIO PUBLICO","ESCRITO","DERECHO DE PETICION DE INTERES PARTICULAR",13,"PENDIENTE"]
[3670822021,"AREA DE ATENCION A LA CIUDADANIA","WEB","DERECHO DE PETICION DE INTERES PARTICULAR",1,"GESTIONADOS"]
[3670822021,"SUBDIRECCION DE ADMINISTRACION INMOBILIARIA Y DE ESPACIO PUBLICO","WEB","DERECHO DE PETICION DE INTERES PARTICULAR",13,"PENDIENTE"]
[3672012021,"AREA DE ATENCION A LA CIUDADANIA","WEB","DERECHO DE PETICION DE INTERES PARTICULAR",1,"GESTIONADOS"]
[3672012021,"SUBDIRECCION DE REGISTRO INMOBILIARIO","WEB","DERECHO DE PETICION DE INTERES PARTICULAR",13,"PENDIENTE"]
[3672342021,"AREA DE ATENCION A LA CIUDADANIA","ESCRITO","DERECHO DE PETICION DE INTERES PARTICULAR",1,"GESTIONADOS"]
[3672342021,"SUBDIRECCION DE ADMINISTRACION INMOBILIARIA Y DE ESPACIO PUBLICO","ESCRITO","DERECHO DE PETICION DE INTERES PARTICULAR",13,"PENDIENTE"]
[3672352021,"AREA DE ATENCION A LA CIUDADANIA","ESCRITO","DERECHO DE PETICION DE INTERES PARTICULAR",1,"GESTIONADOS"]
[3672352021,"SUBDIRECCION DE ADMINISTRACION INMOBILIARIA Y DE ESPACIO PUBLICO","ESCRITO","DERECHO DE PETICION DE INTERES PARTICULAR",13,"PENDIENTE"]
[3672392021,"AREA DE ATENCION A LA CIUDADANIA","ESCRITO","DERECHO DE PETICION DE INTERES PARTICULAR",1,"GESTIONADOS"]
[3672392021,"SUBDIRECCION DE REGISTRO INMOBILIARIO","ESCRITO","DERECHO DE PETICION DE INTERES PARTICULAR",13,"PENDIENTE"]
[3672542021,"AREA DE ATENCION A LA CIUDADANIA","ESCRITO","DERECHO DE PETICION DE INTERES PARTICULAR",1,"GESTIONADOS"]
[3672542021,"SUBDIRECCION DE ADMINISTRACION INMOBILIARIA Y DE ESPACIO PUBLICO","ESCRITO","DERECHO DE PETICION DE INTERES PARTICULAR",13,"PENDIENTE"]
[3672562021,"AREA DE ATENCION A LA CIUDADANIA","WEB","DERECHO DE PETICION DE INTERES GENERAL",1,"GESTIONADOS"]
[3672572021,"AREA DE ATENCION A LA CIUDADANIA","ESCRITO","DERECHO DE PETICION DE INTERES PARTICULAR",1,"GESTIONADOS"]
[3672572021,"SUBDIRECCION DE REGISTRO INMOBILIARIO","ESCRITO","DERECHO DE PETICION DE INTERES PARTICULAR",13,"PENDIENTE"]
[3672642021,"AREA DE ATENCION A LA CIUDADANIA","ESCRITO","DERECHO DE PETICION DE INTERES PARTICULAR",1,"GESTIONADOS"]
[3672642021,"DESPACHO","ESCRITO","DERECHO DE PETICION DE INTERES PARTICULAR",13,"GESTIONADOS"]
[3672642021,"SUBDIRECCION DE ADMINISTRACION INMOBILIARIA Y DE ESPACIO PUBLICO","ESCRITO","DERECHO DE PETICION DE INTERES PARTICULAR",13,"PENDIENTE"]
[3672942021,"AREA DE ATENCION A LA CIUDADANIA","ESCRITO","DERECHO DE PETICION DE INTERES PARTICULAR",1,"GESTIONADOS"]
[3672942021,"SUBDIRECCION DE ADMINISTRACION INMOBILIARIA Y DE ESPACIO PUBLICO","ESCRITO","DERECHO DE PETICION DE INTERES PARTICULAR",13,"PENDIENTE"]
[3673002021,"AREA DE ATENCION A LA CIUDADANIA","ESCRITO","DERECHO DE PETICION DE INTERES PARTICULAR",1,"GESTIONADOS"]
[3673002021,"SUBDIRECCION DE ADMINISTRACION INMOBILIARIA Y DE ESPACIO PUBLICO","ESCRITO","DERECHO DE PETICION DE INTERES PARTICULAR",13,"PENDIENTE"]
[3674422021,"AREA DE ATENCION A LA CIUDADANIA","WEB","DERECHO DE PETICION DE INTERES PARTICULAR",1,"GESTIONADOS"]
[3674422021,"SUBDIRECCION DE ADMINISTRACION INMOBILIARIA Y DE ESPACIO PUBLICO","WEB","DERECHO DE PETICION DE INTERES PARTICULAR",12,"PENDIENTE"]
[3675912021,"AREA DE ATENCION A LA CIUDADANIA","TELEFONO","DERECHO DE PETICION DE INTERES GENERAL",1,"GESTIONADOS"]
[3675912021,"SUBDIRECCION DE ADMINISTRACION INMOBILIARIA Y DE ESPACIO PUBLICO","TELEFONO","DERECHO DE PETICION DE INTERES GENERAL",11,"PENDIENTE"]
[3675962021,"AREA DE ATENCION A LA CIUDADANIA","WEB","DERECHO DE PETICION DE INTERES GENERAL",1,"GESTIONADOS"]
[3675962021,"SUBDIRECCION DE ADMINISTRACION INMOBILIARIA Y DE ESPACIO PUBLICO","WEB","DERECHO DE PETICION DE INTERES GENERAL",12,"PENDIENTE"]
[3676092021,"AREA DE ATENCION A LA CIUDADANIA","TELEFONO","DERECHO DE PETICION DE INTERES GENERAL",1,"GESTIONADOS"]
[3676182021,"AREA DE ATENCION A LA CIUDADANIA","WEB","DERECHO DE PETICION DE INTERES GENERAL",1,"GESTIONADOS"]
[3676182021,"SUBDIRECCION DE ADMINISTRACION INMOBILIARIA Y DE ESPACIO PUBLICO","WEB","DERECHO DE PETICION DE INTERES GENERAL",12,"PENDIENTE"]
[3678262021,"AREA DE ATENCION A LA CIUDADANIA","WEB","DERECHO DE PETICION DE INTERES GENERAL",1,"GESTIONADOS"]
[3678262021,"SUBDIRECCION DE ADMINISTRACION INMOBILIARIA Y DE ESPACIO PUBLICO","WEB","DERECHO DE PETICION DE INTERES GENERAL",12,"PENDIENTE"]
[3678522021,"AREA DE ATENCION A LA CIUDADANIA","WEB","DERECHO DE PETICION DE INTERES GENERAL",1,"GESTIONADOS"]
[3679082021,"AREA DE ATENCION A LA CIUDADANIA","WEB","DERECHO DE PETICION DE INTERES GENERAL",1,"GESTIONADOS"]
[3680142021,"AREA DE ATENCION A LA CIUDADANIA","ESCRITO","DERECHO DE PETICION DE INTERES PARTICULAR",1,"GESTIONADOS"]
[3680142021,"SUBDIRECCION DE ADMINISTRACION INMOBILIARIA Y DE ESPACIO PUBLICO","ESCRITO","DERECHO DE PETICION DE INTERES PARTICULAR",12,"PENDIENTE"]
[3680192021,"AREA DE ATENCION A LA CIUDADANIA","WEB","DERECHO DE PETICION DE INTERES GENERAL",1,"GESTIONADOS"]
[3680192021,"SUBDIRECCION DE ADMINISTRACION INMOBILIARIA Y DE ESPACIO PUBLICO","WEB","DERECHO DE PETICION DE INTERES GENERAL",12,"PENDIENTE"]
[3680262021,"AREA DE ATENCION A LA CIUDADANIA","ESCRITO","DERECHO DE PETICION DE INTERES PARTICULAR",1,"GESTIONADOS"]
[3680262021,"SUBDIRECCION DE ADMINISTRACION INMOBILIARIA Y DE ESPACIO PUBLICO","ESCRITO","DERECHO DE PETICION DE INTERES PARTICULAR",12,"PENDIENTE"]
[3680322021,"AREA DE ATENCION A LA CIUDADANIA","ESCRITO","DERECHO DE PETICION DE INTERES PARTICULAR",1,"GESTIONADOS"]
[3680322021,"SUBDIRECCION DE ADMINISTRACION INMOBILIARIA Y DE ESPACIO PUBLICO","ESCRITO","DERECHO DE PETICION DE INTERES PARTICULAR",12,"PENDIENTE"]
[3680482021,"AREA DE ATENCION A LA CIUDADANIA","ESCRITO","DERECHO DE PETICION DE INTERES PARTICULAR",1,"GESTIONADOS"]
[3680482021,"SUBDIRECCION DE ADMINISTRACION INMOBILIARIA Y DE ESPACIO PUBLICO","ESCRITO","DERECHO DE PETICION DE INTERES PARTICULAR",12,"PENDIENTE"]
[3680682021,"AREA DE ATENCION A LA CIUDADANIA","WEB","DERECHO DE PETICION DE INTERES PARTICULAR",1,"GESTIONADOS"]
[3680902021,"AREA DE ATENCION A LA CIUDADANIA","ESCRITO","DERECHO DE PETICION DE INTERES PARTICULAR",1,"GESTIONADOS"]
[3681562021,"AREA DE ATENCION A LA CIUDADANIA","WEB","DERECHO DE PETICION DE INTERES PARTICULAR",1,"GESTIONADOS"]
[3681632021,"AREA DE ATENCION A LA CIUDADANIA","ESCRITO","DERECHO DE PETICION DE INTERES PARTICULAR",1,"GESTIONADOS"]
[3681632021,"OFICINA ASESORA JURIDICA","ESCRITO","DERECHO DE PETICION DE INTERES PARTICULAR",10,"GESTIONADOS"]
[3681832021,"AREA DE ATENCION A LA CIUDADANIA","REDES SOCIALES","DERECHO DE PETICION DE INTERES PARTICULAR",1,"GESTIONADOS"]
[3681912021,"AREA DE ATENCION A LA CIUDADANIA","REDES SOCIALES","DERECHO DE PETICION DE INTERES PARTICULAR",1,"GESTIONADOS"]
[3682412021,"AREA DE ATENCION A LA CIUDADANIA","WEB","DERECHO DE PETICION DE INTERES PARTICULAR",12,"PENDIENTE"]
[3682842021,"AREA DE ATENCION A LA CIUDADANIA","TELEFONO","DERECHO DE PETICION DE INTERES GENERAL",1,"GESTIONADOS"]
[3682922021,"AREA DE ATENCION A LA CIUDADANIA","WEB","DERECHO DE PETICION DE INTERES PARTICULAR",1,"GESTIONADOS"]
[3682922021,"SUBDIRECCION DE ADMINISTRACION INMOBILIARIA Y DE ESPACIO PUBLICO","WEB","DERECHO DE PETICION DE INTERES PARTICULAR",12,"PENDIENTE"]
[3683572021,"AREA DE ATENCION A LA CIUDADANIA","ESCRITO","DERECHO DE PETICION DE INTERES PARTICULAR",1,"GESTIONADOS"]
[3683572021,"SUBDIRECCION DE ADMINISTRACION INMOBILIARIA Y DE ESPACIO PUBLICO","ESCRITO","DERECHO DE PETICION DE INTERES PARTICULAR",12,"PENDIENTE"]
[3683682021,"AREA DE ATENCION A LA CIUDADANIA","ESCRITO","DERECHO DE PETICION DE INTERES PARTICULAR",1,"GESTIONADOS"]
[3683682021,"SUBDIRECCION DE REGISTRO INMOBILIARIO","ESCRITO","DERECHO DE PETICION DE INTERES PARTICULAR",12,"PENDIENTE"]
[3683822021,"AREA DE ATENCION A LA CIUDADANIA","WEB","DERECHO DE PETICION DE INTERES GENERAL",1,"GESTIONADOS"]
[3683912021,"AREA DE ATENCION A LA CIUDADANIA","ESCRITO","DERECHO DE PETICION DE INTERES PARTICULAR",1,"GESTIONADOS"]
[3683912021,"SUBDIRECCION DE ADMINISTRACION INMOBILIARIA Y DE ESPACIO PUBLICO","ESCRITO","DERECHO DE PETICION DE INTERES PARTICULAR",12,"PENDIENTE"]
[3683932021,"AREA DE ATENCION A LA CIUDADANIA","ESCRITO","DERECHO DE PETICION DE INTERES PARTICULAR",1,"GESTIONADOS"]
[3683932021,"SUBDIRECCION DE REGISTRO INMOBILIARIO","ESCRITO","DERECHO DE PETICION DE INTERES PARTICULAR",12,"PENDIENTE"]
[3683952021,"AREA DE ATENCION A LA CIUDADANIA","ESCRITO","DERECHO DE PETICION DE INTERES PARTICULAR",1,"GESTIONADOS"]
[3683952021,"SUBDIRECCION DE ADMINISTRACION INMOBILIARIA Y DE ESPACIO PUBLICO","ESCRITO","DERECHO DE PETICION DE INTERES PARTICULAR",12,"PENDIENTE"]
[3684092021,"AREA DE ATENCION A LA CIUDADANIA","ESCRITO","DERECHO DE PETICION DE INTERES PARTICULAR",1,"GESTIONADOS"]
[3684092021,"DESPACHO","ESCRITO","DERECHO DE PETICION DE INTERES PARTICULAR",4,"GESTIONADOS"]
[3684092021,"SUBDIRECCION DE ADMINISTRACION INMOBILIARIA Y DE ESPACIO PUBLICO","ESCRITO","DERECHO DE PETICION DE INTERES PARTICULAR",12,"PENDIENTE"]
[3684252021,"AREA DE ATENCION A LA CIUDADANIA","ESCRITO","DERECHO DE PETICION DE INTERES PARTICULAR",1,"GESTIONADOS"]
[3684532021,"AREA DE ATENCION A LA CIUDADANIA","E-MAIL","DERECHO DE PETICION DE INTERES PARTICULAR",1,"GESTIONADOS"]
[3686272021,"AREA DE ATENCION A LA CIUDADANIA","WEB","DERECHO DE PETICION DE INTERES PARTICULAR",1,"GESTIONADOS"]
[3686272021,"SUBDIRECCION DE ADMINISTRACION INMOBILIARIA Y DE ESPACIO PUBLICO","WEB","DERECHO DE PETICION DE INTERES PARTICULAR",12,"PENDIENTE"]
[3686412021,"AREA DE ATENCION A LA CIUDADANIA","ESCRITO","DERECHO DE PETICION DE INTERES GENERAL",1,"GESTIONADOS"]
[3686412021,"SUBDIRECCION DE ADMINISTRACION INMOBILIARIA Y DE ESPACIO PUBLICO","ESCRITO","DERECHO DE PETICION DE INTERES GENERAL",8,"PENDIENTE"]
[3687142021,"AREA DE ATENCION A LA CIUDADANIA","WEB","DERECHO DE PETICION DE INTERES GENERAL",3,"GESTIONADOS"]
[3687142021,"SUBDIRECCION ADMINISTRATIVA  FINANCIERA Y DE CONTROL DISCIPLINARIO","WEB","DERECHO DE PETICION DE INTERES GENERAL",2,"GESTIONADOS"]
[3687582021,"AREA DE ATENCION A LA CIUDADANIA","TELEFONO","DERECHO DE PETICION DE INTERES GENERAL",1,"GESTIONADOS"]
[3687582021,"SUBDIRECCION DE ADMINISTRACION INMOBILIARIA Y DE ESPACIO PUBLICO","TELEFONO","DERECHO DE PETICION DE INTERES GENERAL",12,"PENDIENTE"]
[3689622021,"AREA DE ATENCION A LA CIUDADANIA","WEB","CONSULTA",1,"GESTIONADOS"]
[3689622021,"SUBDIRECCION DE REGISTRO INMOBILIARIO","WEB","CONSULTA",11,"PENDIENTE"]
[3690422021,"AREA DE ATENCION A LA CIUDADANIA","WEB","DERECHO DE PETICION DE INTERES GENERAL",1,"GESTIONADOS"]
[3690422021,"SUBDIRECCION DE ADMINISTRACION INMOBILIARIA Y DE ESPACIO PUBLICO","WEB","DERECHO DE PETICION DE INTERES GENERAL",7,"PENDIENTE"]
[3690522021,"AREA DE ATENCION A LA CIUDADANIA","TELEFONO","DERECHO DE PETICION DE INTERES GENERAL",1,"GESTIONADOS"]
[3693802021,"AREA DE ATENCION A LA CIUDADANIA","WEB","DERECHO DE PETICION DE INTERES PARTICULAR",1,"GESTIONADOS"]
[3693802021,"SUBDIRECCION DE ADMINISTRACION INMOBILIARIA Y DE ESPACIO PUBLICO","WEB","DERECHO DE PETICION DE INTERES PARTICULAR",11,"PENDIENTE"]
[3694922021,"AREA DE ATENCION A LA CIUDADANIA","ESCRITO","DERECHO DE PETICION DE INTERES PARTICULAR",1,"GESTIONADOS"]
[3694922021,"SUBDIRECCION DE REGISTRO INMOBILIARIO","ESCRITO","DERECHO DE PETICION DE INTERES PARTICULAR",11,"PENDIENTE"]
[3695222021,"AREA DE ATENCION A LA CIUDADANIA","ESCRITO","DERECHO DE PETICION DE INTERES PARTICULAR",1,"GESTIONADOS"]
[3695222021,"OFICINA ASESORA JURIDICA","ESCRITO","DERECHO DE PETICION DE INTERES PARTICULAR",11,"GESTIONADOS"]
[3695582021,"AREA DE ATENCION A LA CIUDADANIA","WEB","DERECHO DE PETICION DE INTERES PARTICULAR",1,"GESTIONADOS"]
[3696472021,"AREA DE ATENCION A LA CIUDADANIA","ESCRITO","DERECHO DE PETICION DE INTERES PARTICULAR",1,"GESTIONADOS"]
[3696472021,"SUBDIRECCION DE ADMINISTRACION INMOBILIARIA Y DE ESPACIO PUBLICO","ESCRITO","DERECHO DE PETICION DE INTERES PARTICULAR",11,"PENDIENTE"]
[3697162021,"AREA DE ATENCION A LA CIUDADANIA","ESCRITO","DERECHO DE PETICION DE INTERES PARTICULAR",1,"GESTIONADOS"]
[3697162021,"SUBDIRECCION DE REGISTRO INMOBILIARIO","ESCRITO","DERECHO DE PETICION DE INTERES PARTICULAR",11,"PENDIENTE"]
[3697322021,"AREA DE ATENCION A LA CIUDADANIA","ESCRITO","DERECHO DE PETICION DE INTERES PARTICULAR",1,"GESTIONADOS"]
[3697322021,"SUBDIRECCION DE ADMINISTRACION INMOBILIARIA Y DE ESPACIO PUBLICO","ESCRITO","DERECHO DE PETICION DE INTERES PARTICULAR",11,"PENDIENTE"]
[3697332021,"AREA DE ATENCION A LA CIUDADANIA","ESCRITO","DERECHO DE PETICION DE INTERES PARTICULAR",1,"GESTIONADOS"]
[3697332021,"SUBDIRECCION DE ADMINISTRACION INMOBILIARIA Y DE ESPACIO PUBLICO","ESCRITO","DERECHO DE PETICION DE INTERES PARTICULAR",11,"PENDIENTE"]
[3697352021,"AREA DE ATENCION A LA CIUDADANIA","ESCRITO","DERECHO DE PETICION DE INTERES PARTICULAR",1,"GESTIONADOS"]
[3697352021,"SUBDIRECCION DE ADMINISTRACION INMOBILIARIA Y DE ESPACIO PUBLICO","ESCRITO","DERECHO DE PETICION DE INTERES PARTICULAR",11,"PENDIENTE"]
[3697392021,"AREA DE ATENCION A LA CIUDADANIA","ESCRITO","DERECHO DE PETICION DE INTERES PARTICULAR",1,"GESTIONADOS"]
[3697392021,"SUBDIRECCION DE ADMINISTRACION INMOBILIARIA Y DE ESPACIO PUBLICO","ESCRITO","DERECHO DE PETICION DE INTERES PARTICULAR",11,"PENDIENTE"]
[3697582021,"AREA DE ATENCION A LA CIUDADANIA","ESCRITO","DERECHO DE PETICION DE INTERES PARTICULAR",1,"GESTIONADOS"]
[3697582021,"SUBDIRECCION DE REGISTRO INMOBILIARIO","ESCRITO","DERECHO DE PETICION DE INTERES PARTICULAR",11,"PENDIENTE"]
[3701762021,"AREA DE ATENCION A LA CIUDADANIA","WEB","DERECHO DE PETICION DE INTERES GENERAL",1,"GESTIONADOS"]
[3701782021,"AREA DE ATENCION A LA CIUDADANIA","WEB","DERECHO DE PETICION DE INTERES GENERAL",1,"GESTIONADOS"]
[3701792021,"AREA DE ATENCION A LA CIUDADANIA","WEB","DERECHO DE PETICION DE INTERES GENERAL",1,"GESTIONADOS"]
[3702762021,"AREA DE ATENCION A LA CIUDADANIA","WEB","DERECHO DE PETICION DE INTERES GENERAL",1,"GESTIONADOS"]
[3702762021,"SUBDIRECCION DE ADMINISTRACION INMOBILIARIA Y DE ESPACIO PUBLICO","WEB","DERECHO DE PETICION DE INTERES GENERAL",11,"PENDIENTE"]
[3703372021,"AREA DE ATENCION A LA CIUDADANIA","WEB","DERECHO DE PETICION DE INTERES PARTICULAR",1,"GESTIONADOS"]
[3703372021,"SUBDIRECCION DE ADMINISTRACION INMOBILIARIA Y DE ESPACIO PUBLICO","WEB","DERECHO DE PETICION DE INTERES PARTICULAR",11,"PENDIENTE"]
[3703802021,"AREA DE ATENCION A LA CIUDADANIA","WEB","DERECHO DE PETICION DE INTERES GENERAL",1,"GESTIONADOS"]
[3703802021,"SUBDIRECCION DE ADMINISTRACION INMOBILIARIA Y DE ESPACIO PUBLICO","WEB","DERECHO DE PETICION DE INTERES GENERAL",11,"PENDIENTE"]
[3704592021,"AREA DE ATENCION A LA CIUDADANIA","TELEFONO","DERECHO DE PETICION DE INTERES GENERAL",1,"GESTIONADOS"]
[3704662021,"AREA DE ATENCION A LA CIUDADANIA","WEB","CONSULTA",1,"GESTIONADOS"]
[3704662021,"SUBDIRECCION DE ADMINISTRACION INMOBILIARIA Y DE ESPACIO PUBLICO","WEB","CONSULTA",11,"PENDIENTE"]
[3704672021,"AREA DE ATENCION A LA CIUDADANIA","WEB","CONSULTA",1,"GESTIONADOS"]
[3704682021,"AREA DE ATENCION A LA CIUDADANIA","WEB","CONSULTA",1,"GESTIONADOS"]
[3704702021,"AREA DE ATENCION A LA CIUDADANIA","WEB","CONSULTA",1,"GESTIONADOS"]
[3704772021,"AREA DE ATENCION A LA CIUDADANIA","WEB","CONSULTA",2,"GESTIONADOS"]
[3704772021,"DESPACHO","WEB","CONSULTA",11,"GESTIONADOS"]
[3705372021,"AREA DE ATENCION A LA CIUDADANIA","WEB","DERECHO DE PETICION DE INTERES GENERAL",1,"GESTIONADOS"]
[3705582021,"AREA DE ATENCION A LA CIUDADANIA","WEB","DERECHO DE PETICION DE INTERES PARTICULAR",1,"GESTIONADOS"]
[3705722021,"AREA DE ATENCION A LA CIUDADANIA","WEB","DERECHO DE PETICION DE INTERES GENERAL",1,"GESTIONADOS"]
[3705722021,"SUBDIRECCION DE ADMINISTRACION INMOBILIARIA Y DE ESPACIO PUBLICO","WEB","DERECHO DE PETICION DE INTERES GENERAL",10,"PENDIENTE"]
[3706402021,"AREA DE ATENCION A LA CIUDADANIA","WEB","DERECHO DE PETICION DE INTERES PARTICULAR",1,"GESTIONADOS"]
[3706402021,"SUBDIRECCION DE ADMINISTRACION INMOBILIARIA Y DE ESPACIO PUBLICO","WEB","DERECHO DE PETICION DE INTERES PARTICULAR",11,"PENDIENTE"]
[3706422021,"AREA DE ATENCION A LA CIUDADANIA","WEB","QUEJA",1,"GESTIONADOS"]
[3706552021,"AREA DE ATENCION A LA CIUDADANIA","WEB","DERECHO DE PETICION DE INTERES PARTICULAR",1,"GESTIONADOS"]
[3706552021,"SUBDIRECCION DE ADMINISTRACION INMOBILIARIA Y DE ESPACIO PUBLICO","WEB","DERECHO DE PETICION DE INTERES PARTICULAR",11,"PENDIENTE"]
[3707252021,"AREA DE ATENCION A LA CIUDADANIA","WEB","CONSULTA",1,"GESTIONADOS"]
[3707742021,"AREA DE ATENCION A LA CIUDADANIA","WEB","DERECHO DE PETICION DE INTERES PARTICULAR",1,"GESTIONADOS"]
[3707852021,"AREA DE ATENCION A LA CIUDADANIA","WEB","DERECHO DE PETICION DE INTERES GENERAL",1,"GESTIONADOS"]
[3707852021,"SUBDIRECCION DE ADMINISTRACION INMOBILIARIA Y DE ESPACIO PUBLICO","WEB","DERECHO DE PETICION DE INTERES GENERAL",11,"PENDIENTE"]
[3707872021,"AREA DE ATENCION A LA CIUDADANIA","WEB","DERECHO DE PETICION DE INTERES GENERAL",1,"GESTIONADOS"]
[3707872021,"SUBDIRECCION DE ADMINISTRACION INMOBILIARIA Y DE ESPACIO PUBLICO","WEB","DERECHO DE PETICION DE INTERES GENERAL",11,"PENDIENTE"]
[3707952021,"AREA DE ATENCION A LA CIUDADANIA","WEB","DERECHO DE PETICION DE INTERES PARTICULAR",1,"GESTIONADOS"]
[3707952021,"SUBDIRECCION DE ADMINISTRACION INMOBILIARIA Y DE ESPACIO PUBLICO","WEB","DERECHO DE PETICION DE INTERES PARTICULAR",11,"PENDIENTE"]
[3709172021,"AREA DE ATENCION A LA CIUDADANIA","TELEFONO","DERECHO DE PETICION DE INTERES GENERAL",1,"GESTIONADOS"]
[3710282021,"AREA DE ATENCION A LA CIUDADANIA","WEB","DERECHO DE PETICION DE INTERES GENERAL",1,"GESTIONADOS"]
[3711612021,"AREA DE ATENCION A LA CIUDADANIA","ESCRITO","DERECHO DE PETICION DE INTERES PARTICULAR",1,"GESTIONADOS"]
[3711612021,"SUBDIRECCION DE REGISTRO INMOBILIARIO","ESCRITO","DERECHO DE PETICION DE INTERES PARTICULAR",10,"PENDIENTE"]
[3714252021,"AREA DE ATENCION A LA CIUDADANIA","WEB","DERECHO DE PETICION DE INTERES GENERAL",1,"GESTIONADOS"]
[3714252021,"SUBDIRECCION DE ADMINISTRACION INMOBILIARIA Y DE ESPACIO PUBLICO","WEB","DERECHO DE PETICION DE INTERES GENERAL",10,"PENDIENTE"]
[3714542021,"AREA DE ATENCION A LA CIUDADANIA","ESCRITO","DERECHO DE PETICION DE INTERES GENERAL",1,"GESTIONADOS"]
[3714542021,"SUBDIRECCION DE ADMINISTRACION INMOBILIARIA Y DE ESPACIO PUBLICO","ESCRITO","DERECHO DE PETICION DE INTERES GENERAL",10,"PENDIENTE"]
[3714592021,"AREA DE ATENCION A LA CIUDADANIA","WEB","DERECHO DE PETICION DE INTERES PARTICULAR",1,"GESTIONADOS"]
[3714592021,"SUBDIRECCION DE ADMINISTRACION INMOBILIARIA Y DE ESPACIO PUBLICO","WEB","DERECHO DE PETICION DE INTERES PARTICULAR",10,"PENDIENTE"]
[3715202021,"AREA DE ATENCION A LA CIUDADANIA","WEB","DERECHO DE PETICION DE INTERES PARTICULAR",1,"GESTIONADOS"]
[3715202021,"OFICINA ASESORA JURIDICA","WEB","DERECHO DE PETICION DE INTERES PARTICULAR",8,"GESTIONADOS"]
[3716142021,"AREA DE ATENCION A LA CIUDADANIA","ESCRITO","DERECHO DE PETICION DE INTERES PARTICULAR",1,"GESTIONADOS"]
[3716142021,"SUBDIRECCION DE ADMINISTRACION INMOBILIARIA Y DE ESPACIO PUBLICO","ESCRITO","DERECHO DE PETICION DE INTERES PARTICULAR",10,"PENDIENTE"]
[3716282021,"AREA DE ATENCION A LA CIUDADANIA","ESCRITO","DERECHO DE PETICION DE INTERES PARTICULAR",1,"GESTIONADOS"]
[3716282021,"SUBDIRECCION DE ADMINISTRACION INMOBILIARIA Y DE ESPACIO PUBLICO","ESCRITO","DERECHO DE PETICION DE INTERES PARTICULAR",10,"PENDIENTE"]
[3716392021,"AREA DE ATENCION A LA CIUDADANIA","ESCRITO","DERECHO DE PETICION DE INTERES PARTICULAR",1,"GESTIONADOS"]
[3716392021,"SUBDIRECCION DE REGISTRO INMOBILIARIO","ESCRITO","DERECHO DE PETICION DE INTERES PARTICULAR",10,"PENDIENTE"]
[3716742021,"AREA DE ATENCION A LA CIUDADANIA","ESCRITO","DERECHO DE PETICION DE INTERES PARTICULAR",1,"GESTIONADOS"]
[3716742021,"SUBDIRECCION ADMINISTRATIVA Y FINANCIERA","ESCRITO","DERECHO DE PETICION DE INTERES PARTICULAR",10,"PENDIENTE"]
[3717062021,"AREA DE ATENCION A LA CIUDADANIA","WEB","DERECHO DE PETICION DE INTERES PARTICULAR",2,"GESTIONADOS"]
[3717062021,"SUBDIRECCION DE ADMINISTRACION INMOBILIARIA Y DE ESPACIO PUBLICO","WEB","DERECHO DE PETICION DE INTERES PARTICULAR",10,"PENDIENTE"]
[3717352021,"AREA DE ATENCION A LA CIUDADANIA","ESCRITO","DERECHO DE PETICION DE INTERES PARTICULAR",1,"GESTIONADOS"]
[3717352021,"SUBDIRECCION DE ADMINISTRACION INMOBILIARIA Y DE ESPACIO PUBLICO","ESCRITO","DERECHO DE PETICION DE INTERES PARTICULAR",10,"PENDIENTE"]
[3718652021,"AREA DE ATENCION A LA CIUDADANIA","ESCRITO","DERECHO DE PETICION DE INTERES PARTICULAR",1,"GESTIONADOS"]
[3718652021,"SUBDIRECCION DE REGISTRO INMOBILIARIO","ESCRITO","DERECHO DE PETICION DE INTERES PARTICULAR",10,"PENDIENTE"]
[3718772021,"AREA DE ATENCION A LA CIUDADANIA","ESCRITO","DERECHO DE PETICION DE INTERES PARTICULAR",1,"GESTIONADOS"]
[3718772021,"SUBDIRECCION DE ADMINISTRACION INMOBILIARIA Y DE ESPACIO PUBLICO","ESCRITO","DERECHO DE PETICION DE INTERES PARTICULAR",10,"PENDIENTE"]
[3718922021,"AREA DE ATENCION A LA CIUDADANIA","ESCRITO","DERECHO DE PETICION DE INTERES PARTICULAR",1,"GESTIONADOS"]
[3718922021,"SUBDIRECCION ADMINISTRATIVA Y FINANCIERA","ESCRITO","DERECHO DE PETICION DE INTERES PARTICULAR",10,"PENDIENTE"]
[3719332021,"AREA DE ATENCION A LA CIUDADANIA","WEB","DERECHO DE PETICION DE INTERES GENERAL",1,"GESTIONADOS"]
[3719642021,"AREA DE ATENCION A LA CIUDADANIA","ESCRITO","DERECHO DE PETICION DE INTERES PARTICULAR",1,"GESTIONADOS"]
[3719642021,"SUBDIRECCION DE REGISTRO INMOBILIARIO","ESCRITO","DERECHO DE PETICION DE INTERES PARTICULAR",10,"PENDIENTE"]
[3720182021,"AREA DE ATENCION A LA CIUDADANIA","ESCRITO","DERECHO DE PETICION DE INTERES PARTICULAR",1,"GESTIONADOS"]
[3720342021,"AREA DE ATENCION A LA CIUDADANIA","ESCRITO","DERECHO DE PETICION DE INTERES PARTICULAR",1,"GESTIONADOS"]
[3720342021,"OFICINA ASESORA JURIDICA","ESCRITO","DERECHO DE PETICION DE INTERES PARTICULAR",10,"GESTIONADOS"]
[3720452021,"AREA DE ATENCION A LA CIUDADANIA","ESCRITO","DERECHO DE PETICION DE INTERES PARTICULAR",1,"GESTIONADOS"]
[3720452021,"OFICINA ASESORA JURIDICA","ESCRITO","DERECHO DE PETICION DE INTERES PARTICULAR",10,"GESTIONADOS"]
[3720592021,"AREA DE ATENCION A LA CIUDADANIA","ESCRITO","DERECHO DE PETICION DE INTERES PARTICULAR",1,"GESTIONADOS"]
[3720592021,"SUBDIRECCION DE ADMINISTRACION INMOBILIARIA Y DE ESPACIO PUBLICO","ESCRITO","DERECHO DE PETICION DE INTERES PARTICULAR",10,"PENDIENTE"]
[3725912021,"AREA DE ATENCION A LA CIUDADANIA","E-MAIL","DERECHO DE PETICION DE INTERES PARTICULAR",1,"GESTIONADOS"]
[3726252021,"AREA DE ATENCION A LA CIUDADANIA","WEB","DERECHO DE PETICION DE INTERES PARTICULAR",1,"GESTIONADOS"]
[3726262021,"AREA DE ATENCION A LA CIUDADANIA","WEB","DERECHO DE PETICION DE INTERES PARTICULAR",1,"GESTIONADOS"]
[3726272021,"AREA DE ATENCION A LA CIUDADANIA","WEB","DERECHO DE PETICION DE INTERES PARTICULAR",1,"GESTIONADOS"]
[3726272021,"SUBDIRECCION DE REGISTRO INMOBILIARIO","WEB","DERECHO DE PETICION DE INTERES PARTICULAR",9,"PENDIENTE"]
[3728322021,"AREA DE ATENCION A LA CIUDADANIA","WEB","DERECHO DE PETICION DE INTERES GENERAL",1,"GESTIONADOS"]
[3728322021,"SUBDIRECCION DE ADMINISTRACION INMOBILIARIA Y DE ESPACIO PUBLICO","WEB","DERECHO DE PETICION DE INTERES GENERAL",5,"PENDIENTE"]
[3731012021,"AREA DE ATENCION A LA CIUDADANIA","TELEFONO","DERECHO DE PETICION DE INTERES PARTICULAR",1,"GESTIONADOS"]
[3731012021,"SUBDIRECCION DE REGISTRO INMOBILIARIO","TELEFONO","DERECHO DE PETICION DE INTERES PARTICULAR",9,"PENDIENTE"]
[3732632021,"AREA DE ATENCION A LA CIUDADANIA","WEB","QUEJA",1,"GESTIONADOS"]
[3732632021,"DESPACHO","WEB","QUEJA",9,"GESTIONADOS"]
[3732632021,"SUBDIRECCION ADMINISTRATIVA  FINANCIERA Y DE CONTROL DISCIPLINARIO","WEB","QUEJA",9,"PENDIENTE"]
[3732712021,"AREA DE ATENCION A LA CIUDADANIA","ESCRITO","DERECHO DE PETICION DE INTERES PARTICULAR",1,"GESTIONADOS"]
[3732712021,"SUBDIRECCION DE ADMINISTRACION INMOBILIARIA Y DE ESPACIO PUBLICO","ESCRITO","DERECHO DE PETICION DE INTERES PARTICULAR",9,"PENDIENTE"]
[3732732021,"AREA DE ATENCION A LA CIUDADANIA","WEB","QUEJA",1,"GESTIONADOS"]
[3732732021,"DESPACHO","WEB","QUEJA",1,"GESTIONADOS"]
[3732732021,"SUBDIRECCION ADMINISTRATIVA  FINANCIERA Y DE CONTROL DISCIPLINARIO","WEB","QUEJA",7,"GESTIONADOS"]
[3732762021,"AREA DE ATENCION A LA CIUDADANIA","WEB","DENUNCIA POR ACTOS DE CORRUPCION",1,"GESTIONADOS"]
[3732762021,"SUBDIRECCION ADMINISTRATIVA  FINANCIERA Y DE CONTROL DISCIPLINARIO","WEB","DENUNCIA POR ACTOS DE CORRUPCION",7,"GESTIONADOS"]
[3732882021,"AREA DE ATENCION A LA CIUDADANIA","ESCRITO","DERECHO DE PETICION DE INTERES PARTICULAR",1,"GESTIONADOS"]
[3732882021,"SUBDIRECCION DE ADMINISTRACION INMOBILIARIA Y DE ESPACIO PUBLICO","ESCRITO","DERECHO DE PETICION DE INTERES PARTICULAR",9,"PENDIENTE"]
[3733272021,"AREA DE ATENCION A LA CIUDADANIA","ESCRITO","DERECHO DE PETICION DE INTERES PARTICULAR",1,"GESTIONADOS"]
[3733272021,"SUBDIRECCION DE ADMINISTRACION INMOBILIARIA Y DE ESPACIO PUBLICO","ESCRITO","DERECHO DE PETICION DE INTERES PARTICULAR",9,"PENDIENTE"]
[3733452021,"AREA DE ATENCION A LA CIUDADANIA","WEB","DERECHO DE PETICION DE INTERES PARTICULAR",1,"GESTIONADOS"]
[3736672021,"AREA DE ATENCION A LA CIUDADANIA","WEB","DERECHO DE PETICION DE INTERES PARTICULAR",1,"GESTIONADOS"]
[3736672021,"OFICINA ASESORA JURIDICA","WEB","DERECHO DE PETICION DE INTERES PARTICULAR",1,"PENDIENTE"]
[3736822021,"AREA DE ATENCION A LA CIUDADANIA","WEB","DERECHO DE PETICION DE INTERES PARTICULAR",1,"GESTIONADOS"]
[3736872021,"AREA DE ATENCION A LA CIUDADANIA","WEB","DERECHO DE PETICION DE INTERES GENERAL",1,"GESTIONADOS"]
[3737112021,"AREA DE ATENCION A LA CIUDADANIA","WEB","DERECHO DE PETICION DE INTERES PARTICULAR",1,"GESTIONADOS"]
[3737582021,"AREA DE ATENCION A LA CIUDADANIA","WEB","DERECHO DE PETICION DE INTERES PARTICULAR",1,"GESTIONADOS"]
[3738132021,"AREA DE ATENCION A LA CIUDADANIA","WEB","DERECHO DE PETICION DE INTERES PARTICULAR",1,"GESTIONADOS"]
[3738132021,"SUBDIRECCION DE ADMINISTRACION INMOBILIARIA Y DE ESPACIO PUBLICO","WEB","DERECHO DE PETICION DE INTERES PARTICULAR",9,"PENDIENTE"]
[3738152021,"AREA DE ATENCION A LA CIUDADANIA","WEB","DERECHO DE PETICION DE INTERES PARTICULAR",1,"GESTIONADOS"]
[3738152021,"SUBDIRECCION DE REGISTRO INMOBILIARIO","WEB","DERECHO DE PETICION DE INTERES PARTICULAR",9,"PENDIENTE"]
[3740222021,"AREA DE ATENCION A LA CIUDADANIA","WEB","DERECHO DE PETICION DE INTERES GENERAL",1,"GESTIONADOS"]
[3740432021,"AREA DE ATENCION A LA CIUDADANIA","ESCRITO","DERECHO DE PETICION DE INTERES PARTICULAR",1,"GESTIONADOS"]
[3740432021,"SUBDIRECCION DE ADMINISTRACION INMOBILIARIA Y DE ESPACIO PUBLICO","ESCRITO","DERECHO DE PETICION DE INTERES PARTICULAR",9,"PENDIENTE"]
[3740462021,"AREA DE ATENCION A LA CIUDADANIA","ESCRITO","DERECHO DE PETICION DE INTERES PARTICULAR",1,"GESTIONADOS"]
[3740462021,"SUBDIRECCION DE ADMINISTRACION INMOBILIARIA Y DE ESPACIO PUBLICO","ESCRITO","DERECHO DE PETICION DE INTERES PARTICULAR",9,"PENDIENTE"]
[3740522021,"AREA DE ATENCION A LA CIUDADANIA","ESCRITO","DERECHO DE PETICION DE INTERES PARTICULAR",1,"GESTIONADOS"]
[3740522021,"SUBDIRECCION DE ADMINISTRACION INMOBILIARIA Y DE ESPACIO PUBLICO","ESCRITO","DERECHO DE PETICION DE INTERES PARTICULAR",9,"PENDIENTE"]
[3740582021,"AREA DE ATENCION A LA CIUDADANIA","ESCRITO","DERECHO DE PETICION DE INTERES PARTICULAR",1,"GESTIONADOS"]
[3740582021,"SUBDIRECCION DE ADMINISTRACION INMOBILIARIA Y DE ESPACIO PUBLICO","ESCRITO","DERECHO DE PETICION DE INTERES PARTICULAR",9,"PENDIENTE"]
[3740612021,"AREA DE ATENCION A LA CIUDADANIA","ESCRITO","DERECHO DE PETICION DE INTERES PARTICULAR",1,"GESTIONADOS"]
[3740612021,"SUBDIRECCION DE ADMINISTRACION INMOBILIARIA Y DE ESPACIO PUBLICO","ESCRITO","DERECHO DE PETICION DE INTERES PARTICULAR",9,"PENDIENTE"]
[3740702021,"AREA DE ATENCION A LA CIUDADANIA","WEB","DERECHO DE PETICION DE INTERES PARTICULAR",1,"GESTIONADOS"]
[3740702021,"SUBDIRECCION DE ADMINISTRACION INMOBILIARIA Y DE ESPACIO PUBLICO","WEB","DERECHO DE PETICION DE INTERES PARTICULAR",9,"PENDIENTE"]
[3740732021,"AREA DE ATENCION A LA CIUDADANIA","WEB","DERECHO DE PETICION DE INTERES PARTICULAR",1,"GESTIONADOS"]
[3740772021,"AREA DE ATENCION A LA CIUDADANIA","WEB","DERECHO DE PETICION DE INTERES GENERAL",1,"GESTIONADOS"]
[3740772021,"SUBDIRECCION DE ADMINISTRACION INMOBILIARIA Y DE ESPACIO PUBLICO","WEB","DERECHO DE PETICION DE INTERES GENERAL",7,"PENDIENTE"]
[3740882021,"AREA DE ATENCION A LA CIUDADANIA","WEB","DERECHO DE PETICION DE INTERES PARTICULAR",1,"GESTIONADOS"]
[3742812021,"AREA DE ATENCION A LA CIUDADANIA","ESCRITO","DERECHO DE PETICION DE INTERES PARTICULAR",1,"GESTIONADOS"]
[3742812021,"SUBDIRECCION DE ADMINISTRACION INMOBILIARIA Y DE ESPACIO PUBLICO","ESCRITO","DERECHO DE PETICION DE INTERES PARTICULAR",8,"PENDIENTE"]
[3742922021,"AREA DE ATENCION A LA CIUDADANIA","ESCRITO","DERECHO DE PETICION DE INTERES PARTICULAR",1,"GESTIONADOS"]
[3742922021,"SUBDIRECCION DE ADMINISTRACION INMOBILIARIA Y DE ESPACIO PUBLICO","ESCRITO","DERECHO DE PETICION DE INTERES PARTICULAR",8,"PENDIENTE"]
[3743022021,"AREA DE ATENCION A LA CIUDADANIA","ESCRITO","DERECHO DE PETICION DE INTERES PARTICULAR",1,"GESTIONADOS"]
[3743022021,"SUBDIRECCION DE ADMINISTRACION INMOBILIARIA Y DE ESPACIO PUBLICO","ESCRITO","DERECHO DE PETICION DE INTERES PARTICULAR",8,"PENDIENTE"]
[3743272021,"AREA DE ATENCION A LA CIUDADANIA","ESCRITO","DERECHO DE PETICION DE INTERES PARTICULAR",1,"GESTIONADOS"]
[3743272021,"SUBDIRECCION DE ADMINISTRACION INMOBILIARIA Y DE ESPACIO PUBLICO","ESCRITO","DERECHO DE PETICION DE INTERES PARTICULAR",8,"PENDIENTE"]
[3744362021,"AREA DE ATENCION A LA CIUDADANIA","WEB","DERECHO DE PETICION DE INTERES PARTICULAR",1,"GESTIONADOS"]
[3744362021,"SUBDIRECCION DE ADMINISTRACION INMOBILIARIA Y DE ESPACIO PUBLICO","WEB","DERECHO DE PETICION DE INTERES PARTICULAR",6,"PENDIENTE"]
[3744622021,"AREA DE ATENCION A LA CIUDADANIA","WEB","DERECHO DE PETICION DE INTERES PARTICULAR",1,"GESTIONADOS"]
[3744962021,"AREA DE ATENCION A LA CIUDADANIA","WEB","DERECHO DE PETICION DE INTERES PARTICULAR",1,"GESTIONADOS"]
[3744962021,"SUBDIRECCION DE ADMINISTRACION INMOBILIARIA Y DE ESPACIO PUBLICO","WEB","DERECHO DE PETICION DE INTERES PARTICULAR",6,"PENDIENTE"]
[3746072021,"AREA DE ATENCION A LA CIUDADANIA","WEB","DERECHO DE PETICION DE INTERES GENERAL",1,"GESTIONADOS"]
[3746522021,"AREA DE ATENCION A LA CIUDADANIA","WEB","DERECHO DE PETICION DE INTERES GENERAL",1,"GESTIONADOS"]
[3746522021,"SUBDIRECCION DE ADMINISTRACION INMOBILIARIA Y DE ESPACIO PUBLICO","WEB","DERECHO DE PETICION DE INTERES GENERAL",8,"PENDIENTE"]
[3748042021,"AREA DE ATENCION A LA CIUDADANIA","WEB","DERECHO DE PETICION DE INTERES GENERAL",1,"GESTIONADOS"]
[3748312021,"AREA DE ATENCION A LA CIUDADANIA","WEB","DERECHO DE PETICION DE INTERES GENERAL",1,"GESTIONADOS"]
[3748402021,"AREA DE ATENCION A LA CIUDADANIA","WEB","DERECHO DE PETICION DE INTERES PARTICULAR",1,"GESTIONADOS"]
[3748402021,"SUBDIRECCION DE REGISTRO INMOBILIARIO","WEB","DERECHO DE PETICION DE INTERES PARTICULAR",8,"PENDIENTE"]
[3749112021,"AREA DE ATENCION A LA CIUDADANIA","WEB","DERECHO DE PETICION DE INTERES GENERAL",1,"GESTIONADOS"]
[3749112021,"SUBDIRECCION ADMINISTRATIVA  FINANCIERA Y DE CONTROL DISCIPLINARIO","WEB","DERECHO DE PETICION DE INTERES GENERAL",1,"GESTIONADOS"]
[3749452021,"AREA DE ATENCION A LA CIUDADANIA","TELEFONO","DERECHO DE PETICION DE INTERES PARTICULAR",1,"GESTIONADOS"]
[3750792021,"AREA DE ATENCION A LA CIUDADANIA","ESCRITO","DERECHO DE PETICION DE INTERES PARTICULAR",1,"GESTIONADOS"]
[3750792021,"SUBDIRECCION DE ADMINISTRACION INMOBILIARIA Y DE ESPACIO PUBLICO","ESCRITO","DERECHO DE PETICION DE INTERES PARTICULAR",8,"PENDIENTE"]
[3750902021,"AREA DE ATENCION A LA CIUDADANIA","WEB","DERECHO DE PETICION DE INTERES PARTICULAR",1,"GESTIONADOS"]
[3750902021,"SUBDIRECCION DE ADMINISTRACION INMOBILIARIA Y DE ESPACIO PUBLICO","WEB","DERECHO DE PETICION DE INTERES PARTICULAR",8,"PENDIENTE"]
[3751172021,"AREA DE ATENCION A LA CIUDADANIA","WEB","DERECHO DE PETICION DE INTERES PARTICULAR",1,"GESTIONADOS"]
[3751592021,"AREA DE ATENCION A LA CIUDADANIA","WEB","DERECHO DE PETICION DE INTERES GENERAL",1,"GESTIONADOS"]
[3751962021,"AREA DE ATENCION A LA CIUDADANIA","ESCRITO","DERECHO DE PETICION DE INTERES PARTICULAR",1,"GESTIONADOS"]
[3751962021,"OFICINA ASESORA JURIDICA","ESCRITO","DERECHO DE PETICION DE INTERES PARTICULAR",8,"PENDIENTE"]
[3752112021,"AREA DE ATENCION A LA CIUDADANIA","ESCRITO","DERECHO DE PETICION DE INTERES PARTICULAR",1,"GESTIONADOS"]
[3752112021,"SUBDIRECCION ADMINISTRATIVA Y FINANCIERA","ESCRITO","DERECHO DE PETICION DE INTERES PARTICULAR",8,"PENDIENTE"]
[3752382021,"AREA DE ATENCION A LA CIUDADANIA","ESCRITO","DERECHO DE PETICION DE INTERES PARTICULAR",1,"GESTIONADOS"]
[3752382021,"SUBDIRECCION DE ADMINISTRACION INMOBILIARIA Y DE ESPACIO PUBLICO","ESCRITO","DERECHO DE PETICION DE INTERES PARTICULAR",8,"PENDIENTE"]
[3752532021,"AREA DE ATENCION A LA CIUDADANIA","ESCRITO","DERECHO DE PETICION DE INTERES PARTICULAR",1,"GESTIONADOS"]
[3752532021,"SUBDIRECCION ADMINISTRATIVA Y FINANCIERA","ESCRITO","DERECHO DE PETICION DE INTERES PARTICULAR",8,"PENDIENTE"]
[3752632021,"AREA DE ATENCION A LA CIUDADANIA","WEB","QUEJA",8,"PENDIENTE"]
[3752682021,"AREA DE ATENCION A LA CIUDADANIA","ESCRITO","DERECHO DE PETICION DE INTERES PARTICULAR",1,"GESTIONADOS"]
[3752682021,"SUBDIRECCION DE ADMINISTRACION INMOBILIARIA Y DE ESPACIO PUBLICO","ESCRITO","DERECHO DE PETICION DE INTERES PARTICULAR",8,"PENDIENTE"]
[3753342021,"AREA DE ATENCION A LA CIUDADANIA","ESCRITO","DERECHO DE PETICION DE INTERES PARTICULAR",1,"GESTIONADOS"]
[3753342021,"SUBDIRECCION DE ADMINISTRACION INMOBILIARIA Y DE ESPACIO PUBLICO","ESCRITO","DERECHO DE PETICION DE INTERES PARTICULAR",8,"PENDIENTE"]
[3753402021,"AREA DE ATENCION A LA CIUDADANIA","ESCRITO","DERECHO DE PETICION DE INTERES PARTICULAR",1,"GESTIONADOS"]
[3753402021,"SUBDIRECCION DE ADMINISTRACION INMOBILIARIA Y DE ESPACIO PUBLICO","ESCRITO","DERECHO DE PETICION DE INTERES PARTICULAR",8,"PENDIENTE"]
[3753442021,"AREA DE ATENCION A LA CIUDADANIA","ESCRITO","DERECHO DE PETICION DE INTERES PARTICULAR",1,"GESTIONADOS"]
[3753442021,"SUBDIRECCION DE REGISTRO INMOBILIARIO","ESCRITO","DERECHO DE PETICION DE INTERES PARTICULAR",8,"PENDIENTE"]
[3754862021,"AREA DE ATENCION A LA CIUDADANIA","WEB","QUEJA",1,"GESTIONADOS"]
[3755002021,"AREA DE ATENCION A LA CIUDADANIA","TELEFONO","DERECHO DE PETICION DE INTERES GENERAL",1,"GESTIONADOS"]
[3756382021,"AREA DE ATENCION A LA CIUDADANIA","WEB","DERECHO DE PETICION DE INTERES PARTICULAR",1,"GESTIONADOS"]
[3756402021,"AREA DE ATENCION A LA CIUDADANIA","WEB","DERECHO DE PETICION DE INTERES GENERAL",1,"GESTIONADOS"]
[3756402021,"SUBDIRECCION DE ADMINISTRACION INMOBILIARIA Y DE ESPACIO PUBLICO","WEB","DERECHO DE PETICION DE INTERES GENERAL",8,"PENDIENTE"]
[3756422021,"AREA DE ATENCION A LA CIUDADANIA","WEB","QUEJA",1,"GESTIONADOS"]
[3756452021,"AREA DE ATENCION A LA CIUDADANIA","WEB","QUEJA",1,"GESTIONADOS"]
[3756892021,"AREA DE ATENCION A LA CIUDADANIA","WEB","DERECHO DE PETICION DE INTERES GENERAL",1,"GESTIONADOS"]
[3760582021,"AREA DE ATENCION A LA CIUDADANIA","WEB","DERECHO DE PETICION DE INTERES PARTICULAR",1,"GESTIONADOS"]
[3760582021,"SUBDIRECCION DE ADMINISTRACION INMOBILIARIA Y DE ESPACIO PUBLICO","WEB","DERECHO DE PETICION DE INTERES PARTICULAR",7,"PENDIENTE"]
[3760912021,"AREA DE ATENCION A LA CIUDADANIA","WEB","CONSULTA",1,"GESTIONADOS"]
[3760912021,"SUBDIRECCION DE REGISTRO INMOBILIARIO","WEB","CONSULTA",7,"PENDIENTE"]
[3761752021,"AREA DE ATENCION A LA CIUDADANIA","TELEFONO","DERECHO DE PETICION DE INTERES GENERAL",1,"GESTIONADOS"]
[3761852021,"AREA DE ATENCION A LA CIUDADANIA","ESCRITO","DERECHO DE PETICION DE INTERES PARTICULAR",1,"GESTIONADOS"]
[3761852021,"SUBDIRECCION ADMINISTRATIVA Y FINANCIERA","ESCRITO","DERECHO DE PETICION DE INTERES PARTICULAR",7,"PENDIENTE"]
[3761982021,"AREA DE ATENCION A LA CIUDADANIA","WEB","DERECHO DE PETICION DE INTERES PARTICULAR",1,"GESTIONADOS"]
[3762162021,"AREA DE ATENCION A LA CIUDADANIA","ESCRITO","DERECHO DE PETICION DE INTERES PARTICULAR",1,"GESTIONADOS"]
[3762162021,"SUBDIRECCION DE REGISTRO INMOBILIARIO","ESCRITO","DERECHO DE PETICION DE INTERES PARTICULAR",7,"PENDIENTE"]
[3762422021,"AREA DE ATENCION A LA CIUDADANIA","ESCRITO","SOLICITUD DE COPIA",1,"GESTIONADOS"]
[3762422021,"SUBDIRECCION DE REGISTRO INMOBILIARIO","ESCRITO","SOLICITUD DE COPIA",7,"PENDIENTE"]
[3762852021,"AREA DE ATENCION A LA CIUDADANIA","ESCRITO","DERECHO DE PETICION DE INTERES PARTICULAR",1,"GESTIONADOS"]
[3762852021,"SUBDIRECCION DE REGISTRO INMOBILIARIO","ESCRITO","DERECHO DE PETICION DE INTERES PARTICULAR",7,"PENDIENTE"]
[3763222021,"AREA DE ATENCION A LA CIUDADANIA","ESCRITO","DERECHO DE PETICION DE INTERES PARTICULAR",1,"GESTIONADOS"]
[3763222021,"SUBDIRECCION DE ADMINISTRACION INMOBILIARIA Y DE ESPACIO PUBLICO","ESCRITO","DERECHO DE PETICION DE INTERES PARTICULAR",7,"PENDIENTE"]
[3763352021,"AREA DE ATENCION A LA CIUDADANIA","TELEFONO","DERECHO DE PETICION DE INTERES GENERAL",1,"GESTIONADOS"]
[3763352021,"SUBDIRECCION DE ADMINISTRACION INMOBILIARIA Y DE ESPACIO PUBLICO","TELEFONO","DERECHO DE PETICION DE INTERES GENERAL",7,"PENDIENTE"]
[3763562021,"AREA DE ATENCION A LA CIUDADANIA","ESCRITO","DERECHO DE PETICION DE INTERES GENERAL",1,"GESTIONADOS"]
[3763562021,"SUBDIRECCION DE ADMINISTRACION INMOBILIARIA Y DE ESPACIO PUBLICO","ESCRITO","DERECHO DE PETICION DE INTERES GENERAL",4,"PENDIENTE"]
[3764802021,"AREA DE ATENCION A LA CIUDADANIA","WEB","DERECHO DE PETICION DE INTERES PARTICULAR",1,"GESTIONADOS"]
[3764802021,"SUBDIRECCION DE ADMINISTRACION INMOBILIARIA Y DE ESPACIO PUBLICO","WEB","DERECHO DE PETICION DE INTERES PARTICULAR",7,"PENDIENTE"]
[3765152021,"AREA DE ATENCION A LA CIUDADANIA","ESCRITO","DERECHO DE PETICION DE INTERES PARTICULAR",1,"GESTIONADOS"]
[3765152021,"SUBDIRECCION DE ADMINISTRACION INMOBILIARIA Y DE ESPACIO PUBLICO","ESCRITO","DERECHO DE PETICION DE INTERES PARTICULAR",7,"PENDIENTE"]
[3766172021,"AREA DE ATENCION A LA CIUDADANIA","ESCRITO","DERECHO DE PETICION DE INTERES PARTICULAR",1,"GESTIONADOS"]
[3766172021,"SUBDIRECCION DE REGISTRO INMOBILIARIO","ESCRITO","DERECHO DE PETICION DE INTERES PARTICULAR",7,"PENDIENTE"]
[3767512021,"AREA DE ATENCION A LA CIUDADANIA","ESCRITO","DERECHO DE PETICION DE INTERES PARTICULAR",1,"GESTIONADOS"]
[3767512021,"SUBDIRECCION DE REGISTRO INMOBILIARIO","ESCRITO","DERECHO DE PETICION DE INTERES PARTICULAR",7,"PENDIENTE"]
[3769072021,"AREA DE ATENCION A LA CIUDADANIA","TELEFONO","DERECHO DE PETICION DE INTERES GENERAL",1,"GESTIONADOS"]
[3769072021,"SUBDIRECCION DE ADMINISTRACION INMOBILIARIA Y DE ESPACIO PUBLICO","TELEFONO","DERECHO DE PETICION DE INTERES GENERAL",7,"PENDIENTE"]
[3770952021,"AREA DE ATENCION A LA CIUDADANIA","ESCRITO","DERECHO DE PETICION DE INTERES PARTICULAR",1,"GESTIONADOS"]
[3770952021,"SUBDIRECCION DE ADMINISTRACION INMOBILIARIA Y DE ESPACIO PUBLICO","ESCRITO","DERECHO DE PETICION DE INTERES PARTICULAR",7,"PENDIENTE"]
[3770972021,"AREA DE ATENCION A LA CIUDADANIA","ESCRITO","DERECHO DE PETICION DE INTERES PARTICULAR",1,"GESTIONADOS"]
[3770972021,"SUBDIRECCION DE ADMINISTRACION INMOBILIARIA Y DE ESPACIO PUBLICO","ESCRITO","DERECHO DE PETICION DE INTERES PARTICULAR",7,"PENDIENTE"]
[3770992021,"AREA DE ATENCION A LA CIUDADANIA","ESCRITO","DERECHO DE PETICION DE INTERES PARTICULAR",1,"GESTIONADOS"]
[3770992021,"SUBDIRECCION DE ADMINISTRACION INMOBILIARIA Y DE ESPACIO PUBLICO","ESCRITO","DERECHO DE PETICION DE INTERES PARTICULAR",7,"PENDIENTE"]
[3771002021,"AREA DE ATENCION A LA CIUDADANIA","ESCRITO","DERECHO DE PETICION DE INTERES PARTICULAR",1,"GESTIONADOS"]
[3771002021,"SUBDIRECCION DE ADMINISTRACION INMOBILIARIA Y DE ESPACIO PUBLICO","ESCRITO","DERECHO DE PETICION DE INTERES PARTICULAR",7,"PENDIENTE"]
[3771012021,"AREA DE ATENCION A LA CIUDADANIA","ESCRITO","DERECHO DE PETICION DE INTERES PARTICULAR",1,"GESTIONADOS"]
[3771012021,"SUBDIRECCION DE ADMINISTRACION INMOBILIARIA Y DE ESPACIO PUBLICO","ESCRITO","DERECHO DE PETICION DE INTERES PARTICULAR",7,"PENDIENTE"]
[3771022021,"AREA DE ATENCION A LA CIUDADANIA","ESCRITO","DERECHO DE PETICION DE INTERES PARTICULAR",1,"GESTIONADOS"]
[3771022021,"SUBDIRECCION DE REGISTRO INMOBILIARIO","ESCRITO","DERECHO DE PETICION DE INTERES PARTICULAR",7,"PENDIENTE"]
[3771032021,"AREA DE ATENCION A LA CIUDADANIA","ESCRITO","DERECHO DE PETICION DE INTERES PARTICULAR",1,"GESTIONADOS"]
[3771032021,"SUBDIRECCION DE ADMINISTRACION INMOBILIARIA Y DE ESPACIO PUBLICO","ESCRITO","DERECHO DE PETICION DE INTERES PARTICULAR",7,"PENDIENTE"]
[3771042021,"AREA DE ATENCION A LA CIUDADANIA","ESCRITO","DERECHO DE PETICION DE INTERES PARTICULAR",1,"GESTIONADOS"]
[3771042021,"SUBDIRECCION DE REGISTRO INMOBILIARIO","ESCRITO","DERECHO DE PETICION DE INTERES PARTICULAR",7,"PENDIENTE"]
[3771062021,"AREA DE ATENCION A LA CIUDADANIA","ESCRITO","DERECHO DE PETICION DE INTERES PARTICULAR",1,"GESTIONADOS"]
[3771062021,"SUBDIRECCION DE ADMINISTRACION INMOBILIARIA Y DE ESPACIO PUBLICO","ESCRITO","DERECHO DE PETICION DE INTERES PARTICULAR",7,"PENDIENTE"]
[3771072021,"AREA DE ATENCION A LA CIUDADANIA","ESCRITO","DERECHO DE PETICION DE INTERES PARTICULAR",1,"GESTIONADOS"]
[3771072021,"SUBDIRECCION DE ADMINISTRACION INMOBILIARIA Y DE ESPACIO PUBLICO","ESCRITO","DERECHO DE PETICION DE INTERES PARTICULAR",7,"PENDIENTE"]
[3772052021,"AREA DE ATENCION A LA CIUDADANIA","TELEFONO","DERECHO DE PETICION DE INTERES GENERAL",1,"GESTIONADOS"]
[3772052021,"SUBDIRECCION DE ADMINISTRACION INMOBILIARIA Y DE ESPACIO PUBLICO","TELEFONO","DERECHO DE PETICION DE INTERES GENERAL",7,"PENDIENTE"]
[3772072021,"AREA DE ATENCION A LA CIUDADANIA","WEB","QUEJA",1,"GESTIONADOS"]
[3772092021,"AREA DE ATENCION A LA CIUDADANIA","WEB","QUEJA",2,"GESTIONADOS"]
[3772112021,"AREA DE ATENCION A LA CIUDADANIA","WEB","QUEJA",1,"GESTIONADOS"]
[3772362021,"AREA DE ATENCION A LA CIUDADANIA","TELEFONO","DERECHO DE PETICION DE INTERES GENERAL",1,"GESTIONADOS"]
[3772462021,"AREA DE ATENCION A LA CIUDADANIA","WEB","QUEJA",2,"GESTIONADOS"]
[3772902021,"AREA DE ATENCION A LA CIUDADANIA","TELEFONO","DERECHO DE PETICION DE INTERES GENERAL",1,"GESTIONADOS"]
[3773062021,"AREA DE ATENCION A LA CIUDADANIA","WEB","RECLAMO",2,"GESTIONADOS"]
[3773242021,"AREA DE ATENCION A LA CIUDADANIA","WEB","DERECHO DE PETICION DE INTERES GENERAL",1,"GESTIONADOS"]
[3773562021,"AREA DE ATENCION A LA CIUDADANIA","WEB","QUEJA",1,"GESTIONADOS"]
[3774422021,"AREA DE ATENCION A LA CIUDADANIA","WEB","RECLAMO",1,"GESTIONADOS"]
[3775562021,"AREA DE ATENCION A LA CIUDADANIA","TELEFONO","QUEJA",1,"GESTIONADOS"]
[3775712021,"AREA DE ATENCION A LA CIUDADANIA","WEB","DERECHO DE PETICION DE INTERES GENERAL",1,"GESTIONADOS"]
[3775712021,"SUBDIRECCION DE ADMINISTRACION INMOBILIARIA Y DE ESPACIO PUBLICO","WEB","DERECHO DE PETICION DE INTERES GENERAL",7,"PENDIENTE"]
[3776972021,"AREA DE ATENCION A LA CIUDADANIA","WEB","QUEJA",1,"GESTIONADOS"]
[3777622021,"AREA DE ATENCION A LA CIUDADANIA","WEB","DERECHO DE PETICION DE INTERES GENERAL",1,"GESTIONADOS"]
[3777622021,"SUBDIRECCION DE ADMINISTRACION INMOBILIARIA Y DE ESPACIO PUBLICO","WEB","DERECHO DE PETICION DE INTERES GENERAL",6,"PENDIENTE"]
[3778922021,"AREA DE ATENCION A LA CIUDADANIA","WEB","DERECHO DE PETICION DE INTERES PARTICULAR",6,"PENDIENTE"]
[3779382021,"AREA DE ATENCION A LA CIUDADANIA","E-MAIL","DERECHO DE PETICION DE INTERES PARTICULAR",1,"GESTIONADOS"]
[3781872021,"AREA DE ATENCION A LA CIUDADANIA","WEB","DERECHO DE PETICION DE INTERES GENERAL",1,"GESTIONADOS"]
[3781872021,"SUBDIRECCION DE ADMINISTRACION INMOBILIARIA Y DE ESPACIO PUBLICO","WEB","DERECHO DE PETICION DE INTERES GENERAL",4,"PENDIENTE"]
[3782902021,"AREA DE ATENCION A LA CIUDADANIA","WEB","DERECHO DE PETICION DE INTERES PARTICULAR",1,"GESTIONADOS"]
[3782902021,"SUBDIRECCION DE ADMINISTRACION INMOBILIARIA Y DE ESPACIO PUBLICO","WEB","DERECHO DE PETICION DE INTERES PARTICULAR",6,"PENDIENTE"]
[3783892021,"AREA DE ATENCION A LA CIUDADANIA","WEB","DERECHO DE PETICION DE INTERES GENERAL",1,"GESTIONADOS"]
[3783922021,"AREA DE ATENCION A LA CIUDADANIA","ESCRITO","DERECHO DE PETICION DE INTERES GENERAL",1,"GESTIONADOS"]
[3783922021,"SUBDIRECCION DE REGISTRO INMOBILIARIO","ESCRITO","DERECHO DE PETICION DE INTERES GENERAL",4,"PENDIENTE"]
[3784742021,"AREA DE ATENCION A LA CIUDADANIA","ESCRITO","DERECHO DE PETICION DE INTERES PARTICULAR",1,"GESTIONADOS"]
[3784742021,"DESPACHO","ESCRITO","DERECHO DE PETICION DE INTERES PARTICULAR",6,"GESTIONADOS"]
[3784822021,"AREA DE ATENCION A LA CIUDADANIA","ESCRITO","DERECHO DE PETICION DE INTERES PARTICULAR",1,"GESTIONADOS"]
[3784822021,"SUBDIRECCION DE ADMINISTRACION INMOBILIARIA Y DE ESPACIO PUBLICO","ESCRITO","DERECHO DE PETICION DE INTERES PARTICULAR",6,"PENDIENTE"]
[3784902021,"AREA DE ATENCION A LA CIUDADANIA","ESCRITO","DERECHO DE PETICION DE INTERES PARTICULAR",1,"GESTIONADOS"]
[3784902021,"SUBDIRECCION DE ADMINISTRACION INMOBILIARIA Y DE ESPACIO PUBLICO","ESCRITO","DERECHO DE PETICION DE INTERES PARTICULAR",6,"PENDIENTE"]
[3785132021,"AREA DE ATENCION A LA CIUDADANIA","ESCRITO","DERECHO DE PETICION DE INTERES PARTICULAR",1,"GESTIONADOS"]
[3785132021,"SUBDIRECCION DE ADMINISTRACION INMOBILIARIA Y DE ESPACIO PUBLICO","ESCRITO","DERECHO DE PETICION DE INTERES PARTICULAR",6,"PENDIENTE"]
[3785342021,"AREA DE ATENCION A LA CIUDADANIA","ESCRITO","DERECHO DE PETICION DE INTERES PARTICULAR",1,"GESTIONADOS"]
[3785342021,"SUBDIRECCION DE ADMINISTRACION INMOBILIARIA Y DE ESPACIO PUBLICO","ESCRITO","DERECHO DE PETICION DE INTERES PARTICULAR",6,"PENDIENTE"]
[3785562021,"AREA DE ATENCION A LA CIUDADANIA","ESCRITO","DERECHO DE PETICION DE INTERES PARTICULAR",1,"GESTIONADOS"]
[3785562021,"SUBDIRECCION DE REGISTRO INMOBILIARIO","ESCRITO","DERECHO DE PETICION DE INTERES PARTICULAR",6,"PENDIENTE"]
[3785962021,"AREA DE ATENCION A LA CIUDADANIA","WEB","CONSULTA",1,"GESTIONADOS"]
[3785962021,"SUBDIRECCION DE REGISTRO INMOBILIARIO","WEB","CONSULTA",6,"PENDIENTE"]
[3786512021,"AREA DE ATENCION A LA CIUDADANIA","WEB","QUEJA",1,"GESTIONADOS"]
[3786672021,"AREA DE ATENCION A LA CIUDADANIA","WEB","DERECHO DE PETICION DE INTERES GENERAL",1,"GESTIONADOS"]
[3786912021,"AREA DE ATENCION A LA CIUDADANIA","ESCRITO","DERECHO DE PETICION DE INTERES PARTICULAR",1,"GESTIONADOS"]
[3786912021,"SUBDIRECCION DE ADMINISTRACION INMOBILIARIA Y DE ESPACIO PUBLICO","ESCRITO","DERECHO DE PETICION DE INTERES PARTICULAR",6,"PENDIENTE"]
[3786962021,"AREA DE ATENCION A LA CIUDADANIA","ESCRITO","DERECHO DE PETICION DE INTERES PARTICULAR",1,"GESTIONADOS"]
[3786962021,"SUBDIRECCION DE ADMINISTRACION INMOBILIARIA Y DE ESPACIO PUBLICO","ESCRITO","DERECHO DE PETICION DE INTERES PARTICULAR",6,"PENDIENTE"]
[3786982021,"AREA DE ATENCION A LA CIUDADANIA","ESCRITO","DERECHO DE PETICION DE INTERES PARTICULAR",1,"GESTIONADOS"]
[3786982021,"SUBDIRECCION DE ADMINISTRACION INMOBILIARIA Y DE ESPACIO PUBLICO","ESCRITO","DERECHO DE PETICION DE INTERES PARTICULAR",6,"PENDIENTE"]
[3787082021,"AREA DE ATENCION A LA CIUDADANIA","ESCRITO","DERECHO DE PETICION DE INTERES PARTICULAR",1,"GESTIONADOS"]
[3787082021,"SUBDIRECCION DE ADMINISTRACION INMOBILIARIA Y DE ESPACIO PUBLICO","ESCRITO","DERECHO DE PETICION DE INTERES PARTICULAR",6,"PENDIENTE"]
[3787102021,"AREA DE ATENCION A LA CIUDADANIA","ESCRITO","DERECHO DE PETICION DE INTERES PARTICULAR",1,"GESTIONADOS"]
[3787102021,"SUBDIRECCION DE ADMINISTRACION INMOBILIARIA Y DE ESPACIO PUBLICO","ESCRITO","DERECHO DE PETICION DE INTERES PARTICULAR",6,"PENDIENTE"]
[3787962021,"AREA DE ATENCION A LA CIUDADANIA","ESCRITO","DERECHO DE PETICION DE INTERES PARTICULAR",1,"GESTIONADOS"]
[3787962021,"SUBDIRECCION DE ADMINISTRACION INMOBILIARIA Y DE ESPACIO PUBLICO","ESCRITO","DERECHO DE PETICION DE INTERES PARTICULAR",6,"PENDIENTE"]
[3788052021,"AREA DE ATENCION A LA CIUDADANIA","ESCRITO","DERECHO DE PETICION DE INTERES PARTICULAR",1,"GESTIONADOS"]
[3788052021,"SUBDIRECCION DE ADMINISTRACION INMOBILIARIA Y DE ESPACIO PUBLICO","ESCRITO","DERECHO DE PETICION DE INTERES PARTICULAR",6,"PENDIENTE"]
[3788712021,"AREA DE ATENCION A LA CIUDADANIA","WEB","DERECHO DE PETICION DE INTERES PARTICULAR",1,"GESTIONADOS"]
[3788712021,"SUBDIRECCION DE REGISTRO INMOBILIARIO","WEB","DERECHO DE PETICION DE INTERES PARTICULAR",6,"PENDIENTE"]
[3789152021,"AREA DE ATENCION A LA CIUDADANIA","WEB","DERECHO DE PETICION DE INTERES PARTICULAR",1,"GESTIONADOS"]
[3789152021,"SUBDIRECCION DE ADMINISTRACION INMOBILIARIA Y DE ESPACIO PUBLICO","WEB","DERECHO DE PETICION DE INTERES PARTICULAR",6,"PENDIENTE"]
[3789172021,"AREA DE ATENCION A LA CIUDADANIA","WEB","DERECHO DE PETICION DE INTERES PARTICULAR",1,"GESTIONADOS"]
[3789172021,"SUBDIRECCION DE ADMINISTRACION INMOBILIARIA Y DE ESPACIO PUBLICO","WEB","DERECHO DE PETICION DE INTERES PARTICULAR",5,"PENDIENTE"]
[3789212021,"AREA DE ATENCION A LA CIUDADANIA","WEB","DERECHO DE PETICION DE INTERES PARTICULAR",1,"GESTIONADOS"]
[3789212021,"SUBDIRECCION DE ADMINISTRACION INMOBILIARIA Y DE ESPACIO PUBLICO","WEB","DERECHO DE PETICION DE INTERES PARTICULAR",5,"PENDIENTE"]
[3791212021,"AREA DE ATENCION A LA CIUDADANIA","WEB","QUEJA",1,"GESTIONADOS"]
[3791862021,"AREA DE ATENCION A LA CIUDADANIA","WEB","DERECHO DE PETICION DE INTERES PARTICULAR",1,"GESTIONADOS"]
[3791922021,"AREA DE ATENCION A LA CIUDADANIA","WEB","DERECHO DE PETICION DE INTERES PARTICULAR",1,"GESTIONADOS"]
[3792432021,"AREA DE ATENCION A LA CIUDADANIA","WEB","CONSULTA",1,"GESTIONADOS"]
[3793702021,"AREA DE ATENCION A LA CIUDADANIA","WEB","DERECHO DE PETICION DE INTERES GENERAL",1,"GESTIONADOS"]
[3795802021,"AREA DE ATENCION A LA CIUDADANIA","WEB","DERECHO DE PETICION DE INTERES PARTICULAR",1,"GESTIONADOS"]
[3795802021,"SUBDIRECCION DE ADMINISTRACION INMOBILIARIA Y DE ESPACIO PUBLICO","WEB","DERECHO DE PETICION DE INTERES PARTICULAR",5,"PENDIENTE"]
[3802172021,"AREA DE ATENCION A LA CIUDADANIA","ESCRITO","DERECHO DE PETICION DE INTERES PARTICULAR",1,"GESTIONADOS"]
[3802172021,"SUBDIRECCION DE ADMINISTRACION INMOBILIARIA Y DE ESPACIO PUBLICO","ESCRITO","DERECHO DE PETICION DE INTERES PARTICULAR",5,"PENDIENTE"]
[3802522021,"AREA DE ATENCION A LA CIUDADANIA","ESCRITO","DERECHO DE PETICION DE INTERES PARTICULAR",1,"GESTIONADOS"]
[3802522021,"SUBDIRECCION DE ADMINISTRACION INMOBILIARIA Y DE ESPACIO PUBLICO","ESCRITO","DERECHO DE PETICION DE INTERES PARTICULAR",5,"PENDIENTE"]
[3802562021,"AREA DE ATENCION A LA CIUDADANIA","ESCRITO","DERECHO DE PETICION DE INTERES PARTICULAR",1,"GESTIONADOS"]
[3802562021,"SUBDIRECCION DE REGISTRO INMOBILIARIO","ESCRITO","DERECHO DE PETICION DE INTERES PARTICULAR",5,"PENDIENTE"]
[3802622021,"AREA DE ATENCION A LA CIUDADANIA","ESCRITO","DERECHO DE PETICION DE INTERES PARTICULAR",1,"GESTIONADOS"]
[3802622021,"DESPACHO","ESCRITO","DERECHO DE PETICION DE INTERES PARTICULAR",5,"GESTIONADOS"]
[3802622021,"SUBDIRECCION DE ADMINISTRACION INMOBILIARIA Y DE ESPACIO PUBLICO","ESCRITO","DERECHO DE PETICION DE INTERES PARTICULAR",5,"PENDIENTE"]
[3802722021,"AREA DE ATENCION A LA CIUDADANIA","ESCRITO","DERECHO DE PETICION DE INTERES GENERAL",1,"GESTIONADOS"]
[3803742021,"AREA DE ATENCION A LA CIUDADANIA","TELEFONO","DERECHO DE PETICION DE INTERES GENERAL",1,"GESTIONADOS"]
[3804322021,"AREA DE ATENCION A LA CIUDADANIA","WEB","DERECHO DE PETICION DE INTERES GENERAL",1,"GESTIONADOS"]
[3805132021,"AREA DE ATENCION A LA CIUDADANIA","WEB","CONSULTA",1,"GESTIONADOS"]
[3805132021,"SUBDIRECCION DE REGISTRO INMOBILIARIO","WEB","CONSULTA",5,"PENDIENTE"]
[3806342021,"AREA DE ATENCION A LA CIUDADANIA","WEB","DERECHO DE PETICION DE INTERES PARTICULAR",1,"GESTIONADOS"]
[3806412021,"AREA DE ATENCION A LA CIUDADANIA","WEB","DERECHO DE PETICION DE INTERES PARTICULAR",1,"GESTIONADOS"]
[3806682021,"AREA DE ATENCION A LA CIUDADANIA","WEB","CONSULTA",1,"GESTIONADOS"]
[3806682021,"SUBDIRECCION DE REGISTRO INMOBILIARIO","WEB","CONSULTA",3,"PENDIENTE"]
[3807322021,"AREA DE ATENCION A LA CIUDADANIA","WEB","DERECHO DE PETICION DE INTERES GENERAL",1,"GESTIONADOS"]
[3807382021,"AREA DE ATENCION A LA CIUDADANIA","WEB","DERECHO DE PETICION DE INTERES GENERAL",1,"GESTIONADOS"]
[3809102021,"AREA DE ATENCION A LA CIUDADANIA","ESCRITO","DERECHO DE PETICION DE INTERES PARTICULAR",1,"GESTIONADOS"]
[3809102021,"SUBDIRECCION DE ADMINISTRACION INMOBILIARIA Y DE ESPACIO PUBLICO","ESCRITO","DERECHO DE PETICION DE INTERES PARTICULAR",5,"PENDIENTE"]
[3809182021,"AREA DE ATENCION A LA CIUDADANIA","ESCRITO","DERECHO DE PETICION DE INTERES PARTICULAR",1,"GESTIONADOS"]
[3809182021,"SUBDIRECCION DE ADMINISTRACION INMOBILIARIA Y DE ESPACIO PUBLICO","ESCRITO","DERECHO DE PETICION DE INTERES PARTICULAR",5,"PENDIENTE"]
[3809212021,"AREA DE ATENCION A LA CIUDADANIA","ESCRITO","DERECHO DE PETICION DE INTERES PARTICULAR",1,"GESTIONADOS"]
[3809212021,"SUBDIRECCION DE ADMINISTRACION INMOBILIARIA Y DE ESPACIO PUBLICO","ESCRITO","DERECHO DE PETICION DE INTERES PARTICULAR",5,"PENDIENTE"]
[3809872021,"AREA DE ATENCION A LA CIUDADANIA","WEB","QUEJA",1,"GESTIONADOS"]
[3812052021,"AREA DE ATENCION A LA CIUDADANIA","WEB","DERECHO DE PETICION DE INTERES PARTICULAR",1,"GESTIONADOS"]
[3812232021,"AREA DE ATENCION A LA CIUDADANIA","TELEFONO","DERECHO DE PETICION DE INTERES GENERAL",1,"GESTIONADOS"]
[3812352021,"AREA DE ATENCION A LA CIUDADANIA","WEB","DERECHO DE PETICION DE INTERES PARTICULAR",1,"GESTIONADOS"]
[3812352021,"SUBDIRECCION DE ADMINISTRACION INMOBILIARIA Y DE ESPACIO PUBLICO","WEB","DERECHO DE PETICION DE INTERES PARTICULAR",4,"PENDIENTE"]
[3812402021,"AREA DE ATENCION A LA CIUDADANIA","WEB","DERECHO DE PETICION DE INTERES GENERAL",4,"PENDIENTE"]
[3814382021,"AREA DE ATENCION A LA CIUDADANIA","ESCRITO","DERECHO DE PETICION DE INTERES PARTICULAR",1,"GESTIONADOS"]
[3814382021,"SUBDIRECCION DE ADMINISTRACION INMOBILIARIA Y DE ESPACIO PUBLICO","ESCRITO","DERECHO DE PETICION DE INTERES PARTICULAR",4,"PENDIENTE"]
[3814562021,"AREA DE ATENCION A LA CIUDADANIA","ESCRITO","DERECHO DE PETICION DE INTERES PARTICULAR",1,"GESTIONADOS"]
[3814562021,"SUBDIRECCION DE ADMINISTRACION INMOBILIARIA Y DE ESPACIO PUBLICO","ESCRITO","DERECHO DE PETICION DE INTERES PARTICULAR",4,"PENDIENTE"]
[3815042021,"AREA DE ATENCION A LA CIUDADANIA","WEB","DERECHO DE PETICION DE INTERES PARTICULAR",1,"GESTIONADOS"]
[3815122021,"AREA DE ATENCION A LA CIUDADANIA","WEB","DERECHO DE PETICION DE INTERES GENERAL",1,"GESTIONADOS"]
[3815122021,"SUBDIRECCION DE ADMINISTRACION INMOBILIARIA Y DE ESPACIO PUBLICO","WEB","DERECHO DE PETICION DE INTERES GENERAL",4,"PENDIENTE"]
[3816212021,"AREA DE ATENCION A LA CIUDADANIA","WEB","DERECHO DE PETICION DE INTERES PARTICULAR",1,"GESTIONADOS"]
[3816212021,"SUBDIRECCION DE REGISTRO INMOBILIARIO","WEB","DERECHO DE PETICION DE INTERES PARTICULAR",4,"PENDIENTE"]
[3817502021,"AREA DE ATENCION A LA CIUDADANIA","E-MAIL","DERECHO DE PETICION DE INTERES PARTICULAR",1,"GESTIONADOS"]
[3818182021,"AREA DE ATENCION A LA CIUDADANIA","ESCRITO","DERECHO DE PETICION DE INTERES PARTICULAR",1,"GESTIONADOS"]
[3818182021,"SUBDIRECCION DE REGISTRO INMOBILIARIO","ESCRITO","DERECHO DE PETICION DE INTERES PARTICULAR",4,"PENDIENTE"]
[3818512021,"AREA DE ATENCION A LA CIUDADANIA","ESCRITO","SOLICITUD DE COPIA",1,"GESTIONADOS"]
[3818512021,"SUBDIRECCION DE ADMINISTRACION INMOBILIARIA Y DE ESPACIO PUBLICO","ESCRITO","SOLICITUD DE COPIA",4,"PENDIENTE"]
[3821992021,"AREA DE ATENCION A LA CIUDADANIA","ESCRITO","DERECHO DE PETICION DE INTERES PARTICULAR",1,"GESTIONADOS"]
[3821992021,"SUBDIRECCION DE ADMINISTRACION INMOBILIARIA Y DE ESPACIO PUBLICO","ESCRITO","DERECHO DE PETICION DE INTERES PARTICULAR",4,"PENDIENTE"]
[3825062021,"AREA DE ATENCION A LA CIUDADANIA","ESCRITO","DERECHO DE PETICION DE INTERES PARTICULAR",1,"GESTIONADOS"]
[3825062021,"SUBDIRECCION DE REGISTRO INMOBILIARIO","ESCRITO","DERECHO DE PETICION DE INTERES PARTICULAR",4,"PENDIENTE"]
[3826732021,"AREA DE ATENCION A LA CIUDADANIA","WEB","DERECHO DE PETICION DE INTERES PARTICULAR",1,"GESTIONADOS"]
[3826732021,"SUBDIRECCION DE REGISTRO INMOBILIARIO","WEB","DERECHO DE PETICION DE INTERES PARTICULAR",3,"PENDIENTE"]
[3827352021,"AREA DE ATENCION A LA CIUDADANIA","WEB","DERECHO DE PETICION DE INTERES PARTICULAR",1,"GESTIONADOS"]
[3833972021,"AREA DE ATENCION A LA CIUDADANIA","ESCRITO","DERECHO DE PETICION DE INTERES PARTICULAR",1,"GESTIONADOS"]
[3833972021,"SUBDIRECCION DE ADMINISTRACION INMOBILIARIA Y DE ESPACIO PUBLICO","ESCRITO","DERECHO DE PETICION DE INTERES PARTICULAR",3,"PENDIENTE"]
[3834092021,"AREA DE ATENCION A LA CIUDADANIA","ESCRITO","DERECHO DE PETICION DE INTERES PARTICULAR",1,"GESTIONADOS"]
[3834092021,"SUBDIRECCION DE ADMINISTRACION INMOBILIARIA Y DE ESPACIO PUBLICO","ESCRITO","DERECHO DE PETICION DE INTERES PARTICULAR",3,"PENDIENTE"]
[3834242021,"AREA DE ATENCION A LA CIUDADANIA","ESCRITO","DERECHO DE PETICION DE INTERES PARTICULAR",1,"GESTIONADOS"]
[3834242021,"OFICINA ASESORA JURIDICA","ESCRITO","DERECHO DE PETICION DE INTERES PARTICULAR",3,"GESTIONADOS"]
[3834242021,"SUBDIRECCION DE ADMINISTRACION INMOBILIARIA Y DE ESPACIO PUBLICO","ESCRITO","DERECHO DE PETICION DE INTERES PARTICULAR",3,"PENDIENTE"]
[3834772021,"AREA DE ATENCION A LA CIUDADANIA","ESCRITO","DERECHO DE PETICION DE INTERES PARTICULAR",1,"GESTIONADOS"]
[3834772021,"SUBDIRECCION DE ADMINISTRACION INMOBILIARIA Y DE ESPACIO PUBLICO","ESCRITO","DERECHO DE PETICION DE INTERES PARTICULAR",3,"PENDIENTE"]
[3837202021,"AREA DE ATENCION A LA CIUDADANIA","ESCRITO","DERECHO DE PETICION DE INTERES PARTICULAR",1,"GESTIONADOS"]
[3837202021,"SUBDIRECCION DE ADMINISTRACION INMOBILIARIA Y DE ESPACIO PUBLICO","ESCRITO","DERECHO DE PETICION DE INTERES PARTICULAR",3,"PENDIENTE"]
[3837262021,"AREA DE ATENCION A LA CIUDADANIA","ESCRITO","DERECHO DE PETICION DE INTERES PARTICULAR",1,"GESTIONADOS"]
[3837262021,"SUBDIRECCION DE ADMINISTRACION INMOBILIARIA Y DE ESPACIO PUBLICO","ESCRITO","DERECHO DE PETICION DE INTERES PARTICULAR",3,"PENDIENTE"]
[3837642021,"AREA DE ATENCION A LA CIUDADANIA","E-MAIL","DERECHO DE PETICION DE INTERES PARTICULAR",1,"GESTIONADOS"]
[3837642021,"OFICINA ASESORA JURIDICA","E-MAIL","DERECHO DE PETICION DE INTERES PARTICULAR",1,"PENDIENTE"]
[3838592021,"AREA DE ATENCION A LA CIUDADANIA","ESCRITO","DERECHO DE PETICION DE INTERES PARTICULAR",1,"GESTIONADOS"]
[3838592021,"SUBDIRECCION DE ADMINISTRACION INMOBILIARIA Y DE ESPACIO PUBLICO","ESCRITO","DERECHO DE PETICION DE INTERES PARTICULAR",3,"PENDIENTE"]
[3838672021,"AREA DE ATENCION A LA CIUDADANIA","ESCRITO","DERECHO DE PETICION DE INTERES PARTICULAR",1,"GESTIONADOS"]
[3838672021,"SUBDIRECCION DE REGISTRO INMOBILIARIO","ESCRITO","DERECHO DE PETICION DE INTERES PARTICULAR",3,"PENDIENTE"]
[3838932021,"AREA DE ATENCION A LA CIUDADANIA","WEB","DERECHO DE PETICION DE INTERES PARTICULAR",1,"GESTIONADOS"]
[3839302021,"AREA DE ATENCION A LA CIUDADANIA","ESCRITO","DERECHO DE PETICION DE INTERES PARTICULAR",1,"GESTIONADOS"]
[3839302021,"SUBDIRECCION DE REGISTRO INMOBILIARIO","ESCRITO","DERECHO DE PETICION DE INTERES PARTICULAR",3,"PENDIENTE"]
[3839382021,"AREA DE ATENCION A LA CIUDADANIA","ESCRITO","DERECHO DE PETICION DE INTERES PARTICULAR",1,"GESTIONADOS"]
[3839382021,"SUBDIRECCION DE ADMINISTRACION INMOBILIARIA Y DE ESPACIO PUBLICO","ESCRITO","DERECHO DE PETICION DE INTERES PARTICULAR",3,"PENDIENTE"]
[3839402021,"AREA DE ATENCION A LA CIUDADANIA","ESCRITO","DERECHO DE PETICION DE INTERES PARTICULAR",1,"GESTIONADOS"]
[3839402021,"SUBDIRECCION DE ADMINISTRACION INMOBILIARIA Y DE ESPACIO PUBLICO","ESCRITO","DERECHO DE PETICION DE INTERES PARTICULAR",3,"PENDIENTE"]
[3839422021,"AREA DE ATENCION A LA CIUDADANIA","ESCRITO","DERECHO DE PETICION DE INTERES PARTICULAR",1,"GESTIONADOS"]
[3839422021,"OFICINA ASESORA JURIDICA","ESCRITO","DERECHO DE PETICION DE INTERES PARTICULAR",3,"GESTIONADOS"]
[3839422021,"SUBDIRECCION DE ADMINISTRACION INMOBILIARIA Y DE ESPACIO PUBLICO","ESCRITO","DERECHO DE PETICION DE INTERES PARTICULAR",3,"PENDIENTE"]
[3839462021,"AREA DE ATENCION A LA CIUDADANIA","WEB","DERECHO DE PETICION DE INTERES PARTICULAR",1,"GESTIONADOS"]
[3840062021,"AREA DE ATENCION A LA CIUDADANIA","WEB","DERECHO DE PETICION DE INTERES GENERAL",1,"GESTIONADOS"]
[3843372021,"AREA DE ATENCION A LA CIUDADANIA","ESCRITO","DERECHO DE PETICION DE INTERES PARTICULAR",1,"GESTIONADOS"]
[3843372021,"SUBDIRECCION DE ADMINISTRACION INMOBILIARIA Y DE ESPACIO PUBLICO","ESCRITO","DERECHO DE PETICION DE INTERES PARTICULAR",2,"PENDIENTE"]
[3843532021,"AREA DE ATENCION A LA CIUDADANIA","ESCRITO","DERECHO DE PETICION DE INTERES PARTICULAR",1,"GESTIONADOS"]
[3843532021,"SUBDIRECCION DE ADMINISTRACION INMOBILIARIA Y DE ESPACIO PUBLICO","ESCRITO","DERECHO DE PETICION DE INTERES PARTICULAR",2,"PENDIENTE"]
[3843622021,"AREA DE ATENCION A LA CIUDADANIA","ESCRITO","DERECHO DE PETICION DE INTERES PARTICULAR",1,"GESTIONADOS"]
[3843622021,"SUBDIRECCION DE REGISTRO INMOBILIARIO","ESCRITO","DERECHO DE PETICION DE INTERES PARTICULAR",2,"PENDIENTE"]
[3843872021,"AREA DE ATENCION A LA CIUDADANIA","ESCRITO","DERECHO DE PETICION DE INTERES PARTICULAR",1,"GESTIONADOS"]
[3843872021,"SUBDIRECCION DE REGISTRO INMOBILIARIO","ESCRITO","DERECHO DE PETICION DE INTERES PARTICULAR",1,"PENDIENTE"]
[3843882021,"AREA DE ATENCION A LA CIUDADANIA","ESCRITO","DERECHO DE PETICION DE INTERES PARTICULAR",1,"GESTIONADOS"]
[3843882021,"SUBDIRECCION DE ADMINISTRACION INMOBILIARIA Y DE ESPACIO PUBLICO","ESCRITO","DERECHO DE PETICION DE INTERES PARTICULAR",2,"PENDIENTE"]
[3848182021,"AREA DE ATENCION A LA CIUDADANIA","WEB","SOLICITUD DE ACCESO A LA INFORMACION",1,"PENDIENTE"]
[3848402021,"AREA DE ATENCION A LA CIUDADANIA","ESCRITO","DERECHO DE PETICION DE INTERES PARTICULAR",1,"GESTIONADOS"]
[3848402021,"SUBDIRECCION DE REGISTRO INMOBILIARIO","ESCRITO","DERECHO DE PETICION DE INTERES PARTICULAR",2,"PENDIENTE"]
[3848822021,"AREA DE ATENCION A LA CIUDADANIA","ESCRITO","SOLICITUD DE ACCESO A LA INFORMACION",1,"PENDIENTE"]
[3850592021,"AREA DE ATENCION A LA CIUDADANIA","TELEFONO","DERECHO DE PETICION DE INTERES GENERAL",1,"GESTIONADOS"]
[3851562021,"AREA DE ATENCION A LA CIUDADANIA","WEB","DERECHO DE PETICION DE INTERES PARTICULAR",1,"GESTIONADOS"]
[3851882021,"AREA DE ATENCION A LA CIUDADANIA","WEB","DERECHO DE PETICION DE INTERES PARTICULAR",1,"GESTIONADOS"]
[3854622021,"AREA DE ATENCION A LA CIUDADANIA","WEB","DERECHO DE PETICION DE INTERES GENERAL",1,"GESTIONADOS"]
[3855162021,"AREA DE ATENCION A LA CIUDADANIA","WEB","DERECHO DE PETICION DE INTERES GENERAL",1,"GESTIONADOS"]
[3855272021,"AREA DE ATENCION A LA CIUDADANIA","WEB","DERECHO DE PETICION DE INTERES GENERAL",1,"GESTIONADOS"]
[3855272021,"OFICINA ASESORA JURIDICA","WEB","DERECHO DE PETICION DE INTERES GENERAL",2,"PENDIENTE"]
[3855632021,"AREA DE ATENCION A LA CIUDADANIA","WEB","DERECHO DE PETICION DE INTERES GENERAL",1,"GESTIONADOS"]
[3856272021,"AREA DE ATENCION A LA CIUDADANIA","WEB","DERECHO DE PETICION DE INTERES PARTICULAR",1,"GESTIONADOS"]
[3856272021,"SUBDIRECCION DE ADMINISTRACION INMOBILIARIA Y DE ESPACIO PUBLICO","WEB","DERECHO DE PETICION DE INTERES PARTICULAR",2,"PENDIENTE"]
[3856322021,"AREA DE ATENCION A LA CIUDADANIA","WEB","SOLICITUD DE COPIA",2,"GESTIONADOS"]
[3856382021,"AREA DE ATENCION A LA CIUDADANIA","WEB","SOLICITUD DE COPIA",1,"GESTIONADOS"]
[3856382021,"SUBDIRECCION DE REGISTRO INMOBILIARIO","WEB","SOLICITUD DE COPIA",2,"PENDIENTE"]
[3856422021,"AREA DE ATENCION A LA CIUDADANIA","WEB","DERECHO DE PETICION DE INTERES GENERAL",1,"GESTIONADOS"]
[3857352021,"AREA DE ATENCION A LA CIUDADANIA","WEB","DERECHO DE PETICION DE INTERES PARTICULAR",1,"GESTIONADOS"]
[3858142021,"AREA DE ATENCION A LA CIUDADANIA","WEB","DERECHO DE PETICION DE INTERES GENERAL",1,"GESTIONADOS"]
[3858142021,"SUBDIRECCION DE ADMINISTRACION INMOBILIARIA Y DE ESPACIO PUBLICO","WEB","DERECHO DE PETICION DE INTERES GENERAL",1,"PENDIENTE"]
[3858452021,"SUBDIRECCION ADMINISTRATIVA  FINANCIERA Y DE CONTROL DISCIPLINARIO","WEB","DENUNCIA POR ACTOS DE CORRUPCION",2,"PENDIENTE"]
[3858592021,"AREA DE ATENCION A LA CIUDADANIA","WEB","DERECHO DE PETICION DE INTERES GENERAL",1,"GESTIONADOS"]
[3859892021,"AREA DE ATENCION A LA CIUDADANIA","WEB","QUEJA",1,"GESTIONADOS"]
[3859992021,"AREA DE ATENCION A LA CIUDADANIA","WEB","QUEJA",1,"GESTIONADOS"]
[3866452021,"AREA DE ATENCION A LA CIUDADANIA","WEB","DERECHO DE PETICION DE INTERES PARTICULAR",1,"GESTIONADOS"]
[3866452021,"SUBDIRECCION DE ADMINISTRACION INMOBILIARIA Y DE ESPACIO PUBLICO","WEB","DERECHO DE PETICION DE INTERES PARTICULAR",1,"PENDIENTE"]
[3866482021,"AREA DE ATENCION A LA CIUDADANIA","WEB","CONSULTA",1,"GESTIONADOS"]
[3866482021,"SUBDIRECCION DE REGISTRO INMOBILIARIO","WEB","CONSULTA",1,"PENDIENTE"]
[3866872021,"AREA DE ATENCION A LA CIUDADANIA","WEB","QUEJA",1,"GESTIONADOS"]
[3868482021,"AREA DE ATENCION A LA CIUDADANIA","WEB","QUEJA",1,"GESTIONADOS"]
[3868592021,"AREA DE ATENCION A LA CIUDADANIA","ESCRITO","DERECHO DE PETICION DE INTERES PARTICULAR",1,"GESTIONADOS"]
[3868592021,"SUBDIRECCION DE ADMINISTRACION INMOBILIARIA Y DE ESPACIO PUBLICO","ESCRITO","DERECHO DE PETICION DE INTERES PARTICULAR",1,"PENDIENTE"]
[3868692021,"AREA DE ATENCION A LA CIUDADANIA","ESCRITO","DERECHO DE PETICION DE INTERES PARTICULAR",1,"GESTIONADOS"]
[3868692021,"SUBDIRECCION DE ADMINISTRACION INMOBILIARIA Y DE ESPACIO PUBLICO","ESCRITO","DERECHO DE PETICION DE INTERES PARTICULAR",1,"PENDIENTE"]
[3868842021,"AREA DE ATENCION A LA CIUDADANIA","ESCRITO","DERECHO DE PETICION DE INTERES PARTICULAR",1,"GESTIONADOS"]
[3868842021,"SUBDIRECCION DE REGISTRO INMOBILIARIO","ESCRITO","DERECHO DE PETICION DE INTERES PARTICULAR",1,"PENDIENTE"]
[3869072021,"AREA DE ATENCION A LA CIUDADANIA","ESCRITO","DERECHO DE PETICION DE INTERES PARTICULAR",1,"GESTIONADOS"]
[3869072021,"SUBDIRECCION DE ADMINISTRACION INMOBILIARIA Y DE ESPACIO PUBLICO","ESCRITO","DERECHO DE PETICION DE INTERES PARTICULAR",1,"PENDIENTE"]
[3869182021,"AREA DE ATENCION A LA CIUDADANIA","ESCRITO","DERECHO DE PETICION DE INTERES PARTICULAR",1,"GESTIONADOS"]
[3869182021,"SUBDIRECCION DE ADMINISTRACION INMOBILIARIA Y DE ESPACIO PUBLICO","ESCRITO","DERECHO DE PETICION DE INTERES PARTICULAR",1,"PENDIENTE"]
[3869252021,"AREA DE ATENCION A LA CIUDADANIA","ESCRITO","DERECHO DE PETICION DE INTERES PARTICULAR",1,"GESTIONADOS"]
[3869252021,"SUBDIRECCION DE REGISTRO INMOBILIARIO","ESCRITO","DERECHO DE PETICION DE INTERES PARTICULAR",1,"PENDIENTE"]
[3869452021,"AREA DE ATENCION A LA CIUDADANIA","ESCRITO","DERECHO DE PETICION DE INTERES PARTICULAR",1,"GESTIONADOS"]
[3869452021,"SUBDIRECCION DE ADMINISTRACION INMOBILIARIA Y DE ESPACIO PUBLICO","ESCRITO","DERECHO DE PETICION DE INTERES PARTICULAR",1,"PENDIENTE"]
[3869772021,"AREA DE ATENCION A LA CIUDADANIA","ESCRITO","DERECHO DE PETICION DE INTERES PARTICULAR",1,"GESTIONADOS"]
[3869772021,"SUBDIRECCION DE REGISTRO INMOBILIARIO","ESCRITO","DERECHO DE PETICION DE INTERES PARTICULAR",1,"PENDIENTE"]
[3869922021,"AREA DE ATENCION A LA CIUDADANIA","ESCRITO","DERECHO DE PETICION DE INTERES PARTICULAR",1,"GESTIONADOS"]
[3869922021,"SUBDIRECCION DE ADMINISTRACION INMOBILIARIA Y DE ESPACIO PUBLICO","ESCRITO","DERECHO DE PETICION DE INTERES PARTICULAR",1,"PENDIENTE"]
[3870122021,"AREA DE ATENCION A LA CIUDADANIA","ESCRITO","DERECHO DE PETICION DE INTERES PARTICULAR",1,"GESTIONADOS"]
[3870122021,"SUBDIRECCION DE ADMINISTRACION INMOBILIARIA Y DE ESPACIO PUBLICO","ESCRITO","DERECHO DE PETICION DE INTERES PARTICULAR",1,"PENDIENTE"]
[3870222021,"AREA DE ATENCION A LA CIUDADANIA","WEB","DERECHO DE PETICION DE INTERES GENERAL",1,"GESTIONADOS"]
[3871422021,"AREA DE ATENCION A LA CIUDADANIA","WEB","DERECHO DE PETICION DE INTERES GENERAL",1,"GESTIONADOS"]
[3877572021,"AREA DE ATENCION A LA CIUDADANIA","WEB","DERECHO DE PETICION DE INTERES GENERAL",1,"PENDIENTE"]
[3878552021,"AREA DE ATENCION A LA CIUDADANIA","PRESENCIAL","DERECHO DE PETICION DE INTERES GENERAL",1,"GESTIONADOS"]
[3878552021,"SUBDIRECCION DE ADMINISTRACION INMOBILIARIA Y DE ESPACIO PUBLICO","PRESENCIAL","DERECHO DE PETICION DE INTERES GENERAL",1,"PENDIENTE"]
[3881742021,"AREA DE ATENCION A LA CIUDADANIA","E-MAIL","DERECHO DE PETICION DE INTERES PARTICULAR",1,"GESTIONADOS"]
[3881742021,"SUBDIRECCION DE ADMINISTRACION INMOBILIARIA Y DE ESPACIO PUBLICO","E-MAIL","DERECHO DE PETICION DE INTERES PARTICULAR",1,"PENDIENTE"]
[3882002021,"AREA DE ATENCION A LA CIUDADANIA","ESCRITO","DERECHO DE PETICION DE INTERES PARTICULAR",1,"GESTIONADOS"]
[3882002021,"SUBDIRECCION DE ADMINISTRACION INMOBILIARIA Y DE ESPACIO PUBLICO","ESCRITO","DERECHO DE PETICION DE INTERES PARTICULAR",1,"PENDIENTE"]
[3882072021,"AREA DE ATENCION A LA CIUDADANIA","ESCRITO","DERECHO DE PETICION DE INTERES PARTICULAR",1,"GESTIONADOS"]
[3882072021,"SUBDIRECCION DE ADMINISTRACION INMOBILIARIA Y DE ESPACIO PUBLICO","ESCRITO","DERECHO DE PETICION DE INTERES PARTICULAR",1,"PENDIENTE"]
[3882182021,"AREA DE ATENCION A LA CIUDADANIA","ESCRITO","DERECHO DE PETICION DE INTERES PARTICULAR",1,"GESTIONADOS"]
[3882182021,"SUBDIRECCION DE ADMINISTRACION INMOBILIARIA Y DE ESPACIO PUBLICO","ESCRITO","DERECHO DE PETICION DE INTERES PARTICULAR",1,"PENDIENTE"]
[3882242021,"AREA DE ATENCION A LA CIUDADANIA","ESCRITO","DERECHO DE PETICION DE INTERES PARTICULAR",1,"GESTIONADOS"]
[3882242021,"SUBDIRECCION DE REGISTRO INMOBILIARIO","ESCRITO","DERECHO DE PETICION DE INTERES PARTICULAR",1,"PENDIENTE"]
[3882632021,"AREA DE ATENCION A LA CIUDADANIA","WEB","QUEJA",1,"GESTIONADOS"]
[3885232021,"AREA DE ATENCION A LA CIUDADANIA","WEB","DERECHO DE PETICION DE INTERES PARTICULAR",1,"GESTIONADOS"]
[3885392021,"AREA DE ATENCION A LA CIUDADANIA","WEB","DERECHO DE PETICION DE INTERES GENERAL",1,"GESTIONADOS"]
[3885522021,"AREA DE ATENCION A LA CIUDADANIA","WEB","RECLAMO",1,"PENDIENTE"]
[3885622021,"AREA DE ATENCION A LA CIUDADANIA","WEB","QUEJA",1,"GESTIONADOS"]
[3887162021,"AREA DE ATENCION A LA CIUDADANIA","ESCRITO","DERECHO DE PETICION DE INTERES PARTICULAR",1,"GESTIONADOS"]
[3887162021,"SUBDIRECCION DE ADMINISTRACION INMOBILIARIA Y DE ESPACIO PUBLICO","ESCRITO","DERECHO DE PETICION DE INTERES PARTICULAR",1,"PENDIENTE"]
[3887392021,"AREA DE ATENCION A LA CIUDADANIA","ESCRITO","DERECHO DE PETICION DE INTERES PARTICULAR",1,"GESTIONADOS"]
[3887392021,"SUBDIRECCION DE ADMINISTRACION INMOBILIARIA Y DE ESPACIO PUBLICO","ESCRITO","DERECHO DE PETICION DE INTERES PARTICULAR",1,"PENDIENTE"]
[3888452021,"AREA DE ATENCION A LA CIUDADANIA","WEB","QUEJA",1,"GESTIONADOS"]
[3888592021,"AREA DE ATENCION A LA CIUDADANIA","WEB","DERECHO DE PETICION DE INTERES PARTICULAR",1,"GESTIONADOS"]
[3889502021,"SUBDIRECCION ADMINISTRATIVA  FINANCIERA Y DE CONTROL DISCIPLINARIO","WEB","DENUNCIA POR ACTOS DE CORRUPCION",1,"PENDIENTE"]
[3889552021,"AREA DE ATENCION A LA CIUDADANIA","WEB","QUEJA",1,"PENDIENTE"]
[3889622021,"AREA DE ATENCION A LA CIUDADANIA","WEB","QUEJA",1,"PENDIENTE"]
[3889642021,"AREA DE ATENCION A LA CIUDADANIA","WEB","QUEJA",1,"PENDIENTE"]
[]
["TRASLADOS"]
["Número petición\nNumero de registro en el Sistema","Dependencia:\nNombre asociado al usuario que tiene a cargo la petición ","Canal:\nNombre del canal parametrizado en el sistema por el cual fue registrada la petición","Tipología actualizada: \nTipo de documento utilizado por la entidad","Traslado a otras Entidades: \nPeticiones que por competencia son trasladadas a otras entidades.","Entidad Destino","Estado del Requerimiento\n \"Gestionado\" o \"Pendiente\" de respuesta definitiva por  parte de la Defensoría del Espacio Público o de las entidades competentes"]
["Número petición","Dependencia","Canal","Estado petición final","Entidad que recibe","Tipo reporte"]
[2998262021,"SUBDIRECCION DE ADMINISTRACION INMOBILIARIA Y DE ESPACIO PUBLICO","ESCRITO","Solucionado - Por traslado","CODENSA","GESTIONADOS"]
[3057872021,"SUBDIRECCION DE ADMINISTRACION INMOBILIARIA Y DE ESPACIO PUBLICO","WEB","Solucionado - Por traslado","SECRETARIA DE GOBIERNO","GESTIONADOS"]
[3067332021,"SUBDIRECCION DE ADMINISTRACION INMOBILIARIA Y DE ESPACIO PUBLICO","ESCRITO","Solucionado - Por traslado","SECRETARIA DE GOBIERNO","GESTIONADOS"]
[3067362021,"SUBDIRECCION DE ADMINISTRACION INMOBILIARIA Y DE ESPACIO PUBLICO","ESCRITO","Solucionado - Por traslado","SECRETARIA DE GOBIERNO","GESTIONADOS"]
[3067402021,"SUBDIRECCION DE ADMINISTRACION INMOBILIARIA Y DE ESPACIO PUBLICO","ESCRITO","Solucionado - Por traslado","SECRETARIA DE GOBIERNO","GESTIONADOS"]
[3067802021,"SUBDIRECCION DE ADMINISTRACION INMOBILIARIA Y DE ESPACIO PUBLICO","ESCRITO","Solucionado - Por traslado","IDARTES - INSTITUTO DE LAS ARTES","GESTIONADOS"]
[3071972021,"SUBDIRECCION DE ADMINISTRACION INMOBILIARIA Y DE ESPACIO PUBLICO","ESCRITO","Solucionado - Por traslado","IDU","GESTIONADOS"]
[3074602021,"SUBDIRECCION DE ADMINISTRACION INMOBILIARIA Y DE ESPACIO PUBLICO","WEB","Solucionado - Por traslado","SECRETARIA DE PLANEACION","GESTIONADOS"]
[3085172021,"SUBDIRECCION DE ADMINISTRACION INMOBILIARIA Y DE ESPACIO PUBLICO","WEB","Solucionado - Por traslado","SECRETARIA DE GOBIERNO","GESTIONADOS"]
[3086572021,"AREA DE ATENCION A LA CIUDADANIA","WEB","Solucionado - Por traslado","SECRETARIA DE GOBIERNO","GESTIONADOS"]
[3086962021,"SUBDIRECCION DE ADMINISTRACION INMOBILIARIA Y DE ESPACIO PUBLICO","WEB","Solucionado - Por traslado","SECRETARIA DE GOBIERNO","GESTIONADOS"]
[3090522021,"SUBDIRECCION DE ADMINISTRACION INMOBILIARIA Y DE ESPACIO PUBLICO","WEB","Solucionado - Por traslado","SECRETARIA DE GOBIERNO","GESTIONADOS"]
[3090862021,"SUBDIRECCION DE ADMINISTRACION INMOBILIARIA Y DE ESPACIO PUBLICO","WEB","Solucionado - Por traslado","SECRETARIA DE GOBIERNO","GESTIONADOS"]
[3091092021,"SUBDIRECCION DE ADMINISTRACION INMOBILIARIA Y DE ESPACIO PUBLICO","WEB","Solucionado - Por traslado","JBB - JARDIN BOTANICO","GESTIONADOS"]
[3097292021,"SUBDIRECCION DE ADMINISTRACION INMOBILIARIA Y DE ESPACIO PUBLICO","ESCRITO","Solucionado - Por traslado","IDPAC","GESTIONADOS"]
[3097332021,"SUBDIRECCION DE ADMINISTRACION INMOBILIARIA Y DE ESPACIO PUBLICO","ESCRITO","Solucionado - Por traslado","SECRETARIA DE GOBIERNO","GESTIONADOS"]
[3097432021,"SUBDIRECCION DE ADMINISTRACION INMOBILIARIA Y DE ESPACIO PUBLICO","ESCRITO","Solucionado - Por traslado","IDPAC","GESTIONADOS"]
[3100742021,"SUBDIRECCION DE ADMINISTRACION INMOBILIARIA Y DE ESPACIO PUBLICO","WEB","Solucionado - Por traslado","SECRETARIA DE INTEGRACION SOCIAL","GESTIONADOS"]
[3115712021,"SUBDIRECCION DE ADMINISTRACION INMOBILIARIA Y DE ESPACIO PUBLICO","WEB","Solucionado - Por traslado","SECRETARIA DE GOBIERNO","GESTIONADOS"]
[3118262021,"SUBDIRECCION DE ADMINISTRACION INMOBILIARIA Y DE ESPACIO PUBLICO","WEB","Solucionado - Por traslado","SECRETARIA MOVILIDAD","GESTIONADOS"]
[3118442021,"SUBDIRECCION DE ADMINISTRACION INMOBILIARIA Y DE ESPACIO PUBLICO","ESCRITO","Solucionado - Por traslado","SECRETARIA MOVILIDAD","GESTIONADOS"]
[3119852021,"SUBDIRECCION DE ADMINISTRACION INMOBILIARIA Y DE ESPACIO PUBLICO","WEB","Solucionado - Por traslado","SECRETARIA DE GOBIERNO","GESTIONADOS"]
[3122132021,"SUBDIRECCION DE ADMINISTRACION INMOBILIARIA Y DE ESPACIO PUBLICO","WEB","Solucionado - Por traslado","SECRETARIA DE GOBIERNO","GESTIONADOS"]
[3125892021,"SUBDIRECCION DE ADMINISTRACION INMOBILIARIA Y DE ESPACIO PUBLICO","ESCRITO","Solucionado - Por traslado","IPES","GESTIONADOS"]
[3126202021,"SUBDIRECCION DE ADMINISTRACION INMOBILIARIA Y DE ESPACIO PUBLICO","ESCRITO","Solucionado - Por traslado","SECRETARIA DE GOBIERNO","GESTIONADOS"]
[3126302021,"SUBDIRECCION DE ADMINISTRACION INMOBILIARIA Y DE ESPACIO PUBLICO","ESCRITO","Solucionado - Por traslado","IDRD","GESTIONADOS"]
[3126852021,"SUBDIRECCION DE ADMINISTRACION INMOBILIARIA Y DE ESPACIO PUBLICO","ESCRITO","Solucionado - Por traslado","CODENSA","GESTIONADOS"]
[3128382021,"SUBDIRECCION DE ADMINISTRACION INMOBILIARIA Y DE ESPACIO PUBLICO","WEB","Solucionado - Por traslado","SECRETARIA DE GOBIERNO","GESTIONADOS"]
[3129282021,"SUBDIRECCION DE ADMINISTRACION INMOBILIARIA Y DE ESPACIO PUBLICO","ESCRITO","Solucionado - Por traslado","SECRETARIA DE GOBIERNO","GESTIONADOS"]
[3129992021,"SUBDIRECCION DE ADMINISTRACION INMOBILIARIA Y DE ESPACIO PUBLICO","WEB","Solucionado - Por traslado","SECRETARIA DE GOBIERNO","GESTIONADOS"]
[3130412021,"SUBDIRECCION DE ADMINISTRACION INMOBILIARIA Y DE ESPACIO PUBLICO","ESCRITO","Solucionado - Por traslado","SECRETARIA DE GOBIERNO","GESTIONADOS"]
[3131602021,"SUBDIRECCION DE ADMINISTRACION INMOBILIARIA Y DE ESPACIO PUBLICO","ESCRITO","Solucionado - Por traslado","SECRETARIA DE DESARROLLO ECONOMICO","GESTIONADOS"]
[3132302021,"SUBDIRECCION DE ADMINISTRACION INMOBILIARIA Y DE ESPACIO PUBLICO","ESCRITO","Solucionado - Por traslado","SECRETARIA DE GOBIERNO","GESTIONADOS"]
[3133822021,"SUBDIRECCION DE ADMINISTRACION INMOBILIARIA Y DE ESPACIO PUBLICO","WEB","Solucionado - Por traslado","SECRETARIA DE GOBIERNO","GESTIONADOS"]
[3149492021,"SUBDIRECCION DE ADMINISTRACION INMOBILIARIA Y DE ESPACIO PUBLICO","WEB","Solucionado - Por traslado","SECRETARIA DE GOBIERNO","GESTIONADOS"]
[3150272021,"SUBDIRECCION DE ADMINISTRACION INMOBILIARIA Y DE ESPACIO PUBLICO","WEB","Solucionado - Por traslado","SECRETARIA DE GOBIERNO","GESTIONADOS"]
[3150282021,"AREA DE ATENCION A LA CIUDADANIA","WEB","Solucionado - Por traslado","UMV - UNIDAD DE MANTENIMIENTO VIAL","GESTIONADOS"]
[3152802021,"SUBDIRECCION DE ADMINISTRACION INMOBILIARIA Y DE ESPACIO PUBLICO","WEB","Solucionado - Por traslado","SECRETARIA DE GOBIERNO","GESTIONADOS"]
[3157132021,"SUBDIRECCION DE ADMINISTRACION INMOBILIARIA Y DE ESPACIO PUBLICO","ESCRITO","Solucionado - Por traslado","IDU","GESTIONADOS"]
[3157152021,"SUBDIRECCION DE ADMINISTRACION INMOBILIARIA Y DE ESPACIO PUBLICO","ESCRITO","Solucionado - Por traslado","IDPAC","GESTIONADOS"]
[3160972021,"SUBDIRECCION DE ADMINISTRACION INMOBILIARIA Y DE ESPACIO PUBLICO","WEB","Solucionado - Por traslado","IPES","GESTIONADOS"]
[3162702021,"SUBDIRECCION DE ADMINISTRACION INMOBILIARIA Y DE ESPACIO PUBLICO","WEB","Solucionado - Por traslado","IPES","GESTIONADOS"]
[3163562021,"SUBDIRECCION DE ADMINISTRACION INMOBILIARIA Y DE ESPACIO PUBLICO","WEB","Solucionado - Por traslado","SECRETARIA DE GOBIERNO","GESTIONADOS"]
[3171232021,"SUBDIRECCION DE ADMINISTRACION INMOBILIARIA Y DE ESPACIO PUBLICO","WEB","Solucionado - Por traslado","SECRETARIA DE GOBIERNO","GESTIONADOS"]
[3178682021,"SUBDIRECCION DE ADMINISTRACION INMOBILIARIA Y DE ESPACIO PUBLICO","WEB","Solucionado - Por traslado","SECRETARIA DE GOBIERNO","GESTIONADOS"]
[3179292021,"SUBDIRECCION DE ADMINISTRACION INMOBILIARIA Y DE ESPACIO PUBLICO","WEB","Solucionado - Por traslado","SECRETARIA MOVILIDAD","GESTIONADOS"]
[3179942021,"SUBDIRECCION DE ADMINISTRACION INMOBILIARIA Y DE ESPACIO PUBLICO","WEB","Solucionado - Por traslado","SECRETARIA DE GOBIERNO","GESTIONADOS"]
[3182672021,"SUBDIRECCION DE ADMINISTRACION INMOBILIARIA Y DE ESPACIO PUBLICO","WEB","Solucionado - Por traslado","IPES","GESTIONADOS"]
[3184432021,"SUBDIRECCION DE ADMINISTRACION INMOBILIARIA Y DE ESPACIO PUBLICO","WEB","Solucionado - Por traslado","SECRETARIA DE GOBIERNO","GESTIONADOS"]
[3185162021,"SUBDIRECCION DE ADMINISTRACION INMOBILIARIA Y DE ESPACIO PUBLICO","ESCRITO","Solucionado - Por traslado","IDRD","GESTIONADOS"]
[3186402021,"SUBDIRECCION DE ADMINISTRACION INMOBILIARIA Y DE ESPACIO PUBLICO","WEB","Solucionado - Por traslado","SECRETARIA DE GOBIERNO","GESTIONADOS"]
[3187682021,"SUBDIRECCION DE ADMINISTRACION INMOBILIARIA Y DE ESPACIO PUBLICO","ESCRITO","Solucionado - Por traslado","ACUEDUCTO - EAAB-ESP","GESTIONADOS"]
[3187852021,"SUBDIRECCION DE ADMINISTRACION INMOBILIARIA Y DE ESPACIO PUBLICO","ESCRITO","Solucionado - Por traslado","SECRETARIA DE GOBIERNO","GESTIONADOS"]
[3187912021,"SUBDIRECCION DE ADMINISTRACION INMOBILIARIA Y DE ESPACIO PUBLICO","ESCRITO","Solucionado - Por traslado","IDU","GESTIONADOS"]
[3188312021,"SUBDIRECCION DE ADMINISTRACION INMOBILIARIA Y DE ESPACIO PUBLICO","ESCRITO","Solucionado - Por traslado","IDRD","GESTIONADOS"]
[3191382021,"SUBDIRECCION DE ADMINISTRACION INMOBILIARIA Y DE ESPACIO PUBLICO","ESCRITO","Solucionado - Por traslado","PERSONERIA DE BOGOTA","GESTIONADOS"]
[3191582021,"SUBDIRECCION DE ADMINISTRACION INMOBILIARIA Y DE ESPACIO PUBLICO","ESCRITO","Solucionado - Por traslado","SECRETARIA DE GOBIERNO","GESTIONADOS"]
[3192772021,"AREA DE ATENCION A LA CIUDADANIA","E-MAIL","Solucionado - Por traslado","CATASTRO","GESTIONADOS"]
[3194262021,"SUBDIRECCION DE ADMINISTRACION INMOBILIARIA Y DE ESPACIO PUBLICO","E-MAIL","Solucionado - Por traslado","SECRETARIA DE GOBIERNO","GESTIONADOS"]
[3200582021,"SUBDIRECCION DE ADMINISTRACION INMOBILIARIA Y DE ESPACIO PUBLICO","ESCRITO","Solucionado - Por traslado","SECRETARIA DE GOBIERNO","GESTIONADOS"]
[3200702021,"SUBDIRECCION DE ADMINISTRACION INMOBILIARIA Y DE ESPACIO PUBLICO","ESCRITO","Solucionado - Por traslado","SECRETARIA DE GOBIERNO","GESTIONADOS"]
[3200852021,"SUBDIRECCION DE ADMINISTRACION INMOBILIARIA Y DE ESPACIO PUBLICO","ESCRITO","Solucionado - Por traslado","IDPAC","GESTIONADOS"]
[3202812021,"SUBDIRECCION DE ADMINISTRACION INMOBILIARIA Y DE ESPACIO PUBLICO","TELEFONO","Solucionado - Por traslado","SECRETARIA DE GOBIERNO","GESTIONADOS"]
[3210172021,"SUBDIRECCION DE ADMINISTRACION INMOBILIARIA Y DE ESPACIO PUBLICO","WEB","Solucionado - Por traslado","SECRETARIA DE GOBIERNO","GESTIONADOS"]
[3218592021,"SUBDIRECCION DE ADMINISTRACION INMOBILIARIA Y DE ESPACIO PUBLICO","ESCRITO","Solucionado - Por traslado","SECRETARIA MOVILIDAD","GESTIONADOS"]
[3218772021,"SUBDIRECCION DE ADMINISTRACION INMOBILIARIA Y DE ESPACIO PUBLICO","ESCRITO","Solucionado - Por traslado","IPES","GESTIONADOS"]
[3222812021,"SUBDIRECCION DE ADMINISTRACION INMOBILIARIA Y DE ESPACIO PUBLICO","E-MAIL","Solucionado - Por traslado","SECRETARIA MOVILIDAD","GESTIONADOS"]
[3223612021,"SUBDIRECCION DE ADMINISTRACION INMOBILIARIA Y DE ESPACIO PUBLICO","ESCRITO","Solucionado - Por traslado","SECRETARIA DE PLANEACION","GESTIONADOS"]
[3224062021,"SUBDIRECCION DE ADMINISTRACION INMOBILIARIA Y DE ESPACIO PUBLICO","ESCRITO","Solucionado - Por traslado","SECRETARIA DE GOBIERNO","GESTIONADOS"]
[3224952021,"SUBDIRECCION DE ADMINISTRACION INMOBILIARIA Y DE ESPACIO PUBLICO","WEB","Solucionado - Por traslado","IDRD","GESTIONADOS"]
[3230872021,"SUBDIRECCION DE REGISTRO INMOBILIARIO","ESCRITO","Solucionado - Por traslado","SECRETARIA DE PLANEACION","GESTIONADOS"]
[3230892021,"SUBDIRECCION DE ADMINISTRACION INMOBILIARIA Y DE ESPACIO PUBLICO","ESCRITO","Solucionado - Por traslado","SECRETARIA DE GOBIERNO","GESTIONADOS"]
[3231132021,"SUBDIRECCION DE ADMINISTRACION INMOBILIARIA Y DE ESPACIO PUBLICO","ESCRITO","Solucionado - Por traslado","IDPC","GESTIONADOS"]
[3231642021,"SUBDIRECCION DE ADMINISTRACION INMOBILIARIA Y DE ESPACIO PUBLICO","ESCRITO","Solucionado - Por traslado","CONCEJO DE BOGOTA","GESTIONADOS"]
[3234622021,"SUBDIRECCION DE ADMINISTRACION INMOBILIARIA Y DE ESPACIO PUBLICO","TELEFONO","Solucionado - Por traslado","SECRETARIA MOVILIDAD","GESTIONADOS"]
[3243162021,"SUBDIRECCION DE ADMINISTRACION INMOBILIARIA Y DE ESPACIO PUBLICO","WEB","Solucionado - Por traslado","SECRETARIA MOVILIDAD","GESTIONADOS"]
[3250092021,"SUBDIRECCION DE ADMINISTRACION INMOBILIARIA Y DE ESPACIO PUBLICO","ESCRITO","Solucionado - Por traslado","IDU","GESTIONADOS"]
[3250182021,"SUBDIRECCION DE ADMINISTRACION INMOBILIARIA Y DE ESPACIO PUBLICO","ESCRITO","Solucionado - Por traslado","IDRD","GESTIONADOS"]
[3251122021,"SUBDIRECCION DE ADMINISTRACION INMOBILIARIA Y DE ESPACIO PUBLICO","ESCRITO","Solucionado - Por traslado","SECRETARIA DE GOBIERNO","GESTIONADOS"]
[3253582021,"SUBDIRECCION DE ADMINISTRACION INMOBILIARIA Y DE ESPACIO PUBLICO","ESCRITO","Solucionado - Por traslado","SECRETARIA DE GOBIERNO","GESTIONADOS"]
[3260632021,"SUBDIRECCION DE ADMINISTRACION INMOBILIARIA Y DE ESPACIO PUBLICO","WEB","Solucionado - Por traslado","SECRETARIA DE GOBIERNO","GESTIONADOS"]
[3261342021,"SUBDIRECCION DE ADMINISTRACION INMOBILIARIA Y DE ESPACIO PUBLICO","WEB","Solucionado - Por traslado","IDPYBA","GESTIONADOS"]
[3263632021,"SUBDIRECCION DE ADMINISTRACION INMOBILIARIA Y DE ESPACIO PUBLICO","WEB","Solucionado - Por traslado","SECRETARIA DE GOBIERNO","GESTIONADOS"]
[3264652021,"SUBDIRECCION DE ADMINISTRACION INMOBILIARIA Y DE ESPACIO PUBLICO","WEB","Solucionado - Por traslado","SECRETARIA DE GOBIERNO","GESTIONADOS"]
[3264892021,"SUBDIRECCION DE ADMINISTRACION INMOBILIARIA Y DE ESPACIO PUBLICO","WEB","Solucionado - Por traslado","SECRETARIA DE GOBIERNO","GESTIONADOS"]
[3273412021,"SUBDIRECCION DE ADMINISTRACION INMOBILIARIA Y DE ESPACIO PUBLICO","ESCRITO","Solucionado - Por traslado","SECRETARIA DE GOBIERNO","GESTIONADOS"]
[3281132021,"AREA DE ATENCION A LA CIUDADANIA","ESCRITO","Solucionado - Por traslado","CATASTRO","GESTIONADOS"]
[3282232021,"SUBDIRECCION DE ADMINISTRACION INMOBILIARIA Y DE ESPACIO PUBLICO","ESCRITO","Solucionado - Por traslado","SECRETARIA DE GOBIERNO","GESTIONADOS"]
[3287602021,"SUBDIRECCION DE ADMINISTRACION INMOBILIARIA Y DE ESPACIO PUBLICO","ESCRITO","Solucionado - Por traslado","IDPAC","GESTIONADOS"]
[3287812021,"AREA DE ATENCION A LA CIUDADANIA","ESCRITO","Solucionado - Por traslado","IDRD","GESTIONADOS"]
[3287982021,"SUBDIRECCION DE ADMINISTRACION INMOBILIARIA Y DE ESPACIO PUBLICO","ESCRITO","Solucionado - Por traslado","IDU","GESTIONADOS"]
[3288412021,"SUBDIRECCION DE ADMINISTRACION INMOBILIARIA Y DE ESPACIO PUBLICO","ESCRITO","Solucionado - Por traslado","SECRETARIA DE GOBIERNO","GESTIONADOS"]
[3288592021,"SUBDIRECCION DE ADMINISTRACION INMOBILIARIA Y DE ESPACIO PUBLICO","ESCRITO","Solucionado - Por traslado","SECRETARIA DE GOBIERNO","GESTIONADOS"]
[3288962021,"SUBDIRECCION DE ADMINISTRACION INMOBILIARIA Y DE ESPACIO PUBLICO","ESCRITO","Solucionado - Por traslado","SECRETARIA DE GOBIERNO","GESTIONADOS"]
[3289562021,"SUBDIRECCION DE ADMINISTRACION INMOBILIARIA Y DE ESPACIO PUBLICO","ESCRITO","Solucionado - Por traslado","IDPAC","GESTIONADOS"]
[3290232021,"SUBDIRECCION DE ADMINISTRACION INMOBILIARIA Y DE ESPACIO PUBLICO","ESCRITO","Solucionado - Por traslado","IDRD","GESTIONADOS"]
[3290672021,"SUBDIRECCION DE ADMINISTRACION INMOBILIARIA Y DE ESPACIO PUBLICO","ESCRITO","Solucionado - Por traslado","IPES","GESTIONADOS"]
[3292992021,"SUBDIRECCION DE ADMINISTRACION INMOBILIARIA Y DE ESPACIO PUBLICO","ESCRITO","Solucionado - Por traslado","SECRETARIA MOVILIDAD","GESTIONADOS"]
[3305732021,"SUBDIRECCION DE ADMINISTRACION INMOBILIARIA Y DE ESPACIO PUBLICO","ESCRITO","Solucionado - Por traslado","SECRETARIA MOVILIDAD","GESTIONADOS"]
[3307752021,"SUBDIRECCION DE ADMINISTRACION INMOBILIARIA Y DE ESPACIO PUBLICO","ESCRITO","Solucionado - Por traslado","IDU","GESTIONADOS"]
[3307892021,"SUBDIRECCION DE ADMINISTRACION INMOBILIARIA Y DE ESPACIO PUBLICO","ESCRITO","Solucionado - Por traslado","IDPAC","GESTIONADOS"]
[3308982021,"SUBDIRECCION DE ADMINISTRACION INMOBILIARIA Y DE ESPACIO PUBLICO","WEB","Solucionado - Por traslado","SECRETARIA DE GOBIERNO","GESTIONADOS"]
[3309282021,"SUBDIRECCION DE ADMINISTRACION INMOBILIARIA Y DE ESPACIO PUBLICO","E-MAIL","Solucionado - Por traslado","SECRETARIA DE GOBIERNO","GESTIONADOS"]
[3309312021,"SUBDIRECCION DE ADMINISTRACION INMOBILIARIA Y DE ESPACIO PUBLICO","WEB","Solucionado - Por traslado","SECRETARIA DE GOBIERNO","GESTIONADOS"]
[3309432021,"SUBDIRECCION DE ADMINISTRACION INMOBILIARIA Y DE ESPACIO PUBLICO","ESCRITO","Solucionado - Por traslado","UAESP","GESTIONADOS"]
[3309862021,"SUBDIRECCION DE ADMINISTRACION INMOBILIARIA Y DE ESPACIO PUBLICO","WEB","Solucionado - Por traslado","SECRETARIA DE GOBIERNO","GESTIONADOS"]
[3310012021,"SUBDIRECCION DE ADMINISTRACION INMOBILIARIA Y DE ESPACIO PUBLICO","WEB","Solucionado - Por traslado","SECRETARIA DE GOBIERNO","GESTIONADOS"]
[3310062021,"SUBDIRECCION DE ADMINISTRACION INMOBILIARIA Y DE ESPACIO PUBLICO","WEB","Solucionado - Por traslado","SECRETARIA DE GOBIERNO","GESTIONADOS"]
[3311152021,"SUBDIRECCION DE ADMINISTRACION INMOBILIARIA Y DE ESPACIO PUBLICO","E-MAIL","Solucionado - Por traslado","IDRD","GESTIONADOS"]
[3311292021,"SUBDIRECCION DE ADMINISTRACION INMOBILIARIA Y DE ESPACIO PUBLICO","E-MAIL","Solucionado - Por traslado","LA TERMINAL DE TRANSPORTE","GESTIONADOS"]
[3311742021,"SUBDIRECCION DE ADMINISTRACION INMOBILIARIA Y DE ESPACIO PUBLICO","E-MAIL","Solucionado - Por traslado","IPES","GESTIONADOS"]
[3311892021,"SUBDIRECCION DE ADMINISTRACION INMOBILIARIA Y DE ESPACIO PUBLICO","E-MAIL","Solucionado - Por traslado","IPES","GESTIONADOS"]
[3312292021,"SUBDIRECCION DE ADMINISTRACION INMOBILIARIA Y DE ESPACIO PUBLICO","E-MAIL","Solucionado - Por traslado","SECRETARIA DE GOBIERNO","GESTIONADOS"]
[3312602021,"SUBDIRECCION DE REGISTRO INMOBILIARIO","ESCRITO","Solucionado - Por traslado","SECRETARIA DE PLANEACION","GESTIONADOS"]
[3313422021,"SUBDIRECCION DE ADMINISTRACION INMOBILIARIA Y DE ESPACIO PUBLICO","WEB","Solucionado - Por traslado","IPES","GESTIONADOS"]
[3313642021,"SUBDIRECCION DE ADMINISTRACION INMOBILIARIA Y DE ESPACIO PUBLICO","ESCRITO","Solucionado - Por traslado","IDU","GESTIONADOS"]
[3313802021,"SUBDIRECCION DE ADMINISTRACION INMOBILIARIA Y DE ESPACIO PUBLICO","ESCRITO","Solucionado - Por traslado","IPES","GESTIONADOS"]
[3318982021,"SUBDIRECCION DE ADMINISTRACION INMOBILIARIA Y DE ESPACIO PUBLICO","ESCRITO","Solucionado - Por traslado","SECRETARIA DE GOBIERNO","GESTIONADOS"]
[3322502021,"SUBDIRECCION DE ADMINISTRACION INMOBILIARIA Y DE ESPACIO PUBLICO","TELEFONO","Solucionado - Por traslado","IPES","GESTIONADOS"]
[3326832021,"SUBDIRECCION DE ADMINISTRACION INMOBILIARIA Y DE ESPACIO PUBLICO","ESCRITO","Solucionado - Por traslado","SECRETARIA DE GOBIERNO","GESTIONADOS"]
[3328122021,"SUBDIRECCION DE ADMINISTRACION INMOBILIARIA Y DE ESPACIO PUBLICO","WEB","Solucionado - Por traslado","SECRETARIA DE GOBIERNO","GESTIONADOS"]
[3329502021,"SUBDIRECCION DE ADMINISTRACION INMOBILIARIA Y DE ESPACIO PUBLICO","ESCRITO","Solucionado - Por traslado","IDPAC","GESTIONADOS"]
[3338142021,"SUBDIRECCION DE ADMINISTRACION INMOBILIARIA Y DE ESPACIO PUBLICO","WEB","Solucionado - Por traslado","IDIGER","GESTIONADOS"]
[3338972021,"SUBDIRECCION DE ADMINISTRACION INMOBILIARIA Y DE ESPACIO PUBLICO","ESCRITO","Solucionado - Por traslado","SECRETARIA MOVILIDAD","GESTIONADOS"]
[3339572021,"SUBDIRECCION DE ADMINISTRACION INMOBILIARIA Y DE ESPACIO PUBLICO","WEB","Solucionado - Por traslado","CODENSA","GESTIONADOS"]
[3342412021,"SUBDIRECCION DE ADMINISTRACION INMOBILIARIA Y DE ESPACIO PUBLICO","ESCRITO","Solucionado - Por traslado","CODENSA","GESTIONADOS"]
[3344672021,"SUBDIRECCION DE ADMINISTRACION INMOBILIARIA Y DE ESPACIO PUBLICO","ESCRITO","Solucionado - Por traslado","IDRD","GESTIONADOS"]
[3345592021,"SUBDIRECCION DE ADMINISTRACION INMOBILIARIA Y DE ESPACIO PUBLICO","ESCRITO","Solucionado - Por traslado","SECRETARIA DE GOBIERNO","GESTIONADOS"]
[3345652021,"SUBDIRECCION DE ADMINISTRACION INMOBILIARIA Y DE ESPACIO PUBLICO","ESCRITO","Solucionado - Por traslado","SECRETARIA DE GOBIERNO","GESTIONADOS"]
[3348832021,"SUBDIRECCION DE ADMINISTRACION INMOBILIARIA Y DE ESPACIO PUBLICO","ESCRITO","Solucionado - Por traslado","SECRETARIA DE GOBIERNO","GESTIONADOS"]
[3349172021,"SUBDIRECCION DE ADMINISTRACION INMOBILIARIA Y DE ESPACIO PUBLICO","ESCRITO","Solucionado - Por traslado","IPES","GESTIONADOS"]
[3349312021,"SUBDIRECCION DE ADMINISTRACION INMOBILIARIA Y DE ESPACIO PUBLICO","ESCRITO","Solucionado - Por traslado","IPES","GESTIONADOS"]
[3356972021,"SUBDIRECCION DE ADMINISTRACION INMOBILIARIA Y DE ESPACIO PUBLICO","WEB","Solucionado - Por traslado","SECRETARIA MOVILIDAD","GESTIONADOS"]
[3358412021,"SUBDIRECCION DE ADMINISTRACION INMOBILIARIA Y DE ESPACIO PUBLICO","WEB","Solucionado - Por traslado","IDU","GESTIONADOS"]
[3361772021,"SUBDIRECCION DE ADMINISTRACION INMOBILIARIA Y DE ESPACIO PUBLICO","ESCRITO","Solucionado - Por traslado","IDU","GESTIONADOS"]
[3361962021,"SUBDIRECCION DE ADMINISTRACION INMOBILIARIA Y DE ESPACIO PUBLICO","ESCRITO","Solucionado - Por traslado","IDPAC","GESTIONADOS"]
[3362022021,"SUBDIRECCION DE ADMINISTRACION INMOBILIARIA Y DE ESPACIO PUBLICO","ESCRITO","Solucionado - Por traslado","SECRETARIA DE GOBIERNO","GESTIONADOS"]
[3368562021,"SUBDIRECCION DE ADMINISTRACION INMOBILIARIA Y DE ESPACIO PUBLICO","ESCRITO","Solucionado - Por traslado","IDU","GESTIONADOS"]
[3368922021,"SUBDIRECCION DE ADMINISTRACION INMOBILIARIA Y DE ESPACIO PUBLICO","ESCRITO","Solucionado - Por traslado","IDU","GESTIONADOS"]
[3369242021,"SUBDIRECCION DE ADMINISTRACION INMOBILIARIA Y DE ESPACIO PUBLICO","E-MAIL","Solucionado - Por traslado","SECRETARIA DE GOBIERNO","GESTIONADOS"]
[3371042021,"SUBDIRECCION DE ADMINISTRACION INMOBILIARIA Y DE ESPACIO PUBLICO","ESCRITO","Solucionado - Por traslado","IPES","GESTIONADOS"]
[3371552021,"SUBDIRECCION DE ADMINISTRACION INMOBILIARIA Y DE ESPACIO PUBLICO","ESCRITO","Solucionado - Por traslado","SECRETARIA DE GOBIERNO","GESTIONADOS"]
[3372262021,"SUBDIRECCION DE ADMINISTRACION INMOBILIARIA Y DE ESPACIO PUBLICO","ESCRITO","Solucionado - Por traslado","SECRETARIA DE GOBIERNO","GESTIONADOS"]
[3375112021,"SUBDIRECCION DE ADMINISTRACION INMOBILIARIA Y DE ESPACIO PUBLICO","ESCRITO","Solucionado - Por traslado","IDPAC","GESTIONADOS"]
[3376862021,"SUBDIRECCION DE ADMINISTRACION INMOBILIARIA Y DE ESPACIO PUBLICO","WEB","Solucionado - Por traslado","SECRETARIA DE GOBIERNO","GESTIONADOS"]
[3504512021,"AREA DE ATENCION A LA CIUDADANIA","WEB","Solucionado - Por traslado","SECRETARIA DE GOBIERNO","GESTIONADOS"]
[3532872021,"AREA DE ATENCION A LA CIUDADANIA","WEB","Solucionado - Por traslado","SECRETARIA DE GOBIERNO","GESTIONADOS"]
[3532972021,"AREA DE ATENCION A LA CIUDADANIA","WEB","Solucionado - Por traslado","SECRETARIA DE AMBIENTE","GESTIONADOS"]
[3535722021,"AREA DE ATENCION A LA CIUDADANIA","WEB","Solucionado - Por traslado","SECRETARIA DE GOBIERNO","GESTIONADOS"]
[3536552021,"AREA DE ATENCION A LA CIUDADANIA","TELEFONO","Solucionado - Por traslado","SECRETARIA DE GOBIERNO","GESTIONADOS"]
[3536722021,"AREA DE ATENCION A LA CIUDADANIA","WEB","Solucionado - Por traslado","SECRETARIA DE GOBIERNO","GESTIONADOS"]
[3536742021,"AREA DE ATENCION A LA CIUDADANIA","TELEFONO","Solucionado - Por traslado","SECRETARIA DE AMBIENTE","GESTIONADOS"]
[3537812021,"AREA DE ATENCION A LA CIUDADANIA","WEB","Solucionado - Por traslado","ACUEDUCTO - EAAB-ESP","GESTIONADOS"]
[3539262021,"AREA DE ATENCION A LA CIUDADANIA","WEB","Solucionado - Por traslado","SECRETARIA DE GOBIERNO","GESTIONADOS"]
[3542642021,"AREA DE ATENCION A LA CIUDADANIA","WEB","Solucionado - Por traslado","SECRETARIA DE AMBIENTE","GESTIONADOS"]
[3544612021,"AREA DE ATENCION A LA CIUDADANIA","TELEFONO","Solucionado - Por traslado","SECRETARIA DE GOBIERNO","GESTIONADOS"]
[3545152021,"AREA DE ATENCION A LA CIUDADANIA","WEB","Solucionado - Por traslado","SECRETARIA DE GOBIERNO","GESTIONADOS"]
[3545772021,"AREA DE ATENCION A LA CIUDADANIA","TELEFONO","Solucionado - Por traslado","SECRETARIA MOVILIDAD","GESTIONADOS"]
[3552452021,"AREA DE ATENCION A LA CIUDADANIA","TELEFONO","Solucionado por asignar - Trasladar","CATASTRO","GESTIONADOS"]
[3555922021,"AREA DE ATENCION A LA CIUDADANIA","WEB","Solucionado - Por traslado","SECRETARIA DE GOBIERNO","GESTIONADOS"]
[3556912021,"AREA DE ATENCION A LA CIUDADANIA","WEB","Solucionado - Por traslado","SECRETARIA DE AMBIENTE","GESTIONADOS"]
[3558322021,"AREA DE ATENCION A LA CIUDADANIA","WEB","Solucionado - Por traslado","SECRETARIA DE AMBIENTE","GESTIONADOS"]
[3566902021,"AREA DE ATENCION A LA CIUDADANIA","WEB","Solucionado - Por traslado","SECRETARIA DE AMBIENTE","GESTIONADOS"]
[3568312021,"AREA DE ATENCION A LA CIUDADANIA","WEB","Solucionado - Por traslado","SECRETARIA DE AMBIENTE","GESTIONADOS"]
[3574562021,"AREA DE ATENCION A LA CIUDADANIA","WEB","Solucionado - Por traslado","SECRETARIA DE AMBIENTE","GESTIONADOS"]
[3581102021,"AREA DE ATENCION A LA CIUDADANIA","WEB","Solucionado - Por traslado","SECRETARIA DE GOBIERNO","GESTIONADOS"]
[3583222021,"AREA DE ATENCION A LA CIUDADANIA","WEB","Solucionado - Por traslado","IPES","GESTIONADOS"]
[3584952021,"AREA DE ATENCION A LA CIUDADANIA","WEB","Solucionado - Por traslado","SECRETARIA DE GOBIERNO","GESTIONADOS"]
[3590452021,"AREA DE ATENCION A LA CIUDADANIA","WEB","Solucionado - Por traslado","SECRETARIA DE GOBIERNO","GESTIONADOS"]
[3590472021,"AREA DE ATENCION A LA CIUDADANIA","WEB","Solucionado - Por traslado","IDIPRON","GESTIONADOS"]
[3600372021,"AREA DE ATENCION A LA CIUDADANIA","E-MAIL","Solucionado - Por traslado","IDU","GESTIONADOS"]
[3608142021,"AREA DE ATENCION A LA CIUDADANIA","WEB","Solucionado - Por traslado","SECRETARIA DE AMBIENTE","GESTIONADOS"]
[3609192021,"AREA DE ATENCION A LA CIUDADANIA","WEB","Solucionado - Por traslado","ACUEDUCTO - EAAB-ESP","GESTIONADOS"]
[3609222021,"AREA DE ATENCION A LA CIUDADANIA","PRESENCIAL","Solucionado - Por traslado","SECRETARIA DE AMBIENTE","GESTIONADOS"]
[3610092021,"AREA DE ATENCION A LA CIUDADANIA","WEB","Solucionado - Por traslado","ACUEDUCTO - EAAB-ESP","GESTIONADOS"]
[3612752021,"AREA DE ATENCION A LA CIUDADANIA","WEB","Solucionado - Por traslado","SECRETARIA DE AMBIENTE","GESTIONADOS"]
[3612862021,"AREA DE ATENCION A LA CIUDADANIA","WEB","Solucionado - Por traslado","SECRETARIA DE AMBIENTE","GESTIONADOS"]
[3615472021,"AREA DE ATENCION A LA CIUDADANIA","WEB","Solucionado - Por traslado","SECRETARIA DE GOBIERNO","GESTIONADOS"]
[3616662021,"AREA DE ATENCION A LA CIUDADANIA","WEB","Solucionado - Por traslado","SECRETARIA DE GOBIERNO","GESTIONADOS"]
[3616852021,"AREA DE ATENCION A LA CIUDADANIA","WEB","Solucionado - Por traslado","SECRETARIA DE GOBIERNO","GESTIONADOS"]
[3616892021,"AREA DE ATENCION A LA CIUDADANIA","WEB","Solucionado - Por traslado","ACUEDUCTO - EAAB-ESP","GESTIONADOS"]
[3617362021,"AREA DE ATENCION A LA CIUDADANIA","WEB","Solucionado - Por traslado","SECRETARIA DE GOBIERNO","GESTIONADOS"]
[3618912021,"AREA DE ATENCION A LA CIUDADANIA","WEB","Solucionado - Por traslado","SECRETARIA DE GOBIERNO","GESTIONADOS"]
[3619392021,"AREA DE ATENCION A LA CIUDADANIA","WEB","Solucionado - Por traslado","SECRETARIA DE AMBIENTE","GESTIONADOS"]
[3622022021,"AREA DE ATENCION A LA CIUDADANIA","WEB","Solucionado - Por traslado","SECRETARIA DE AMBIENTE","GESTIONADOS"]
[3627542021,"AREA DE ATENCION A LA CIUDADANIA","WEB","Solucionado - Por traslado","SECRETARIA DE AMBIENTE","GESTIONADOS"]
[3628562021,"AREA DE ATENCION A LA CIUDADANIA","WEB","Solucionado - Por traslado","SECRETARIA DE GOBIERNO","GESTIONADOS"]
[3631812021,"AREA DE ATENCION A LA CIUDADANIA","WEB","Solucionado - Por traslado","SECRETARIA DE GOBIERNO","GESTIONADOS"]
[3638362021,"AREA DE ATENCION A LA CIUDADANIA","WEB","Solucionado - Por traslado","SECRETARIA DE GOBIERNO","GESTIONADOS"]
[3638462021,"AREA DE ATENCION A LA CIUDADANIA","WEB","Solucionado - Por traslado","SECRETARIA DE DESARROLLO ECONOMICO","GESTIONADOS"]
[3639122021,"AREA DE ATENCION A LA CIUDADANIA","WEB","Solucionado - Por traslado","SECRETARIA DE GOBIERNO","GESTIONADOS"]
[3642462021,"AREA DE ATENCION A LA CIUDADANIA","WEB","Solucionado - Por traslado","SECRETARIA DE GOBIERNO","GESTIONADOS"]
[3643272021,"AREA DE ATENCION A LA CIUDADANIA","WEB","Solucionado - Por traslado","SECRETARIA DE AMBIENTE","GESTIONADOS"]
[3643752021,"AREA DE ATENCION A LA CIUDADANIA","TELEFONO","Solucionado - Por traslado","SECRETARIA DE GOBIERNO","GESTIONADOS"]
[3644262021,"AREA DE ATENCION A LA CIUDADANIA","WEB","Solucionado - Por traslado","SECRETARIA DE GOBIERNO","GESTIONADOS"]
[3646962021,"AREA DE ATENCION A LA CIUDADANIA","WEB","Solucionado - Por traslado","SECRETARIA DE GOBIERNO","GESTIONADOS"]
[3654732021,"AREA DE ATENCION A LA CIUDADANIA","WEB","Solucionado por asignar - Trasladar","UAESP","GESTIONADOS"]
[3655602021,"AREA DE ATENCION A LA CIUDADANIA","WEB","Solucionado - Por traslado","SECRETARIA DE GOBIERNO","GESTIONADOS"]
[3655852021,"AREA DE ATENCION A LA CIUDADANIA","WEB","Solucionado - Por traslado","IPES","GESTIONADOS"]
[3656392021,"AREA DE ATENCION A LA CIUDADANIA","WEB","Solucionado - Por traslado","SECRETARIA DEL HABITAT","GESTIONADOS"]
[3657052021,"AREA DE ATENCION A LA CIUDADANIA","WEB","Solucionado - Por traslado","SECRETARIA DE GOBIERNO","GESTIONADOS"]
[3657182021,"AREA DE ATENCION A LA CIUDADANIA","WEB","Solucionado - Por traslado","SECRETARIA DE GOBIERNO","GESTIONADOS"]
[3657282021,"AREA DE ATENCION A LA CIUDADANIA","WEB","Solucionado - Por traslado","SECRETARIA DE GOBIERNO","GESTIONADOS"]
[3657582021,"AREA DE ATENCION A LA CIUDADANIA","WEB","Solucionado - Por traslado","SECRETARIA DE GOBIERNO","GESTIONADOS"]
[3661682021,"AREA DE ATENCION A LA CIUDADANIA","WEB","Solucionado - Por traslado","SECRETARIA DE GOBIERNO","GESTIONADOS"]
[3663212021,"AREA DE ATENCION A LA CIUDADANIA","WEB","Solucionado - Por traslado","SECRETARIA DE GOBIERNO","GESTIONADOS"]
[3665952021,"AREA DE ATENCION A LA CIUDADANIA","WEB","Solucionado - Por traslado","SECRETARIA DE GOBIERNO","GESTIONADOS"]
[3670222021,"AREA DE ATENCION A LA CIUDADANIA","REDES SOCIALES","Solucionado - Por traslado","SECRETARIA DE AMBIENTE","GESTIONADOS"]
[3672012021,"AREA DE ATENCION A LA CIUDADANIA","WEB","Solucionado por asignar - Trasladar","CATASTRO","GESTIONADOS"]
[3672562021,"AREA DE ATENCION A LA CIUDADANIA","WEB","Solucionado - Por traslado","SECRETARIA DE GOBIERNO","GESTIONADOS"]
[3676092021,"AREA DE ATENCION A LA CIUDADANIA","TELEFONO","Solucionado - Por traslado","SECRETARIA DE INTEGRACION SOCIAL","GESTIONADOS"]
[3678522021,"AREA DE ATENCION A LA CIUDADANIA","WEB","Solucionado - Por traslado","SECRETARIA DE GOBIERNO","GESTIONADOS"]
[3679082021,"AREA DE ATENCION A LA CIUDADANIA","WEB","Solucionado - Por traslado","SECRETARIA DE GOBIERNO","GESTIONADOS"]
[3680682021,"AREA DE ATENCION A LA CIUDADANIA","WEB","Solucionado - Por traslado","SECRETARIA DE AMBIENTE","GESTIONADOS"]
[3681562021,"AREA DE ATENCION A LA CIUDADANIA","WEB","Solucionado - Por traslado","SECRETARIA DE GOBIERNO","GESTIONADOS"]
[3681832021,"AREA DE ATENCION A LA CIUDADANIA","REDES SOCIALES","Solucionado - Por traslado","SECRETARIA DE GOBIERNO","GESTIONADOS"]
[3681912021,"AREA DE ATENCION A LA CIUDADANIA","REDES SOCIALES","Solucionado - Por traslado","SECRETARIA DE GOBIERNO","GESTIONADOS"]
[3683822021,"AREA DE ATENCION A LA CIUDADANIA","WEB","Solucionado - Por traslado","SECRETARIA GENERAL","GESTIONADOS"]
[3684532021,"AREA DE ATENCION A LA CIUDADANIA","E-MAIL","Solucionado - Por traslado","SECRETARIA DE GOBIERNO","GESTIONADOS"]
[3687142021,"AREA DE ATENCION A LA CIUDADANIA","WEB","Solucionado - Por traslado","CATASTRO","GESTIONADOS"]
[3690522021,"AREA DE ATENCION A LA CIUDADANIA","TELEFONO","Solucionado - Por traslado","SECRETARIA DE GOBIERNO","GESTIONADOS"]
[3695582021,"AREA DE ATENCION A LA CIUDADANIA","WEB","Solucionado - Por traslado","SECRETARIA DE GOBIERNO","GESTIONADOS"]
[3701762021,"AREA DE ATENCION A LA CIUDADANIA","WEB","Solucionado - Por traslado","SECRETARIA DE GOBIERNO","GESTIONADOS"]
[3701782021,"AREA DE ATENCION A LA CIUDADANIA","WEB","Solucionado - Por traslado","SECRETARIA DE GOBIERNO","GESTIONADOS"]
[3701792021,"AREA DE ATENCION A LA CIUDADANIA","WEB","Solucionado - Por traslado","SECRETARIA DE GOBIERNO","GESTIONADOS"]
[3704592021,"AREA DE ATENCION A LA CIUDADANIA","TELEFONO","Solucionado - Por traslado","SECRETARIA DE AMBIENTE","GESTIONADOS"]
[3705582021,"AREA DE ATENCION A LA CIUDADANIA","WEB","Solucionado - Por traslado","SECRETARIA DE GOBIERNO","GESTIONADOS"]
[3707252021,"AREA DE ATENCION A LA CIUDADANIA","WEB","Solucionado - Por traslado","SECRETARIA DE GOBIERNO","GESTIONADOS"]
[3707742021,"AREA DE ATENCION A LA CIUDADANIA","WEB","Solucionado - Por traslado","SECRETARIA DE GOBIERNO","GESTIONADOS"]
[3709172021,"AREA DE ATENCION A LA CIUDADANIA","TELEFONO","Solucionado - Por traslado","SECRETARIA DE AMBIENTE","GESTIONADOS"]
[3717062021,"AREA DE ATENCION A LA CIUDADANIA","WEB","Solucionado - Por traslado","IPES","GESTIONADOS"]
[3719332021,"AREA DE ATENCION A LA CIUDADANIA","WEB","Solucionado - Por traslado","SECRETARIA DE AMBIENTE","GESTIONADOS"]
[3720182021,"AREA DE ATENCION A LA CIUDADANIA","ESCRITO","Solucionado - Por traslado","SECRETARIA DE GOBIERNO","GESTIONADOS"]
[3725912021,"AREA DE ATENCION A LA CIUDADANIA","E-MAIL","Solucionado - Por traslado","UAESP","GESTIONADOS"]
[3726252021,"AREA DE ATENCION A LA CIUDADANIA","WEB","Solucionado - Por traslado","SECRETARIA DE AMBIENTE","GESTIONADOS"]
[3726262021,"AREA DE ATENCION A LA CIUDADANIA","WEB","Solucionado - Por traslado","SECRETARIA DE GOBIERNO","GESTIONADOS"]
[3736872021,"AREA DE ATENCION A LA CIUDADANIA","WEB","Solucionado - Por traslado","SECRETARIA DE GOBIERNO","GESTIONADOS"]
[3737582021,"AREA DE ATENCION A LA CIUDADANIA","WEB","Solucionado - Por traslado","SECRETARIA MOVILIDAD","GESTIONADOS"]
[3738132021,"AREA DE ATENCION A LA CIUDADANIA","WEB","Solucionado por asignar - Trasladar","SECRETARIA DE AMBIENTE","GESTIONADOS"]
[3740222021,"AREA DE ATENCION A LA CIUDADANIA","WEB","Solucionado - Por traslado","SECRETARIA DE GOBIERNO","GESTIONADOS"]
[3740702021,"AREA DE ATENCION A LA CIUDADANIA","WEB","Solucionado por asignar - Trasladar","IDRD","GESTIONADOS"]
[3740732021,"AREA DE ATENCION A LA CIUDADANIA","WEB","Solucionado - Por traslado","SECRETARIA DE GOBIERNO","GESTIONADOS"]
[3740882021,"AREA DE ATENCION A LA CIUDADANIA","WEB","Solucionado - Por traslado","SECRETARIA DE GOBIERNO","GESTIONADOS"]
[3744622021,"AREA DE ATENCION A LA CIUDADANIA","WEB","Solucionado - Por traslado","IDRD","GESTIONADOS"]
[3748042021,"AREA DE ATENCION A LA CIUDADANIA","WEB","Solucionado - Por traslado","SECRETARIA DE GOBIERNO","GESTIONADOS"]
[3748312021,"AREA DE ATENCION A LA CIUDADANIA","WEB","Solucionado - Por traslado","SECRETARIA DE GOBIERNO","GESTIONADOS"]
[3749112021,"AREA DE ATENCION A LA CIUDADANIA","WEB","Solucionado - Por traslado","SECRETARIA DE GOBIERNO","GESTIONADOS"]
[3749452021,"AREA DE ATENCION A LA CIUDADANIA","TELEFONO","Solucionado - Por traslado","SECRETARIA DE GOBIERNO","GESTIONADOS"]
[3750902021,"AREA DE ATENCION A LA CIUDADANIA","WEB","Solucionado por asignar - Trasladar","IDU","GESTIONADOS"]
[3751172021,"AREA DE ATENCION A LA CIUDADANIA","WEB","Solucionado - Por traslado","SECRETARIA DE GOBIERNO","GESTIONADOS"]
[3751592021,"AREA DE ATENCION A LA CIUDADANIA","WEB","Solucionado - Por traslado","SECRETARIA DE GOBIERNO","GESTIONADOS"]
[3754862021,"AREA DE ATENCION A LA CIUDADANIA","WEB","Solucionado - Por traslado","SECRETARIA DE GOBIERNO","GESTIONADOS"]
[3756382021,"AREA DE ATENCION A LA CIUDADANIA","WEB","Solucionado - Por traslado","IDRD","GESTIONADOS"]
[3756422021,"AREA DE ATENCION A LA CIUDADANIA","WEB","Solucionado - Por traslado","IDRD","GESTIONADOS"]
[3756892021,"AREA DE ATENCION A LA CIUDADANIA","WEB","Solucionado - Por traslado","IPES","GESTIONADOS"]
[3760582021,"AREA DE ATENCION A LA CIUDADANIA","WEB","Solucionado por asignar - Trasladar","SECRETARIA DE GOBIERNO","GESTIONADOS"]
[3761982021,"AREA DE ATENCION A LA CIUDADANIA","WEB","Solucionado - Por traslado","SECRETARIA DE GOBIERNO","GESTIONADOS"]
[3763352021,"AREA DE ATENCION A LA CIUDADANIA","TELEFONO","Solucionado por asignar - Trasladar","SECRETARIA DE SEGURIDAD","GESTIONADOS"]
[3764802021,"AREA DE ATENCION A LA CIUDADANIA","WEB","Solucionado por asignar - Trasladar","SECRETARIA DE GOBIERNO","GESTIONADOS"]
[3772072021,"AREA DE ATENCION A LA CIUDADANIA","WEB","Solucionado - Por traslado","SECRETARIA DE AMBIENTE","GESTIONADOS"]
[3772092021,"AREA DE ATENCION A LA CIUDADANIA","WEB","Solucionado - Por traslado","SECRETARIA DE GOBIERNO","GESTIONADOS"]
[3772362021,"AREA DE ATENCION A LA CIUDADANIA","TELEFONO","Solucionado - Por traslado","SECRETARIA DE GOBIERNO","GESTIONADOS"]
[3772462021,"AREA DE ATENCION A LA CIUDADANIA","WEB","Solucionado - Por traslado","SECRETARIA DE GOBIERNO","GESTIONADOS"]
[3773062021,"AREA DE ATENCION A LA CIUDADANIA","WEB","Solucionado - Por traslado","IDU","GESTIONADOS"]
[3773562021,"AREA DE ATENCION A LA CIUDADANIA","WEB","Solucionado - Por traslado","SECRETARIA DE GOBIERNO","GESTIONADOS"]
[3774422021,"AREA DE ATENCION A LA CIUDADANIA","WEB","Solucionado - Por traslado","SECRETARIA DE GOBIERNO","GESTIONADOS"]
[3775562021,"AREA DE ATENCION A LA CIUDADANIA","TELEFONO","Solucionado - Por traslado","SECRETARIA DE GOBIERNO","GESTIONADOS"]
[3775712021,"AREA DE ATENCION A LA CIUDADANIA","WEB","Solucionado por asignar - Trasladar","SECRETARIA DE GOBIERNO","GESTIONADOS"]
[3776972021,"AREA DE ATENCION A LA CIUDADANIA","WEB","Solucionado - Por traslado","SECRETARIA DE GOBIERNO","GESTIONADOS"]
[3777622021,"AREA DE ATENCION A LA CIUDADANIA","WEB","Solucionado por asignar - Trasladar","SECRETARIA DE GOBIERNO","GESTIONADOS"]
[3779382021,"AREA DE ATENCION A LA CIUDADANIA","E-MAIL","Solucionado - Por traslado","IDRD","GESTIONADOS"]
[3783892021,"AREA DE ATENCION A LA CIUDADANIA","WEB","Solucionado - Por traslado","SECRETARIA DE GOBIERNO","GESTIONADOS"]
[3786512021,"AREA DE ATENCION A LA CIUDADANIA","WEB","Solucionado - Por traslado","IPES","GESTIONADOS"]
[3786672021,"AREA DE ATENCION A LA CIUDADANIA","WEB","Solucionado - Por traslado","SECRETARIA DE GOBIERNO","GESTIONADOS"]
[3791212021,"AREA DE ATENCION A LA CIUDADANIA","WEB","Solucionado - Por traslado","UAESP","GESTIONADOS"]
[3791862021,"AREA DE ATENCION A LA CIUDADANIA","WEB","Solucionado - Por traslado","SECRETARIA DE GOBIERNO","GESTIONADOS"]
[3791922021,"AREA DE ATENCION A LA CIUDADANIA","WEB","Solucionado - Por traslado","SECRETARIA DE GOBIERNO","GESTIONADOS"]
[3792432021,"AREA DE ATENCION A LA CIUDADANIA","WEB","Solucionado - Por traslado","IDRD","GESTIONADOS"]
[3793702021,"AREA DE ATENCION A LA CIUDADANIA","WEB","Solucionado - Por traslado","SECRETARIA DE GOBIERNO","GESTIONADOS"]
[3795802021,"AREA DE ATENCION A LA CIUDADANIA","WEB","Solucionado por asignar - Trasladar","SECRETARIA DE GOBIERNO","GESTIONADOS"]
[3802722021,"AREA DE ATENCION A LA CIUDADANIA","ESCRITO","Solucionado - Por traslado","IDARTES - INSTITUTO DE LAS ARTES","GESTIONADOS"]
[3804322021,"AREA DE ATENCION A LA CIUDADANIA","WEB","Solucionado - Por traslado","SECRETARIA DE GOBIERNO","GESTIONADOS"]
[3806342021,"AREA DE ATENCION A LA CIUDADANIA","WEB","Solucionado - Por traslado","SECRETARIA DE GOBIERNO","GESTIONADOS"]
[3806412021,"AREA DE ATENCION A LA CIUDADANIA","WEB","Solucionado - Por traslado","IDU","GESTIONADOS"]
[3807382021,"AREA DE ATENCION A LA CIUDADANIA","WEB","Solucionado - Por traslado","IPES","GESTIONADOS"]
[3809872021,"AREA DE ATENCION A LA CIUDADANIA","WEB","Solucionado - Por traslado","SECRETARIA DE GOBIERNO","GESTIONADOS"]
[3812052021,"AREA DE ATENCION A LA CIUDADANIA","WEB","Solucionado - Por traslado","SECRETARIA DE GOBIERNO","GESTIONADOS"]
[3815042021,"AREA DE ATENCION A LA CIUDADANIA","WEB","Solucionado - Por traslado","CATASTRO","GESTIONADOS"]
[3815122021,"AREA DE ATENCION A LA CIUDADANIA","WEB","Solucionado por asignar - Trasladar","SECRETARIA DE GOBIERNO","GESTIONADOS"]
[3817502021,"AREA DE ATENCION A LA CIUDADANIA","E-MAIL","Solucionado - Por traslado","UAESP","GESTIONADOS"]
[3827352021,"AREA DE ATENCION A LA CIUDADANIA","WEB","Solucionado - Por traslado","IDRD","GESTIONADOS"]
[3838932021,"AREA DE ATENCION A LA CIUDADANIA","WEB","Solucionado - Por traslado","SECRETARIA DE GOBIERNO","GESTIONADOS"]
[3839462021,"AREA DE ATENCION A LA CIUDADANIA","WEB","Solucionado - Por traslado","SECRETARIA MOVILIDAD","GESTIONADOS"]
[3840062021,"AREA DE ATENCION A LA CIUDADANIA","WEB","Solucionado - Por traslado","SECRETARIA DE GOBIERNO","GESTIONADOS"]
[3851562021,"AREA DE ATENCION A LA CIUDADANIA","WEB","Solucionado - Por traslado","SECRETARIA DE GOBIERNO","GESTIONADOS"]
[3851882021,"AREA DE ATENCION A LA CIUDADANIA","WEB","Solucionado - Por traslado","SECRETARIA DE GOBIERNO","GESTIONADOS"]
[3854622021,"AREA DE ATENCION A LA CIUDADANIA","WEB","Solucionado - Por traslado","SECRETARIA DE GOBIERNO","GESTIONADOS"]
[3855162021,"AREA DE ATENCION A LA CIUDADANIA","WEB","Solucionado - Por traslado","SECRETARIA DE GOBIERNO","GESTIONADOS"]
[3855632021,"AREA DE ATENCION A LA CIUDADANIA","WEB","Solucionado - Por traslado","SECRETARIA MOVILIDAD","GESTIONADOS"]
[3856272021,"AREA DE ATENCION A LA CIUDADANIA","WEB","Solucionado por asignar - Trasladar","SECRETARIA DE GOBIERNO","GESTIONADOS"]
[3856322021,"AREA DE ATENCION A LA CIUDADANIA","WEB","Solucionado - Por traslado","IDIGER","GESTIONADOS"]
[3856422021,"AREA DE ATENCION A LA CIUDADANIA","WEB","Solucionado - Por traslado","SECRETARIA DE GOBIERNO","GESTIONADOS"]
[3857352021,"AREA DE ATENCION A LA CIUDADANIA","WEB","Solucionado - Por traslado","SECRETARIA DE GOBIERNO","GESTIONADOS"]
[3858592021,"AREA DE ATENCION A LA CIUDADANIA","WEB","Solucionado - Por traslado","SECRETARIA DE GOBIERNO","GESTIONADOS"]
[3859892021,"AREA DE ATENCION A LA CIUDADANIA","WEB","Solucionado - Por traslado","SECRETARIA DE GOBIERNO","GESTIONADOS"]
[3859992021,"AREA DE ATENCION A LA CIUDADANIA","WEB","Solucionado - Por traslado","SECRETARIA DE INTEGRACION SOCIAL","GESTIONADOS"]
[3866452021,"AREA DE ATENCION A LA CIUDADANIA","WEB","Solucionado por asignar - Trasladar","SECRETARIA DE GOBIERNO","GESTIONADOS"]
[3866872021,"AREA DE ATENCION A LA CIUDADANIA","WEB","Solucionado - Por traslado","SECRETARIA DE GOBIERNO","GESTIONADOS"]
[3868482021,"AREA DE ATENCION A LA CIUDADANIA","WEB","Solucionado - Por traslado","SECRETARIA DE AMBIENTE","GESTIONADOS"]
[3870222021,"AREA DE ATENCION A LA CIUDADANIA","WEB","Solucionado - Por traslado","SECRETARIA DE AMBIENTE","GESTIONADOS"]
[3871422021,"AREA DE ATENCION A LA CIUDADANIA","WEB","Solucionado - Por traslado","SECRETARIA DE GOBIERNO","GESTIONADOS"]
[3882632021,"AREA DE ATENCION A LA CIUDADANIA","WEB","Solucionado - Por traslado","SECRETARIA DE GOBIERNO","GESTIONADOS"]
[3885232021,"AREA DE ATENCION A LA CIUDADANIA","WEB","Solucionado - Por traslado","SECRETARIA DE GOBIERNO","GESTIONADOS"]
[3885392021,"AREA DE ATENCION A LA CIUDADANIA","WEB","Solucionado - Por traslado","SECRETARIA DE GOBIERNO","GESTIONADOS"]
[3885622021,"AREA DE ATENCION A LA CIUDADANIA","WEB","Solucionado - Por traslado","SECRETARIA DE GOBIERNO","GESTIONADOS"]
[3888452021,"AREA DE ATENCION A LA CIUDADANIA","WEB","Solucionado - Por traslado","ACUEDUCTO - EAAB-ESP","GESTIONADOS"]
[3888592021,"AREA DE ATENCION A LA CIUDADANIA","WEB","Solucionado - Por traslado","SECRETARIA DE GOBIERNO","GESTIONADOS"]
[]
["ASIGNADAS A LA ENTIDAD"]
["Número petición\nNumero de registro en el Sistema","Dependencia:\nNombre asociado al usuario que tiene a cargo la petición ","Canal:\nNombre del canal parametrizado en el sistema por el cual fue registrada la petición","Tipología actualizada: \nTipo de documento utilizado por la entidad","Días gestión\nDías calendario transcurridos desde la fecha de inicio de términos hasta el último día del mes","Estado del Requerimiento\n \"Gestionado\" o \"Pendiente\" de respuesta definitiva por  parte de la Defensoría del Espacio Público o de las entidades competentes"]
["Número petición","Dependencia","Canal","Tipo petición","Días gestión","Tipo reporte"]
[3015422021,"SUBDIRECCION DE ADMINISTRACION INMOBILIARIA Y DE ESPACIO PUBLICO","ESCRITO","SOLICITUD DE COPIA",29,"GESTIONADOS"]
[3015422021,"SUBDIRECCION DE REGISTRO INMOBILIARIO","ESCRITO","SOLICITUD DE COPIA",30,"GESTIONADOS"]
[3066402021,"SUBDIRECCION DE REGISTRO INMOBILIARIO","ESCRITO","DERECHO DE PETICION DE INTERES PARTICULAR",29,"GESTIONADOS"]
[3086572021,"SUBDIRECCION ADMINISTRATIVA  FINANCIERA Y DE CONTROL DISCIPLINARIO","WEB","DERECHO DE PETICION DE INTERES PARTICULAR",28,"GESTIONADOS"]
[3096512021,"SUBDIRECCION DE REGISTRO INMOBILIARIO","ESCRITO","DERECHO DE PETICION DE INTERES PARTICULAR",28,"GESTIONADOS"]
[3157052021,"SUBDIRECCION DE ADMINISTRACION INMOBILIARIA Y DE ESPACIO PUBLICO","WEB","DERECHO DE PETICION DE INTERES PARTICULAR",11,"PENDIENTE"]
[3222362021,"SUBDIRECCION DE REGISTRO INMOBILIARIO","WEB","DERECHO DE PETICION DE INTERES PARTICULAR",27,"GESTIONADOS"]
[3274432021,"OFICINA ASESORA JURIDICA","E-MAIL","DERECHO DE PETICION DE INTERES GENERAL",1,"GESTIONADOS"]
[3274432021,"SUBDIRECCION DE ADMINISTRACION INMOBILIARIA Y DE ESPACIO PUBLICO","E-MAIL","DERECHO DE PETICION DE INTERES GENERAL",18,"PENDIENTE"]
[3276802021,"SUBDIRECCION DE REGISTRO INMOBILIARIO","E-MAIL","DERECHO DE PETICION DE INTERES PARTICULAR",18,"PENDIENTE"]
[3281132021,"SUBDIRECCION DE REGISTRO INMOBILIARIO","ESCRITO","DERECHO DE PETICION DE INTERES PARTICULAR",28,"GESTIONADOS"]
[3287982021,"SUBDIRECCION DE REGISTRO INMOBILIARIO","ESCRITO","DERECHO DE PETICION DE INTERES PARTICULAR",29,"GESTIONADOS"]
[3290942021,"SUBDIRECCION DE ADMINISTRACION INMOBILIARIA Y DE ESPACIO PUBLICO","ESCRITO","DERECHO DE PETICION DE INTERES PARTICULAR",28,"GESTIONADOS"]
[3319022021,"SUBDIRECCION DE REGISTRO INMOBILIARIO","ESCRITO","DERECHO DE PETICION DE INTERES PARTICULAR",29,"GESTIONADOS"]
[3367832021,"OFICINA ASESORA JURIDICA","ESCRITO","DERECHO DE PETICION DE INTERES PARTICULAR",16,"GESTIONADOS"]
[3382082021,"SUBDIRECCION DE ADMINISTRACION INMOBILIARIA Y DE ESPACIO PUBLICO","ESCRITO","DERECHO DE PETICION DE INTERES PARTICULAR",27,"PENDIENTE"]
[3415802021,"SUBDIRECCION DE ADMINISTRACION INMOBILIARIA Y DE ESPACIO PUBLICO","WEB","DERECHO DE PETICION DE INTERES GENERAL",26,"PENDIENTE"]
[3483672021,"SUBDIRECCION DE ADMINISTRACION INMOBILIARIA Y DE ESPACIO PUBLICO","E-MAIL","DERECHO DE PETICION DE INTERES GENERAL",10,"PENDIENTE"]
[3501332021,"SUBDIRECCION DE REGISTRO INMOBILIARIO","ESCRITO","DERECHO DE PETICION DE INTERES PARTICULAR",17,"GESTIONADOS"]
[3515472021,"OFICINA ASESORA JURIDICA","ESCRITO","DERECHO DE PETICION DE INTERES PARTICULAR",2,"GESTIONADOS"]
[3519432021,"SUBDIRECCION DE REGISTRO INMOBILIARIO","WEB","SOLICITUD DE ACCESO A LA INFORMACION",14,"PENDIENTE"]
[3523142021,"SUBDIRECCION DE ADMINISTRACION INMOBILIARIA Y DE ESPACIO PUBLICO","WEB","DERECHO DE PETICION DE INTERES GENERAL",19,"PENDIENTE"]
[3534762021,"SUBDIRECCION DE ADMINISTRACION INMOBILIARIA Y DE ESPACIO PUBLICO","WEB","DERECHO DE PETICION DE INTERES GENERAL",17,"PENDIENTE"]
[3537822021,"SUBDIRECCION DE ADMINISTRACION INMOBILIARIA Y DE ESPACIO PUBLICO","WEB","DERECHO DE PETICION DE INTERES GENERAL",20,"PENDIENTE"]
[3540052021,"SUBDIRECCION DE ADMINISTRACION INMOBILIARIA Y DE ESPACIO PUBLICO","TELEFONO","DERECHO DE PETICION DE INTERES PARTICULAR",19,"PENDIENTE"]
[3541982021,"SUBDIRECCION DE REGISTRO INMOBILIARIO","ESCRITO","DERECHO DE PETICION DE INTERES PARTICULAR",19,"PENDIENTE"]
[3542372021,"SUBDIRECCION DE REGISTRO INMOBILIARIO","ESCRITO","DERECHO DE PETICION DE INTERES PARTICULAR",19,"GESTIONADOS"]
[3542582021,"SUBDIRECCION DE REGISTRO INMOBILIARIO","ESCRITO","DERECHO DE PETICION DE INTERES PARTICULAR",15,"GESTIONADOS"]
[3542832021,"SUBDIRECCION DE ADMINISTRACION INMOBILIARIA Y DE ESPACIO PUBLICO","ESCRITO","DERECHO DE PETICION DE INTERES GENERAL",19,"PENDIENTE"]
[3542902021,"SUBDIRECCION DE REGISTRO INMOBILIARIO","ESCRITO","DERECHO DE PETICION DE INTERES PARTICULAR",19,"PENDIENTE"]
[3542952021,"SUBDIRECCION DE REGISTRO INMOBILIARIO","ESCRITO","DERECHO DE PETICION DE INTERES GENERAL",15,"GESTIONADOS"]
[3542992021,"SUBDIRECCION DE ADMINISTRACION INMOBILIARIA Y DE ESPACIO PUBLICO","ESCRITO","DERECHO DE PETICION DE INTERES PARTICULAR",19,"PENDIENTE"]
[3543202021,"SUBDIRECCION DE REGISTRO INMOBILIARIO","TELEFONO","DERECHO DE PETICION DE INTERES GENERAL",19,"PENDIENTE"]
[3543352021,"SUBDIRECCION DE ADMINISTRACION INMOBILIARIA Y DE ESPACIO PUBLICO","ESCRITO","DERECHO DE PETICION DE INTERES PARTICULAR",19,"PENDIENTE"]
[3543602021,"SUBDIRECCION DE ADMINISTRACION INMOBILIARIA Y DE ESPACIO PUBLICO","ESCRITO","DERECHO DE PETICION DE INTERES PARTICULAR",19,"PENDIENTE"]
[3543742021,"SUBDIRECCION DE ADMINISTRACION INMOBILIARIA Y DE ESPACIO PUBLICO","WEB","DERECHO DE PETICION DE INTERES PARTICULAR",19,"PENDIENTE"]
[3545382021,"SUBDIRECCION DE REGISTRO INMOBILIARIO","WEB","DERECHO DE PETICION DE INTERES PARTICULAR",19,"PENDIENTE"]
[3546502021,"SUBDIRECCION DE ADMINISTRACION INMOBILIARIA Y DE ESPACIO PUBLICO","ESCRITO","DERECHO DE PETICION DE INTERES PARTICULAR",19,"PENDIENTE"]
[3546792021,"SUBDIRECCION DE REGISTRO INMOBILIARIO","ESCRITO","DERECHO DE PETICION DE INTERES PARTICULAR",16,"GESTIONADOS"]
[3546892021,"SUBDIRECCION DE ADMINISTRACION INMOBILIARIA Y DE ESPACIO PUBLICO","ESCRITO","DERECHO DE PETICION DE INTERES PARTICULAR",19,"PENDIENTE"]
[3552452021,"SUBDIRECCION DE REGISTRO INMOBILIARIO","TELEFONO","DERECHO DE PETICION DE INTERES GENERAL",19,"PENDIENTE"]
[3552882021,"SUBDIRECCION DE ADMINISTRACION INMOBILIARIA Y DE ESPACIO PUBLICO","ESCRITO","DERECHO DE PETICION DE INTERES PARTICULAR",19,"PENDIENTE"]
[3552902021,"SUBDIRECCION DE ADMINISTRACION INMOBILIARIA Y DE ESPACIO PUBLICO","ESCRITO","DERECHO DE PETICION DE INTERES PARTICULAR",19,"PENDIENTE"]
[3555482021,"SUBDIRECCION DE ADMINISTRACION INMOBILIARIA Y DE ESPACIO PUBLICO","ESCRITO","DERECHO DE PETICION DE INTERES PARTICULAR",19,"PENDIENTE"]
[3555522021,"SUBDIRECCION DE ADMINISTRACION INMOBILIARIA Y DE ESPACIO PUBLICO","ESCRITO","DERECHO DE PETICION DE INTERES PARTICULAR",19,"PENDIENTE"]
[3555582021,"SUBDIRECCION DE ADMINISTRACION INMOBILIARIA Y DE ESPACIO PUBLICO","ESCRITO","DERECHO DE PETICION DE INTERES PARTICULAR",19,"PENDIENTE"]
[3555652021,"SUBDIRECCION DE ADMINISTRACION INMOBILIARIA Y DE ESPACIO PUBLICO","ESCRITO","DERECHO DE PETICION DE INTERES PARTICULAR",19,"PENDIENTE"]
[3555702021,"SUBDIRECCION DE ADMINISTRACION INMOBILIARIA Y DE ESPACIO PUBLICO","ESCRITO","DERECHO DE PETICION DE INTERES PARTICULAR",19,"PENDIENTE"]
[3559952021,"SUBDIRECCION DE ADMINISTRACION INMOBILIARIA Y DE ESPACIO PUBLICO","WEB","DERECHO DE PETICION DE INTERES PARTICULAR",17,"PENDIENTE"]
[3562352021,"SUBDIRECCION DE REGISTRO INMOBILIARIO","WEB","DERECHO DE PETICION DE INTERES PARTICULAR",16,"GESTIONADOS"]
[3565632021,"SUBDIRECCION DE ADMINISTRACION INMOBILIARIA Y DE ESPACIO PUBLICO","ESCRITO","DERECHO DE PETICION DE INTERES PARTICULAR",18,"PENDIENTE"]
[3565982021,"SUBDIRECCION DE ADMINISTRACION INMOBILIARIA Y DE ESPACIO PUBLICO","ESCRITO","DERECHO DE PETICION DE INTERES PARTICULAR",18,"PENDIENTE"]
[3566122021,"SUBDIRECCION DE ADMINISTRACION INMOBILIARIA Y DE ESPACIO PUBLICO","ESCRITO","DERECHO DE PETICION DE INTERES PARTICULAR",18,"PENDIENTE"]
[3566482021,"SUBDIRECCION DE ADMINISTRACION INMOBILIARIA Y DE ESPACIO PUBLICO","ESCRITO","DERECHO DE PETICION DE INTERES PARTICULAR",18,"PENDIENTE"]
[3570852021,"SUBDIRECCION DE ADMINISTRACION INMOBILIARIA Y DE ESPACIO PUBLICO","WEB","DERECHO DE PETICION DE INTERES PARTICULAR",14,"PENDIENTE"]
[3571502021,"SUBDIRECCION DE ADMINISTRACION INMOBILIARIA Y DE ESPACIO PUBLICO","WEB","DERECHO DE PETICION DE INTERES PARTICULAR",18,"PENDIENTE"]
[3572312021,"SUBDIRECCION DE ADMINISTRACION INMOBILIARIA Y DE ESPACIO PUBLICO","WEB","DERECHO DE PETICION DE INTERES GENERAL",18,"PENDIENTE"]
[3574892021,"SUBDIRECCION DE REGISTRO INMOBILIARIO","WEB","DERECHO DE PETICION DE INTERES PARTICULAR",18,"PENDIENTE"]
[3577722021,"SUBDIRECCION DE ADMINISTRACION INMOBILIARIA Y DE ESPACIO PUBLICO","ESCRITO","DERECHO DE PETICION DE INTERES PARTICULAR",17,"PENDIENTE"]
[3577782021,"SUBDIRECCION DE ADMINISTRACION INMOBILIARIA Y DE ESPACIO PUBLICO","ESCRITO","DERECHO DE PETICION DE INTERES PARTICULAR",17,"PENDIENTE"]
[3577882021,"SUBDIRECCION DE ADMINISTRACION INMOBILIARIA Y DE ESPACIO PUBLICO","ESCRITO","DERECHO DE PETICION DE INTERES PARTICULAR",17,"PENDIENTE"]
[3577952021,"SUBDIRECCION DE ADMINISTRACION INMOBILIARIA Y DE ESPACIO PUBLICO","ESCRITO","DERECHO DE PETICION DE INTERES PARTICULAR",17,"PENDIENTE"]
[3578222021,"SUBDIRECCION DE ADMINISTRACION INMOBILIARIA Y DE ESPACIO PUBLICO","ESCRITO","DERECHO DE PETICION DE INTERES PARTICULAR",17,"PENDIENTE"]
[3578292021,"SUBDIRECCION DE ADMINISTRACION INMOBILIARIA Y DE ESPACIO PUBLICO","ESCRITO","DERECHO DE PETICION DE INTERES PARTICULAR",17,"PENDIENTE"]
[3578312021,"SUBDIRECCION DE REGISTRO INMOBILIARIO","ESCRITO","DERECHO DE PETICION DE INTERES PARTICULAR",17,"GESTIONADOS"]
[3578462021,"SUBDIRECCION DE ADMINISTRACION INMOBILIARIA Y DE ESPACIO PUBLICO","ESCRITO","DERECHO DE PETICION DE INTERES GENERAL",17,"PENDIENTE"]
[3584422021,"SUBDIRECCION DE ADMINISTRACION INMOBILIARIA Y DE ESPACIO PUBLICO","E-MAIL","DERECHO DE PETICION DE INTERES PARTICULAR",17,"PENDIENTE"]
[3585332021,"SUBDIRECCION ADMINISTRATIVA  FINANCIERA Y DE CONTROL DISCIPLINARIO","WEB","DERECHO DE PETICION DE INTERES GENERAL",1,"GESTIONADOS"]
[3585332021,"SUBDIRECCION DE ADMINISTRACION INMOBILIARIA Y DE ESPACIO PUBLICO","WEB","DERECHO DE PETICION DE INTERES GENERAL",17,"PENDIENTE"]
[3588902021,"SUBDIRECCION DE ADMINISTRACION INMOBILIARIA Y DE ESPACIO PUBLICO","ESCRITO","DERECHO DE PETICION DE INTERES PARTICULAR",17,"PENDIENTE"]
[3589302021,"SUBDIRECCION DE ADMINISTRACION INMOBILIARIA Y DE ESPACIO PUBLICO","ESCRITO","DERECHO DE PETICION DE INTERES PARTICULAR",17,"PENDIENTE"]
[3589462021,"SUBDIRECCION DE ADMINISTRACION INMOBILIARIA Y DE ESPACIO PUBLICO","ESCRITO","DERECHO DE PETICION DE INTERES PARTICULAR",17,"PENDIENTE"]
[3589602021,"SUBDIRECCION ADMINISTRATIVA  FINANCIERA Y DE CONTROL DISCIPLINARIO","WEB","DERECHO DE PETICION DE INTERES GENERAL",1,"GESTIONADOS"]
[3590122021,"SUBDIRECCION DE ADMINISTRACION INMOBILIARIA Y DE ESPACIO PUBLICO","ESCRITO","DERECHO DE PETICION DE INTERES PARTICULAR",17,"PENDIENTE"]
[3590342021,"SUBDIRECCION DE ADMINISTRACION INMOBILIARIA Y DE ESPACIO PUBLICO","WEB","QUEJA",17,"PENDIENTE"]
[3591552021,"SUBDIRECCION DE ADMINISTRACION INMOBILIARIA Y DE ESPACIO PUBLICO","TELEFONO","DERECHO DE PETICION DE INTERES PARTICULAR",17,"PENDIENTE"]
[3593202021,"SUBDIRECCION DE ADMINISTRACION INMOBILIARIA Y DE ESPACIO PUBLICO","TELEFONO","DERECHO DE PETICION DE INTERES GENERAL",17,"PENDIENTE"]
[3593332021,"SUBDIRECCION DE REGISTRO INMOBILIARIO","WEB","CONSULTA",17,"PENDIENTE"]
[3603322021,"SUBDIRECCION DE ADMINISTRACION INMOBILIARIA Y DE ESPACIO PUBLICO","ESCRITO","DERECHO DE PETICION DE INTERES PARTICULAR",16,"PENDIENTE"]
[3603612021,"SUBDIRECCION ADMINISTRATIVA  FINANCIERA Y DE CONTROL DISCIPLINARIO","ESCRITO","DERECHO DE PETICION DE INTERES PARTICULAR",1,"GESTIONADOS"]
[3603612021,"SUBDIRECCION ADMINISTRATIVA Y FINANCIERA","ESCRITO","DERECHO DE PETICION DE INTERES PARTICULAR",7,"GESTIONADOS"]
[3603712021,"SUBDIRECCION ADMINISTRATIVA  FINANCIERA Y DE CONTROL DISCIPLINARIO","ESCRITO","DERECHO DE PETICION DE INTERES PARTICULAR",1,"GESTIONADOS"]
[3603712021,"SUBDIRECCION ADMINISTRATIVA Y FINANCIERA","ESCRITO","DERECHO DE PETICION DE INTERES PARTICULAR",7,"GESTIONADOS"]
[3603962021,"SUBDIRECCION ADMINISTRATIVA  FINANCIERA Y DE CONTROL DISCIPLINARIO","ESCRITO","DERECHO DE PETICION DE INTERES PARTICULAR",1,"GESTIONADOS"]
[3603962021,"SUBDIRECCION ADMINISTRATIVA Y FINANCIERA","ESCRITO","DERECHO DE PETICION DE INTERES PARTICULAR",7,"GESTIONADOS"]
[3604142021,"SUBDIRECCION DE ADMINISTRACION INMOBILIARIA Y DE ESPACIO PUBLICO","ESCRITO","DERECHO DE PETICION DE INTERES PARTICULAR",16,"PENDIENTE"]
[3604332021,"SUBDIRECCION DE ADMINISTRACION INMOBILIARIA Y DE ESPACIO PUBLICO","ESCRITO","DERECHO DE PETICION DE INTERES PARTICULAR",16,"PENDIENTE"]
[3604802021,"SUBDIRECCION DE ADMINISTRACION INMOBILIARIA Y DE ESPACIO PUBLICO","ESCRITO","DERECHO DE PETICION DE INTERES PARTICULAR",16,"PENDIENTE"]
[3604942021,"SUBDIRECCION DE ADMINISTRACION INMOBILIARIA Y DE ESPACIO PUBLICO","ESCRITO","DERECHO DE PETICION DE INTERES PARTICULAR",16,"PENDIENTE"]
[3605092021,"SUBDIRECCION ADMINISTRATIVA Y FINANCIERA","ESCRITO","DERECHO DE PETICION DE INTERES PARTICULAR",7,"GESTIONADOS"]
[3605092021,"SUBDIRECCION DE ADMINISTRACION INMOBILIARIA Y DE ESPACIO PUBLICO","ESCRITO","DERECHO DE PETICION DE INTERES PARTICULAR",3,"GESTIONADOS"]
[3605222021,"SUBDIRECCION DE ADMINISTRACION INMOBILIARIA Y DE ESPACIO PUBLICO","ESCRITO","DERECHO DE PETICION DE INTERES PARTICULAR",16,"PENDIENTE"]
[3605222021,"SUBDIRECCION DE REGISTRO INMOBILIARIO","ESCRITO","DERECHO DE PETICION DE INTERES PARTICULAR",12,"GESTIONADOS"]
[3605472021,"SUBDIRECCION DE ADMINISTRACION INMOBILIARIA Y DE ESPACIO PUBLICO","ESCRITO","DERECHO DE PETICION DE INTERES PARTICULAR",16,"PENDIENTE"]
[3609012021,"SUBDIRECCION DE ADMINISTRACION INMOBILIARIA Y DE ESPACIO PUBLICO","ESCRITO","DERECHO DE PETICION DE INTERES PARTICULAR",16,"PENDIENTE"]
[3609152021,"SUBDIRECCION DE REGISTRO INMOBILIARIO","ESCRITO","DERECHO DE PETICION DE INTERES GENERAL",16,"PENDIENTE"]
[3609282021,"SUBDIRECCION DE ADMINISTRACION INMOBILIARIA Y DE ESPACIO PUBLICO","ESCRITO","DERECHO DE PETICION DE INTERES PARTICULAR",16,"PENDIENTE"]
[3609352021,"SUBDIRECCION DE ADMINISTRACION INMOBILIARIA Y DE ESPACIO PUBLICO","ESCRITO","DERECHO DE PETICION DE INTERES PARTICULAR",16,"PENDIENTE"]
[3609422021,"SUBDIRECCION DE ADMINISTRACION INMOBILIARIA Y DE ESPACIO PUBLICO","ESCRITO","DERECHO DE PETICION DE INTERES PARTICULAR",16,"PENDIENTE"]
[3609502021,"SUBDIRECCION DE ADMINISTRACION INMOBILIARIA Y DE ESPACIO PUBLICO","ESCRITO","DERECHO DE PETICION DE INTERES PARTICULAR",16,"PENDIENTE"]
[3609702021,"SUBDIRECCION DE ADMINISTRACION INMOBILIARIA Y DE ESPACIO PUBLICO","ESCRITO","DERECHO DE PETICION DE INTERES PARTICULAR",16,"PENDIENTE"]
[3609792021,"SUBDIRECCION ADMINISTRATIVA Y FINANCIERA","ESCRITO","DERECHO DE PETICION DE INTERES PARTICULAR",7,"GESTIONADOS"]
[3609912021,"SUBDIRECCION DE REGISTRO INMOBILIARIO","ESCRITO","DERECHO DE PETICION DE INTERES PARTICULAR",16,"GESTIONADOS"]
[3610022021,"SUBDIRECCION DE ADMINISTRACION INMOBILIARIA Y DE ESPACIO PUBLICO","ESCRITO","DERECHO DE PETICION DE INTERES PARTICULAR",16,"PENDIENTE"]
[3610252021,"SUBDIRECCION DE REGISTRO INMOBILIARIO","ESCRITO","DERECHO DE PETICION DE INTERES PARTICULAR",16,"PENDIENTE"]
[3610462021,"SUBDIRECCION DE ADMINISTRACION INMOBILIARIA Y DE ESPACIO PUBLICO","ESCRITO","DERECHO DE PETICION DE INTERES PARTICULAR",16,"PENDIENTE"]
[3610582021,"SUBDIRECCION DE ADMINISTRACION INMOBILIARIA Y DE ESPACIO PUBLICO","ESCRITO","DERECHO DE PETICION DE INTERES PARTICULAR",16,"PENDIENTE"]
[3610712021,"SUBDIRECCION DE ADMINISTRACION INMOBILIARIA Y DE ESPACIO PUBLICO","ESCRITO","DERECHO DE PETICION DE INTERES PARTICULAR",16,"PENDIENTE"]
[3610772021,"SUBDIRECCION DE REGISTRO INMOBILIARIO","ESCRITO","DERECHO DE PETICION DE INTERES PARTICULAR",16,"PENDIENTE"]
[3610842021,"SUBDIRECCION DE ADMINISTRACION INMOBILIARIA Y DE ESPACIO PUBLICO","ESCRITO","DERECHO DE PETICION DE INTERES PARTICULAR",16,"PENDIENTE"]
[3610882021,"SUBDIRECCION DE ADMINISTRACION INMOBILIARIA Y DE ESPACIO PUBLICO","ESCRITO","DERECHO DE PETICION DE INTERES PARTICULAR",16,"PENDIENTE"]
[3610912021,"SUBDIRECCION DE ADMINISTRACION INMOBILIARIA Y DE ESPACIO PUBLICO","ESCRITO","DERECHO DE PETICION DE INTERES PARTICULAR",16,"PENDIENTE"]
[3616442021,"SUBDIRECCION DE ADMINISTRACION INMOBILIARIA Y DE ESPACIO PUBLICO","WEB","DERECHO DE PETICION DE INTERES PARTICULAR",16,"PENDIENTE"]
[3616612021,"SUBDIRECCION DE ADMINISTRACION INMOBILIARIA Y DE ESPACIO PUBLICO","WEB","DERECHO DE PETICION DE INTERES GENERAL",16,"PENDIENTE"]
[3616852021,"SUBDIRECCION ADMINISTRATIVA  FINANCIERA Y DE CONTROL DISCIPLINARIO","WEB","DERECHO DE PETICION DE INTERES GENERAL",1,"GESTIONADOS"]
[3616892021,"SUBDIRECCION ADMINISTRATIVA  FINANCIERA Y DE CONTROL DISCIPLINARIO","WEB","DERECHO DE PETICION DE INTERES GENERAL",1,"GESTIONADOS"]
[3617642021,"SUBDIRECCION DE ADMINISTRACION INMOBILIARIA Y DE ESPACIO PUBLICO","WEB","DERECHO DE PETICION DE INTERES GENERAL",16,"PENDIENTE"]
[3618572021,"SUBDIRECCION DE ADMINISTRACION INMOBILIARIA Y DE ESPACIO PUBLICO","WEB","CONSULTA",16,"PENDIENTE"]
[3619072021,"SUBDIRECCION DE ADMINISTRACION INMOBILIARIA Y DE ESPACIO PUBLICO","WEB","DERECHO DE PETICION DE INTERES GENERAL",16,"PENDIENTE"]
[3622092021,"SUBDIRECCION DE ADMINISTRACION INMOBILIARIA Y DE ESPACIO PUBLICO","WEB","DERECHO DE PETICION DE INTERES PARTICULAR",15,"PENDIENTE"]
[3627132021,"SUBDIRECCION DE ADMINISTRACION INMOBILIARIA Y DE ESPACIO PUBLICO","TELEFONO","DERECHO DE PETICION DE INTERES GENERAL",15,"PENDIENTE"]
[3628122021,"SUBDIRECCION DE ADMINISTRACION INMOBILIARIA Y DE ESPACIO PUBLICO","WEB","DERECHO DE PETICION DE INTERES PARTICULAR",15,"PENDIENTE"]
[3629122021,"SUBDIRECCION DE ADMINISTRACION INMOBILIARIA Y DE ESPACIO PUBLICO","WEB","DERECHO DE PETICION DE INTERES PARTICULAR",14,"PENDIENTE"]
[3629212021,"SUBDIRECCION ADMINISTRATIVA  FINANCIERA Y DE CONTROL DISCIPLINARIO","ESCRITO","DERECHO DE PETICION DE INTERES PARTICULAR",2,"GESTIONADOS"]
[3629212021,"SUBDIRECCION ADMINISTRATIVA Y FINANCIERA","ESCRITO","DERECHO DE PETICION DE INTERES PARTICULAR",15,"PENDIENTE"]
[3629382021,"SUBDIRECCION ADMINISTRATIVA  FINANCIERA Y DE CONTROL DISCIPLINARIO","ESCRITO","DERECHO DE PETICION DE INTERES PARTICULAR",5,"GESTIONADOS"]
[3629382021,"SUBDIRECCION ADMINISTRATIVA Y FINANCIERA","ESCRITO","DERECHO DE PETICION DE INTERES PARTICULAR",15,"PENDIENTE"]
[3629482021,"SUBDIRECCION ADMINISTRATIVA  FINANCIERA Y DE CONTROL DISCIPLINARIO","ESCRITO","DERECHO DE PETICION DE INTERES PARTICULAR",2,"GESTIONADOS"]
[3629482021,"SUBDIRECCION ADMINISTRATIVA Y FINANCIERA","ESCRITO","DERECHO DE PETICION DE INTERES PARTICULAR",15,"PENDIENTE"]
[3629812021,"SUBDIRECCION DE ADMINISTRACION INMOBILIARIA Y DE ESPACIO PUBLICO","ESCRITO","DERECHO DE PETICION DE INTERES PARTICULAR",15,"PENDIENTE"]
[3629962021,"SUBDIRECCION DE ADMINISTRACION INMOBILIARIA Y DE ESPACIO PUBLICO","ESCRITO","DERECHO DE PETICION DE INTERES PARTICULAR",15,"PENDIENTE"]
[3630152021,"SUBDIRECCION DE ADMINISTRACION INMOBILIARIA Y DE ESPACIO PUBLICO","ESCRITO","DERECHO DE PETICION DE INTERES PARTICULAR",15,"PENDIENTE"]
[3631502021,"SUBDIRECCION DE ADMINISTRACION INMOBILIARIA Y DE ESPACIO PUBLICO","ESCRITO","DERECHO DE PETICION DE INTERES PARTICULAR",15,"PENDIENTE"]
[3631622021,"SUBDIRECCION DE ADMINISTRACION INMOBILIARIA Y DE ESPACIO PUBLICO","ESCRITO","DERECHO DE PETICION DE INTERES PARTICULAR",15,"PENDIENTE"]
[3631772021,"SUBDIRECCION DE ADMINISTRACION INMOBILIARIA Y DE ESPACIO PUBLICO","ESCRITO","DERECHO DE PETICION DE INTERES PARTICULAR",15,"PENDIENTE"]
[3631902021,"SUBDIRECCION DE REGISTRO INMOBILIARIO","ESCRITO","DERECHO DE PETICION DE INTERES PARTICULAR",15,"PENDIENTE"]
[3632102021,"SUBDIRECCION DE REGISTRO INMOBILIARIO","ESCRITO","DERECHO DE PETICION DE INTERES PARTICULAR",14,"GESTIONADOS"]
[3633032021,"SUBDIRECCION DE ADMINISTRACION INMOBILIARIA Y DE ESPACIO PUBLICO","ESCRITO","DERECHO DE PETICION DE INTERES GENERAL",15,"PENDIENTE"]
[3633072021,"SUBDIRECCION DE REGISTRO INMOBILIARIO","ESCRITO","DERECHO DE PETICION DE INTERES PARTICULAR",15,"PENDIENTE"]
[3633162021,"SUBDIRECCION DE ADMINISTRACION INMOBILIARIA Y DE ESPACIO PUBLICO","ESCRITO","DERECHO DE PETICION DE INTERES PARTICULAR",15,"PENDIENTE"]
[3633412021,"SUBDIRECCION DE ADMINISTRACION INMOBILIARIA Y DE ESPACIO PUBLICO","ESCRITO","DERECHO DE PETICION DE INTERES PARTICULAR",15,"PENDIENTE"]
[3633522021,"SUBDIRECCION DE ADMINISTRACION INMOBILIARIA Y DE ESPACIO PUBLICO","ESCRITO","DERECHO DE PETICION DE INTERES PARTICULAR",15,"PENDIENTE"]
[3633762021,"SUBDIRECCION DE ADMINISTRACION INMOBILIARIA Y DE ESPACIO PUBLICO","ESCRITO","DERECHO DE PETICION DE INTERES PARTICULAR",15,"PENDIENTE"]
[3633962021,"SUBDIRECCION DE ADMINISTRACION INMOBILIARIA Y DE ESPACIO PUBLICO","ESCRITO","DERECHO DE PETICION DE INTERES PARTICULAR",15,"PENDIENTE"]
[3638072021,"SUBDIRECCION DE ADMINISTRACION INMOBILIARIA Y DE ESPACIO PUBLICO","ESCRITO","DERECHO DE PETICION DE INTERES PARTICULAR",15,"PENDIENTE"]
[3639182021,"SUBDIRECCION DE ADMINISTRACION INMOBILIARIA Y DE ESPACIO PUBLICO","ESCRITO","DERECHO DE PETICION DE INTERES PARTICULAR",15,"PENDIENTE"]
[3639192021,"SUBDIRECCION DE ADMINISTRACION INMOBILIARIA Y DE ESPACIO PUBLICO","ESCRITO","DERECHO DE PETICION DE INTERES PARTICULAR",15,"PENDIENTE"]
[3639252021,"SUBDIRECCION DE ADMINISTRACION INMOBILIARIA Y DE ESPACIO PUBLICO","ESCRITO","DERECHO DE PETICION DE INTERES PARTICULAR",15,"PENDIENTE"]
[3639272021,"SUBDIRECCION DE REGISTRO INMOBILIARIO","ESCRITO","DERECHO DE PETICION DE INTERES PARTICULAR",15,"PENDIENTE"]
[3639302021,"SUBDIRECCION DE REGISTRO INMOBILIARIO","ESCRITO","DERECHO DE PETICION DE INTERES PARTICULAR",15,"PENDIENTE"]
[3639332021,"SUBDIRECCION DE ADMINISTRACION INMOBILIARIA Y DE ESPACIO PUBLICO","ESCRITO","DERECHO DE PETICION DE INTERES PARTICULAR",15,"PENDIENTE"]
[3641462021,"SUBDIRECCION ADMINISTRATIVA  FINANCIERA Y DE CONTROL DISCIPLINARIO","WEB","DERECHO DE PETICION DE INTERES GENERAL",1,"GESTIONADOS"]
[3641962021,"SUBDIRECCION ADMINISTRATIVA  FINANCIERA Y DE CONTROL DISCIPLINARIO","WEB","DERECHO DE PETICION DE INTERES GENERAL",1,"GESTIONADOS"]
[3641962021,"SUBDIRECCION DE ADMINISTRACION INMOBILIARIA Y DE ESPACIO PUBLICO","WEB","DERECHO DE PETICION DE INTERES GENERAL",14,"PENDIENTE"]
[3646582021,"SUBDIRECCION DE ADMINISTRACION INMOBILIARIA Y DE ESPACIO PUBLICO","WEB","CONSULTA",14,"PENDIENTE"]
[3646962021,"SUBDIRECCION DE ADMINISTRACION INMOBILIARIA Y DE ESPACIO PUBLICO","WEB","DERECHO DE PETICION DE INTERES PARTICULAR",14,"PENDIENTE"]
[3648522021,"SUBDIRECCION DE ADMINISTRACION INMOBILIARIA Y DE ESPACIO PUBLICO","WEB","DERECHO DE PETICION DE INTERES PARTICULAR",14,"PENDIENTE"]
[3648572021,"SUBDIRECCION DE ADMINISTRACION INMOBILIARIA Y DE ESPACIO PUBLICO","ESCRITO","DERECHO DE PETICION DE INTERES PARTICULAR",14,"PENDIENTE"]
[3648682021,"SUBDIRECCION DE ADMINISTRACION INMOBILIARIA Y DE ESPACIO PUBLICO","WEB","QUEJA",14,"PENDIENTE"]
[3648742021,"SUBDIRECCION DE ADMINISTRACION INMOBILIARIA Y DE ESPACIO PUBLICO","ESCRITO","DERECHO DE PETICION DE INTERES PARTICULAR",14,"PENDIENTE"]
[3650252021,"DESPACHO","ESCRITO","DERECHO DE PETICION DE INTERES PARTICULAR",1,"GESTIONADOS"]
[3650252021,"SUBDIRECCION DE ADMINISTRACION INMOBILIARIA Y DE ESPACIO PUBLICO","ESCRITO","DERECHO DE PETICION DE INTERES PARTICULAR",14,"PENDIENTE"]
[3650362021,"SUBDIRECCION DE ADMINISTRACION INMOBILIARIA Y DE ESPACIO PUBLICO","ESCRITO","DERECHO DE PETICION DE INTERES PARTICULAR",14,"PENDIENTE"]
[3650582021,"SUBDIRECCION DE ADMINISTRACION INMOBILIARIA Y DE ESPACIO PUBLICO","ESCRITO","DERECHO DE PETICION DE INTERES PARTICULAR",14,"PENDIENTE"]
[3650732021,"SUBDIRECCION DE ADMINISTRACION INMOBILIARIA Y DE ESPACIO PUBLICO","ESCRITO","DERECHO DE PETICION DE INTERES PARTICULAR",14,"PENDIENTE"]
[3650872021,"SUBDIRECCION DE ADMINISTRACION INMOBILIARIA Y DE ESPACIO PUBLICO","ESCRITO","DERECHO DE PETICION DE INTERES PARTICULAR",14,"PENDIENTE"]
[3650912021,"SUBDIRECCION DE ADMINISTRACION INMOBILIARIA Y DE ESPACIO PUBLICO","ESCRITO","DERECHO DE PETICION DE INTERES PARTICULAR",14,"PENDIENTE"]
[3650942021,"SUBDIRECCION DE ADMINISTRACION INMOBILIARIA Y DE ESPACIO PUBLICO","ESCRITO","DERECHO DE PETICION DE INTERES PARTICULAR",14,"PENDIENTE"]
[3651022021,"SUBDIRECCION DE ADMINISTRACION INMOBILIARIA Y DE ESPACIO PUBLICO","ESCRITO","DERECHO DE PETICION DE INTERES PARTICULAR",14,"PENDIENTE"]
[3654732021,"SUBDIRECCION DE ADMINISTRACION INMOBILIARIA Y DE ESPACIO PUBLICO","WEB","DERECHO DE PETICION DE INTERES PARTICULAR",10,"PENDIENTE"]
[3657032021,"SUBDIRECCION DE ADMINISTRACION INMOBILIARIA Y DE ESPACIO PUBLICO","WEB","DERECHO DE PETICION DE INTERES GENERAL",14,"PENDIENTE"]
[3658862021,"SUBDIRECCION DE ADMINISTRACION INMOBILIARIA Y DE ESPACIO PUBLICO","ESCRITO","DERECHO DE PETICION DE INTERES GENERAL",12,"PENDIENTE"]
[3658952021,"SUBDIRECCION DE ADMINISTRACION INMOBILIARIA Y DE ESPACIO PUBLICO","ESCRITO","DERECHO DE PETICION DE INTERES GENERAL",12,"PENDIENTE"]
[3662482021,"SUBDIRECCION DE ADMINISTRACION INMOBILIARIA Y DE ESPACIO PUBLICO","WEB","DERECHO DE PETICION DE INTERES GENERAL",13,"PENDIENTE"]
[3665952021,"SUBDIRECCION ADMINISTRATIVA  FINANCIERA Y DE CONTROL DISCIPLINARIO","WEB","DERECHO DE PETICION DE INTERES GENERAL",1,"GESTIONADOS"]
[3667062021,"SUBDIRECCION DE ADMINISTRACION INMOBILIARIA Y DE ESPACIO PUBLICO","WEB","DERECHO DE PETICION DE INTERES PARTICULAR",13,"PENDIENTE"]
[3668112021,"SUBDIRECCION DE REGISTRO INMOBILIARIO","WEB","DERECHO DE PETICION DE INTERES PARTICULAR",13,"PENDIENTE"]
[3668982021,"SUBDIRECCION DE ADMINISTRACION INMOBILIARIA Y DE ESPACIO PUBLICO","ESCRITO","DERECHO DE PETICION DE INTERES PARTICULAR",13,"PENDIENTE"]
[3669092021,"SUBDIRECCION DE ADMINISTRACION INMOBILIARIA Y DE ESPACIO PUBLICO","ESCRITO","DERECHO DE PETICION DE INTERES PARTICULAR",13,"PENDIENTE"]
[3669672021,"SUBDIRECCION DE REGISTRO INMOBILIARIO","ESCRITO","DERECHO DE PETICION DE INTERES PARTICULAR",13,"PENDIENTE"]
[3670412021,"SUBDIRECCION DE ADMINISTRACION INMOBILIARIA Y DE ESPACIO PUBLICO","ESCRITO","DERECHO DE PETICION DE INTERES PARTICULAR",13,"PENDIENTE"]
[3670822021,"SUBDIRECCION DE ADMINISTRACION INMOBILIARIA Y DE ESPACIO PUBLICO","WEB","DERECHO DE PETICION DE INTERES PARTICULAR",13,"PENDIENTE"]
[3672012021,"SUBDIRECCION DE REGISTRO INMOBILIARIO","WEB","DERECHO DE PETICION DE INTERES PARTICULAR",13,"PENDIENTE"]
[3672342021,"SUBDIRECCION DE ADMINISTRACION INMOBILIARIA Y DE ESPACIO PUBLICO","ESCRITO","DERECHO DE PETICION DE INTERES PARTICULAR",13,"PENDIENTE"]
[3672352021,"SUBDIRECCION DE ADMINISTRACION INMOBILIARIA Y DE ESPACIO PUBLICO","ESCRITO","DERECHO DE PETICION DE INTERES PARTICULAR",13,"PENDIENTE"]
[3672392021,"SUBDIRECCION DE REGISTRO INMOBILIARIO","ESCRITO","DERECHO DE PETICION DE INTERES PARTICULAR",13,"PENDIENTE"]
[3672542021,"SUBDIRECCION DE ADMINISTRACION INMOBILIARIA Y DE ESPACIO PUBLICO","ESCRITO","DERECHO DE PETICION DE INTERES PARTICULAR",13,"PENDIENTE"]
[3672572021,"SUBDIRECCION DE REGISTRO INMOBILIARIO","ESCRITO","DERECHO DE PETICION DE INTERES PARTICULAR",13,"PENDIENTE"]
[3672642021,"DESPACHO","ESCRITO","DERECHO DE PETICION DE INTERES PARTICULAR",13,"GESTIONADOS"]
[3672642021,"SUBDIRECCION DE ADMINISTRACION INMOBILIARIA Y DE ESPACIO PUBLICO","ESCRITO","DERECHO DE PETICION DE INTERES PARTICULAR",13,"PENDIENTE"]
[3672942021,"SUBDIRECCION DE ADMINISTRACION INMOBILIARIA Y DE ESPACIO PUBLICO","ESCRITO","DERECHO DE PETICION DE INTERES PARTICULAR",13,"PENDIENTE"]
[3673002021,"SUBDIRECCION DE ADMINISTRACION INMOBILIARIA Y DE ESPACIO PUBLICO","ESCRITO","DERECHO DE PETICION DE INTERES PARTICULAR",13,"PENDIENTE"]
[3674422021,"SUBDIRECCION DE ADMINISTRACION INMOBILIARIA Y DE ESPACIO PUBLICO","WEB","DERECHO DE PETICION DE INTERES PARTICULAR",12,"PENDIENTE"]
[3675912021,"SUBDIRECCION DE ADMINISTRACION INMOBILIARIA Y DE ESPACIO PUBLICO","TELEFONO","DERECHO DE PETICION DE INTERES GENERAL",11,"PENDIENTE"]
[3675962021,"SUBDIRECCION DE ADMINISTRACION INMOBILIARIA Y DE ESPACIO PUBLICO","WEB","DERECHO DE PETICION DE INTERES GENERAL",12,"PENDIENTE"]
[3676182021,"SUBDIRECCION DE ADMINISTRACION INMOBILIARIA Y DE ESPACIO PUBLICO","WEB","DERECHO DE PETICION DE INTERES GENERAL",12,"PENDIENTE"]
[3678262021,"SUBDIRECCION DE ADMINISTRACION INMOBILIARIA Y DE ESPACIO PUBLICO","WEB","DERECHO DE PETICION DE INTERES GENERAL",12,"PENDIENTE"]
[3680142021,"SUBDIRECCION DE ADMINISTRACION INMOBILIARIA Y DE ESPACIO PUBLICO","ESCRITO","DERECHO DE PETICION DE INTERES PARTICULAR",12,"PENDIENTE"]
[3680192021,"SUBDIRECCION DE ADMINISTRACION INMOBILIARIA Y DE ESPACIO PUBLICO","WEB","DERECHO DE PETICION DE INTERES GENERAL",12,"PENDIENTE"]
[3680262021,"SUBDIRECCION DE ADMINISTRACION INMOBILIARIA Y DE ESPACIO PUBLICO","ESCRITO","DERECHO DE PETICION DE INTERES PARTICULAR",12,"PENDIENTE"]
[3680322021,"SUBDIRECCION DE ADMINISTRACION INMOBILIARIA Y DE ESPACIO PUBLICO","ESCRITO","DERECHO DE PETICION DE INTERES PARTICULAR",12,"PENDIENTE"]
[3680482021,"SUBDIRECCION DE ADMINISTRACION INMOBILIARIA Y DE ESPACIO PUBLICO","ESCRITO","DERECHO DE PETICION DE INTERES PARTICULAR",12,"PENDIENTE"]
[3681632021,"OFICINA ASESORA JURIDICA","ESCRITO","DERECHO DE PETICION DE INTERES PARTICULAR",10,"GESTIONADOS"]
[3682922021,"SUBDIRECCION DE ADMINISTRACION INMOBILIARIA Y DE ESPACIO PUBLICO","WEB","DERECHO DE PETICION DE INTERES PARTICULAR",12,"PENDIENTE"]
[3683572021,"SUBDIRECCION DE ADMINISTRACION INMOBILIARIA Y DE ESPACIO PUBLICO","ESCRITO","DERECHO DE PETICION DE INTERES PARTICULAR",12,"PENDIENTE"]
[3683682021,"SUBDIRECCION DE REGISTRO INMOBILIARIO","ESCRITO","DERECHO DE PETICION DE INTERES PARTICULAR",12,"PENDIENTE"]
[3683912021,"SUBDIRECCION DE ADMINISTRACION INMOBILIARIA Y DE ESPACIO PUBLICO","ESCRITO","DERECHO DE PETICION DE INTERES PARTICULAR",12,"PENDIENTE"]
[3683932021,"SUBDIRECCION DE REGISTRO INMOBILIARIO","ESCRITO","DERECHO DE PETICION DE INTERES PARTICULAR",12,"PENDIENTE"]
[3683952021,"SUBDIRECCION DE ADMINISTRACION INMOBILIARIA Y DE ESPACIO PUBLICO","ESCRITO","DERECHO DE PETICION DE INTERES PARTICULAR",12,"PENDIENTE"]
[3684092021,"DESPACHO","ESCRITO","DERECHO DE PETICION DE INTERES PARTICULAR",4,"GESTIONADOS"]
[3684092021,"SUBDIRECCION DE ADMINISTRACION INMOBILIARIA Y DE ESPACIO PUBLICO","ESCRITO","DERECHO DE PETICION DE INTERES PARTICULAR",12,"PENDIENTE"]
[3686272021,"SUBDIRECCION DE ADMINISTRACION INMOBILIARIA Y DE ESPACIO PUBLICO","WEB","DERECHO DE PETICION DE INTERES PARTICULAR",12,"PENDIENTE"]
[3686412021,"SUBDIRECCION DE ADMINISTRACION INMOBILIARIA Y DE ESPACIO PUBLICO","ESCRITO","DERECHO DE PETICION DE INTERES GENERAL",8,"PENDIENTE"]
[3687142021,"SUBDIRECCION ADMINISTRATIVA  FINANCIERA Y DE CONTROL DISCIPLINARIO","WEB","DERECHO DE PETICION DE INTERES GENERAL",2,"GESTIONADOS"]
[3687582021,"SUBDIRECCION DE ADMINISTRACION INMOBILIARIA Y DE ESPACIO PUBLICO","TELEFONO","DERECHO DE PETICION DE INTERES GENERAL",12,"PENDIENTE"]
[3689622021,"SUBDIRECCION DE REGISTRO INMOBILIARIO","WEB","CONSULTA",11,"PENDIENTE"]
[3690422021,"SUBDIRECCION DE ADMINISTRACION INMOBILIARIA Y DE ESPACIO PUBLICO","WEB","DERECHO DE PETICION DE INTERES GENERAL",7,"PENDIENTE"]
[3693802021,"SUBDIRECCION DE ADMINISTRACION INMOBILIARIA Y DE ESPACIO PUBLICO","WEB","DERECHO DE PETICION DE INTERES PARTICULAR",11,"PENDIENTE"]
[3694922021,"SUBDIRECCION DE REGISTRO INMOBILIARIO","ESCRITO","DERECHO DE PETICION DE INTERES PARTICULAR",11,"PENDIENTE"]
[3695222021,"OFICINA ASESORA JURIDICA","ESCRITO","DERECHO DE PETICION DE INTERES PARTICULAR",11,"GESTIONADOS"]
[3696472021,"SUBDIRECCION DE ADMINISTRACION INMOBILIARIA Y DE ESPACIO PUBLICO","ESCRITO","DERECHO DE PETICION DE INTERES PARTICULAR",11,"PENDIENTE"]
[3697162021,"SUBDIRECCION DE REGISTRO INMOBILIARIO","ESCRITO","DERECHO DE PETICION DE INTERES PARTICULAR",11,"PENDIENTE"]
[3697322021,"SUBDIRECCION DE ADMINISTRACION INMOBILIARIA Y DE ESPACIO PUBLICO","ESCRITO","DERECHO DE PETICION DE INTERES PARTICULAR",11,"PENDIENTE"]
[3697332021,"SUBDIRECCION DE ADMINISTRACION INMOBILIARIA Y DE ESPACIO PUBLICO","ESCRITO","DERECHO DE PETICION DE INTERES PARTICULAR",11,"PENDIENTE"]
[3697352021,"SUBDIRECCION DE ADMINISTRACION INMOBILIARIA Y DE ESPACIO PUBLICO","ESCRITO","DERECHO DE PETICION DE INTERES PARTICULAR",11,"PENDIENTE"]
[3697392021,"SUBDIRECCION DE ADMINISTRACION INMOBILIARIA Y DE ESPACIO PUBLICO","ESCRITO","DERECHO DE PETICION DE INTERES PARTICULAR",11,"PENDIENTE"]
[3697582021,"SUBDIRECCION DE REGISTRO INMOBILIARIO","ESCRITO","DERECHO DE PETICION DE INTERES PARTICULAR",11,"PENDIENTE"]
[3702762021,"SUBDIRECCION DE ADMINISTRACION INMOBILIARIA Y DE ESPACIO PUBLICO","WEB","DERECHO DE PETICION DE INTERES GENERAL",11,"PENDIENTE"]
[3703372021,"SUBDIRECCION DE ADMINISTRACION INMOBILIARIA Y DE ESPACIO PUBLICO","WEB","DERECHO DE PETICION DE INTERES PARTICULAR",11,"PENDIENTE"]
[3703802021,"SUBDIRECCION DE ADMINISTRACION INMOBILIARIA Y DE ESPACIO PUBLICO","WEB","DERECHO DE PETICION DE INTERES GENERAL",11,"PENDIENTE"]
[3704662021,"SUBDIRECCION DE ADMINISTRACION INMOBILIARIA Y DE ESPACIO PUBLICO","WEB","CONSULTA",11,"PENDIENTE"]
[3704772021,"DESPACHO","WEB","CONSULTA",11,"GESTIONADOS"]
[3705722021,"SUBDIRECCION DE ADMINISTRACION INMOBILIARIA Y DE ESPACIO PUBLICO","WEB","DERECHO DE PETICION DE INTERES GENERAL",10,"PENDIENTE"]
[3706402021,"SUBDIRECCION DE ADMINISTRACION INMOBILIARIA Y DE ESPACIO PUBLICO","WEB","DERECHO DE PETICION DE INTERES PARTICULAR",11,"PENDIENTE"]
[3706552021,"SUBDIRECCION DE ADMINISTRACION INMOBILIARIA Y DE ESPACIO PUBLICO","WEB","DERECHO DE PETICION DE INTERES PARTICULAR",11,"PENDIENTE"]
[3707852021,"SUBDIRECCION DE ADMINISTRACION INMOBILIARIA Y DE ESPACIO PUBLICO","WEB","DERECHO DE PETICION DE INTERES GENERAL",11,"PENDIENTE"]
[3707872021,"SUBDIRECCION DE ADMINISTRACION INMOBILIARIA Y DE ESPACIO PUBLICO","WEB","DERECHO DE PETICION DE INTERES GENERAL",11,"PENDIENTE"]
[3707952021,"SUBDIRECCION DE ADMINISTRACION INMOBILIARIA Y DE ESPACIO PUBLICO","WEB","DERECHO DE PETICION DE INTERES PARTICULAR",11,"PENDIENTE"]
[3711612021,"SUBDIRECCION DE REGISTRO INMOBILIARIO","ESCRITO","DERECHO DE PETICION DE INTERES PARTICULAR",10,"PENDIENTE"]
[3714252021,"SUBDIRECCION DE ADMINISTRACION INMOBILIARIA Y DE ESPACIO PUBLICO","WEB","DERECHO DE PETICION DE INTERES GENERAL",10,"PENDIENTE"]
[3714542021,"SUBDIRECCION DE ADMINISTRACION INMOBILIARIA Y DE ESPACIO PUBLICO","ESCRITO","DERECHO DE PETICION DE INTERES GENERAL",10,"PENDIENTE"]
[3714592021,"SUBDIRECCION DE ADMINISTRACION INMOBILIARIA Y DE ESPACIO PUBLICO","WEB","DERECHO DE PETICION DE INTERES PARTICULAR",10,"PENDIENTE"]
[3715202021,"OFICINA ASESORA JURIDICA","WEB","DERECHO DE PETICION DE INTERES PARTICULAR",8,"GESTIONADOS"]
[3716142021,"SUBDIRECCION DE ADMINISTRACION INMOBILIARIA Y DE ESPACIO PUBLICO","ESCRITO","DERECHO DE PETICION DE INTERES PARTICULAR",10,"PENDIENTE"]
[3716282021,"SUBDIRECCION DE ADMINISTRACION INMOBILIARIA Y DE ESPACIO PUBLICO","ESCRITO","DERECHO DE PETICION DE INTERES PARTICULAR",10,"PENDIENTE"]
[3716392021,"SUBDIRECCION DE REGISTRO INMOBILIARIO","ESCRITO","DERECHO DE PETICION DE INTERES PARTICULAR",10,"PENDIENTE"]
[3716742021,"SUBDIRECCION ADMINISTRATIVA Y FINANCIERA","ESCRITO","DERECHO DE PETICION DE INTERES PARTICULAR",10,"PENDIENTE"]
[3717062021,"SUBDIRECCION DE ADMINISTRACION INMOBILIARIA Y DE ESPACIO PUBLICO","WEB","DERECHO DE PETICION DE INTERES PARTICULAR",10,"PENDIENTE"]
[3717352021,"SUBDIRECCION DE ADMINISTRACION INMOBILIARIA Y DE ESPACIO PUBLICO","ESCRITO","DERECHO DE PETICION DE INTERES PARTICULAR",10,"PENDIENTE"]
[3718652021,"SUBDIRECCION DE REGISTRO INMOBILIARIO","ESCRITO","DERECHO DE PETICION DE INTERES PARTICULAR",10,"PENDIENTE"]
[3718772021,"SUBDIRECCION DE ADMINISTRACION INMOBILIARIA Y DE ESPACIO PUBLICO","ESCRITO","DERECHO DE PETICION DE INTERES PARTICULAR",10,"PENDIENTE"]
[3718922021,"SUBDIRECCION ADMINISTRATIVA Y FINANCIERA","ESCRITO","DERECHO DE PETICION DE INTERES PARTICULAR",10,"PENDIENTE"]
[3719642021,"SUBDIRECCION DE REGISTRO INMOBILIARIO","ESCRITO","DERECHO DE PETICION DE INTERES PARTICULAR",10,"PENDIENTE"]
[3720342021,"OFICINA ASESORA JURIDICA","ESCRITO","DERECHO DE PETICION DE INTERES PARTICULAR",10,"GESTIONADOS"]
[3720452021,"OFICINA ASESORA JURIDICA","ESCRITO","DERECHO DE PETICION DE INTERES PARTICULAR",10,"GESTIONADOS"]
[3720592021,"SUBDIRECCION DE ADMINISTRACION INMOBILIARIA Y DE ESPACIO PUBLICO","ESCRITO","DERECHO DE PETICION DE INTERES PARTICULAR",10,"PENDIENTE"]
[3726272021,"SUBDIRECCION DE REGISTRO INMOBILIARIO","WEB","DERECHO DE PETICION DE INTERES PARTICULAR",9,"PENDIENTE"]
[3728322021,"SUBDIRECCION DE ADMINISTRACION INMOBILIARIA Y DE ESPACIO PUBLICO","WEB","DERECHO DE PETICION DE INTERES GENERAL",5,"PENDIENTE"]
[3731012021,"SUBDIRECCION DE REGISTRO INMOBILIARIO","TELEFONO","DERECHO DE PETICION DE INTERES PARTICULAR",9,"PENDIENTE"]
[3732632021,"DESPACHO","WEB","QUEJA",9,"GESTIONADOS"]
[3732632021,"SUBDIRECCION ADMINISTRATIVA  FINANCIERA Y DE CONTROL DISCIPLINARIO","WEB","QUEJA",9,"PENDIENTE"]
[3732712021,"SUBDIRECCION DE ADMINISTRACION INMOBILIARIA Y DE ESPACIO PUBLICO","ESCRITO","DERECHO DE PETICION DE INTERES PARTICULAR",9,"PENDIENTE"]
[3732732021,"DESPACHO","WEB","QUEJA",1,"GESTIONADOS"]
[3732732021,"SUBDIRECCION ADMINISTRATIVA  FINANCIERA Y DE CONTROL DISCIPLINARIO","WEB","QUEJA",7,"GESTIONADOS"]
[3732762021,"SUBDIRECCION ADMINISTRATIVA  FINANCIERA Y DE CONTROL DISCIPLINARIO","WEB","DENUNCIA POR ACTOS DE CORRUPCION",7,"GESTIONADOS"]
[3732882021,"SUBDIRECCION DE ADMINISTRACION INMOBILIARIA Y DE ESPACIO PUBLICO","ESCRITO","DERECHO DE PETICION DE INTERES PARTICULAR",9,"PENDIENTE"]
[3733272021,"SUBDIRECCION DE ADMINISTRACION INMOBILIARIA Y DE ESPACIO PUBLICO","ESCRITO","DERECHO DE PETICION DE INTERES PARTICULAR",9,"PENDIENTE"]
[3736672021,"OFICINA ASESORA JURIDICA","WEB","DERECHO DE PETICION DE INTERES PARTICULAR",1,"PENDIENTE"]
[3738132021,"SUBDIRECCION DE ADMINISTRACION INMOBILIARIA Y DE ESPACIO PUBLICO","WEB","DERECHO DE PETICION DE INTERES PARTICULAR",9,"PENDIENTE"]
[3738152021,"SUBDIRECCION DE REGISTRO INMOBILIARIO","WEB","DERECHO DE PETICION DE INTERES PARTICULAR",9,"PENDIENTE"]
[3740432021,"SUBDIRECCION DE ADMINISTRACION INMOBILIARIA Y DE ESPACIO PUBLICO","ESCRITO","DERECHO DE PETICION DE INTERES PARTICULAR",9,"PENDIENTE"]
[3740462021,"SUBDIRECCION DE ADMINISTRACION INMOBILIARIA Y DE ESPACIO PUBLICO","ESCRITO","DERECHO DE PETICION DE INTERES PARTICULAR",9,"PENDIENTE"]
[3740522021,"SUBDIRECCION DE ADMINISTRACION INMOBILIARIA Y DE ESPACIO PUBLICO","ESCRITO","DERECHO DE PETICION DE INTERES PARTICULAR",9,"PENDIENTE"]
[3740582021,"SUBDIRECCION DE ADMINISTRACION INMOBILIARIA Y DE ESPACIO PUBLICO","ESCRITO","DERECHO DE PETICION DE INTERES PARTICULAR",9,"PENDIENTE"]
[3740612021,"SUBDIRECCION DE ADMINISTRACION INMOBILIARIA Y DE ESPACIO PUBLICO","ESCRITO","DERECHO DE PETICION DE INTERES PARTICULAR",9,"PENDIENTE"]
[3740702021,"SUBDIRECCION DE ADMINISTRACION INMOBILIARIA Y DE ESPACIO PUBLICO","WEB","DERECHO DE PETICION DE INTERES PARTICULAR",9,"PENDIENTE"]
[3740772021,"SUBDIRECCION DE ADMINISTRACION INMOBILIARIA Y DE ESPACIO PUBLICO","WEB","DERECHO DE PETICION DE INTERES GENERAL",7,"PENDIENTE"]
[3742812021,"SUBDIRECCION DE ADMINISTRACION INMOBILIARIA Y DE ESPACIO PUBLICO","ESCRITO","DERECHO DE PETICION DE INTERES PARTICULAR",8,"PENDIENTE"]
[3742922021,"SUBDIRECCION DE ADMINISTRACION INMOBILIARIA Y DE ESPACIO PUBLICO","ESCRITO","DERECHO DE PETICION DE INTERES PARTICULAR",8,"PENDIENTE"]
[3743022021,"SUBDIRECCION DE ADMINISTRACION INMOBILIARIA Y DE ESPACIO PUBLICO","ESCRITO","DERECHO DE PETICION DE INTERES PARTICULAR",8,"PENDIENTE"]
[3743272021,"SUBDIRECCION DE ADMINISTRACION INMOBILIARIA Y DE ESPACIO PUBLICO","ESCRITO","DERECHO DE PETICION DE INTERES PARTICULAR",8,"PENDIENTE"]
[3744362021,"SUBDIRECCION DE ADMINISTRACION INMOBILIARIA Y DE ESPACIO PUBLICO","WEB","DERECHO DE PETICION DE INTERES PARTICULAR",6,"PENDIENTE"]
[3744962021,"SUBDIRECCION DE ADMINISTRACION INMOBILIARIA Y DE ESPACIO PUBLICO","WEB","DERECHO DE PETICION DE INTERES PARTICULAR",6,"PENDIENTE"]
[3746522021,"SUBDIRECCION DE ADMINISTRACION INMOBILIARIA Y DE ESPACIO PUBLICO","WEB","DERECHO DE PETICION DE INTERES GENERAL",8,"PENDIENTE"]
[3748402021,"SUBDIRECCION DE REGISTRO INMOBILIARIO","WEB","DERECHO DE PETICION DE INTERES PARTICULAR",8,"PENDIENTE"]
[3749112021,"SUBDIRECCION ADMINISTRATIVA  FINANCIERA Y DE CONTROL DISCIPLINARIO","WEB","DERECHO DE PETICION DE INTERES GENERAL",1,"GESTIONADOS"]
[3750792021,"SUBDIRECCION DE ADMINISTRACION INMOBILIARIA Y DE ESPACIO PUBLICO","ESCRITO","DERECHO DE PETICION DE INTERES PARTICULAR",8,"PENDIENTE"]
[3750902021,"SUBDIRECCION DE ADMINISTRACION INMOBILIARIA Y DE ESPACIO PUBLICO","WEB","DERECHO DE PETICION DE INTERES PARTICULAR",8,"PENDIENTE"]
[3751962021,"OFICINA ASESORA JURIDICA","ESCRITO","DERECHO DE PETICION DE INTERES PARTICULAR",8,"PENDIENTE"]
[3752112021,"SUBDIRECCION ADMINISTRATIVA Y FINANCIERA","ESCRITO","DERECHO DE PETICION DE INTERES PARTICULAR",8,"PENDIENTE"]
[3752382021,"SUBDIRECCION DE ADMINISTRACION INMOBILIARIA Y DE ESPACIO PUBLICO","ESCRITO","DERECHO DE PETICION DE INTERES PARTICULAR",8,"PENDIENTE"]
[3752532021,"SUBDIRECCION ADMINISTRATIVA Y FINANCIERA","ESCRITO","DERECHO DE PETICION DE INTERES PARTICULAR",8,"PENDIENTE"]
[3752682021,"SUBDIRECCION DE ADMINISTRACION INMOBILIARIA Y DE ESPACIO PUBLICO","ESCRITO","DERECHO DE PETICION DE INTERES PARTICULAR",8,"PENDIENTE"]
[3753342021,"SUBDIRECCION DE ADMINISTRACION INMOBILIARIA Y DE ESPACIO PUBLICO","ESCRITO","DERECHO DE PETICION DE INTERES PARTICULAR",8,"PENDIENTE"]
[3753402021,"SUBDIRECCION DE ADMINISTRACION INMOBILIARIA Y DE ESPACIO PUBLICO","ESCRITO","DERECHO DE PETICION DE INTERES PARTICULAR",8,"PENDIENTE"]
[3753442021,"SUBDIRECCION DE REGISTRO INMOBILIARIO","ESCRITO","DERECHO DE PETICION DE INTERES PARTICULAR",8,"PENDIENTE"]
[3756402021,"SUBDIRECCION DE ADMINISTRACION INMOBILIARIA Y DE ESPACIO PUBLICO","WEB","DERECHO DE PETICION DE INTERES GENERAL",8,"PENDIENTE"]
[3760582021,"SUBDIRECCION DE ADMINISTRACION INMOBILIARIA Y DE ESPACIO PUBLICO","WEB","DERECHO DE PETICION DE INTERES PARTICULAR",7,"PENDIENTE"]
[3760912021,"SUBDIRECCION DE REGISTRO INMOBILIARIO","WEB","CONSULTA",7,"PENDIENTE"]
[3761852021,"SUBDIRECCION ADMINISTRATIVA Y FINANCIERA","ESCRITO","DERECHO DE PETICION DE INTERES PARTICULAR",7,"PENDIENTE"]
[3762162021,"SUBDIRECCION DE REGISTRO INMOBILIARIO","ESCRITO","DERECHO DE PETICION DE INTERES PARTICULAR",7,"PENDIENTE"]
[3762422021,"SUBDIRECCION DE REGISTRO INMOBILIARIO","ESCRITO","SOLICITUD DE COPIA",7,"PENDIENTE"]
[3762852021,"SUBDIRECCION DE REGISTRO INMOBILIARIO","ESCRITO","DERECHO DE PETICION DE INTERES PARTICULAR",7,"PENDIENTE"]
[3763222021,"SUBDIRECCION DE ADMINISTRACION INMOBILIARIA Y DE ESPACIO PUBLICO","ESCRITO","DERECHO DE PETICION DE INTERES PARTICULAR",7,"PENDIENTE"]
[3763352021,"SUBDIRECCION DE ADMINISTRACION INMOBILIARIA Y DE ESPACIO PUBLICO","TELEFONO","DERECHO DE PETICION DE INTERES GENERAL",7,"PENDIENTE"]
[3763562021,"SUBDIRECCION DE ADMINISTRACION INMOBILIARIA Y DE ESPACIO PUBLICO","ESCRITO","DERECHO DE PETICION DE INTERES GENERAL",4,"PENDIENTE"]
[3764802021,"SUBDIRECCION DE ADMINISTRACION INMOBILIARIA Y DE ESPACIO PUBLICO","WEB","DERECHO DE PETICION DE INTERES PARTICULAR",7,"PENDIENTE"]
[3765152021,"SUBDIRECCION DE ADMINISTRACION INMOBILIARIA Y DE ESPACIO PUBLICO","ESCRITO","DERECHO DE PETICION DE INTERES PARTICULAR",7,"PENDIENTE"]
[3766172021,"SUBDIRECCION DE REGISTRO INMOBILIARIO","ESCRITO","DERECHO DE PETICION DE INTERES PARTICULAR",7,"PENDIENTE"]
[3767512021,"SUBDIRECCION DE REGISTRO INMOBILIARIO","ESCRITO","DERECHO DE PETICION DE INTERES PARTICULAR",7,"PENDIENTE"]
[3769072021,"SUBDIRECCION DE ADMINISTRACION INMOBILIARIA Y DE ESPACIO PUBLICO","TELEFONO","DERECHO DE PETICION DE INTERES GENERAL",7,"PENDIENTE"]
[3770952021,"SUBDIRECCION DE ADMINISTRACION INMOBILIARIA Y DE ESPACIO PUBLICO","ESCRITO","DERECHO DE PETICION DE INTERES PARTICULAR",7,"PENDIENTE"]
[3770972021,"SUBDIRECCION DE ADMINISTRACION INMOBILIARIA Y DE ESPACIO PUBLICO","ESCRITO","DERECHO DE PETICION DE INTERES PARTICULAR",7,"PENDIENTE"]
[3770992021,"SUBDIRECCION DE ADMINISTRACION INMOBILIARIA Y DE ESPACIO PUBLICO","ESCRITO","DERECHO DE PETICION DE INTERES PARTICULAR",7,"PENDIENTE"]
[3771002021,"SUBDIRECCION DE ADMINISTRACION INMOBILIARIA Y DE ESPACIO PUBLICO","ESCRITO","DERECHO DE PETICION DE INTERES PARTICULAR",7,"PENDIENTE"]
[3771012021,"SUBDIRECCION DE ADMINISTRACION INMOBILIARIA Y DE ESPACIO PUBLICO","ESCRITO","DERECHO DE PETICION DE INTERES PARTICULAR",7,"PENDIENTE"]
[3771022021,"SUBDIRECCION DE REGISTRO INMOBILIARIO","ESCRITO","DERECHO DE PETICION DE INTERES PARTICULAR",7,"PENDIENTE"]
[3771032021,"SUBDIRECCION DE ADMINISTRACION INMOBILIARIA Y DE ESPACIO PUBLICO","ESCRITO","DERECHO DE PETICION DE INTERES PARTICULAR",7,"PENDIENTE"]
[3771042021,"SUBDIRECCION DE REGISTRO INMOBILIARIO","ESCRITO","DERECHO DE PETICION DE INTERES PARTICULAR",7,"PENDIENTE"]
[3771062021,"SUBDIRECCION DE ADMINISTRACION INMOBILIARIA Y DE ESPACIO PUBLICO","ESCRITO","DERECHO DE PETICION DE INTERES PARTICULAR",7,"PENDIENTE"]
[3771072021,"SUBDIRECCION DE ADMINISTRACION INMOBILIARIA Y DE ESPACIO PUBLICO","ESCRITO","DERECHO DE PETICION DE INTERES PARTICULAR",7,"PENDIENTE"]
[3772052021,"SUBDIRECCION DE ADMINISTRACION INMOBILIARIA Y DE ESPACIO PUBLICO","TELEFONO","DERECHO DE PETICION DE INTERES GENERAL",7,"PENDIENTE"]
[3775712021,"SUBDIRECCION DE ADMINISTRACION INMOBILIARIA Y DE ESPACIO PUBLICO","WEB","DERECHO DE PETICION DE INTERES GENERAL",7,"PENDIENTE"]
[3777622021,"SUBDIRECCION DE ADMINISTRACION INMOBILIARIA Y DE ESPACIO PUBLICO","WEB","DERECHO DE PETICION DE INTERES GENERAL",6,"PENDIENTE"]
[3781872021,"SUBDIRECCION DE ADMINISTRACION INMOBILIARIA Y DE ESPACIO PUBLICO","WEB","DERECHO DE PETICION DE INTERES GENERAL",4,"PENDIENTE"]
[3782902021,"SUBDIRECCION DE ADMINISTRACION INMOBILIARIA Y DE ESPACIO PUBLICO","WEB","DERECHO DE PETICION DE INTERES PARTICULAR",6,"PENDIENTE"]
[3783922021,"SUBDIRECCION DE REGISTRO INMOBILIARIO","ESCRITO","DERECHO DE PETICION DE INTERES GENERAL",4,"PENDIENTE"]
[3784742021,"DESPACHO","ESCRITO","DERECHO DE PETICION DE INTERES PARTICULAR",6,"GESTIONADOS"]
[3784822021,"SUBDIRECCION DE ADMINISTRACION INMOBILIARIA Y DE ESPACIO PUBLICO","ESCRITO","DERECHO DE PETICION DE INTERES PARTICULAR",6,"PENDIENTE"]
[3784902021,"SUBDIRECCION DE ADMINISTRACION INMOBILIARIA Y DE ESPACIO PUBLICO","ESCRITO","DERECHO DE PETICION DE INTERES PARTICULAR",6,"PENDIENTE"]
[3785132021,"SUBDIRECCION DE ADMINISTRACION INMOBILIARIA Y DE ESPACIO PUBLICO","ESCRITO","DERECHO DE PETICION DE INTERES PARTICULAR",6,"PENDIENTE"]
[3785342021,"SUBDIRECCION DE ADMINISTRACION INMOBILIARIA Y DE ESPACIO PUBLICO","ESCRITO","DERECHO DE PETICION DE INTERES PARTICULAR",6,"PENDIENTE"]
[3785562021,"SUBDIRECCION DE REGISTRO INMOBILIARIO","ESCRITO","DERECHO DE PETICION DE INTERES PARTICULAR",6,"PENDIENTE"]
[3785962021,"SUBDIRECCION DE REGISTRO INMOBILIARIO","WEB","CONSULTA",6,"PENDIENTE"]
[3786912021,"SUBDIRECCION DE ADMINISTRACION INMOBILIARIA Y DE ESPACIO PUBLICO","ESCRITO","DERECHO DE PETICION DE INTERES PARTICULAR",6,"PENDIENTE"]
[3786962021,"SUBDIRECCION DE ADMINISTRACION INMOBILIARIA Y DE ESPACIO PUBLICO","ESCRITO","DERECHO DE PETICION DE INTERES PARTICULAR",6,"PENDIENTE"]
[3786982021,"SUBDIRECCION DE ADMINISTRACION INMOBILIARIA Y DE ESPACIO PUBLICO","ESCRITO","DERECHO DE PETICION DE INTERES PARTICULAR",6,"PENDIENTE"]
[3787082021,"SUBDIRECCION DE ADMINISTRACION INMOBILIARIA Y DE ESPACIO PUBLICO","ESCRITO","DERECHO DE PETICION DE INTERES PARTICULAR",6,"PENDIENTE"]
[3787102021,"SUBDIRECCION DE ADMINISTRACION INMOBILIARIA Y DE ESPACIO PUBLICO","ESCRITO","DERECHO DE PETICION DE INTERES PARTICULAR",6,"PENDIENTE"]
[3787962021,"SUBDIRECCION DE ADMINISTRACION INMOBILIARIA Y DE ESPACIO PUBLICO","ESCRITO","DERECHO DE PETICION DE INTERES PARTICULAR",6,"PENDIENTE"]
[3788052021,"SUBDIRECCION DE ADMINISTRACION INMOBILIARIA Y DE ESPACIO PUBLICO","ESCRITO","DERECHO DE PETICION DE INTERES PARTICULAR",6,"PENDIENTE"]
[3788712021,"SUBDIRECCION DE REGISTRO INMOBILIARIO","WEB","DERECHO DE PETICION DE INTERES PARTICULAR",6,"PENDIENTE"]
[3789152021,"SUBDIRECCION DE ADMINISTRACION INMOBILIARIA Y DE ESPACIO PUBLICO","WEB","DERECHO DE PETICION DE INTERES PARTICULAR",6,"PENDIENTE"]
[3789172021,"SUBDIRECCION DE ADMINISTRACION INMOBILIARIA Y DE ESPACIO PUBLICO","WEB","DERECHO DE PETICION DE INTERES PARTICULAR",5,"PENDIENTE"]
[3789212021,"SUBDIRECCION DE ADMINISTRACION INMOBILIARIA Y DE ESPACIO PUBLICO","WEB","DERECHO DE PETICION DE INTERES PARTICULAR",5,"PENDIENTE"]
[3795802021,"SUBDIRECCION DE ADMINISTRACION INMOBILIARIA Y DE ESPACIO PUBLICO","WEB","DERECHO DE PETICION DE INTERES PARTICULAR",5,"PENDIENTE"]
[3802172021,"SUBDIRECCION DE ADMINISTRACION INMOBILIARIA Y DE ESPACIO PUBLICO","ESCRITO","DERECHO DE PETICION DE INTERES PARTICULAR",5,"PENDIENTE"]
[3802522021,"SUBDIRECCION DE ADMINISTRACION INMOBILIARIA Y DE ESPACIO PUBLICO","ESCRITO","DERECHO DE PETICION DE INTERES PARTICULAR",5,"PENDIENTE"]
[3802562021,"SUBDIRECCION DE REGISTRO INMOBILIARIO","ESCRITO","DERECHO DE PETICION DE INTERES PARTICULAR",5,"PENDIENTE"]
[3802622021,"DESPACHO","ESCRITO","DERECHO DE PETICION DE INTERES PARTICULAR",5,"GESTIONADOS"]
[3802622021,"SUBDIRECCION DE ADMINISTRACION INMOBILIARIA Y DE ESPACIO PUBLICO","ESCRITO","DERECHO DE PETICION DE INTERES PARTICULAR",5,"PENDIENTE"]
[3805132021,"SUBDIRECCION DE REGISTRO INMOBILIARIO","WEB","CONSULTA",5,"PENDIENTE"]
[3806682021,"SUBDIRECCION DE REGISTRO INMOBILIARIO","WEB","CONSULTA",3,"PENDIENTE"]
[3809102021,"SUBDIRECCION DE ADMINISTRACION INMOBILIARIA Y DE ESPACIO PUBLICO","ESCRITO","DERECHO DE PETICION DE INTERES PARTICULAR",5,"PENDIENTE"]
[3809182021,"SUBDIRECCION DE ADMINISTRACION INMOBILIARIA Y DE ESPACIO PUBLICO","ESCRITO","DERECHO DE PETICION DE INTERES PARTICULAR",5,"PENDIENTE"]
[3809212021,"SUBDIRECCION DE ADMINISTRACION INMOBILIARIA Y DE ESPACIO PUBLICO","ESCRITO","DERECHO DE PETICION DE INTERES PARTICULAR",5,"PENDIENTE"]
[3812352021,"SUBDIRECCION DE ADMINISTRACION INMOBILIARIA Y DE ESPACIO PUBLICO","WEB","DERECHO DE PETICION DE INTERES PARTICULAR",4,"PENDIENTE"]
[3814382021,"SUBDIRECCION DE ADMINISTRACION INMOBILIARIA Y DE ESPACIO PUBLICO","ESCRITO","DERECHO DE PETICION DE INTERES PARTICULAR",4,"PENDIENTE"]
[3814562021,"SUBDIRECCION DE ADMINISTRACION INMOBILIARIA Y DE ESPACIO PUBLICO","ESCRITO","DERECHO DE PETICION DE INTERES PARTICULAR",4,"PENDIENTE"]
[3815122021,"SUBDIRECCION DE ADMINISTRACION INMOBILIARIA Y DE ESPACIO PUBLICO","WEB","DERECHO DE PETICION DE INTERES GENERAL",4,"PENDIENTE"]
[3816212021,"SUBDIRECCION DE REGISTRO INMOBILIARIO","WEB","DERECHO DE PETICION DE INTERES PARTICULAR",4,"PENDIENTE"]
[3818182021,"SUBDIRECCION DE REGISTRO INMOBILIARIO","ESCRITO","DERECHO DE PETICION DE INTERES PARTICULAR",4,"PENDIENTE"]
[3818512021,"SUBDIRECCION DE ADMINISTRACION INMOBILIARIA Y DE ESPACIO PUBLICO","ESCRITO","SOLICITUD DE COPIA",4,"PENDIENTE"]
[3821992021,"SUBDIRECCION DE ADMINISTRACION INMOBILIARIA Y DE ESPACIO PUBLICO","ESCRITO","DERECHO DE PETICION DE INTERES PARTICULAR",4,"PENDIENTE"]
[3825062021,"SUBDIRECCION DE REGISTRO INMOBILIARIO","ESCRITO","DERECHO DE PETICION DE INTERES PARTICULAR",4,"PENDIENTE"]
[3826732021,"SUBDIRECCION DE REGISTRO INMOBILIARIO","WEB","DERECHO DE PETICION DE INTERES PARTICULAR",3,"PENDIENTE"]
[3833972021,"SUBDIRECCION DE ADMINISTRACION INMOBILIARIA Y DE ESPACIO PUBLICO","ESCRITO","DERECHO DE PETICION DE INTERES PARTICULAR",3,"PENDIENTE"]
[3834092021,"SUBDIRECCION DE ADMINISTRACION INMOBILIARIA Y DE ESPACIO PUBLICO","ESCRITO","DERECHO DE PETICION DE INTERES PARTICULAR",3,"PENDIENTE"]
[3834242021,"OFICINA ASESORA JURIDICA","ESCRITO","DERECHO DE PETICION DE INTERES PARTICULAR",3,"GESTIONADOS"]
[3834242021,"SUBDIRECCION DE ADMINISTRACION INMOBILIARIA Y DE ESPACIO PUBLICO","ESCRITO","DERECHO DE PETICION DE INTERES PARTICULAR",3,"PENDIENTE"]
[3834772021,"SUBDIRECCION DE ADMINISTRACION INMOBILIARIA Y DE ESPACIO PUBLICO","ESCRITO","DERECHO DE PETICION DE INTERES PARTICULAR",3,"PENDIENTE"]
[3837202021,"SUBDIRECCION DE ADMINISTRACION INMOBILIARIA Y DE ESPACIO PUBLICO","ESCRITO","DERECHO DE PETICION DE INTERES PARTICULAR",3,"PENDIENTE"]
[3837262021,"SUBDIRECCION DE ADMINISTRACION INMOBILIARIA Y DE ESPACIO PUBLICO","ESCRITO","DERECHO DE PETICION DE INTERES PARTICULAR",3,"PENDIENTE"]
[3837642021,"OFICINA ASESORA JURIDICA","E-MAIL","DERECHO DE PETICION DE INTERES PARTICULAR",1,"PENDIENTE"]
[3838592021,"SUBDIRECCION DE ADMINISTRACION INMOBILIARIA Y DE ESPACIO PUBLICO","ESCRITO","DERECHO DE PETICION DE INTERES PARTICULAR",3,"PENDIENTE"]
[3838672021,"SUBDIRECCION DE REGISTRO INMOBILIARIO","ESCRITO","DERECHO DE PETICION DE INTERES PARTICULAR",3,"PENDIENTE"]
[3839302021,"SUBDIRECCION DE REGISTRO INMOBILIARIO","ESCRITO","DERECHO DE PETICION DE INTERES PARTICULAR",3,"PENDIENTE"]
[3839382021,"SUBDIRECCION DE ADMINISTRACION INMOBILIARIA Y DE ESPACIO PUBLICO","ESCRITO","DERECHO DE PETICION DE INTERES PARTICULAR",3,"PENDIENTE"]
[3839402021,"SUBDIRECCION DE ADMINISTRACION INMOBILIARIA Y DE ESPACIO PUBLICO","ESCRITO","DERECHO DE PETICION DE INTERES PARTICULAR",3,"PENDIENTE"]
[3839422021,"OFICINA ASESORA JURIDICA","ESCRITO","DERECHO DE PETICION DE INTERES PARTICULAR",3,"GESTIONADOS"]
[3839422021,"SUBDIRECCION DE ADMINISTRACION INMOBILIARIA Y DE ESPACIO PUBLICO","ESCRITO","DERECHO DE PETICION DE INTERES PARTICULAR",3,"PENDIENTE"]
[3843372021,"SUBDIRECCION DE ADMINISTRACION INMOBILIARIA Y DE ESPACIO PUBLICO","ESCRITO","DERECHO DE PETICION DE INTERES PARTICULAR",2,"PENDIENTE"]
[3843532021,"SUBDIRECCION DE ADMINISTRACION INMOBILIARIA Y DE ESPACIO PUBLICO","ESCRITO","DERECHO DE PETICION DE INTERES PARTICULAR",2,"PENDIENTE"]
[3843622021,"SUBDIRECCION DE REGISTRO INMOBILIARIO","ESCRITO","DERECHO DE PETICION DE INTERES PARTICULAR",2,"PENDIENTE"]
[3843872021,"SUBDIRECCION DE REGISTRO INMOBILIARIO","ESCRITO","DERECHO DE PETICION DE INTERES PARTICULAR",1,"PENDIENTE"]
[3843882021,"SUBDIRECCION DE ADMINISTRACION INMOBILIARIA Y DE ESPACIO PUBLICO","ESCRITO","DERECHO DE PETICION DE INTERES PARTICULAR",2,"PENDIENTE"]
[3848402021,"SUBDIRECCION DE REGISTRO INMOBILIARIO","ESCRITO","DERECHO DE PETICION DE INTERES PARTICULAR",2,"PENDIENTE"]
[3855272021,"OFICINA ASESORA JURIDICA","WEB","DERECHO DE PETICION DE INTERES GENERAL",2,"PENDIENTE"]
[3856272021,"SUBDIRECCION DE ADMINISTRACION INMOBILIARIA Y DE ESPACIO PUBLICO","WEB","DERECHO DE PETICION DE INTERES PARTICULAR",2,"PENDIENTE"]
[3856382021,"SUBDIRECCION DE REGISTRO INMOBILIARIO","WEB","SOLICITUD DE COPIA",2,"PENDIENTE"]
[3858142021,"SUBDIRECCION DE ADMINISTRACION INMOBILIARIA Y DE ESPACIO PUBLICO","WEB","DERECHO DE PETICION DE INTERES GENERAL",1,"PENDIENTE"]
[3858452021,"SUBDIRECCION ADMINISTRATIVA  FINANCIERA Y DE CONTROL DISCIPLINARIO","WEB","DENUNCIA POR ACTOS DE CORRUPCION",2,"PENDIENTE"]
[3866452021,"SUBDIRECCION DE ADMINISTRACION INMOBILIARIA Y DE ESPACIO PUBLICO","WEB","DERECHO DE PETICION DE INTERES PARTICULAR",1,"PENDIENTE"]
[3866482021,"SUBDIRECCION DE REGISTRO INMOBILIARIO","WEB","CONSULTA",1,"PENDIENTE"]
[3868592021,"SUBDIRECCION DE ADMINISTRACION INMOBILIARIA Y DE ESPACIO PUBLICO","ESCRITO","DERECHO DE PETICION DE INTERES PARTICULAR",1,"PENDIENTE"]
[3868692021,"SUBDIRECCION DE ADMINISTRACION INMOBILIARIA Y DE ESPACIO PUBLICO","ESCRITO","DERECHO DE PETICION DE INTERES PARTICULAR",1,"PENDIENTE"]
[3868842021,"SUBDIRECCION DE REGISTRO INMOBILIARIO","ESCRITO","DERECHO DE PETICION DE INTERES PARTICULAR",1,"PENDIENTE"]
[3869072021,"SUBDIRECCION DE ADMINISTRACION INMOBILIARIA Y DE ESPACIO PUBLICO","ESCRITO","DERECHO DE PETICION DE INTERES PARTICULAR",1,"PENDIENTE"]
[3869182021,"SUBDIRECCION DE ADMINISTRACION INMOBILIARIA Y DE ESPACIO PUBLICO","ESCRITO","DERECHO DE PETICION DE INTERES PARTICULAR",1,"PENDIENTE"]
[3869252021,"SUBDIRECCION DE REGISTRO INMOBILIARIO","ESCRITO","DERECHO DE PETICION DE INTERES PARTICULAR",1,"PENDIENTE"]
[3869452021,"SUBDIRECCION DE ADMINISTRACION INMOBILIARIA Y DE ESPACIO PUBLICO","ESCRITO","DERECHO DE PETICION DE INTERES PARTICULAR",1,"PENDIENTE"]
[3869772021,"SUBDIRECCION DE REGISTRO INMOBILIARIO","ESCRITO","DERECHO DE PETICION DE INTERES PARTICULAR",1,"PENDIENTE"]
[3869922021,"SUBDIRECCION DE ADMINISTRACION INMOBILIARIA Y DE ESPACIO PUBLICO","ESCRITO","DERECHO DE PETICION DE INTERES PARTICULAR",1,"PENDIENTE"]
[3870122021,"SUBDIRECCION DE ADMINISTRACION INMOBILIARIA Y DE ESPACIO PUBLICO","ESCRITO","DERECHO DE PETICION DE INTERES PARTICULAR",1,"PENDIENTE"]
[3878552021,"SUBDIRECCION DE ADMINISTRACION INMOBILIARIA Y DE ESPACIO PUBLICO","PRESENCIAL","DERECHO DE PETICION DE INTERES GENERAL",1,"PENDIENTE"]
[3881742021,"SUBDIRECCION DE ADMINISTRACION INMOBILIARIA Y DE ESPACIO PUBLICO","E-MAIL","DERECHO DE PETICION DE INTERES PARTICULAR",1,"PENDIENTE"]
[3882002021,"SUBDIRECCION DE ADMINISTRACION INMOBILIARIA Y DE ESPACIO PUBLICO","ESCRITO","DERECHO DE PETICION DE INTERES PARTICULAR",1,"PENDIENTE"]
[3882072021,"SUBDIRECCION DE ADMINISTRACION INMOBILIARIA Y DE ESPACIO PUBLICO","ESCRITO","DERECHO DE PETICION DE INTERES PARTICULAR",1,"PENDIENTE"]
[3882182021,"SUBDIRECCION DE ADMINISTRACION INMOBILIARIA Y DE ESPACIO PUBLICO","ESCRITO","DERECHO DE PETICION DE INTERES PARTICULAR",1,"PENDIENTE"]
[3882242021,"SUBDIRECCION DE REGISTRO INMOBILIARIO","ESCRITO","DERECHO DE PETICION DE INTERES PARTICULAR",1,"PENDIENTE"]
[3887162021,"SUBDIRECCION DE ADMINISTRACION INMOBILIARIA Y DE ESPACIO PUBLICO","ESCRITO","DERECHO DE PETICION DE INTERES PARTICULAR",1,"PENDIENTE"]
[3887392021,"SUBDIRECCION DE ADMINISTRACION INMOBILIARIA Y DE ESPACIO PUBLICO","ESCRITO","DERECHO DE PETICION DE INTERES PARTICULAR",1,"PENDIENTE"]
[3889502021,"SUBDIRECCION ADMINISTRATIVA  FINANCIERA Y DE CONTROL DISCIPLINARIO","WEB","DENUNCIA POR ACTOS DE CORRUPCION",1,"PENDIENTE"]
[]
["POR TEMAS"]
["DESTINO","TEMA","Cuenta de TEMA"]
["DESPACHO","Peticiones entre entidades",3]
[null,"Asuntos disciplinarios",2]
[null,"Desempeño de la entidad",1]
[null,"Asesoría en administración y sostenibilidad del espacio público",1]
[null,"Consulta radicado",1]
["OFICINA ASESORA JURIDICA","Contratos jurídica",5]
[null,"Asuntos Jurídicos",5]
[null,"Solicitud de Copia",1]
[null,"Competencia otras entidades",1]
["SUBDIRECCION DE ADMINISTRACION INMOBILIARIA Y DE ESPACIO PUBLICO","Asesoría en administración y sostenibilidad del espacio público",55]
[null,"Peticiones entre entidades",39]
[null,"Denuncia otros elementos",37]
[null,"Parqueaderos",23]
[null,"Autorización de uso",22]
["SUBDIRECCION DE REGISTRO INMOBILIARIO","Certificación de la propiedad inmobiliaria distrital",25]
[null,"Entrega de zonas de cesión",10]
[null,"Peticiones entre entidades",6]
[null,"Cabida y linderos",4]
[null,"Denuncia otros elementos",4]
["SUBDIRECCION ADMINISTRATIVA  FINANCIERA Y DE CONTROL DISCIPLINARIO","Competencia otras entidades",6]
[null,"Solicitud de Copia",4]
[null,"Parqueaderos",3]
[null,"Asuntos disciplinarios",2]
[null,"Denuncia otros elementos",1]
["SUBDIRECCION ADMINISTRATIVA Y FINANCIERA","Talento humano",6]
[null,"Denuncia otros elementos",1]
["AREA DE ATENCION A LA CIUDADANIA","Competencia otras entidades",150]
[null,"Denuncia otros elementos",18]
[null,"Denuncia extencion de actividad comercial",6]
[null,"Asesoría en administración y sostenibilidad del espacio público",5]
[null,"Sin información de fondo",4]
[]
[]
[]
[]
[]
["DESTINO","TEMA","Cuenta de TEMA"]
["DESPACHO","Peticiones entre entidades",3]
[null,"Asuntos disciplinarios",2]
[null,"Desempeño de la entidad",1]
[null,"Asesoría en administración y sostenibilidad del espacio público",1]
[null,"Consulta radicado",1]
["OFICINA ASESORA JURIDICA","Contratos jurídica",5]
[null,"Asuntos Jurídicos",5]
[null,"Solicitud de Copia",1]
[null,"Competencia otras entidades",1]
["SUBDIRECCION DE ADMINISTRACION INMOBILIARIA Y DE ESPACIO PUBLICO","Asesoría en administración y sostenibilidad del espacio público",55]
[null,"Peticiones entre entidades",39]
[null,"Denuncia otros elementos",37]
[null,"Parqueaderos",23]
[null,"Autorización de uso",22]
["SUBDIRECCION DE REGISTRO INMOBILIARIO","Certificación_de_la_propiedad_inmobiliaria_distrital",25]
[null,"Entrega de zonas de cesión",10]
[null,"Peticiones entre entidades",6]
[null,"Cabida y linderos",4]
[null,"Denuncia otros elementos",4]
["SUBDIRECCION ADMINISTRATIVA  FINANCIERA Y DE CONTROL DISCIPLINARIO","Competencia otras entidades",6]
[null,"Solicitud de Copia",4]
[null,"Parqueaderos",3]
[null,"Asuntos disciplinarios",2]
[null,"Denuncia otros elementos",1]
[null,"Talento humano",1]
[null,"Solicitud cita",1]
["SUBDIRECCION ADMINISTRATIVA Y FINANCIERA","Talento humano",6]
[null,"Denuncia otros elementos",1]
["AREA DE ATENCION A LA CIUDADANIA","Competencia otras entidades",150]
[null,"Denuncia otros elementos",18]
[null,"Denuncia extencion de actividad comercial",6]
[null,"Asesoría en administración y sostenibilidad del espacio público",5]
[null,"Sin información de fondo",4]