{"text_format":"1","workbook":"xlsx","n_sheets":5,"sheets":["Portada","dashboard","distribucion puntos AC","resumen-","consolidado noviembre-2022"],"not_rendered":{"charts":19,"images":10,"macros":1,"external_links":7,"defined_names":28,"comments":0,"pivot_tables":9},"unopened":[],"bounds":{"document_bytes":16777216,"sheet_cells":100000,"rows_first":2000,"rows_last":500,"rows_between":2000,"halvings":0,"cell_chars":16384,"cell_head_chars":4096},"cells_cut":0,"cells_raw":0,"read":"whole","date_system":"1900"}

{"sheet":"Portada","index":0,"n_rows":0,"n_cols":0,"rows_kept":0,"cut":false,"hidden":false,"merged":[]}

{"sheet":"dashboard","index":1,"n_rows":1048576,"n_cols":21,"rows_kept":4500,"cut":true,"hidden":false,"merged":[],"bounds":{"rows_first":2000,"rows_last":500,"rows_between":2000,"halvings":0}}
[]
[]
[]
[]
[]
[]
[]
[]
[]
[]
[]
[]
[]
[]
[]
[]
[]
[]
[]
[]
[]
[]
[]
[]
[]
[]
[]
[]
[]
[]
[]
[]
[]
[]
[]
[]
[]
[]
[]
[]
[]
[]
[]
[]
[]
[]
[]
[]
[]
[]
[]
[]
[]
[]
[]
[]
[]
[]
[]
[]
[]
[]
[]
[]
[]
[]
[]
[]
[]
[]
[]
[]
[]
[]
[]
[]
[]
[]
[]
[]
[]
[]
[]
[]
[]
[]
[]
[]
[]
[]
[]
[]
[]
[]
[]
[]
[]
[]
[]
[]
[]
[]
[]
[]
[]
[]
[]
[]
[]
[]
[]
[]
[]
[]
[]
[]
[]
[]
[]
[]
[]
[]
[]
[]
[]
[]
[]
[]
[]
[]
[]
[]
[]
[]
[]
[]
[]
[]
[]
[]
[]
[]
[]
[]
[]
[]
[]
[]
[]
[]
[]
[]
[]
[]
[]
[]
[]
[]
[]
[]
[]
[]
[]
[]
[]
[]
[]
[]
[]
[]
[]
[]
[]
[]
[]
[]
[]
[]
[]
[]
[]
[]
[]
[]
[]
[]
[]
[]
[]
[]
[]
[]
[]
[]
[]
[]
[]
[]
[]
[]
[]
[]
[]
[]
[]
[]
[]
[]
[]
[]
[]
[]
[]
[]
[]
[]
[]
[]
[]
[]
[]
[]
[]
[]
[]
[]
[]
[]
[]
[]
[]
[]
[]
[]
[]
[]
[]
[]
[]
[]
[]
[]
[]
[]
[]
[]
[]
[]
[]
[]
[]
[]
[]
[]
[]
[]
[]
[]
[]
[]
[]
[]
[]
[]
[]
[]
[]
[]
[]
[]
[]
[]
[]
[]
[]
[]
[]
[]
[]
[]
[]
[]
[]
[]
[]
[]
[]
[]
[]
[]
[]
[]
[]
[]
[]
[]
[]
[]
[]
[]
[]
[]
[]
[]
[]
[]
[]
[]
[]
[]
[]
[]
[]
[]
[]
[]
[]
[]
[]
[]
[]
[]
[]
[]
[]
[]
[]
[]
[]
[]
[]
[]
[]
[]
[]
[]
[]
[]
[]
[]
[]
[]
[]
[]
[]
[]
[]
[]
[]
[]
[]
[]
[]
[]
[]
[]
[]
[]
[]
[]
[]
[]
[]
[]
[]
[]
[]
[]
[]
[]
[]
[]
[]
[]
[]
[]
[]
[]
[]
[]
[]
[]
[]
[]
[]
[]
[]
[]
[]
[]
[]
[]
[]
[]
[]
[]
[]
[]
[]
[]
[]
[]
[]
[]
[]
[]
[]
[]
[]
[]
[]
[]
[]
[]
[]
[]
[]
[]
[]
[]
[]
[]
[]
[]
[]
[]
[]
[]
[]
[]
[]
[]
[]
[]
[]
[]
[]
[]
[]
[]
[]
[]
[]
[]
[]
[]
[]
[]
[]
[]
[]
[]
[]
[]
[]
[]
[]
[]
[]
[]
[]
[]
[]
[]
[]
[]
[]
[]
[]
[]
[]
[]
[]
[]
[]
[]
[]
[]
[]
[]
[]
[]
[]
[]
[]
[]
[]
[]
[]
[]
[]
[]
[]
[]
[]
[]
[]
[]
[]
[]
[]
[]
[]
[]
[]
[]
[]
[]
[]
[]
[]
[]
[]
[]
[]
[]
[]
[]
[]
[]
[]
[]
[]
[]
[]
[]
[]
[]
[]
[]
[]
[]
[]
[]
[]
[]
[]
[]
[]
[]
[]
[]
[]
[]
[]
[]
[]
[]
[]
[]
[]
[]
[]
[]
[]
[]
[]
[]
[]
[]
[]
[]
[]
[]
[]
[]
[]
[]
[]
[]
[]
[]
[]
[]
[]
[]
[]
[]
[]
[]
[]
[]
[]
[]
[]
[]
[]
[]
[]
[]
[]
[]
[]
[]
[]
[]
[]
[]
[]
[]
[]
[]
[]
[]
[]
[]
[]
[]
[]
[]
[]
[]
[]
[]
[]
[]
[]
[]
[]
[]
[]
[]
[]
[]
[]
[]
[]
[]
[]
[]
[]
[]
[]
[]
[]
[]
[]
[]
[]
[]
[]
[]
[]
[]
[]
[]
[]
[]
[]
[]
[]
[]
[]
[]
[]
[]
[]
[]
[]
[]
[]
[]
[]
[]
[]
[]
[]
[]
[]
[]
[]
[]
[]
[]
[]
[]
[]
[]
[]
[]
[]
[]
[]
[]
[]
[]
[]
[]
[]
[]
[]
[]
[]
[]
[]
[]
[]
[]
[]
[]
[]
[]
[]
[]
[]
[]
[]
[]
[]
[]
[]
[]
[]
[]
[]
[]
[]
[]
[]
[]
[]
[]
[]
[]
[]
[]
[]
[]
[]
[]
[]
[]
[]
[]
[]
[]
[]
[]
[]
[]
[]
[]
[]
[]
[]
[]
[]
[]
[]
[]
[]
[]
[]
[]
[]
[]
[]
[]
[]
[]
[]
[]
[]
[]
[]
[]
[]
[]
[]
[]
[]
[]
[]
[]
[]
[]
[]
[]
[]
[]
[]
[]
[]
[]
[]
[]
[]
[]
[]
[]
[]
[]
[]
[]
[]
[]
[]
[]
[]
[]
[]
[]
[]
[]
[]
[]
[]
[]
[]
[]
[]
[]
[]
[]
[]
[]
[]
[]
[]
[]
[]
[]
[]
[]
[]
[]
[]
[]
[]
[]
[]
[]
[]
[]
[]
[]
[]
[]
[]
[]
[]
[]
[]
[]
[]
[]
[]
[]
[]
[]
[]
[]
[]
[]
[]
[]
[]
[]
[]
[]
[]
[]
[]
[]
[]
[]
[]
[]
[]
[]
[]
[]
[]
[]
[]
[]
[]
[]
[]
[]
[]
[]
[]
[]
[]
[]
[]
[]
[]
[]
[]
[]
[]
[]
[]
[]
[]
[]
[]
[]
[]
[]
[]
[]
[]
[]
[]
[]
[]
[]
[]
[]
[]
[]
[]
[]
[]
[]
[]
[]
[]
[]
[]
[]
[]
[]
[]
[]
[]
[]
[]
[]
[]
[]
[]
[]
[]
[]
[]
[]
[]
[]
[]
[]
[]
[]
[]
[]
[]
[]
[]
[]
[]
[]
[]
[]
[]
[]
[]
[]
[]
[]
[]
[]
[]
[]
[]
[]
[]
[]
[]
[]
[]
[]
[]
[]
[]
[]
[]
[]
[]
[]
[]
[]
[]
[]
[]
[]
[]
[]
[]
[]
[]
[]
[]
[]
[]
[]
[]
[]
[]
[]
[]
[]
[]
[]
[]
[]
[]
[]
[]
[]
[]
[]
[]
[]
[]
[]
[]
[]
[]
[]
[]
[]
[]
[]
[]
[]
[]
[]
[]
[]
[]
[]
[]
[]
[]
[]
[]
[]
[]
[]
[]
[]
[]
[]
[]
[]
[]
[]
[]
[]
[]
[]
[]
[]
[]
[]
[]
[]
[]
[]
[]
[]
[]
[]
[]
[]
[]
[]
[]
[]
[]
[]
[]
[]
[]
[]
[]
[]
[]
[]
[]
[]
[]
[]
[]
[]
[]
[]
[]
[]
[]
[]
[]
[]
[]
[]
[]
[]
[]
[]
[]
[]
[]
[]
[]
[]
[]
[]
[]
[]
[]
[]
[]
[]
[]
[]
[]
[]
[]
[]
[]
[]
[]
[]
[]
[]
[]
[]
[]
[]
[]
[]
[]
[]
[]
[]
[]
[]
[]
[]
[]
[]
[]
[]
[]
[]
[]
[]
[]
[]
[]
[]
[]
[]
[]
[]
[]
[]
[]
[]
[]
[]
[]
[]
[]
[]
[]
[]
[]
[]
[]
[]
[]
[]
[]
[]
[]
[]
[]
[]
[]
[]
[]
[]
[]
[]
[]
[]
[]
[]
[]
[]
[]
[]
[]
[]
[]
[]
[]
[]
[]
[]
[]
[]
[]
[]
[]
[]
[]
[]
[]
[]
[]
[]
[]
[]
[]
[]
[]
[]
[]
[]
[]
[]
[]
[]
[]
[]
[]
[]
[]
[]
[]
[]
[]
[]
[]
[]
[]
[]
[]
[]
[]
[]
[]
[]
[]
[]
[]
[]
[]
[]
[]
[]
[]
[]
[]
[]
[]
[]
[]
[]
[]
[]
[]
[]
[]
[]
[]
[]
[]
[]
[]
[]
[]
[]
[]
[]
[]
[]
[]
[]
[]
[]
[]
[]
[]
[]
[]
[]
[]
[]
[]
[]
[]
[]
[]
[]
[]
[]
[]
[]
[]
[]
[]
[]
[]
[]
[]
[]
[]
[]
[]
[]
[]
[]
[]
[]
[]
[]
[]
[]
[]
[]
[]
[]
[]
[]
[]
[]
[]
[]
[]
[]
[]
[]
[]
[]
[]
[]
[]
[]
[]
[]
[]
[]
[]
[]
[]
[]
[]
[]
[]
[]
[]
[]
[]
[]
[]
[]
[]
[]
[]
[]
[]
[]
[]
[]
[]
[]
[]
[]
[]
[]
[]
[]
[]
[]
[]
[]
[]
[]
[]
[]
[]
[]
[]
[]
[]
[]
[]
[]
[]
[]
[]
[]
[]
[]
[]
[]
[]
[]
[]
[]
[]
[]
[]
[]
[]
[]
[]
[]
[]
[]
[]
[]
[]
[]
[]
[]
[]
[]
[]
[]
[]
[]
[]
[]
[]
[]
[]
[]
[]
[]
[]
[]
[]
[]
[]
[]
[]
[]
[]
[]
[]
[]
[]
[]
[]
[]
[]
[]
[]
[]
[]
[]
[]
[]
[]
[]
[]
[]
[]
[]
[]
[]
[]
[]
[]
[]
[]
[]
[]
[]
[]
[]
[]
[]
[]
[]
[]
[]
[]
[]
[]
[]
[]
[]
[]
[]
[]
[]
[]
[]
[]
[]
[]
[]
[]
[]
[]
[]
[]
[]
[]
[]
[]
[]
[]
[]
[]
[]
[]
[]
[]
[]
[]
[]
[]
[]
[]
[]
[]
[]
[]
[]
[]
[]
[]
[]
[]
[]
[]
[]
[]
[]
[]
[]
[]
[]
[]
[]
[]
[]
[]
[]
[]
[]
[]
[]
[]
[]
[]
[]
[]
[]
[]
[]
[]
[]
[]
[]
[]
[]
[]
[]
[]
[]
[]
[]
[]
[]
[]
[]
[]
[]
[]
[]
[]
[]
[]
[]
[]
[]
[]
[]
[]
[]
[]
[]
[]
[]
[]
[]
[]
[]
[]
[]
[]
[]
[]
[]
[]
[]
[]
[]
[]
[]
[]
[]
[]
[]
[]
[]
[]
[]
[]
[]
[]
[]
[]
[]
[]
[]
[]
[]
[]
[]
[]
[]
[]
[]
[]
[]
[]
[]
[]
[]
[]
[]
[]
[]
[]
[]
[]
[]
[]
[]
[]
[]
[]
[]
[]
[]
[]
[]
[]
[]
[]
[]
[]
[]
[]
[]
[]
[]
[]
[]
[]
[]
[]
[]
[]
[]
[]
[]
[]
[]
[]
[]
[]
[]
[]
[]
[]
[]
[]
[]
[]
[]
[]
[]
[]
[]
[]
[]
[]
[]
[]
[]
[]
[]
[]
[]
[]
[]
[]
[]
[]
[]
[]
[]
[]
[]
[]
[]
[]
[]
[]
[]
[]
[]
[]
[]
[]
[]
[]
[]
[]
[]
[]
[]
[]
[]
[]
[]
[]
[]
[]
[]
[]
[]
[]
[]
[]
[]
[]
[]
[]
[]
[]
[]
[]
[]
[]
[]
[]
[]
[]
[]
[]
[]
[]
[]
[]
[]
[]
[]
[]
[]
[]
[]
[]
[]
[]
[]
[]
[]
[]
[]
[]
[]
[]
[]
[]
[]
[]
[]
[]
[]
[]
[]
[]
[]
[]
[]
[]
[]
[]
[]
[]
[]
[]
[]
[]
[]
[]
[]
[]
[]
[]
[]
[]
[]
[]
[]
[]
[]
[]
[]
[]
[]
[]
[]
[]
[]
[]
[]
[]
[]
[]
[]
[]
[]
[]
[]
[]
[]
[]
[]
[]
[]
[]
[]
[]
[]
[]
[]
[]
[]
[]
[]
[]
[]
[]
[]
[]
[]
[]
[]
[]
[]
[]
[]
[]
[]
[]
[]
[]
[]
[]
[]
[]
[]
[]
[]
[]
[]
[]
[]
[]
[]
[]
[]
[]
[]
[]
[]
[]
[]
[]
[]
[]
[]
[]
[]
[]
[]
[]
[]
[]
[]
[]
[]
[]
[]
[]
[]
[]
[]
[]
[]
[]
[]
[]
[]
[]
[]
[]
[]
[]
[]
[]
[]
[]
[]
[]
[]
[]
[]
[]
[]
[]
[]
[]
[]
[]
[]
[]
[]
[]
[]
[]
[]
[]
[]
[]
[]
[]
[]
[]
[]
[]
[]
[]
[]
[]
[]
[]
[]
[]
[]
[]
[]
[]
[]
[]
[]
[]
[]
[]
[]
[]
[]
[]
[]
[]
[]
[]
[]
[]
[]
[]
[]
[]
[]
[]
[]
[]
[]
[]
[]
[]
[]
[]
[]
[]
[]
[]
[]
[]
[]
[]
[]
[]
[]
[]
[]
[]
[]
[]
[]
[]
[]
[]
[]
[]
[]
[]
[]
[]
[]
[]
[]
[]
[]
[]
[]
[]
[]
[]
[]
[]
[]
[]
[]
[]
[]
[]
[]
[]
[]
[]
[]
[]
[]
[]
[]
[]
[]
[]
[]
[]
[]
[]
[]
[]
[]
[]
[]
[]
[]
[]
[]
[]
[]
[]
[]
[]
[]
[]
[]
[]
[]
[]
[]
[]
[]
[]
[]
[]
[]
[]
[]
[]
[]
[]
[]
[]
[]
[]
[]
[]
[]
[]
[]
[]
[]
[]
[]
[]
[]
[]
[]
[]
[]
[]
[]
[]
[]
[]
[]
[]
[]
[]
[]
[]
[]
[]
[]
[]
[]
[]
[]
[]
[]
[]
[]
[]
[]
[]
[]
[]
[]
[]
[]
[]
[]
[]
[]
[]
[]
[]
[]
[]
[]
[]
[]
[]
[]
[]
[]
[]
[]
[]
[]
[]
[]
[]
[]
[]
[]
[]
[]
[]
[]
[]
[]
[]
[]
[]
[]
[]
[]
[]
[]
[]
[]
[]
[]
[]
[]
[]
[]
[]
[]
[]
[]
[]
[]
[]
[]
[]
[]
[]
[]
[]
[]
[]
[]
[]
[]
[]
[]
[]
[]
[]
[]
[]
[]
[]
[]
[]
[]
[]
[]
[]
[]
[]
[]
[]
[]
[]
[]
[]
[]
[]
[]
[]
[]
[]
[]
[]
[]
[]
[]
[]
[]
[]
[]
[]
[]
[]
[]
[]
[]
[]
[]
[]
[]
[]
[]
[]
[]
[]
[]
[]
[]
[]
[]
[]
[]
[]
[]
[]
[]
[]
[]
[]
[]
[]
[]
[]
[]
[]
[]
[]
[]
[]
[]
[]
[]
[]
[]
[]
[]
[]
[]
[]
[]
[]
[]
[]
[]
[]
[]
[]
[]
[]
[]
[]
[]
[]
[]
[]
[]
[]
[]
[]
[]
[]
[]
[]
[]
[]
[]
[]
[]
[]
[]
[]
[]
[]
[]
[]
[]
[]
[]
[]
[]
[]
[]
[]
[]
[]
[]
[]
[]
[]
[]
[]
[]
[]
[]
[]
[]
[]
[]
[]
[]
[]
[]
[]
[]
[]
[]
[]
[]
[]
[]
[]
[]
[]
[]
[]
[]
[]
[]
[]
[]
[]
[]
[]
[]
[]
[]
[]
[]
[]
[]
[]
[]
[]
[]
[]
[]
[]
[]
[]
[]
[]
[]
[]
[]
[]
[]
[]
[]
[]
[]
[]
[]
[]
[]
[]
[]
[]
[]
[]
[]
[]
[]
[]
[]
[]
[]
[]
[]
[]
[]
[]
[]
[]
[]
[]
[]
[]
[]
[]
[]
[]
[]
[]
[]
[]
[]
[]
[]
[]
[]
[]
[]
[]
[]
[]
[]
[]
[]
[]
[]
[]
[]
[]
[]
[]
[]
[]
[]
[]
[]
[]
[]
[]
[]
[]
[]
[]
[]
[]
[]
[]
[]
[]
[]
[]
[]
[]
[]
[]
[]
[]
[]
[]
[]
[]
[]
[]
[]
[]
[]
[]
[]
[]
[]
[]
[]
[]
[]
[]
[]
[]
[]
[]
[]
[]
[]
[]
[]
[]
[]
[]
[]
[]
[]
[]
[]
[]
[]
[]
[]
[]
[]
[]
[]
[]
[]
[]
[]
[]
[]
[]
[]
[]
[]
[]
[]
[]
[]
[]
[]
[]
[]
[]
[]
[]
[]
[]
[]
[]
[]
[]
[]
[]
[]
[]
[]
[]
[]
[]
[]
[]
[]
[]
[]
[]
[]
[]
[]
[]
[]
[]
[]
[]
[]
[]
[]
[]
[]
[]
[]
[]
[]
[]
[]
[]
[]
[]
[]
[]
[]
[]
[]
[]
[]
[]
[]
[]
[]
[]
[]
[]
[]
[]
[]
[]
[]
[]
[]
[]
[]
[]
[]
[]
[]
[]
[]
[]
[]
[]
[]
[]
[]
[]
[]
[]
[]
[]
[]
[]
[]
[]
[]
[]
[]
[]
[]
[]
[]
[]
[]
[]
[]
[]
[]
[]
[]
[]
[]
[]
[]
[]
[]
[]
[]
[]
[]
[]
[]
[]
[]
[]
[]
[]
[]
[]
[]
[]
[]
[]
[]
[]
[]
[]
[]
[]
[]
[]
[]
[]
[]
[]
[]
[]
[]
[]
[]
[]
[]
[]
[]
[]
[]
[]
[]
[]
[]
[]
[]
[]
[]
[]
[]
[]
[]
[]
[]
[]
[]
[]
[]
[]
[]
[]
[]
[]
[]
[]
[]
[]
[]
[]
[]
[]
[]
[]
[]
[]
[]
[]
[]
[]
[]
[]
[]
[]
[]
[]
[]
[]
[]
[]
[]
[]
[]
[]
[]
[]
[]
[]
[]
[]
[]
[]
[]
[]
[]
[]
[]
[]
[]
[]
[]
[]
[]
[]
[]
[]
[]
[]
[]
[]
[]
[]
[]
[]
[]
[]
[]
[]
[]
[]
[]
[]
[]
[]
[]
[]
[]
[]
[]
[]
[]
[]
[]
[]
[]
[]
[]
[]
[]
[]
[]
[]
[]
[]
[]
[]
[]
[]
[]
[]
[]
[]
[]
[]
[]
[]
[]
[]
[]
[]
[]
[]
[]
[]
[]
[]
[]
[]
[]
[]
[]
[]
[]
[]
[]
[]
[]
[]
[]
[]
[]
[]
[]
[]
[]
[]
[]
[]
[]
[]
[]
[]
[]
[]
[]
[]
[]
[]
[]
[]
[]
[]
[]
[]
[]
[]
[]
[]
[]
[]
[]
[]
[]
[]
[]
[]
[]
[]
[]
[]
[]
[]
[]
[]
[]
[]
[]
[]
[]
[]
[]
[]
[]
[]
[]
[]
[]
[]
[]
[]
[]
[]
[]
[]
[]
[]
[]
[]
[]
[]
[]
[]
[]
[]
[]
[]
[]
[]
[]
[]
[]
[]
[]
[]
[]
[]
[]
[]
[]
[]
[]
[]
[]
[]
[]
[]
[]
[]
[]
[]
[]
[]
[]
[]
[]
[]
[]
[]
[]
[]
[]
[]
[]
[]
[]
[]
[]
[]
[]
[]
[]
[]
[]
[]
[]
[]
[]
[]
[]
[]
[]
[]
[]
[]
[]
[]
[]
[]
[]
[]
[]
[]
[]
[]
[]
[]
[]
[]
[]
[]
[]
[]
[]
[]
[]
[]
[]
[]
[]
[]
[]
[]
[]
[]
[]
[]
[]
[]
[]
[]
[]
[]
[]
[]
[]
[]
[]
[]
[]
[]
[]
[]
[]
[]
[]
[]
[]
[]
[]
[]
[]
[]
[]
[]
[]
[]
[]
[]
[]
[]
[]
[]
[]
[]
[]
[]
[]
[]
[]
[]
[]
[]
[]
[]
[]
[]
[]
[]
[]
[]
[]
[]
[]
[]
[]
[]
[]
[]
[]
[]
[]
[]
[]
[]
[]
[]
[]
[]
[]
[]
[]
[]
[]
[]
[]
[]
[]
[]
[]
[]
[]
[]
[]
[]
[]
[]
[]
[]
[]
[]
[]
[]
[]
[]
[]
[]
[]
[]
[]
[]
[]
[]
[]
[]
[]
[]
[]
[]
[]
[]
[]
[]
[]
[]
[]
[]
[]
[]
[]
[]
[]
[]
[]
[]
[]
[]
[]
[]
[]
[]
[]
[]
[]
[]
[]
[]
[]
[]
[]
[]
[]
[]
[]
[]
[]
[]
[]
[]
[]
[]
[]
[]
[]
[]
[]
[]
[]
[]
[]
[]
[]
[]
[]
[]
[]
[]
[]
[]
[]
[]
[]
[]
[]
[]
[]
[]
[]
[]
[]
[]
[]
[]
[]
[]
[]
[]
[]
[]
[]
[]
[]
[]
[]
[]
[]
[]
[]
[]
[]
[]
[]
[]
[]
[]
[]
[]
[]
[]
[]
[]
[]
[]
[]
[]
[]
[]
[]
[]
[]
[]
[]
[]
[]
[]
[]
[]
[]
[]
[]
[]
[]
[]
[]
[]
[]
[]
[]
[]
[]
[]
[]
[]
[]
[]
[]
[]
[]
[]
[]
[]
[]
[]
[]
[]
[]
[]
[]
[]
[]
[]
[]
[]
[]
[]
[]
[]
[]
[]
[]
[]
[]
[]
[]
[]
[]
[]
[]
[]
[]
[]
[]
[]
[]
[]
[]
[]
[]
[]
[]
[]
[]
[]
[]
[]
[]
[]
[]
[]
[]
[]
[]
[]
[]
[]
[]
[]
[]
[]
[]
[]
[]
[]
[]
[]
[]
[]
[]
[]
[]
[]
[]
[]
[]
[]
[]
[]
[]
[]
[]
[]
[]
[]
[]
[]
[]
[]
[]
[]
[]
[]
[]
[]
[]
[]
[]
[]
[]
[]
[]
[]
[]
[]
[]
[]
[]
[]
[]
[]
[]
[]
[]
[]
[]
[]
[]
[]
[]
[]
[]
[]
[]
[]
[]
[]
[]
[]
[]
[]
[]
[]
[]
[]
[]
[]
[]
[]
[]
[]
[]
[]
[]
[]
[]
[]
[]
[]
[]
[]
[]
[]
[]
[]
[]
[]
[]
[]
[]
[]
[]
[]
[]
[]
[]
[]
[]
[]
[]
[]
[]
[]
[]
[]
[]
[]
[]
[]
[]
[]
[]
[]
[]
[]
[]
[]
[]
[]
[]
[]
[]
[]
[]
[]
[]
[]
[]
[]
[]
[]
[]
[]
[]
[]
[]
[]
[]
[]
[]
[]
[]
[]
[]
[]
[]
[]
[]
[]
[]
[]
[]
[]
[]
[]
[]
[]
[]
[]
[]
[]
[]
[]
[]
[]
[]
[]
[]
[]
[]
[]
[]
[]
[]
[]
[]
[]
[]
[]
[]
[]
[]
[]
[]
[]
[]
[]
[]
[]
[]
[]
[]
[]
[]
[]
[]
[]
[]
[]
[]
[]
[]
[]
[]
[]
[]
[]
[]
[]
[]
[]
[]
[]
[]
[]
[]
[]
[]
[]
[]
[]
[]
[]
[]
[]
[]
[]
[]
[]
[]
[]
[]
[]
[]
[]
[]
[]
[]
[]
[]
[]
[]
[]
[]
[]
[]
[]
[]
[]
[]
[]
[]
[]
[]
[]
[]
[]
[]
[]
[]
[]
[]
[]
[]
[]
[]
[]
[]
[]
[]
[]
[]
[]
[]
[]
[]
[]
[]
[]
[]
[]
[]
[]
[]
[]
[]
[]
[]
[]
[]
[]
[]
[]
[]
[]
[]
[]
[]
[]
[]
[]
[]
[]
[]
[]
[]
[]
[]
[]
[]
[]
[]
[]
[]
[]
[]
[]
[]
[]
[]
[]
[]
[]
[]
[]
[]
[]
[]
[]
[]
[]
[]
[]
[]
[]
[]
[]
[]
[]
[]
[]
[]
[]
[]
[]
[]
[]
[]
[]
[]
[]
[]
[]
[]
[]
[]
[]
[]
[]
[]
[]
[]
[]
[]
[]
[]
[]
[]
[]
[]
[]
[]
[]
[]
[]
[]
[]
[]
[]
[]
[]
[]
[]
[]
[]
[]
[]
[]
[]
[]
[]
[]
[]
[]
[]
[]
[]
[]
[]
[]
[]
[]
[]
[]
[]
[]
[]
[]
[]
[]
[]
[]
[]
[]
[]
[]
[]
[]
[]
[]
[]
[]
[]
[]
[]
[]
[]
[]
[]
[]
[]
[]
[]
[]
[]
[]
[]
[]
[]
[]
[]
[]
[]
[]
[]
[]
[]
[]
[]
[]
[]
[]
[]
[]
[]
[]
[]
[]
[]
[]
[]
[]
[]
[]
[]
[]
[]
[]
[]
[]
[]
[]
[]
[]
[]
[]
[]
[]
[]
[]
[]
[]
[]
[]
[]
[]
[]
[]
[]
[]
[]
[]
[]
[]
[]
[]
[]
[]
[]
[]
[]
[]
[]
[]
[]
[]
[]
[]
[]
[]
[]
[]
[]
[]
[]
[]
[]
[]
[]
[]
[]
[]
[]
[]
[]
[]
[]
[]
[]
[]
[]
[]
[]
[]
[]
[]
[]
[]
[]
[]
[]
[]
[]
[]
[]
[]
[]
[]
[]
[]
[]
[]
[]
[]
[]
[]
[]
[]
[]
[]
[]
[]
[]
[]
[]
[]
[]
[]
[]
[]
[]
[]
[]
[]
[]
[]
[]
[]
[]
[]
[]
[]
[]
[]
[]
[]
[]
[]
[]
[]
[]
[]
[]
[]
[]
[]
[]
[]
[]
[]
[]
[]
[]
[]
[]
[]
[]
[]
[]
[]
[]
[]
[]
[]
[]
[]
[]
[]
[]
[]
[]
[]
[]
[]
[]
[]
[]
[]
[]
[]
[]
[]
[]
[]
[]
[]
[]
[]
[]
[]
[]
[]
[]
[]
[]
[]
[]
[]
[]
[]
[]
[]
[]
[]
[]
[]
[]
[]
[]
[]
[]
[]
[]
[]
[]
[]
[]
[]
[]
[]
[]
[]
[]
[]
[]
[]
[]
[]
[]
[]
[]
[]
[]
[]
[]
[]
[]
[]
[]
[]
[]
[]
[]
[]
[]
[]
[]
[]
[]
[]
[]
[]
[]
[]
[]
[]
[]
[]
[]
[]
[]
[]
[]
[]
[]
[]
[]
[]
[]
[]
[]
[]
[]
[]
[]
[]
[]
[]
[]
[]
[]
[]
[]
[]
[]
[]
[]
[]
[]
[]
[]
[]
[]
[]
[]
[]
[]
[]
[]
[]
[]
[]
[]
[]
[]
[]
[]
[]
[]
[]
[]
[]
[]
[]
[]
[]
[]
[]
[]
[]
[]
[]
[]
[]
[]
[]
[]
[]
[]
[]
[]
[]
[]
[]
[]
[]
[]
[]
[]
[]
[]
[]
[]
[]
[]
[]
[]
[]
[]
[]
[]
[]
[]
[]
[]
[]
[]
[]
[]
[]
[]
[]
[]
[]
[]
[]
[]
[]
[]
[]
[]
[]
[]
[]
[]
[]
[]
[]
[]
[]
[]
[]
[]
[]
[]
[]
[]
[]
[]
[]
[]
[]
[]
[]
[]
[]
[]
[]
[]
[]
[]
[]
[]
[]
[]
[]
[]
[]
[]
[]
[]
[]
[]
[]
[]
[]
[]
[]
[]
[]
[]
[]
[]
[]
[]
[]
[]
[]
[]
[]
[]
[]
[]
[]
[]
[]
[]
[]
[]
[]
[]
[]
[]
[]
[]
[]
[]
[]
[]
[]
[]
[]
[]
[]
[]
[]
[]
[]
[]
[]
[]
[]
[]
[]
[]
[]
[]
[]
[]
[]
[]
[]
[]
[]
[]
[]
[]
[]
[]
[]
[]
[]
[]
[]
[]
[]
[]
[]
[]
[]
[]
[]
[]
[]
[]
[]
[]
[]
[]
[]
[]
[]
[]
[]
[]
[]
[]
[]
[]
[]
[]
[]
[]
[]
[]
[]
[]
[]
[]
[]
[]
[]
[]
[]
[]
[]
[]
[]
[]
[]
[]
[]
[]
[]
[]
[]
[]
[]
[]
[]
[]
[]
[]
[]
[]
[]
[]
[]
[]
[]
[]
[]
[]
[]
[]
[]
[]
[]
[]
[]
[]
[]
[]
[]
[]
[]
[]
[]
[]
[]
[]
[]
[]
[]
[]
[]
[]
[]
[]
[]
[]
[]
[]
[]
[]
[]
[]
[]
[]
[]
[]
[]
[]
[]
[]
[]
[]
[]
[]
[]
[]
[]
[]
[]
[]
[]
[]
[]
[]
[]
[]
[]
[]
[]
[]
[]
[]
[]
[]
[]
[]
[]
[]
[]
[]
[]
[]
[]
[]
[]
[]
[]
[]
[]
[]
[]
[]
[]
[]
[]
[]
[]
[]
[]
[]
[]
[]
[]
[]
[]
[]
[]
[]
[]
[]
[]
[]
[]
[]
[]
[]
[]
[]
[]
[]
[]
[]
[]
[]
[]
[]
[]
[]
[]
[]
[]
[]
[]
[]
[]
[]
[]
[]
[]
[]
[]
[]
[]
[]
[]
[]
[]
[]
[]
[]
[]
[]
[]
[]
[]
[]
[]
[]
[]
[]
[]
[]
[]
[]
[]
[]
[]
[]
[]
[]
[]
[]
[]
[]
[null,null,null,null,null,null,null,null,null,null,null,null,null,null,null,null,null,null,null,null,"Elaboró: cpquintero"]

{"sheet":"distribucion puntos AC","index":2,"n_rows":44,"n_cols":11,"rows_kept":44,"cut":false,"hidden":false,"merged":[]}
[]
[]
[]
[]
[]
[]
[]
[]
[]
[]
[]
[]
[]
[]
[]
[]
[null,null,null,null,null,null,null,null,null,null,"Horarios de atención:"]
[]
[null,null,null,null,null,null,null,null,null,null,"Lunes a viernes de 7:00 a 4:30"]
[]
[]
[null,null,null,null,null,null,null,null,null,null,"Lunes a viernes de 7:00 a 4:30"]
[]
[]
[]
[]
[]
[]
[]
[null,null,null,null,null,null,null,null,null,null,"Lunes a viernes de 7:00 a 4:30"]
[]
[]
[null,null,null,null,null,null,null,null,null,null,"Lunes a viernes de 7:00 a 4:30"]
[]
[]
[null,null,null,null,null,null,null,null,null,null,"Lunes a viernes de 7:00 a 4:30"]
[]
[null,null,null,null,null,null,null,null,null,null,"Lunes a viernes de 8:00 a 12:00 y de 2:00 a 4:00"]
[]
[]
[null,null,null,null,null,null,null,null,null,null,"Lunes a viernes de 7:00 a 4:30"]
[]
[]
[null,null,null,null,null,null,null,null,null,null,"Lunes a viernes de 7:00 a 4:30"]

{"sheet":"resumen-","index":3,"n_rows":27,"n_cols":39,"rows_kept":27,"cut":false,"hidden":false,"merged":[]}
[null,"MES","NOVIEMBRE"]
[null,null,{"$f":"+C1","v":"NOVIEMBRE"},null,null,"MES","NOVIEMBRE",null,null,null,"MES","NOVIEMBRE",null,null,null,"MES","NOVIEMBRE",null,"MES","NOVIEMBRE",null,"MES","NOVIEMBRE",null,"MES","NOVIEMBRE",null,null,null,null,null,"MES","NOVIEMBRE",null,null,null,null,"MES","NOVIEMBRE"]
[null,"Etiquetas de fila","Cuenta de CANAL DE REGISTRO"]
[null,"PRESENCIAL",135,null,null,"Etiquetas de fila","Cuenta de PUNTO DE ATENCIÓN",null,null,null,"Etiquetas de fila","Cuenta de LOCALIDAD",null,null,null,"Etiquetas de fila","Cuenta de ATENDIDO POR",null,"Etiquetas de fila","Cuenta de TRAMITE/SERVICIO",null,"Etiquetas de fila","Cuenta de TEMA",null,"Etiquetas de fila","Cuenta de GRUPO DE VALOR",null,null,"%","RESTANTE",null,"Etiquetas de fila","Cuenta de SEXO",null,"%","RESTANTE",null,"Etiquetas de fila","Cuenta de TIPO SOLICITUD "]
[null,"TELEFÓNICO",223,null,null,"Bogotá te Escucha",261,{"$f":"+F5","v":"Bogotá te Escucha"},{"$f":"IFERROR(GETPIVOTDATA(\"PUNTO DE ATENCIÓN\",F4,\"PUNTO DE ATENCIÓN\",F5),0)","v":261},null,"14 Los Mártires",4,{"$f":"+K5","v":"14 Los Mártires"},{"$f":"+L5","v":4},null,"CARLOS DANIEL GALVIS LEAL",3,null,"Certificación de la propiedad inmobiliaria distrital",79,null,"Certificación de la propiedad inmobiliaria",65,null,"Universidades / Estudiantes",5,{"$f":"+Y5","v":"Universidades / Estudiantes"},{"$f":"IFERROR(+Z5,0)","v":5},{"$f":"IFERROR(+Z5/$Z$14,0)","v":5.208333333333333E-3},{"$f":"1-AC5","v":0.99479166666666663},null,"N/A",335,{"$f":"+AF5","v":"N/A"},{"$f":"IFERROR(+AG5/$Z$14,0)","v":0.34895833333333331},{"$f":"1-AI5","v":0.65104166666666674},null,"FELICITACIÓN",1]
[null,"VIRTUAL",1720,null,null,"Cad calle 26 mod-152",135,{"$f":"+F6","v":"Cad calle 26 mod-152"},{"$f":"IFERROR(GETPIVOTDATA(\"PUNTO DE ATENCIÓN\",F5,\"PUNTO DE ATENCIÓN\",F6),0)","v":135},null,"20 Sumapaz",5,{"$f":"+K6","v":"20 Sumapaz"},{"$f":"+L6","v":5},null,"NIDIA JINETH GONZALEZ CÁRDENAS",9,null,"Incorporación y entrega de las áreas de cesión a favor del municipio",92,null,"CAMEP Contrato de administración y mantenimiento",167,null,"Organizaciones Sociales",12,{"$f":"+Y6","v":"Organizaciones Sociales"},{"$f":"IFERROR(+Z6,0)","v":12},{"$f":"IFERROR(+Z6/$Z$14,0)","v":1.2500000000000001E-2},{"$f":"1-AC6","v":0.98750000000000004},null,"Femenino",929,{"$f":"+AF6","v":"Femenino"},{"$f":"IFERROR(+AG6/$Z$14,0)","v":0.96770833333333328},{"$f":"1-AI6","v":3.2291666666666718E-2},null,"SOLICITUD DE COPIA",1]
[null,"Total general",2078,null,null,"Chat",11,"Chat",11,null,"15 Antonio Nariño",6,"15 Antonio Nariño",6,null,"AURA CRISTINA IZQUIERDO PACHECO",13,null,"Estudio de la viabilidad de las solicitudes de administración de bienes públicos",197,null,"Competencia otras entidades",172,null,"Juntas Administradoras Locales (JAL)",15,"Juntas Administradoras Locales (JAL)",15,1.5625E-2,0.984375,null,"Masculino",814,"Masculino",0.84791666666666665,0.15208333333333335,null,"SUGERENCIA",3]
[null,null,null,null,null,"Conmutador",220,"Conmutador",220,null,"17 La Candelaria",9,"17 La Candelaria",9,null,"LILIANA AGUILAR PUENTES",22,null,"Asesoría en administración y sostenibilidad del espacio público",288,null,"Asesoría en temas de espacio público",200,null,"Servidores públicos (funcionarios y contratistas)",15,"Servidores públicos (funcionarios y contratistas)",15,1.5625E-2,0.984375,null,"Total general",2078,"Total general",2.1645833333333333,-1.1645833333333333,null,"SOLICITUD DE ACCESO A LA INFORMACION",5]
[null,null,null,null,null,"Red social facebook",5,"Red social facebook",5,null,"06 Tunjuelito",11,"06 Tunjuelito",11,null,"PAULA ALEJANDRA MARTÍNEZ CALDERÓN ",98,null,"Consulta general",1422,null,"Peticiones entre entidades",1013,null,"Juntas de Acción Comunal (JAC)",26,null,null,2.7083333333333334E-2,0.97291666666666665,null,null,null,0,0,1,null,"RECLAMO",6]
[null,null,null,null,null,"Ventanilla de radicación Webservice",10,"Ventanilla de radicación Webservice",10,null,"12 Barrios Unidos",16,"12 Barrios Unidos",16,null,"JANETH REDONDO",105,null,"Total general",2078,null,"Total general",1617,null,"Entidades y Organismos Nacionales",93,{"$f":"+Y10","v":"Entidades y Organismos Nacionales"},93,9.6875000000000003E-2,0.90312499999999996,null,null,null,{"$f":"+AF10","v":0},0,1,null,"INVITACIONES",7]
[null,null,null,null,null,"Red social twiter",8,"Red social twiter",8,null,"Fuera de Bogotá",20,"Fuera de Bogotá",20,null,"ALBEIRO ESCOBAR",113,null,null,null,null,null,null,null,"Anónimo",127,"Anónimo",127,0.13229166666666667,0.8677083333333333,null,null,null,{"$f":"+AF11","v":0},0,1,null,"QUEJA",54]
[null,null,null,null,null,"CELULAR",3,"CELULAR",3,null,"03 Santa fe",21,"03 Santa fe",21,null,"OLGA LUCÍA MESA MORENO",258,null,null,null,null,null,null,null,"Empresas privadas",264,{"$f":"+Y12","v":"Empresas privadas"},{"$f":"IFERROR(+Z12,0)","v":264},0.27500000000000002,0.72499999999999998,null,null,null,0,0,1,null,"DERECHO DE PETICIÓN DE INTERÉS GENERAL",95]
[null,null,null,null,null,"Correo electrónico",1425,"Correo electrónico",1425,null,"13 Teusaquillo",24,"13 Teusaquillo",24,null,"CRISTHIAN CAMILO MONTAÑA HERNANDEZ",1457,null,null,null,null,null,null,null,"Ciudadanía",561,"Ciudadanía",561,0.58437499999999998,0.41562500000000002,null,null,null,0,0,1,null,"DERECHO DE PETICIÓN DE INTERÉS PARTICULAR",98]
[null,null,null,null,null,"Total general",2078,"Total general",{"$f":"+GETPIVOTDATA(\"PUNTO DE ATENCIÓN\",$F$4)","v":2078},null,"16 Puente Aranda",26,"16 Puente Aranda",26,null,"Total general",2078,null,null,null,null,null,null,null,"Entidades y Organismos Distritales",960,null,null,1,0,null,null,null,0,0,1,null,"NOTIFICACIONES",201]
[null,null,null,null,null,null,null,null,null,null,"05 Usme",37,"05 Usme",37,null,null,null,null,null,null,null,null,null,null,"Total general",2078,null,null,null,null,null,null,null,null,null,null,null,"CONSULTA",251]
[null,null,null,null,null,null,null,null,null,null,"04 San Cristóbal",39,"04 San Cristóbal",39,null,null,null,null,null,null,null,null,null,null,null,null,null,null,null,null,null,null,null,null,null,null,null,"ASESORÍA",343]
[null,null,null,null,null,null,null,null,null,null,"02 Chapinero",43,"02 Chapinero",43,null,null,null,null,null,null,null,null,null,null,null,null,null,null,null,null,null,null,null,null,null,null,null,"PETICIONES ENTRE ENTIDADES",1013]
[null,null,null,null,null,null,null,null,null,null,"07 Bosa",43,"07 Bosa",43,null,null,null,null,null,null,null,null,null,null,null,null,null,null,null,null,null,null,null,null,null,null,null,"Total general",2078]
[null,null,null,null,null,null,null,null,null,null,"19 Ciudad Bolívar",43,"19 Ciudad Bolívar",43]
[null,null,null,null,null,null,null,null,null,null,"09 Fontibón",47,"09 Fontibón",47]
[null,null,null,null,null,null,null,null,null,null,"08 Kennedy",64,"08 Kennedy",64]
[null,null,null,null,null,null,null,null,null,null,"01 Usaquén",71,"01 Usaquén",71]
[null,null,null,null,null,null,null,null,null,null,"10 Engativá",76,"10 Engativá",76]
[null,null,null,null,null,null,null,null,null,null,"18 Rafael Uribe Uribe",119,"18 Rafael Uribe Uribe",119]
[null,null,null,null,null,null,null,null,null,null,"11 Suba",138,"11 Suba",138]
[null,null,null,null,null,null,null,null,null,null,"No Registra",1216,"No Registra",1216]
[null,null,null,null,null,null,null,null,null,null,"Total general",2078,"Total general",2078]

{"sheet":"consolidado noviembre-2022","index":4,"n_rows":2084,"n_cols":26,"rows_kept":2084,"cut":false,"hidden":false,"merged":[[3,0,3,14],[3,15,3,25]]}
[]
[]
[]
["PROCESO: ATENCIÓN AL CLIENTE Y/O USUARIO",null,null,null,null,null,null,null,null,null,null,null,null,null,null,"PROCEDIMIENTO Y/O DOCUMENTO: PROCEDIMIENTO ATENCIÓN A LA CIUDADANÍA"]
[null,null,"DICIEMBRE 2021","Diciembre 2021","Diciembre"]
["ITEMS","AÑO","MES","FECHA","HORA","ATENDIDO POR","CANAL DE REGISTRO","PUNTO DE ATENCIÓN","CORREO ELECTRÓNICO","GRUPO DE VALOR","NOMBRE DEL GRUPO DE VALOR","PARTES INTERESADAS","NOMBRE DE LA PARTE INTERESADA","SEXO","GÉNERO","ORIENTACIÓN SEXUAL","GRADO DE VULNERABILIDAD","ETNIA","RANGO DE EDAD","TIPO SOLICITUD ","TRAMITE/SERVICIO","TEMA","ASUNTO","EVENTO","DESTINO","LOCALIDAD"]
[1,2022,"NOVIEMBRE","2022-11-01","07:06:00","ALBEIRO ESCOBAR","PRESENCIAL","Cad calle 26 mod-152","Sin datos","Ciudadanía","ALIX FABIOLA ROJAS BERNAL","Ciudadanía","ALIX FABIOLA ROJAS BERNAL","Femenino","Mujer","Sin datos","Adulto mayor","Sin datos","De 55 a 64","ASESORÍA","Certificación de la propiedad inmobiliaria distrital","Certificación de la propiedad inmobiliaria","rupi 2803-79","Atención al ciudadano",null,"10 Engativá"]
[2,2022,"NOVIEMBRE","2022-11-01","07:41:00","ALBEIRO ESCOBAR","PRESENCIAL","Cad calle 26 mod-152","Sin datos","Juntas de Acción Comunal (JAC)","ANGELA CIFUENTES","Juntas de Acción Comunal (JAC)","ANGELA CIFUENTES","Femenino","Mujer","Sin datos","Adulto mayor","Sin datos","65 y mas","ASESORÍA","Asesoría en administración y sostenibilidad del espacio público","Asesoría en temas de espacio público","CAMEP RUPI 3681 TURINGIA","Atención al ciudadano",null,"11 Suba"]
[3,2022,"NOVIEMBRE","2022-11-01","08:28:00","ALBEIRO ESCOBAR","PRESENCIAL","Cad calle 26 mod-152","Sin datos","Ciudadanía","MARIA DEL CARMEN BUENO OMBITA","Ciudadanía","MARIA DEL CARMEN BUENO OMBITA","Femenino","Mujer","Sin datos","Adulto mayor","Sin datos","65 y mas","ASESORÍA","Incorporación y entrega de las áreas de cesión a favor del municipio","Cabida y linderos","CABIDA Y LINDEROS RUPI 658-1","Atención al ciudadano",null,"18 Rafael Uribe Uribe"]
[4,2022,"NOVIEMBRE","2022-11-01","09:06:00","ALBEIRO ESCOBAR","PRESENCIAL","Cad calle 26 mod-152","Sin datos","Ciudadanía","MARCO FIDEL NIAMPIRA NIAMPIRA","Ciudadanía","MARCO FIDEL NIAMPIRA NIAMPIRA","Masculino","Hombre ","Sin datos","Adulto mayor","Sin datos","De 55 a 64","ASESORÍA","Incorporación y entrega de las áreas de cesión a favor del municipio","Cabida y linderos","RUPI 2357-9","Atención al ciudadano",null,"07 Bosa"]
[5,2022,"NOVIEMBRE","2022-11-01","10:07:00","ALBEIRO ESCOBAR","PRESENCIAL","Cad calle 26 mod-152","Sin datos","Ciudadanía","YULLY PATRICIA SUAREZ AREVALO","Ciudadanía","YULLY PATRICIA SUAREZ AREVALO","Femenino","Mujer","Sin datos","Padre/madre cabeza de familia","Sin datos","De 45 a 54","ASESORÍA","Incorporación y entrega de las áreas de cesión a favor del municipio","Cabida y linderos","KR 90B BIS 160 15 RUPI 1208-2","Atención al ciudadano",null,"11 Suba"]
[6,2022,"NOVIEMBRE","2022-11-01","10:20:00","ALBEIRO ESCOBAR","PRESENCIAL","Cad calle 26 mod-152","Sin datos","Ciudadanía","CARMEN ROSA  CORDOBA DE PAEZ","Ciudadanía","CARMEN ROSA  CORDOBA DE PAEZ","Femenino","Mujer","Sin datos","Padre/madre cabeza de familia","Sin datos","De 45 a 54","CONSULTA","Consulta general","Oferta de servicios","INTERVENCION CALLE RUPI 2574-2","Atención al ciudadano",null,"16 Puente Aranda"]
[7,2022,"NOVIEMBRE","2022-11-01","10:28:00","ALBEIRO ESCOBAR","PRESENCIAL","Cad calle 26 mod-152","Sin datos","Ciudadanía","LUIS ANIBAL RUBIANO MARIN","Ciudadanía","LUIS ANIBAL RUBIANO MARIN","Masculino","Hombre ","Sin datos","Adulto mayor","Sin datos","65 y mas","ASESORÍA","Certificación de la propiedad inmobiliaria distrital","Certificación de la propiedad inmobiliaria","RUPI 203-5","Atención al ciudadano",null,"01 Usaquén"]
[8,2022,"NOVIEMBRE","2022-11-01","11:07:00","ALBEIRO ESCOBAR","PRESENCIAL","Cad calle 26 mod-152","Sin datos","Ciudadanía","HECTOR MAURICIO SANCHEZ GONZALEZ","Ciudadanía","HECTOR MAURICIO SANCHEZ GONZALEZ","Masculino","Hombre ","Sin datos","Padre/madre cabeza de familia","Sin datos","De 45 a 54","ASESORÍA","Certificación de la propiedad inmobiliaria distrital","Certificación de la propiedad inmobiliaria","RADICADO 20221100166121 INCIDENTE DE NULIDAD","Atención al ciudadano",null,"09 Fontibón"]
[9,2022,"NOVIEMBRE","2022-11-01","14:02:00","ALBEIRO ESCOBAR","PRESENCIAL","Cad calle 26 mod-152","Sin datos","Ciudadanía","NANCY YANET CALDERON VILLAMIL","Ciudadanía","NANCY YANET CALDERON VILLAMIL","Femenino","Mujer","Sin datos","Padre/madre cabeza de familia","Sin datos","De 55 a 64","ASESORÍA","Certificación de la propiedad inmobiliaria distrital","Certificación de la propiedad inmobiliaria","RUPI 3071-11","Atención al ciudadano",null,"13 Teusaquillo"]
[10,2022,"NOVIEMBRE","2022-11-01","14:25:00","ALBEIRO ESCOBAR","PRESENCIAL","Cad calle 26 mod-152","Sin datos","Ciudadanía","MARIA CUSTODIA CARO TORRES","Ciudadanía","MARIA CUSTODIA CARO TORRES","Femenino","Mujer","Sin datos","Padre/madre cabeza de familia","Sin datos","De 55 a 64","ASESORÍA","Incorporación y entrega de las áreas de cesión a favor del municipio","Cabida y linderos","RADICADO 20222030154271","Atención al ciudadano",null,"08 Kennedy"]
[11,2022,"NOVIEMBRE","2022-11-02","08:46:00","ALBEIRO ESCOBAR","PRESENCIAL","Cad calle 26 mod-152","Sin datos","Ciudadanía","HEBERT SUAREZ","Ciudadanía","HEBERT SUAREZ","Masculino","Hombre ","Sin datos","Padre/madre cabeza de familia","Sin datos","De 55 a 64","CONSULTA","Consulta general","Oferta de servicios","LICENCIA DE INTERVENCION CLINICA VIRREY SOLIS","Atención al ciudadano",null,"11 Suba"]
[12,2022,"NOVIEMBRE","2022-11-02","09:54:00","ALBEIRO ESCOBAR","PRESENCIAL","Cad calle 26 mod-152","Sin datos","Ciudadanía","EMILIOANO CANGREJO DURAN","Ciudadanía","EMILIOANO CANGREJO DURAN","Masculino","Hombre ","Sin datos","Adulto mayor","Sin datos","De 55 a 64","ASESORÍA","Incorporación y entrega de las áreas de cesión a favor del municipio","Cabida y linderos","RUPI 1744-9","Atención al ciudadano",null,"11 Suba"]
[13,2022,"NOVIEMBRE","2022-11-02","10:27:00","ALBEIRO ESCOBAR","PRESENCIAL","Cad calle 26 mod-152","Sin datos","Ciudadanía","JOSE AUGUSTO NIETO GUZMAN","Ciudadanía","JOSE AUGUSTO NIETO GUZMAN","Masculino","Hombre ","Sin datos","Padre/madre cabeza de familia","Sin datos","De 55 a 64","ASESORÍA","Incorporación y entrega de las áreas de cesión a favor del municipio","Cabida y linderos","KR 53 BIS 128B 34","Atención al ciudadano",null,"11 Suba"]
[14,2022,"NOVIEMBRE","2022-11-02","10:39:00","ALBEIRO ESCOBAR","PRESENCIAL","Cad calle 26 mod-152","Sin datos","Ciudadanía","ORTULFO RAMIREZ","Ciudadanía","ORTULFO RAMIREZ","Masculino","Hombre ","Sin datos","Padre/madre cabeza de familia","Sin datos","De 55 a 64","ASESORÍA","Asesoría en administración y sostenibilidad del espacio público","Asesoría en temas de espacio público","CAMEP RUPI 246-8","Atención al ciudadano",null,"01 Usaquén"]
[15,2022,"NOVIEMBRE","2022-11-02","11:37:00","ALBEIRO ESCOBAR","PRESENCIAL","Cad calle 26 mod-152","Sin datos","Ciudadanía","LUIS EDUARDO TRIANA PEREZ","Ciudadanía","LUIS EDUARDO TRIANA PEREZ","Masculino","Hombre ","Sin datos","Adulto mayor","Sin datos","65 y mas","ASESORÍA","Asesoría en administración y sostenibilidad del espacio público","Asesoría en temas de espacio público","CAMEP RUPI 2136-7","Atención al ciudadano",null,"08 Kennedy"]
[16,2022,"NOVIEMBRE","2022-11-02","11:47:00","ALBEIRO ESCOBAR","PRESENCIAL","Cad calle 26 mod-152","Sin datos","Ciudadanía","GLORIA YANET BENAVIDES AGUACIA","Ciudadanía","GLORIA YANET BENAVIDES AGUACIA","Femenino","Mujer","Sin datos","Adulto mayor","Sin datos","65 y mas","ASESORÍA","Incorporación y entrega de las áreas de cesión a favor del municipio","Cabida y linderos","RUPI 1403-44","Atención al ciudadano",null,"05 Usme"]
[17,2022,"NOVIEMBRE","2022-11-02","12:00:00","CRISTHIAN CAMILO MONTAÑA HERNANDEZ","PRESENCIAL","Cad calle 26 mod-152","Sin datos","Ciudadanía","JAIRO ENRIQUE ROMAÑA CUESTA","Ciudadanía","JAIRO ENRIQUE ROMAÑA CUESTA","Masculino","Hombre ","Sin datos","Ninguno","Sin datos","De 35 a 44","ASESORÍA","Asesoría en administración y sostenibilidad del espacio público","Asesoría en temas de espacio público","SOLICITUD DE INFORMACION PARA SUBIR DOCUMENTOS EN SECOP II, TRAMITE PORTAL INMOBILIARIO","Atención al ciudadano",null,"No Registra"]
[18,2022,"NOVIEMBRE","2022-11-02","12:06:00","CRISTHIAN CAMILO MONTAÑA HERNANDEZ","PRESENCIAL","Cad calle 26 mod-152","Sin datos","Ciudadanía","FLOR RODRIGUEZ","Ciudadanía","FLOR RODRIGUEZ","Femenino","Mujer","Sin datos","Adulto mayor","Sin datos","De 45 a 54","ASESORÍA","Estudio de la viabilidad de las solicitudes de administración de bienes públicos","CAMEP Contrato de administración y mantenimiento","SOLICITUD DE INFORMACION SI EN EL RUPI 1692-3 EXISTE ACTUALMENTE CONTRATO CAMEP","Atención al ciudadano",null,"19 Ciudad Bolívar"]
[19,2022,"NOVIEMBRE","2022-11-02","12:55:00","CRISTHIAN CAMILO MONTAÑA HERNANDEZ","PRESENCIAL","Cad calle 26 mod-152","Sin datos","Ciudadanía","POMPILO CAPERA","Ciudadanía","POMPILO CAPERA","Masculino","Hombre ","Sin datos","Ninguno","Sin datos","De 35 a 44","ASESORÍA","Certificación de la propiedad inmobiliaria distrital","Consulta predio","CONSULTA DE PREDIO AAA0154EKTO - SI ESTA INVADIENDO ESPACIO PUBLICO","Atención al ciudadano",null,"08 Kennedy"]
[20,2022,"NOVIEMBRE","2022-11-02","14:33:00","CRISTHIAN CAMILO MONTAÑA HERNANDEZ","PRESENCIAL","Cad calle 26 mod-152","Sin datos","Ciudadanía","OSCAR VARGAS","Ciudadanía","OSCAR VARGAS","Masculino","Hombre ","Sin datos","Adulto mayor","Sin datos","De 45 a 54","ASESORÍA","Estudio de la viabilidad de las solicitudes de administración de bienes públicos","CAMEP Contrato de administración y mantenimiento","SOLICITUD DE INFORMACION SI EN EL RUPI 1692-3 EXISTE ACTUALMENTE CONTRATO CAMEP","Atención al ciudadano",null,"19 Ciudad Bolívar"]
[21,2022,"NOVIEMBRE","2022-11-02","14:54:00","CRISTHIAN CAMILO MONTAÑA HERNANDEZ","PRESENCIAL","Cad calle 26 mod-152","Sin datos","Ciudadanía","EDUARDO CERON","Ciudadanía","EDUARDO CERON","Masculino","Hombre ","Sin datos","Ninguno","Sin datos","De 45 a 54","ASESORÍA","Certificación de la propiedad inmobiliaria distrital","Certificación de la propiedad inmobiliaria","CERTIFICACION RUPI 2364 Y 2-66","Atención al ciudadano",null,"04 San Cristóbal"]
[22,2022,"NOVIEMBRE","2022-11-03","07:15:00","ALBEIRO ESCOBAR","PRESENCIAL","Cad calle 26 mod-152","Sin datos","Ciudadanía","SANDRA CONSUELO SALAS MONGUI","Ciudadanía","SANDRA CONSUELO SALAS MONGUI","Femenino","Mujer","Sin datos","Padre/madre cabeza de familia","Sin datos","De 35 a 44","ASESORÍA","Certificación de la propiedad inmobiliaria distrital","Certificación de la propiedad inmobiliaria","AAA0026FTMS CL 73 SUR 18J 04","Atención al ciudadano",null,"19 Ciudad Bolívar"]
[23,2022,"NOVIEMBRE","2022-11-03","08:10:00","ALBEIRO ESCOBAR","PRESENCIAL","Cad calle 26 mod-152","Sin datos","Ciudadanía","GLORIA AMPARO BERNAL MARTINEZ","Ciudadanía","GLORIA AMPARO BERNAL MARTINEZ","Femenino","Mujer","Sin datos","Padre/madre cabeza de familia","Sin datos","De 55 a 64","ASESORÍA","Incorporación y entrega de las áreas de cesión a favor del municipio","Cabida y linderos","AAA0016JLOM CL 50A SUR 37 96","Atención al ciudadano",null,"06 Tunjuelito"]
[24,2022,"NOVIEMBRE","2022-11-03","08:55:00","ALBEIRO ESCOBAR","PRESENCIAL","Cad calle 26 mod-152","Sin datos","Ciudadanía","JULIAN ESTEBAN BELLAIZAN GARCIA","Ciudadanía","JULIAN ESTEBAN BELLAIZAN GARCIA","Masculino","Hombre ","Sin datos","Ninguno","Sin datos","De 35 a 44","ASESORÍA","Incorporación y entrega de las áreas de cesión a favor del municipio","Cabida y linderos","RADICADO 20224000259022","Atención al ciudadano",null,"03 Santa fe"]
[25,2022,"NOVIEMBRE","2022-11-03","09:32:00","ALBEIRO ESCOBAR","PRESENCIAL","Cad calle 26 mod-152","Sin datos","Ciudadanía","MARTHA LILIANA NEUTA TUNJO","Ciudadanía","MARTHA LILIANA NEUTA TUNJO","Femenino","Mujer","Sin datos","Adulto mayor","Sin datos","65 y mas","ASESORÍA","Incorporación y entrega de las áreas de cesión a favor del municipio","Cabida y linderos","AAA0151JRHK CL 85 SUR 81A 20","Atención al ciudadano",null,"07 Bosa"]
[26,2022,"NOVIEMBRE","2022-11-03","10:21:00","ALBEIRO ESCOBAR","PRESENCIAL","Cad calle 26 mod-152","Sin datos","Ciudadanía","AURA STELLA CARRILLO","Ciudadanía","AURA STELLA CARRILLO","Femenino","Mujer","Sin datos","Adulto mayor","Sin datos","65 y mas","ASESORÍA","Incorporación y entrega de las áreas de cesión a favor del municipio","Cabida y linderos","KR 102A 139 43 RADICADO 20214000177652","Atención al ciudadano",null,"11 Suba"]
[27,2022,"NOVIEMBRE","2022-11-03","11:28:00","ALBEIRO ESCOBAR","PRESENCIAL","Cad calle 26 mod-152","Sin datos","Ciudadanía","ILVA YOLANDA CUADRADO","Ciudadanía","ILVA YOLANDA CUADRADO","Femenino","Mujer","Sin datos","Padre/madre cabeza de familia","Sin datos","De 55 a 64","ASESORÍA","Asesoría en administración y sostenibilidad del espacio público","Asesoría en temas de espacio público","RUPI 2022-7","Atención al ciudadano",null,"11 Suba"]
[28,2022,"NOVIEMBRE","2022-11-03","12:02:00","ALBEIRO ESCOBAR","PRESENCIAL","Cad calle 26 mod-152","Sin datos","Ciudadanía","PAOLA ANDREA TARAZONA CASTILLO","Ciudadanía","PAOLA ANDREA TARAZONA CASTILLO","Femenino","Mujer","Sin datos","Ninguno","Sin datos","De 25 a 34","ASESORÍA","Certificación de la propiedad inmobiliaria distrital","Consulta predio","CONSULTA DE PREDIO AAA0083YNNN","Atención al ciudadano",null,"02 Chapinero"]
[29,2022,"NOVIEMBRE","2022-11-03","13:08:00","ALBEIRO ESCOBAR","PRESENCIAL","Cad calle 26 mod-152","Sin datos","Ciudadanía","ELSY CORREA TOQUICA","Ciudadanía","ELSY CORREA TOQUICA","Femenino","Mujer","Sin datos","Adulto mayor","Sin datos","De 55 a 64","ASESORÍA","Certificación de la propiedad inmobiliaria distrital","Certificación de la propiedad inmobiliaria","RADICADO 20222030074351 - 20222030084641 (REGISTRO SUR)","Atención al ciudadano",null,"06 Tunjuelito"]
[30,2022,"NOVIEMBRE","2022-11-03","13:30:00","ALBEIRO ESCOBAR","PRESENCIAL","Cad calle 26 mod-152","Sin datos","Ciudadanía","CARLOS GARCIA REYES","Ciudadanía","CARLOS GARCIA REYES","Masculino","Hombre ","Sin datos","Padre/madre cabeza de familia","Sin datos","De 55 a 64","CONSULTA","Consulta general","Oferta de servicios","LICENCIA DE INTERVENCION ","Atención al ciudadano",null,"07 Bosa"]
[31,2022,"NOVIEMBRE","2022-11-04","07:46:00","ALBEIRO ESCOBAR","PRESENCIAL","Cad calle 26 mod-152","Sin datos","Ciudadanía","ARISTIDES SALAMANCA GALINDO","Ciudadanía","ARISTIDES SALAMANCA GALINDO","Masculino","Hombre ","Sin datos","Adulto mayor","Sin datos","65 y mas","ASESORÍA","Incorporación y entrega de las áreas de cesión a favor del municipio","Entrega de zonas de cesión","BARRO BUENA VISTA SUR ORIENTAL LEGALIZACION","Atención al ciudadano",null,"04 San Cristóbal"]
[32,2022,"NOVIEMBRE","2022-11-04","08:00:00","ALBEIRO ESCOBAR","PRESENCIAL","Cad calle 26 mod-152","Sin datos","Ciudadanía","ISIDORO NARANJO LLANOS","Ciudadanía","ISIDORO NARANJO LLANOS","Masculino","Hombre ","Sin datos","Adulto mayor","Sin datos","65 y mas","ASESORÍA","Incorporación y entrega de las áreas de cesión a favor del municipio","Cabida y linderos","CABIDA Y LINDEROS 20214000066012","Atención al ciudadano",null,"01 Usaquén"]
[33,2022,"NOVIEMBRE","2022-11-04","09:21:00","ALBEIRO ESCOBAR","PRESENCIAL","Cad calle 26 mod-152","Sin datos","Ciudadanía","CESAR ALBERTO AREVALO PRIETO","Ciudadanía","CESAR ALBERTO AREVALO PRIETO","Masculino","Hombre ","Sin datos","Padre/madre cabeza de familia","Sin datos","De 55 a 64","ASESORÍA","Asesoría en administración y sostenibilidad del espacio público","Asesoría en temas de espacio público","REALIZAR PUBLICIDAD EN PREDIO KR 73A 77A 72","Atención al ciudadano",null,"10 Engativá"]
[34,2022,"NOVIEMBRE","2022-11-04","09:43:00","ALBEIRO ESCOBAR","PRESENCIAL","Cad calle 26 mod-152","Sin datos","Ciudadanía","ISRAEL VELANDIA PEREZ","Ciudadanía","ISRAEL VELANDIA PEREZ","Masculino","Hombre ","Sin datos","Adulto mayor","Sin datos","De 55 a 64","ASESORÍA","Incorporación y entrega de las áreas de cesión a favor del municipio","Entrega de zonas de cesión","SECTOR SAN JOSE LEGALIZACION","Atención al ciudadano",null,"11 Suba"]
[35,2022,"NOVIEMBRE","2022-11-04","09:54:00","ALBEIRO ESCOBAR","PRESENCIAL","Cad calle 26 mod-152","Sin datos","Ciudadanía","FRANCISCO JAVIER DE LA HOZ RODRIGUEZ","Ciudadanía","FRANCISCO JAVIER DE LA HOZ RODRIGUEZ","Masculino","Hombre ","Sin datos","Adulto mayor","Sin datos","65 y mas","ASESORÍA","Certificación de la propiedad inmobiliaria distrital","Certificación de la propiedad inmobiliaria","COIPA ACTA RUPI 1102","Atención al ciudadano",null,"01 Usaquén"]
[36,2022,"NOVIEMBRE","2022-11-04","10:05:00","ALBEIRO ESCOBAR","PRESENCIAL","Cad calle 26 mod-152","Sin datos","Ciudadanía","GLORIA YENET BENAVIDES AGUACIA","Ciudadanía","GLORIA YENET BENAVIDES AGUACIA","Femenino","Mujer","Sin datos","Adulto mayor","Sin datos","65 y mas","ASESORÍA","Certificación de la propiedad inmobiliaria distrital","Certificación de la propiedad inmobiliaria","RUPI 1403-44","Atención al ciudadano",null,"05 Usme"]
[37,2022,"NOVIEMBRE","2022-11-04","11:01:00","ALBEIRO ESCOBAR","PRESENCIAL","Cad calle 26 mod-152","Sin datos","Ciudadanía","LILIANA GORDILLO HERNANDEZ","Ciudadanía","LILIANA GORDILLO HERNANDEZ","Femenino","Mujer","Sin datos","Adulto mayor","Sin datos","65 y mas","ASESORÍA","Asesoría en administración y sostenibilidad del espacio público","Asesoría en temas de espacio público","CONVENIO SOLIDARIO 2652-12","Atención al ciudadano",null,"11 Suba"]
[38,2022,"NOVIEMBRE","2022-11-04","11:20:00","ALBEIRO ESCOBAR","PRESENCIAL","Cad calle 26 mod-152","Sin datos","Ciudadanía","JORGE ALBERTO ARAMBULA VANEGAS","Ciudadanía","JORGE ALBERTO ARAMBULA VANEGAS","Masculino","Hombre ","Sin datos","Adulto mayor","Sin datos","65 y mas","ASESORÍA","Certificación de la propiedad inmobiliaria distrital","Certificación de la propiedad inmobiliaria","CL 137 85 40","Atención al ciudadano",null,"11 Suba"]
[39,2022,"NOVIEMBRE","2022-11-04","12:26:00","CRISTHIAN CAMILO MONTAÑA HERNANDEZ","PRESENCIAL","Cad calle 26 mod-152","Sin datos","Ciudadanía","JOSE HUMBERTO QUINTERO MERCHAN","Ciudadanía","JOSE HUMBERTO QUINTERO MERCHAN","Masculino","Hombre ","Sin datos","Adulto mayor","Sin datos","65 y mas","ASESORÍA","Incorporación y entrega de las áreas de cesión a favor del municipio","Cabida y linderos","CABIDA Y LINDEROS DG 46B SUR 27 43","Atención al ciudadano",null,"18 Rafael Uribe Uribe"]
[40,2022,"NOVIEMBRE","2022-11-04","13:00:00","ALBEIRO ESCOBAR","PRESENCIAL","Cad calle 26 mod-152","Sin datos","Ciudadanía","DIEGO HERNANDEZ","Ciudadanía","DIEGO HERNANDEZ","Masculino","Hombre ","Sin datos","Ninguno","Sin datos","De 35 a 44","ASESORÍA","Certificación de la propiedad inmobiliaria distrital","Certificación de la propiedad inmobiliaria","RUPI 1642-21","Atención al ciudadano",null,"07 Bosa"]
[41,2022,"NOVIEMBRE","2022-11-04","16:11:00","ALBEIRO ESCOBAR","PRESENCIAL","Cad calle 26 mod-152","Sin datos","Ciudadanía","CARLOS GARCIA REYES","Ciudadanía","CARLOS GARCIA REYES","Masculino","Hombre ","Sin datos","Padre/madre cabeza de familia","Sin datos","De 45 a 54","ASESORÍA","Certificación de la propiedad inmobiliaria distrital","Certificación de la propiedad inmobiliaria","COPIA ACTA RUPI 2607","Atención al ciudadano",null,"07 Bosa"]
[42,2022,"NOVIEMBRE","2022-11-08","07:20:00","ALBEIRO ESCOBAR","PRESENCIAL","Cad calle 26 mod-152","Sin datos","Ciudadanía","PAULO EMILIO MENDEZ PEÑA","Ciudadanía","PAULO EMILIO MENDEZ PEÑA","Masculino","Hombre ","Sin datos","Padre/madre cabeza de familia","Sin datos","De 45 a 54","ASESORÍA","Incorporación y entrega de las áreas de cesión a favor del municipio","Cabida y linderos","CABIDA Y LINDEROS 2021EE4304","Atención al ciudadano",null,"04 San Cristóbal"]
[43,2022,"NOVIEMBRE","2022-11-08","07:58:00","ALBEIRO ESCOBAR","PRESENCIAL","Cad calle 26 mod-152","Sin datos","Ciudadanía","JULIO HERNAN PEÑA","Ciudadanía","JULIO HERNAN PEÑA","Masculino","Hombre ","Sin datos","Padre/madre cabeza de familia","Sin datos","De 45 a 54","ASESORÍA","Certificación de la propiedad inmobiliaria distrital","Certificación de la propiedad inmobiliaria","RUPI 2414-19","Atención al ciudadano",null,"04 San Cristóbal"]
[44,2022,"NOVIEMBRE","2022-11-08","08:44:00","ALBEIRO ESCOBAR","PRESENCIAL","Cad calle 26 mod-152","Sin datos","Ciudadanía","GABRIEL FORERO CRUZ","Ciudadanía","GABRIEL FORERO CRUZ","Masculino","Hombre ","Sin datos","Adulto mayor","Sin datos","De 55 a 64","ASESORÍA","Certificación de la propiedad inmobiliaria distrital","Certificación de la propiedad inmobiliaria","VIA DE LA CL 131 KR 88 DESARROLLO BELLAVISTA","Atención al ciudadano",null,"11 Suba"]
[45,2022,"NOVIEMBRE","2022-11-08","10:42:00","ALBEIRO ESCOBAR","PRESENCIAL","Cad calle 26 mod-152","Sin datos","Ciudadanía","EMILIANO CANGREJO DURAN","Ciudadanía","EMILIANO CANGREJO DURAN","Masculino","Hombre ","Sin datos","Adulto mayor","Sin datos","65 y mas","ASESORÍA","Incorporación y entrega de las áreas de cesión a favor del municipio","Cabida y linderos","CABIDA Y LINDEROS AAA0136POUM AC 153 104 46","Atención al ciudadano",null,"11 Suba"]
[46,2022,"NOVIEMBRE","2022-11-08","10:50:00","ALBEIRO ESCOBAR","PRESENCIAL","Cad calle 26 mod-152","Sin datos","Ciudadanía","JOSE HELIODORO PAEZ MORENO","Ciudadanía","JOSE HELIODORO PAEZ MORENO","Masculino","Hombre ","Sin datos","Adulto mayor","Sin datos","65 y mas","ASESORÍA","Certificación de la propiedad inmobiliaria distrital","Certificación de la propiedad inmobiliaria","KR 3 ESTE 24 16 (PARTE) RUPI 1-870","Atención al ciudadano",null,"03 Santa fe"]
[47,2022,"NOVIEMBRE","2022-11-08","11:27:00","ALBEIRO ESCOBAR","PRESENCIAL","Cad calle 26 mod-152","Sin datos","Ciudadanía","FAIBER AUGUSTO TRUJILLO LOZANO","Ciudadanía","FAIBER AUGUSTO TRUJILLO LOZANO","Masculino","Hombre ","Sin datos","Padre/madre cabeza de familia","Sin datos","De 45 a 54","ASESORÍA","Certificación de la propiedad inmobiliaria distrital","Certificación de la propiedad inmobiliaria","TR 78C 6C 10","Atención al ciudadano",null,"08 Kennedy"]
[48,2022,"NOVIEMBRE","2022-11-08","11:46:00","ALBEIRO ESCOBAR","PRESENCIAL","Cad calle 26 mod-152","Sin datos","Ciudadanía","REINALDO ROJAS CACERES","Ciudadanía","REINALDO ROJAS CACERES","Masculino","Hombre ","Sin datos","Padre/madre cabeza de familia","Sin datos","De 45 a 54","ASESORÍA","Certificación de la propiedad inmobiliaria distrital","Certificación de la propiedad inmobiliaria","RUPI 653-288","Atención al ciudadano",null,"18 Rafael Uribe Uribe"]
[49,2022,"NOVIEMBRE","2022-11-08","11:52:00","ALBEIRO ESCOBAR","PRESENCIAL","Cad calle 26 mod-152","Sin datos","Ciudadanía","SANDRA ´PATRICIA OSUNA RODRIGUEZ","Ciudadanía","SANDRA ´PATRICIA OSUNA RODRIGUEZ","Femenino","Mujer","Sin datos","Padre/madre cabeza de familia","Sin datos","De 45 a 54","ASESORÍA","Asesoría en administración y sostenibilidad del espacio público","Asesoría en temas de espacio público","FOOD TRUCKS CL 145 KR 128","Atención al ciudadano",null,"11 Suba"]
[50,2022,"NOVIEMBRE","2022-11-08","12:04:00","CRISTHIAN CAMILO MONTAÑA HERNANDEZ","PRESENCIAL","Cad calle 26 mod-152","Sin datos","Ciudadanía","GUILLERMO CENDALES LEYVA","Ciudadanía","GUILLERMO CENDALES LEYVA","Masculino","Hombre ","Sin datos","Adulto mayor","Sin datos","65 y mas","ASESORÍA","Asesoría en administración y sostenibilidad del espacio público","Asesoría en temas de espacio público","SOLICITUD DE PERMISO PARA VENTAS AMBULANTES","Atención al ciudadano",null,"08 Kennedy"]
[51,2022,"NOVIEMBRE","2022-11-08","12:31:00","CRISTHIAN CAMILO MONTAÑA HERNANDEZ","PRESENCIAL","Cad calle 26 mod-152","Sin datos","Ciudadanía","CECILIA VARON MORENO","Ciudadanía","CECILIA VARON MORENO","Femenino","Mujer","Sin datos","Ninguno","Sin datos","De 35 a 44","ASESORÍA","Certificación de la propiedad inmobiliaria distrital","Consulta predio","VERIFICACION ESTADO DE PREDIO DIRECCION CL 35 S 78Q 08","Atención al ciudadano",null,"08 Kennedy"]
[52,2022,"NOVIEMBRE","2022-11-09","09:23:00","ALBEIRO ESCOBAR","PRESENCIAL","Cad calle 26 mod-152","Sin datos","Ciudadanía","GLORIA ESTHER MORENO ALVARADO","Ciudadanía","GLORIA ESTHER MORENO ALVARADO","Femenino","Mujer","Sin datos","Padre/madre cabeza de familia","Sin datos","De 55 a 64","ASESORÍA","Incorporación y entrega de las áreas de cesión a favor del municipio","Cabida y linderos","CABIDA Y LINDEROS 2020EE 17627 - 20202030066271","Atención al ciudadano",null,"18 Rafael Uribe Uribe"]
[53,2022,"NOVIEMBRE","2022-11-09","10:40:00","ALBEIRO ESCOBAR","PRESENCIAL","Cad calle 26 mod-152","Sin datos","Ciudadanía","MARIA DEL CARMEN RAMIREZ CASTAÑEDA","Ciudadanía","MARIA DEL CARMEN RAMIREZ CASTAÑEDA","Masculino","Mujer","Sin datos","Adulto mayor","Sin datos","65 y mas","ASESORÍA","Incorporación y entrega de las áreas de cesión a favor del municipio","Cabida y linderos","PREDIO AAA0005HWDM","Atención al ciudadano",null,"05 Usme"]
[54,2022,"NOVIEMBRE","2022-11-09","11:46:00","ALBEIRO ESCOBAR","PRESENCIAL","Cad calle 26 mod-152","Sin datos","Ciudadanía","MARIA ISABEL MESA","Ciudadanía","MARIA ISABEL MESA","Femenino","Mujer","Sin datos","Padre/madre cabeza de familia","Sin datos","De 55 a 64","ASESORÍA","Certificación de la propiedad inmobiliaria distrital","Certificación de la propiedad inmobiliaria","RUPI 2695 QUIROGA","Atención al ciudadano",null,"18 Rafael Uribe Uribe"]
[55,2022,"NOVIEMBRE","2022-11-09","12:28:00","CRISTHIAN CAMILO MONTAÑA HERNANDEZ","PRESENCIAL","Cad calle 26 mod-152","Sin datos","Ciudadanía","AYDEE RODRIGUEZ","Ciudadanía","AYDEE RODRIGUEZ","Femenino","Mujer","Sin datos","Persona con discapacidad","Sin datos","65 y mas","ASESORÍA","Estudio de la viabilidad de las solicitudes de administración de bienes públicos","CAMEP Contrato de administración y mantenimiento","SOLICITUD DE INFORMACION POR PERDIDA DE INFORMACION DE CONVENIO JAC JUAN PABLO SEGUNDO II SECTOR","Atención al ciudadano",null,"19 Ciudad Bolívar"]
[56,2022,"NOVIEMBRE","2022-11-09","13:56:00","ALBEIRO ESCOBAR","PRESENCIAL","Cad calle 26 mod-152","Sin datos","Ciudadanía","ROSA ELVIRA COTAMO RISCANEVO","Ciudadanía","ROSA ELVIRA COTAMO RISCANEVO","Femenino","Mujer","Sin datos","Adulto mayor","Sin datos","De 55 a 64","ASESORÍA","Incorporación y entrega de las áreas de cesión a favor del municipio","Cabida y linderos","CABIDA Y LINDEROS 20212030043771","Atención al ciudadano",null,"05 Usme"]
[57,2022,"NOVIEMBRE","2022-11-09","14:53:00","CRISTHIAN CAMILO MONTAÑA HERNANDEZ","PRESENCIAL","Cad calle 26 mod-152","Sin datos","Ciudadanía","JUAN SEBASTIAN GONZALEZ ROJAS","Ciudadanía","JUAN SEBASTIAN GONZALEZ ROJAS","Masculino","Hombre ","Sin datos","Ninguno","Sin datos","De 25 a 34","ASESORÍA","Certificación de la propiedad inmobiliaria distrital","Certificación de la propiedad inmobiliaria","CERTIFICACIONES RUPI 2022-7, 1114-1","Atención al ciudadano",null,"11 Suba"]
[58,2022,"NOVIEMBRE","2022-11-09","15:16:00","CRISTHIAN CAMILO MONTAÑA HERNANDEZ","PRESENCIAL","Cad calle 26 mod-152","Sin datos","Ciudadanía","ADRIANA VILLALOBOS","Ciudadanía","ADRIANA VILLALOBOS","Femenino","Mujer","Sin datos","Ninguno","Sin datos","De 35 a 44","ASESORÍA","Certificación de la propiedad inmobiliaria distrital","Certificación de la propiedad inmobiliaria","SOLICITUD DE VERIFICACION ESPACIO PUBLICO RUPI 3900-23","Atención al ciudadano",null,"10 Engativá"]
[59,2022,"NOVIEMBRE","2022-11-10","10:16:00","ALBEIRO ESCOBAR","PRESENCIAL","Cad calle 26 mod-152","Sin datos","Ciudadanía","MIGUEL ANTONIO CHACON","Ciudadanía","MIGUEL ANTONIO CHACON","Masculino","Hombre ","Sin datos","Adulto mayor","Sin datos","65 y mas","ASESORÍA","Asesoría en administración y sostenibilidad del espacio público","Asesoría en temas de espacio público","EXP. 2017533870100399E APELACION","Atención al ciudadano",null,"03 Santa fe"]
[60,2022,"NOVIEMBRE","2022-11-10","12:48:00","ALBEIRO ESCOBAR","PRESENCIAL","Cad calle 26 mod-152","Sin datos","Ciudadanía","FLOR MEDINA","Ciudadanía","FLOR MEDINA","Femenino","Mujer","Sin datos","Adulto mayor","Sin datos","De 55 a 64","ASESORÍA","Estudio de la viabilidad de las solicitudes de administración de bienes públicos","CAMEP Contrato de administración y mantenimiento","SOLICITUD DE INFORMACION SOBRE CONTRATO CAMEP JAC PUERTA DEL SOL 1","Atención al ciudadano",null,"11 Suba"]
[61,2022,"NOVIEMBRE","2022-11-10","14:44:00","CRISTHIAN CAMILO MONTAÑA HERNANDEZ","PRESENCIAL","Cad calle 26 mod-152","Sin datos","Ciudadanía","LEONEL ANDRES VANEGAS RICARDO","Ciudadanía","LEONEL ANDRES VANEGAS RICARDO","Masculino","Hombre ","Sin datos","Ninguno","Sin datos","De 25 a 34","ASESORÍA","Certificación de la propiedad inmobiliaria distrital","Consulta predio","CONSULTA DE PREDIO AAA0163SRRJ","Atención al ciudadano",null,"19 Ciudad Bolívar"]
[62,2022,"NOVIEMBRE","2022-11-10","14:46:00","CRISTHIAN CAMILO MONTAÑA HERNANDEZ","PRESENCIAL","Cad calle 26 mod-152","Sin datos","Ciudadanía","YULLY PATRICIA SUAREZ AREVALO","Ciudadanía","YULLY PATRICIA SUAREZ AREVALO","Femenino","Mujer","Sin datos","Ninguno","Sin datos","De 35 a 44","ASESORÍA","Incorporación y entrega de las áreas de cesión a favor del municipio","Entrega de zonas de cesión","RADICADO 20224000260322","Atención al ciudadano",null,"No Registra"]
[63,2022,"NOVIEMBRE","2022-11-10","15:04:00","ALBEIRO ESCOBAR","PRESENCIAL","Cad calle 26 mod-152","Sin datos","Ciudadanía","AMPARO VALENCIA DE OROZCO","Ciudadanía","AMPARO VALENCIA DE OROZCO","Femenino","Mujer","Sin datos","Adulto mayor","Sin datos","De 55 a 64","ASESORÍA","Certificación de la propiedad inmobiliaria distrital","Certificación de la propiedad inmobiliaria","CERTIFICACION RUPI 1102-6/14/16","Atención al ciudadano",null,"01 Usaquén"]
[64,2022,"NOVIEMBRE","2022-11-10","16:17:00","ALBEIRO ESCOBAR","PRESENCIAL","Cad calle 26 mod-152","Sin datos","Ciudadanía","RICARDO SAENZ TORO","Ciudadanía","RICARDO SAENZ TORO","Masculino","Hombre ","Sin datos","Padre/madre cabeza de familia","Sin datos","De 55 a 64","ASESORÍA","Incorporación y entrega de las áreas de cesión a favor del municipio","Cabida y linderos","CABIDA Y LINDEROS KR 98 155D 12","Atención al ciudadano",null,"11 Suba"]
[65,2022,"NOVIEMBRE","2022-11-11","09:22:00","CRISTHIAN CAMILO MONTAÑA HERNANDEZ","PRESENCIAL","Cad calle 26 mod-152","Sin datos","Ciudadanía","ADIELA SASTRE BUITRAGO","Ciudadanía","ADIELA SASTRE BUITRAGO","Femenino","Mujer","Sin datos","Ninguno","Sin datos","De 45 a 54","ASESORÍA","Asesoría en administración y sostenibilidad del espacio público","Asesoría en temas de espacio público","ASESORIA PARA ADMINISTRACION DEL RUPI 1156-18","Atención al ciudadano",null,"08 Kennedy"]
[66,2022,"NOVIEMBRE","2022-11-11","09:23:00","CRISTHIAN CAMILO MONTAÑA HERNANDEZ","PRESENCIAL","Cad calle 26 mod-152","Sin datos","Ciudadanía","LUZ AMPARO ALVARADO CACERES","Ciudadanía","LUZ AMPARO ALVARADO CACERES","Femenino","Mujer","Sin datos","Ninguno","Sin datos","De 45 a 54","ASESORÍA","Certificación de la propiedad inmobiliaria distrital","Consulta predio","PREDIO CHIP AAA0117EXMR","Atención al ciudadano",null,"11 Suba"]
[67,2022,"NOVIEMBRE","2022-11-11","10:09:00","CRISTHIAN CAMILO MONTAÑA HERNANDEZ","PRESENCIAL","Cad calle 26 mod-152","Sin datos","Ciudadanía","RITA PRIETO CASALLAS","Ciudadanía","RITA PRIETO CASALLAS","Femenino","Mujer","Sin datos","Adulto mayor","Sin datos","De 55 a 64","ASESORÍA","Certificación de la propiedad inmobiliaria distrital","Consulta predio","PREDIO CHIP AAA0002YTTD","Atención al ciudadano",null,"04 San Cristóbal"]
[68,2022,"NOVIEMBRE","2022-11-11","11:37:00","CRISTHIAN CAMILO MONTAÑA HERNANDEZ","PRESENCIAL","Cad calle 26 mod-152","Sin datos","Ciudadanía","ADELA RAQUEL OROZCO OROZCO","Ciudadanía","ADELA RAQUEL OROZCO OROZCO","Femenino","Mujer","Sin datos","Ninguno","Sin datos","De 35 a 44","ASESORÍA","Asesoría en administración y sostenibilidad del espacio público","Asesoría en temas de espacio público","SOLICITUD DE INFORMACION PARA PONER PARQUEADERO","Atención al ciudadano",null,"08 Kennedy"]
[69,2022,"NOVIEMBRE","2022-11-11","13:04:00","ALBEIRO ESCOBAR","PRESENCIAL","Cad calle 26 mod-152","Sin datos","Ciudadanía","FLOR MARINA DIAZ SARMIENTO","Ciudadanía","FLOR MARINA DIAZ SARMIENTO","Femenino","Mujer","Sin datos","Padre/madre cabeza de familia","Sin datos","De 55 a 64","ASESORÍA","Certificación de la propiedad inmobiliaria distrital","Certificación de la propiedad inmobiliaria","VIA DE LA CL 131 KR 88 DESARROLLO BELLAVISTA PARA INCORPORACION","Atención al ciudadano",null,"11 Suba"]
[70,2022,"NOVIEMBRE","2022-11-11","13:12:00","ALBEIRO ESCOBAR","PRESENCIAL","Cad calle 26 mod-152","Sin datos","Ciudadanía","BENITO VARGAS SANCHEZ","Ciudadanía","BENITO VARGAS SANCHEZ","Masculino","Hombre ","Sin datos","Adulto mayor","Sin datos","De 55 a 64","ASESORÍA","Certificación de la propiedad inmobiliaria distrital","Certificación de la propiedad inmobiliaria","RADICADO 20224000171012 - 20222010164131","Atención al ciudadano",null,"04 San Cristóbal"]
[71,2022,"NOVIEMBRE","2022-11-15","10:48:00","ALBEIRO ESCOBAR","PRESENCIAL","Cad calle 26 mod-152","Sin datos","Ciudadanía","FRANCISCO ADOLFO PINZON CASTELLANOS","Ciudadanía","FRANCISCO ADOLFO PINZON CASTELLANOS","Masculino","Hombre ","Sin datos","Padre/madre cabeza de familia","Sin datos","De 55 a 64","ASESORÍA","Certificación de la propiedad inmobiliaria distrital","Certificación de la propiedad inmobiliaria","RUPI 474-32/33/34/24/25/26","Atención al ciudadano",null,"16 Puente Aranda"]
[72,2022,"NOVIEMBRE","2022-11-15","11:09:00","ALBEIRO ESCOBAR","PRESENCIAL","Cad calle 26 mod-152","Sin datos","Ciudadanía","JUAN ANTONIO JUEZ LOZANO","Ciudadanía","JUAN ANTONIO JUEZ LOZANO","Masculino","Hombre ","Sin datos","Padre/madre cabeza de familia","Sin datos","De 55 a 64","ASESORÍA","Incorporación y entrega de las áreas de cesión a favor del municipio","Cabida y linderos","CABIDA Y LINDEROS 20222030118611","Atención al ciudadano",null,"11 Suba"]
[73,2022,"NOVIEMBRE","2022-11-15","11:42:00","ALBEIRO ESCOBAR","PRESENCIAL","Cad calle 26 mod-152","Sin datos","Ciudadanía","FANNY STELLA DIAZ RODRIGUEZ","Ciudadanía","FANNY STELLA DIAZ RODRIGUEZ","Femenino","Mujer","Sin datos","Padre/madre cabeza de familia","Sin datos","De 55 a 64","ASESORÍA","Asesoría en administración y sostenibilidad del espacio público","Asesoría en temas de espacio público","KR 73B 40F 46 SUR","Atención al ciudadano",null,"08 Kennedy"]
[74,2022,"NOVIEMBRE","2022-11-15","12:19:00","CRISTHIAN CAMILO MONTAÑA HERNANDEZ","PRESENCIAL","Cad calle 26 mod-152","Sin datos","Ciudadanía","MARIO RICARDO GARCIA SEDANO","Ciudadanía","MARIO RICARDO GARCIA SEDANO","Masculino","Hombre ","Sin datos","Ninguno","Sin datos","De 45 a 54","ASESORÍA","Certificación de la propiedad inmobiliaria distrital","Consulta predio","CONSULTA DE PREDIO CHIP AAA0045WKOM","Atención al ciudadano",null,"07 Bosa"]
[75,2022,"NOVIEMBRE","2022-11-15","13:12:00","ALBEIRO ESCOBAR","PRESENCIAL","Cad calle 26 mod-152","Sin datos","Ciudadanía","ROBERTO CUERVO PINEDA","Ciudadanía","ROBERTO CUERVO PINEDA","Masculino","Hombre ","Sin datos","Padre/madre cabeza de familia","Sin datos","De 55 a 64","ASESORÍA","Incorporación y entrega de las áreas de cesión a favor del municipio","Cabida y linderos","AAA0039UXEP CR 51 34 21 SUR 2020EE11646 20202030057801","Atención al ciudadano",null,"16 Puente Aranda"]
[76,2022,"NOVIEMBRE","2022-11-15","13:29:00","ALBEIRO ESCOBAR","PRESENCIAL","Cad calle 26 mod-152","Sin datos","Ciudadanía","BLANCA RODRIGUEZ","Ciudadanía","BLANCA RODRIGUEZ","Femenino","Mujer","Sin datos","Adulto mayor","Sin datos","De 55 a 64","ASESORÍA","Incorporación y entrega de las áreas de cesión a favor del municipio","Cabida y linderos","AAA0006SABR RUPI 685-40/46, 575-79","Atención al ciudadano",null,"05 Usme"]
[77,2022,"NOVIEMBRE","2022-11-15","14:55:00","ALBEIRO ESCOBAR","PRESENCIAL","Cad calle 26 mod-152","Sin datos","Ciudadanía","JORGE RODRIGO BASTIDAS RICO","Ciudadanía","JORGE RODRIGO BASTIDAS RICO","Masculino","Hombre ","Sin datos","Padre/madre cabeza de familia","Sin datos","De 55 a 64","ASESORÍA","Certificación de la propiedad inmobiliaria distrital","Certificación de la propiedad inmobiliaria","RUPI  2513-107 SUSTITUCION DE ZONAS","Atención al ciudadano",null,"16 Puente Aranda"]
[78,2022,"NOVIEMBRE","2022-11-16","10:33:00","ALBEIRO ESCOBAR","PRESENCIAL","Cad calle 26 mod-152","Sin datos","Ciudadanía","MARIELA SILVA SICHACA","Ciudadanía","MARIELA SILVA SICHACA","Femenino","Mujer","Sin datos","Adulto mayor","Sin datos","De 55 a 64","CONSULTA","Consulta general","Oferta de servicios","TAPONAMIENTO DE AGUAS NEGRAS AAA0045XSMS","Atención al ciudadano",null,"07 Bosa"]
[79,2022,"NOVIEMBRE","2022-11-16","14:00:00","CRISTHIAN CAMILO MONTAÑA HERNANDEZ","PRESENCIAL","Cad calle 26 mod-152","Sin datos","Ciudadanía","CLAUDIA PATRICIA SANCHEZ DUARTE","Ciudadanía","CLAUDIA PATRICIA SANCHEZ DUARTE","Femenino","Mujer","Sin datos","Ninguno","Sin datos","De 25 a 34","ASESORÍA","Asesoría en administración y sostenibilidad del espacio público","Asesoría en temas de espacio público","SOLICUTUD DE USO DE ANTEJARDINES - DIRECCION CL 83 BIS 24 10","Atención al ciudadano",null,"12 Barrios Unidos"]
[80,2022,"NOVIEMBRE","2022-11-17","07:51:00","ALBEIRO ESCOBAR","PRESENCIAL","Cad calle 26 mod-152","Sin datos","Ciudadanía","ISABEL BARRERA GOMEZ","Ciudadanía","ISABEL BARRERA GOMEZ","Femenino","Mujer","Sin datos","Padre/madre cabeza de familia","Sin datos","De 55 a 64","ASESORÍA","Certificación de la propiedad inmobiliaria distrital","Certificación de la propiedad inmobiliaria","RUPI 2305-15","Atención al ciudadano",null,"07 Bosa"]
[81,2022,"NOVIEMBRE","2022-11-17","10:43:00","ALBEIRO ESCOBAR","PRESENCIAL","Cad calle 26 mod-152","Sin datos","Ciudadanía","LUIS CHALA","Ciudadanía","LUIS CHALA","Masculino","Hombre ","Sin datos","Padre/madre cabeza de familia","Sin datos","De 45 a 54","CONSULTA","Consulta general","Oferta de servicios","LICENCIA DE INTERVENCION","Atención al ciudadano",null,"08 Kennedy"]
[82,2022,"NOVIEMBRE","2022-11-17","11:25:00","ALBEIRO ESCOBAR","PRESENCIAL","Cad calle 26 mod-152","Sin datos","Ciudadanía","JOSE OTONIEL DAZA BOHORQUEZ","Ciudadanía","JOSE OTONIEL DAZA BOHORQUEZ","Masculino","Hombre ","Sin datos","Adulto mayor","Sin datos","De 55 a 64","ASESORÍA","Incorporación y entrega de las áreas de cesión a favor del municipio","Cabida y linderos","CABIDA Y LINDEROS 2022EE76569 - 20224000256042 - 20222010182271","Atención al ciudadano",null,"19 Ciudad Bolívar"]
[83,2022,"NOVIEMBRE","2022-11-17","14:44:00","ALBEIRO ESCOBAR","PRESENCIAL","Cad calle 26 mod-152","Sin datos","Ciudadanía","HUMBERTO VARGAS","Ciudadanía","HUMBERTO VARGAS","Masculino","Hombre ","Sin datos","Padre/madre cabeza de familia","Sin datos","De 45 a 54","ASESORÍA","Asesoría en administración y sostenibilidad del espacio público","Asesoría en temas de espacio público","FOOD TRUCKS","Atención al ciudadano",null,"11 Suba"]
[84,2022,"NOVIEMBRE","2022-11-18","09:27:00","ALBEIRO ESCOBAR","PRESENCIAL","Cad calle 26 mod-152","Sin datos","Ciudadanía","JOSE LEOVIGILDO CRUZ GOMEZ","Ciudadanía","JOSE LEOVIGILDO CRUZ GOMEZ","Masculino","Hombre ","Sin datos","Padre/madre cabeza de familia","Sin datos","De 55 a 64","ASESORÍA","Certificación de la propiedad inmobiliaria distrital","Certificación de la propiedad inmobiliaria","REGULARIZACION Y MANEJO SAN BLAS II AAA0159YUHK","Atención al ciudadano",null,"04 San Cristóbal"]
[85,2022,"NOVIEMBRE","2022-11-18","10:10:00","ALBEIRO ESCOBAR","PRESENCIAL","Cad calle 26 mod-152","Sin datos","Ciudadanía","KATALINA SANCHEZ","Ciudadanía","KATALINA SANCHEZ","Femenino","Mujer","Sin datos","Padre/madre cabeza de familia","Sin datos","De 45 a 54","ASESORÍA","Asesoría en administración y sostenibilidad del espacio público","Asesoría en temas de espacio público","EXP 2019614490118759E","Atención al ciudadano",null,"11 Suba"]
[86,2022,"NOVIEMBRE","2022-11-18","10:48:00","ALBEIRO ESCOBAR","PRESENCIAL","Cad calle 26 mod-152","Sin datos","Ciudadanía","PAOLA ANDREA AGUJA ROMERO","Ciudadanía","PAOLA ANDREA AGUJA ROMERO","Femenino","Mujer","Sin datos","Ninguno","Sin datos","De 35 a 44","ASESORÍA","Incorporación y entrega de las áreas de cesión a favor del municipio","Cabida y linderos","CABIDA Y LINDEROS 20212030071301","Atención al ciudadano",null,"09 Fontibón"]
[87,2022,"NOVIEMBRE","2022-11-18","13:25:00","ALBEIRO ESCOBAR","PRESENCIAL","Cad calle 26 mod-152","Sin datos","Ciudadanía","LUIS ERNESTO MENDOZA","Ciudadanía","LUIS ERNESTO MENDOZA","Masculino","Hombre ","Sin datos","Ninguno","Sin datos","De 45 a 54","CONSULTA","Consulta general","Oferta de servicios","LICENCIA DE INTERVENCION","Atención al ciudadano",null,"07 Bosa"]
[88,2022,"NOVIEMBRE","2022-11-18","13:59:00","ALBEIRO ESCOBAR","PRESENCIAL","Cad calle 26 mod-152","Sin datos","Ciudadanía","OLGA LUCIA LEIVA RUIZ","Ciudadanía","OLGA LUCIA LEIVA RUIZ","Femenino","Mujer","Sin datos","Adulto mayor","Sin datos","De 55 a 64","ASESORÍA","Certificación de la propiedad inmobiliaria distrital","Certificación de la propiedad inmobiliaria","DONACION GRATUITA PREDIO CATAGENITA","Atención al ciudadano",null,"05 Usme"]
[89,2022,"NOVIEMBRE","2022-11-18","14:10:00","ALBEIRO ESCOBAR","PRESENCIAL","Cad calle 26 mod-152","Sin datos","Ciudadanía","DIEGO TOCUBA","Ciudadanía","DIEGO TOCUBA","Masculino","Hombre ","Sin datos","Padre/madre cabeza de familia","Sin datos","De 55 a 64","ASESORÍA","Incorporación y entrega de las áreas de cesión a favor del municipio","Entrega de zonas de cesión","AAA0001WWEP CL 15 SUR 7B 02","Atención al ciudadano",null,"04 San Cristóbal"]
[90,2022,"NOVIEMBRE","2022-11-18","15:05:00","ALBEIRO ESCOBAR","PRESENCIAL","Cad calle 26 mod-152","Sin datos","Ciudadanía","URIEL CASTIBLANCO GOMEZ","Ciudadanía","URIEL CASTIBLANCO GOMEZ","Masculino","Hombre ","Sin datos","Adulto mayor","Sin datos","65 y mas","ASESORÍA","Asesoría en administración y sostenibilidad del espacio público","Asesoría en temas de espacio público","AAA0109LAKC KR 7A 152A 52","Atención al ciudadano",null,"01 Usaquén"]
[91,2022,"NOVIEMBRE","2022-11-21","10:40:00","ALBEIRO ESCOBAR","PRESENCIAL","Cad calle 26 mod-152","Sin datos","Ciudadanía","RAUL PEDREROS MOLANO","Ciudadanía","RAUL PEDREROS MOLANO","Masculino","Hombre ","Sin datos","Padre/madre cabeza de familia","Sin datos","De 55 a 64","ASESORÍA","Incorporación y entrega de las áreas de cesión a favor del municipio","Cabida y linderos","CABIDA Y LINDEROS 20212030170571 - PREDIO KR 107C 63A 14","Atención al ciudadano",null,"10 Engativá"]
[92,2022,"NOVIEMBRE","2022-11-21","14:55:00","ALBEIRO ESCOBAR","PRESENCIAL","Cad calle 26 mod-152","Sin datos","Ciudadanía","ROBERTO CUERVO PINEDA","Ciudadanía","ROBERTO CUERVO PINEDA","Masculino","Hombre ","Sin datos","Padre/madre cabeza de familia","Sin datos","De 55 a 64","ASESORÍA","Incorporación y entrega de las áreas de cesión a favor del municipio","Cabida y linderos","AAA0039UXEP CR 51 34 21 SUR 2020EE11646 20202030057801","Atención al ciudadano",null,"16 Puente Aranda"]
[93,2022,"NOVIEMBRE","2022-11-21","16:15:00","ALBEIRO ESCOBAR","PRESENCIAL","Cad calle 26 mod-152","Sin datos","Juntas de Acción Comunal (JAC)","JORGE RINCON","Juntas de Acción Comunal (JAC)","JORGE RINCON","Masculino","Hombre ","Sin datos","Padre/madre cabeza de familia","Sin datos","De 55 a 64","ASESORÍA","Asesoría en administración y sostenibilidad del espacio público","Asesoría en temas de espacio público","CONVENIO SOLIDARIO BARRIO JAVA II SECTOR RESTITUCION","Atención al ciudadano",null,"11 Suba"]
[94,2022,"NOVIEMBRE","2022-11-22","08:18:00","ALBEIRO ESCOBAR","PRESENCIAL","Cad calle 26 mod-152","Sin datos","Ciudadanía","ARIANA ANDREA CORREA CRUZ","Ciudadanía","ARIANA ANDREA CORREA CRUZ","Femenino","Mujer","Sin datos","Ninguno","Sin datos","De 35 a 44","ASESORÍA","Certificación de la propiedad inmobiliaria distrital","Certificación de la propiedad inmobiliaria","COPIA ACTA RUPI 3626","Atención al ciudadano",null,"01 Usaquén"]
[95,2022,"NOVIEMBRE","2022-11-22","08:51:00","ALBEIRO ESCOBAR","PRESENCIAL","Cad calle 26 mod-152","Sin datos","Ciudadanía","JUAN ANTONIO JUEZ LOZANO","Ciudadanía","JUAN ANTONIO JUEZ LOZANO","Masculino","Hombre ","Sin datos","Padre/madre cabeza de familia","Sin datos","De 55 a 64","ASESORÍA","Incorporación y entrega de las áreas de cesión a favor del municipio","Cabida y linderos","CABIDA Y LINDEROS 20222030118611","Atención al ciudadano",null,"11 Suba"]
[96,2022,"NOVIEMBRE","2022-11-22","11:58:00","ALBEIRO ESCOBAR","PRESENCIAL","Cad calle 26 mod-152","Sin datos","Ciudadanía","AURA STELLA CARRILLO","Ciudadanía","AURA STELLA CARRILLO","Femenino","Mujer","Sin datos","Padre/madre cabeza de familia","Sin datos","De 55 a 64","ASESORÍA","Incorporación y entrega de las áreas de cesión a favor del municipio","Cabida y linderos","KR 102A 139 43 RADICADO 20214000177652","Atención al ciudadano",null,"11 Suba"]
[97,2022,"NOVIEMBRE","2022-11-22","12:02:00","ALBEIRO ESCOBAR","PRESENCIAL","Cad calle 26 mod-152","Sin datos","Ciudadanía","ELSY ROCIO RIVERA SEGURA","Ciudadanía","ELSY ROCIO RIVERA SEGURA","Femenino","Mujer","Sin datos","Padre/madre cabeza de familia","Sin datos","De 45 a 54","ASESORÍA","Certificación de la propiedad inmobiliaria distrital","Certificación de la propiedad inmobiliaria","CL 76 23 58","Atención al ciudadano",null,"12 Barrios Unidos"]
[98,2022,"NOVIEMBRE","2022-11-22","12:17:00","CRISTHIAN CAMILO MONTAÑA HERNANDEZ","PRESENCIAL","Cad calle 26 mod-152","Sin datos","Ciudadanía","LAURA CAMILA MENSOZA VARGAS","Ciudadanía","LAURA CAMILA MENSOZA VARGAS","Femenino","Mujer","Sin datos","Ninguno","Sin datos","De 25 a 34","ASESORÍA","Consulta general","Solicitud de copia","ACTA DE ENTREGA DE PREDIO AAA0116KPFZ","Atención al ciudadano",null,"01 Usaquén"]
[99,2022,"NOVIEMBRE","2022-11-22","14:05:00","ALBEIRO ESCOBAR","PRESENCIAL","Cad calle 26 mod-152","Sin datos","Ciudadanía","PEDRO PABLO FONSECA LEGUIZAMON","Ciudadanía","PEDRO PABLO FONSECA LEGUIZAMON","Masculino","Hombre ","Sin datos","Adulto mayor","Sin datos","De 55 a 64","ASESORÍA","Certificación de la propiedad inmobiliaria distrital","Certificación de la propiedad inmobiliaria","RUPI 1505-5","Atención al ciudadano",null,"09 Fontibón"]
[100,2022,"NOVIEMBRE","2022-11-23","08:25:00","ALBEIRO ESCOBAR","PRESENCIAL","Cad calle 26 mod-152","Sin datos","Ciudadanía","ANDERSON HERRERA QUIJANO","Ciudadanía","ANDERSON HERRERA QUIJANO","Masculino","Hombre ","Sin datos","Ninguno","Sin datos","De 35 a 44","ASESORÍA","Certificación de la propiedad inmobiliaria distrital","Certificación de la propiedad inmobiliaria","PREDIO AAA0251KAOE INTERVENCION POR IDU","Atención al ciudadano",null,"10 Engativá"]
[101,2022,"NOVIEMBRE","2022-11-23","09:17:00","ALBEIRO ESCOBAR","PRESENCIAL","Cad calle 26 mod-152","Sin datos","Ciudadanía","MIGUEL ANGEL PALACIOS ORTIZ","Ciudadanía","MIGUEL ANGEL PALACIOS ORTIZ","Masculino","Hombre ","Sin datos","Padre/madre cabeza de familia","Sin datos","De 35 a 44","ASESORÍA","Certificación de la propiedad inmobiliaria distrital","Certificación de la propiedad inmobiliaria","RESOLUCION 082 DE 12-05-2009","Atención al ciudadano",null,"05 Usme"]
[102,2022,"NOVIEMBRE","2022-11-23","12:18:00","CRISTHIAN CAMILO MONTAÑA HERNANDEZ","PRESENCIAL","Cad calle 26 mod-152","Sin datos","Ciudadanía","CAMILO ALEXANDER PRIETO LOZANO","Ciudadanía","CAMILO ALEXANDER PRIETO LOZANO","Masculino","Hombre ","Sin datos","Ninguno","Sin datos","De 35 a 44","ASESORÍA","Certificación de la propiedad inmobiliaria distrital","Consulta predio","CONSULTA DE PREDIO AAA0010FLUH","Atención al ciudadano",null,"05 Usme"]
[103,2022,"NOVIEMBRE","2022-11-23","13:55:00","ALBEIRO ESCOBAR","PRESENCIAL","Cad calle 26 mod-152","Sin datos","Ciudadanía","JUAN PABLO GONZALEZ","Ciudadanía","JUAN PABLO GONZALEZ","Masculino","Hombre ","Sin datos","Padre/madre cabeza de familia","Sin datos","De 35 a 44","ASESORÍA","Certificación de la propiedad inmobiliaria distrital","Certificación de la propiedad inmobiliaria","PREDIO AK 72 44A SUR","Atención al ciudadano",null,"08 Kennedy"]
[104,2022,"NOVIEMBRE","2022-11-23","15:09:00","ALBEIRO ESCOBAR","PRESENCIAL","Cad calle 26 mod-152","Sin datos","Ciudadanía","LUZ MARINA GARZON","Ciudadanía","LUZ MARINA GARZON","Femenino","Mujer","Sin datos","Adulto mayor","Sin datos","65 y mas","ASESORÍA","Certificación de la propiedad inmobiliaria distrital","Certificación de la propiedad inmobiliaria","CL 33 BIS A SUR 94 88 SANTA MARTA ETAPAS I-II-III","Atención al ciudadano",null,"08 Kennedy"]
[105,2022,"NOVIEMBRE","2022-11-23","15:29:00","ALBEIRO ESCOBAR","PRESENCIAL","Cad calle 26 mod-152","Sin datos","Ciudadanía","IZA IDROBO","Ciudadanía","IZA IDROBO","Femenino","Mujer","Sin datos","Adulto mayor","Sin datos","65 y mas","ASESORÍA","Incorporación y entrega de las áreas de cesión a favor del municipio","Cabida y linderos","PREDIO CL 9 0 58","Atención al ciudadano",null,"17 La Candelaria"]
[106,2022,"NOVIEMBRE","2022-11-24","08:09:00","ALBEIRO ESCOBAR","PRESENCIAL","Cad calle 26 mod-152","Sin datos","Ciudadanía","ISABEL BARRERA GOMEZ","Ciudadanía","ISABEL BARRERA GOMEZ","Femenino","Mujer","Sin datos","Adulto mayor","Sin datos","65 y mas","ASESORÍA","Certificación de la propiedad inmobiliaria distrital","Certificación de la propiedad inmobiliaria","PREDIO AAA0144CRXR","Atención al ciudadano",null,"07 Bosa"]
[107,2022,"NOVIEMBRE","2022-11-24","08:24:00","ALBEIRO ESCOBAR","PRESENCIAL","Cad calle 26 mod-152","Sin datos","Ciudadanía","NELSON FABIAN RODRIGUEZ MELENDRO","Ciudadanía","NELSON FABIAN RODRIGUEZ MELENDRO","Masculino","Hombre ","Sin datos","Ninguno","Sin datos","De 35 a 44","ASESORÍA","Certificación de la propiedad inmobiliaria distrital","Certificación de la propiedad inmobiliaria","PREDIO KR 72K BIS B 40 48 SUR RUPI 2932-18","Atención al ciudadano",null,"08 Kennedy"]
[108,2022,"NOVIEMBRE","2022-11-24","10:11:00","ALBEIRO ESCOBAR","PRESENCIAL","Cad calle 26 mod-152","Sin datos","Ciudadanía","SOFIA MORALES RODRIGUEZ","Ciudadanía","SOFIA MORALES RODRIGUEZ","Femenino","Mujer","Sin datos","Padre/madre cabeza de familia","Sin datos","De 55 a 64","ASESORÍA","Asesoría en administración y sostenibilidad del espacio público","Asesoría en temas de espacio público","CAMEP RUPI 1308-22","Atención al ciudadano",null,"08 Kennedy"]
[109,2022,"NOVIEMBRE","2022-11-24","10:45:00","ALBEIRO ESCOBAR","PRESENCIAL","Cad calle 26 mod-152","Sin datos","Ciudadanía","MIRYAN ELVIRA RUEDA PEDRAZA","Ciudadanía","MIRYAN ELVIRA RUEDA PEDRAZA","Femenino","Mujer","Sin datos","Padre/madre cabeza de familia","Sin datos","De 55 a 64","ASESORÍA","Incorporación y entrega de las áreas de cesión a favor del municipio","Cabida y linderos","PREDIO CL 72 13 91 ","Atención al ciudadano",null,"02 Chapinero"]
[110,2022,"NOVIEMBRE","2022-11-25","08:44:00","ALBEIRO ESCOBAR","PRESENCIAL","Cad calle 26 mod-152","Sin datos","Ciudadanía","JOSE FRANCISCO MONROY GUTIERREZ","Ciudadanía","JOSE FRANCISCO MONROY GUTIERREZ","Masculino","Hombre ","Sin datos","Adulto mayor","Sin datos","De 55 a 64","ASESORÍA","Incorporación y entrega de las áreas de cesión a favor del municipio","Cabida y linderos","CABIDA Y LINDEROS KR 81 69 33 SUR  - 2021EE28561","Atención al ciudadano",null,"07 Bosa"]
[111,2022,"NOVIEMBRE","2022-11-25","10:15:00","ALBEIRO ESCOBAR","PRESENCIAL","Cad calle 26 mod-152","Sin datos","Ciudadanía","EIHNORT PEREZ","Ciudadanía","EIHNORT PEREZ","Masculino","Hombre ","Sin datos","Padre/madre cabeza de familia","Sin datos","De 45 a 54","ASESORÍA","Incorporación y entrega de las áreas de cesión a favor del municipio","Entrega de zonas de cesión","ENTREGA DE ZONAS DE CESION","Atención al ciudadano",null,"11 Suba"]
[112,2022,"NOVIEMBRE","2022-11-25","10:41:00","ALBEIRO ESCOBAR","PRESENCIAL","Cad calle 26 mod-152","Sin datos","Ciudadanía","ADRIANA VILLALOBOS","Ciudadanía","ADRIANA VILLALOBOS","Femenino","Mujer","Sin datos","Padre/madre cabeza de familia","Sin datos","De 45 a 54","ASESORÍA","Asesoría en administración y sostenibilidad del espacio público","Asesoría en temas de espacio público","RUPI 3900-1/23","Atención al ciudadano",null,"10 Engativá"]
[113,2022,"NOVIEMBRE","2022-11-25","11:16:00","ALBEIRO ESCOBAR","PRESENCIAL","Cad calle 26 mod-152","Sin datos","Ciudadanía","JAIRO RUIZ PEREZ","Ciudadanía","JAIRO RUIZ PEREZ","Masculino","Hombre ","Sin datos","Adulto mayor","Sin datos","De 55 a 64","ASESORÍA","Incorporación y entrega de las áreas de cesión a favor del municipio","Cabida y linderos","CL 30B SUR 6 50 ESTE","Atención al ciudadano",null,"04 San Cristóbal"]
[114,2022,"NOVIEMBRE","2022-11-25","12:00:00","ALBEIRO ESCOBAR","PRESENCIAL","Cad calle 26 mod-152","Sin datos","Ciudadanía","GLADYS RODRIGUEZ","Ciudadanía","GLADYS RODRIGUEZ","Femenino","Mujer","Sin datos","Ninguno","Sin datos","De 45 a 54","ASESORÍA","Estudio de la viabilidad de las solicitudes de administración de bienes públicos","CAMEP Contrato de administración y mantenimiento","INFORMACION SOBRE CAMEP EN EL CONJUNTO A CAPILLA ","Atención al ciudadano",null,"07 Bosa"]
[115,2022,"NOVIEMBRE","2022-11-25","15:17:00","ALBEIRO ESCOBAR","PRESENCIAL","Cad calle 26 mod-152","Sin datos","Ciudadanía","MARIA HERMENCIA CHOCONTA RODRIGUEZ","Ciudadanía","MARIA HERMENCIA CHOCONTA RODRIGUEZ","Femenino","Mujer","Sin datos","Sin datos","Sin datos","De 45 a 54","ASESORÍA","Estudio de la viabilidad de las solicitudes de administración de bienes públicos","CAMEP Contrato de administración y mantenimiento","INFORMACION SOBRE CAMEP EN EL CONJUNTO A CAPILLA ","Atención al ciudadano",null,"No Registra"]
[116,2022,"NOVIEMBRE","2022-11-28","07:10:00","CRISTHIAN CAMILO MONTAÑA HERNANDEZ","PRESENCIAL","Cad calle 26 mod-152","Sin datos","Ciudadanía","ALFREDO ANDRES LOZANO RUIZ","Ciudadanía","ALFREDO ANDRES LOZANO RUIZ","Masculino","Hombre ","Sin datos","Ninguno","Sin datos","De 45 a 54","ASESORÍA","Asesoría en administración y sostenibilidad del espacio público","Asesoría en temas de espacio público","SOLICITUD DE INFORMACION SOBRE CONSTRUCCION EN ANTEJARDIN","Atención al ciudadano",null,"08 Kennedy"]
[117,2022,"NOVIEMBRE","2022-11-28","09:55:00","CRISTHIAN CAMILO MONTAÑA HERNANDEZ","PRESENCIAL","Cad calle 26 mod-152","Sin datos","Ciudadanía","YOLANDA SARMIENTO","Ciudadanía","YOLANDA SARMIENTO","Femenino","Mujer","Sin datos","Adulto mayor","Sin datos","De 55 a 64","CONSULTA","Consulta general","Consulta radicado","CONSULTA PROCESO RADICADO PROCESO Linderos, norma urbana y perfil vial del CHIP AAA0000OBLF, desarrollo Barrio San Blas, Localidad de San Cristóbal.","Atención al ciudadano",null,"04 San Cristóbal"]
[118,2022,"NOVIEMBRE","2022-11-28","14:23:00","CRISTHIAN CAMILO MONTAÑA HERNANDEZ","PRESENCIAL","Cad calle 26 mod-152","Sin datos","Ciudadanía","MARITZA JEREZ JEREZ","Ciudadanía","MARITZA JEREZ JEREZ","Femenino","Mujer","Sin datos","Ninguno","Sin datos","De 35 a 44","ASESORÍA","Estudio de la viabilidad de las solicitudes de administración de bienes públicos","Viabilidad Decreto 070 / 2022 BACA 2.0","INFORMACION SOBRE FOOD TRUCKS","Atención al ciudadano",null,"10 Engativá"]
[119,2022,"NOVIEMBRE","2022-11-28","15:17:00","CRISTHIAN CAMILO MONTAÑA HERNANDEZ","PRESENCIAL","Cad calle 26 mod-152","Sin datos","Ciudadanía","BRAYAM STEVEN RAMIREZ TOCASUCHE","Ciudadanía","BRAYAM STEVEN RAMIREZ TOCASUCHE","Masculino","Hombre ","Sin datos","Ninguno","Sin datos","De 25 a 34","ASESORÍA","Estudio de la viabilidad de las solicitudes de administración de bienes públicos","Viabilidad Decreto 070 / 2022 BACA 2.0","INFROMACION BACA 2.0.","Atención al ciudadano",null,"07 Bosa"]
[120,2022,"NOVIEMBRE","2022-11-29","08:22:00","ALBEIRO ESCOBAR","PRESENCIAL","Cad calle 26 mod-152","Sin datos","Ciudadanía","JOHN JAIRO HUERFANO HERNANDEZ","Ciudadanía","JOHN JAIRO HUERFANO HERNANDEZ","Masculino","Hombre ","Sin datos","Padre/madre cabeza de familia","Sin datos","De 45 a 54","ASESORÍA","Incorporación y entrega de las áreas de cesión a favor del municipio","Cabida y linderos","CABIDA Y LINDEROS 20224000214352","Atención al ciudadano",null,"04 San Cristóbal"]
[121,2022,"NOVIEMBRE","2022-11-29","08:44:00","ALBEIRO ESCOBAR","PRESENCIAL","Cad calle 26 mod-152","Sin datos","Ciudadanía","CARLOS ARTURO ACOSTA DIAZ","Ciudadanía","CARLOS ARTURO ACOSTA DIAZ","Masculino","Hombre ","Sin datos","Padre/madre cabeza de familia","Sin datos","De 55 a 64","ASESORÍA","Incorporación y entrega de las áreas de cesión a favor del municipio","Cabida y linderos","CABIDA Y LINDEROS AAA0003LPHK","Atención al ciudadano",null,"04 San Cristóbal"]
[122,2022,"NOVIEMBRE","2022-11-29","09:14:00","ALBEIRO ESCOBAR","PRESENCIAL","Cad calle 26 mod-152","Sin datos","Ciudadanía","ALFREDO ANDRES LOZANO RUIZ","Ciudadanía","ALFREDO ANDRES LOZANO RUIZ","Masculino","Hombre ","Sin datos","Padre/madre cabeza de familia","Sin datos","De 45 a 54","ASESORÍA","Certificación de la propiedad inmobiliaria distrital","Certificación de la propiedad inmobiliaria","RUPI 960-1","Atención al ciudadano",null,"11 Suba"]
[123,2022,"NOVIEMBRE","2022-11-29","09:48:00","ALBEIRO ESCOBAR","PRESENCIAL","Cad calle 26 mod-152","Sin datos","Ciudadanía","RAUL PEDREROS MOLANO","Ciudadanía","RAUL PEDREROS MOLANO","Masculino","Hombre ","Sin datos","Padre/madre cabeza de familia","Sin datos","De 55 a 64","ASESORÍA","Incorporación y entrega de las áreas de cesión a favor del municipio","Cabida y linderos","CABIDA Y LINDEROS 20212030170571 - PREDIO KR 107C 63A 14","Atención al ciudadano",null,"10 Engativá"]
[124,2022,"NOVIEMBRE","2022-11-29","10:39:00","ALBEIRO ESCOBAR","PRESENCIAL","Cad calle 26 mod-152","Sin datos","Ciudadanía","JOHN JAIRO RUIZ MARTINEZ","Ciudadanía","JOHN JAIRO RUIZ MARTINEZ","Masculino","Hombre ","Sin datos","Padre/madre cabeza de familia","Sin datos","De 55 a 64","ASESORÍA","Certificación de la propiedad inmobiliaria distrital","Certificación de la propiedad inmobiliaria","RADICADO 20222010188541","Atención al ciudadano",null,"04 San Cristóbal"]
[125,2022,"NOVIEMBRE","2022-11-29","10:50:00","ALBEIRO ESCOBAR","PRESENCIAL","Cad calle 26 mod-152","Sin datos","Ciudadanía","ANDRES ABONDANO","Ciudadanía","ANDRES ABONDANO","Masculino","Hombre ","Sin datos","Padre/madre cabeza de familia","Sin datos","De 45 a 54","CONSULTA","Consulta general","Oferta de servicios","LICENCIA DE INTERVENCION","Atención al ciudadano",null,"11 Suba"]
[126,2022,"NOVIEMBRE","2022-11-29","13:05:00","ALBEIRO ESCOBAR","PRESENCIAL","Cad calle 26 mod-152","Sin datos","Ciudadanía","LIBIA CORTES","Ciudadanía","LIBIA CORTES","Femenino","Mujer","Sin datos","Padre/madre cabeza de familia","Sin datos","De 55 a 64","ASESORÍA","Incorporación y entrega de las áreas de cesión a favor del municipio","Cabida y linderos","CABIDA Y LINDEROS AAA0239EPUH CL 75 BIS B SUR 20 22","Atención al ciudadano",null,"05 Usme"]
[127,2022,"NOVIEMBRE","2022-11-29","16:19:00","ALBEIRO ESCOBAR","PRESENCIAL","Cad calle 26 mod-152","Sin datos","Ciudadanía","JOHN CHINCHILLA RODRIGUEZ","Ciudadanía","JOHN CHINCHILLA RODRIGUEZ","Masculino","Hombre ","Sin datos","Padre/madre cabeza de familia","Sin datos","De 55 a 64","ASESORÍA","Certificación de la propiedad inmobiliaria distrital","Certificación de la propiedad inmobiliaria","DG 182 20 37","Atención al ciudadano",null,"01 Usaquén"]
[128,2022,"NOVIEMBRE","2022-11-30","07:40:00","ALBEIRO ESCOBAR","PRESENCIAL","Cad calle 26 mod-152","Sin datos","Ciudadanía","JOSE LEOVIGILDO CRUZ GOMEZ","Ciudadanía","JOSE LEOVIGILDO CRUZ GOMEZ","Masculino","Hombre ","Sin datos","Padre/madre cabeza de familia","Sin datos","De 55 a 64","ASESORÍA","Certificación de la propiedad inmobiliaria distrital","Certificación de la propiedad inmobiliaria","KR 10H ESTE 28 12 SUR RUPI 3086-44","Atención al ciudadano",null,"04 San Cristóbal"]
[129,2022,"NOVIEMBRE","2022-11-30","09:24:00","ALBEIRO ESCOBAR","PRESENCIAL","Cad calle 26 mod-152","Sin datos","Ciudadanía","RAUL PEDREROS MOLANO","Ciudadanía","RAUL PEDREROS MOLANO","Masculino","Hombre ","Sin datos","Padre/madre cabeza de familia","Sin datos","De 55 a 64","ASESORÍA","Incorporación y entrega de las áreas de cesión a favor del municipio","Cabida y linderos","CABIDA Y LINDEROS 20212030170571 - PREDIO KR 107C 63A 14","Atención al ciudadano",null,"10 Engativá"]
[130,2022,"NOVIEMBRE","2022-11-30","09:41:00","ALBEIRO ESCOBAR","PRESENCIAL","Cad calle 26 mod-152","Sin datos","Ciudadanía","MARTHA CONSUELO FRANCO","Ciudadanía","MARTHA CONSUELO FRANCO","Femenino","Mujer","Sin datos","Padre/madre cabeza de familia","Sin datos","De 55 a 64","ASESORÍA","Asesoría en administración y sostenibilidad del espacio público","Asesoría en temas de espacio público","CAMEP LA CAPILLA","Atención al ciudadano",null,"07 Bosa"]
[131,2022,"NOVIEMBRE","2022-11-30","09:57:00","ALBEIRO ESCOBAR","PRESENCIAL","Cad calle 26 mod-152","Sin datos","Ciudadanía","JONATHAN ENRIQUE OSORIO FLOREZ ","Ciudadanía","JONATHAN ENRIQUE OSORIO FLOREZ ","Masculino","Hombre ","Sin datos","Padre/madre cabeza de familia","Sin datos","De 55 a 64","ASESORÍA","Incorporación y entrega de las áreas de cesión a favor del municipio","Cabida y linderos","CABIDA Y LINDEROS KR 81B 71F 64 SUR","Atención al ciudadano",null,"07 Bosa"]
[132,2022,"NOVIEMBRE","2022-11-30","12:24:00","ALBEIRO ESCOBAR","PRESENCIAL","Cad calle 26 mod-152","Sin datos","Ciudadanía","HECTOR ANTONIO AMAYA LEGUIZAMON","Ciudadanía","HECTOR ANTONIO AMAYA LEGUIZAMON","Masculino","Hombre ","Sin datos","Adulto mayor","Sin datos","De 55 a 64","CONSULTA","Certificación de la propiedad inmobiliaria distrital","Certificación de la propiedad inmobiliaria","CERITIFACION RUPI 1875-17, 1875-16","Atención al ciudadano",null,"07 Bosa"]
[133,2022,"NOVIEMBRE","2022-11-30","12:28 P M","ALBEIRO ESCOBAR","PRESENCIAL","Cad calle 26 mod-152","Sin datos","Ciudadanía","AURA DEL CARMEN CALIMN","Ciudadanía","AURA DEL CARMEN CALIMN","Femenino","Mujer","Sin datos","Adulto mayor","Sin datos","65 y mas","CONSULTA","Consulta general","Consulta radicado","CONSULTA DE RADICADO  20224000243382","Atención al ciudadano",null,"19 Ciudad Bolívar"]
[134,2022,"NOVIEMBRE","2022-11-30","12:32:00","ALBEIRO ESCOBAR","PRESENCIAL","Cad calle 26 mod-152","Sin datos","Ciudadanía","JOSE MANUEL LINARES FAJARDO","Ciudadanía","JOSE MANUEL LINARES FAJARDO","Femenino","Mujer","Sin datos","Adulto mayor","Sin datos","65 y mas","CONSULTA","Consulta general","Consulta radicado","CONSULTA DE RADICADO  20224000243382","Atención al ciudadano",null,"19 Ciudad Bolívar"]
[135,2022,"NOVIEMBRE","2022-11-30","13:03:00","ALBEIRO ESCOBAR","PRESENCIAL","Cad calle 26 mod-152","Sin datos","Ciudadanía","LUIS ERNESTO MATAMOROS","Ciudadanía","LUIS ERNESTO MATAMOROS","Masculino","Hombre ","Sin datos","Adulto mayor","Sin datos","65 y mas","ASESORÍA","Certificación de la propiedad inmobiliaria distrital","Cabida y linderos","RUPI 1342-1","Atención al ciudadano",null,"11 Suba"]
[136,2022,"NOVIEMBRE",{"$f":"+'[7]conmutador Nov'!B7","v":"2022-11-01"},{"$f":"+'[7]conmutador Nov'!C7","v":"08:53:00"},{"$f":"+'[7]conmutador Nov'!D7","v":"JANETH REDONDO"},"TELEFÓNICO",{"$f":"+'[7]conmutador Nov'!E7","v":"Conmutador"},"Sin datos",{"$f":"+'[7]conmutador Nov'!J7","v":"Ciudadanía"},{"$f":"+'[7]conmutador Nov'!G7","v":"SANDRA GUZMAN"},{"$f":"+[7]!Tabla1[[#This Row],[GRUPO DE VALOR]]","v":"Ciudadanía"},{"$f":"+[7]!Tabla1[[#This Row],[NOMBRE DEL GRUPO DE VALOR]]","v":"SANDRA GUZMAN"},{"$f":"+'[7]conmutador Nov'!K7","v":"Femenino"},{"$f":"+'[7]conmutador Nov'!L7","v":"Mujer"},"Sin datos","Sin datos","Sin datos","Sin datos",{"$f":"+'[7]conmutador Nov'!N7","v":"Consulta"},{"$f":"+'[7]conmutador Nov'!O7","v":"Asesoría en administración y sostenibilidad del espacio público"},{"$f":"+'[7]conmutador Nov'!P7","v":"Competencia otras entidades"},{"$f":"+'[7]conmutador Nov'!Q7","v":"Solicita información de la Defensoría del Pueblo"},{"$f":"+'[7]conmutador Nov'!R7","v":"Atención al ciudadano"},{"$f":"+'[7]conmutador Nov'!S7","v":"Ciudadano"},{"$f":"+'[7]conmutador Nov'!T7","v":"Fuera de Bogotá"}]
[137,2022,"NOVIEMBRE",{"$f":"+'[7]conmutador Nov'!B8","v":"2022-11-01"},{"$f":"+'[7]conmutador Nov'!C8","v":"08:59:00"},{"$f":"+'[7]conmutador Nov'!D8","v":"JANETH REDONDO"},"TELEFÓNICO",{"$f":"+'[7]conmutador Nov'!E8","v":"Conmutador"},"Sin datos",{"$f":"+'[7]conmutador Nov'!J8","v":"Ciudadanía"},{"$f":"+'[7]conmutador Nov'!G8","v":"MARIANA MORENO"},{"$f":"+[7]!Tabla1[[#This Row],[GRUPO DE VALOR]]","v":"Ciudadanía"},{"$f":"+[7]!Tabla1[[#This Row],[NOMBRE DEL GRUPO DE VALOR]]","v":"MARIANA MORENO"},{"$f":"+'[7]conmutador Nov'!K8","v":"Femenino"},{"$f":"+'[7]conmutador Nov'!L8","v":"Mujer"},"Sin datos","Sin datos","Sin datos","Sin datos",{"$f":"+'[7]conmutador Nov'!N8","v":"Consulta"},{"$f":"+'[7]conmutador Nov'!O8","v":"Consulta general"},{"$f":"+'[7]conmutador Nov'!P8","v":"Consulta radicado"},{"$f":"+'[7]conmutador Nov'!Q8","v":"Consulta radicado No 20224000228022"},{"$f":"+'[7]conmutador Nov'!R8","v":"Atención al ciudadano"},{"$f":"+'[7]conmutador Nov'!S8","v":"Ciudadano"},{"$f":"+'[7]conmutador Nov'!T8","v":"12 Barrios Unidos"}]
[138,2022,"NOVIEMBRE",{"$f":"+'[7]conmutador Nov'!B9","v":"2022-11-01"},{"$f":"+'[7]conmutador Nov'!C9","v":"09:11:00"},{"$f":"+'[7]conmutador Nov'!D9","v":"JANETH REDONDO"},"TELEFÓNICO",{"$f":"+'[7]conmutador Nov'!E9","v":"Conmutador"},"Sin datos",{"$f":"+'[7]conmutador Nov'!J9","v":"Ciudadanía"},{"$f":"+'[7]conmutador Nov'!G9","v":"VICTORIA BARRAGAN"},{"$f":"+[7]!Tabla1[[#This Row],[GRUPO DE VALOR]]","v":"Ciudadanía"},{"$f":"+[7]!Tabla1[[#This Row],[NOMBRE DEL GRUPO DE VALOR]]","v":"VICTORIA BARRAGAN"},{"$f":"+'[7]conmutador Nov'!K9","v":"Femenino"},{"$f":"+'[7]conmutador Nov'!L9","v":"Mujer"},"Sin datos","Sin datos","Sin datos","Sin datos",{"$f":"+'[7]conmutador Nov'!N9","v":"Consulta"},{"$f":"+'[7]conmutador Nov'!O9","v":"Asesoría en administración y sostenibilidad del espacio público"},{"$f":"+'[7]conmutador Nov'!P9","v":"Denuncia otros elementos"},{"$f":"+'[7]conmutador Nov'!Q9","v":"Denuncia invasión de espacio público"},{"$f":"+'[7]conmutador Nov'!R9","v":"Atención al ciudadano"},{"$f":"+'[7]conmutador Nov'!S9","v":"Ciudadano"},"02 Chapinero"]
[139,2022,"NOVIEMBRE",{"$f":"+'[7]conmutador Nov'!B10","v":"2022-11-01"},{"$f":"+'[7]conmutador Nov'!C10","v":"09:31:00"},{"$f":"+'[7]conmutador Nov'!D10","v":"JANETH REDONDO"},"TELEFÓNICO",{"$f":"+'[7]conmutador Nov'!E10","v":"Conmutador"},"Sin datos",{"$f":"+'[7]conmutador Nov'!J10","v":"Anónimo"},{"$f":"+'[7]conmutador Nov'!G10","v":"ANÓNIMO"},{"$f":"+[7]!Tabla1[[#This Row],[GRUPO DE VALOR]]","v":"Anónimo"},{"$f":"+[7]!Tabla1[[#This Row],[NOMBRE DEL GRUPO DE VALOR]]","v":"ANÓNIMO"},{"$f":"+'[7]conmutador Nov'!K10","v":"N/A"},{"$f":"+'[7]conmutador Nov'!L10","v":"N/A"},"Sin datos","Sin datos","Sin datos","Sin datos",{"$f":"+'[7]conmutador Nov'!N10","v":"Consulta"},{"$f":"+'[7]conmutador Nov'!O10","v":"Consulta general"},{"$f":"+'[7]conmutador Nov'!P10","v":"Número equivocado"},{"$f":"+'[7]conmutador Nov'!Q10","v":"Número equivocado"},{"$f":"+'[7]conmutador Nov'!R10","v":"Atención al ciudadano"},{"$f":"+'[7]conmutador Nov'!S10","v":"Ciudadano"},{"$f":"+'[7]conmutador Nov'!T10","v":"No Registra"}]
[140,2022,"NOVIEMBRE",{"$f":"+'[7]conmutador Nov'!B11","v":"2022-11-01"},{"$f":"+'[7]conmutador Nov'!C11","v":"11:31:00"},{"$f":"+'[7]conmutador Nov'!D11","v":"JANETH REDONDO"},"TELEFÓNICO",{"$f":"+'[7]conmutador Nov'!E11","v":"Conmutador"},"Sin datos",{"$f":"+'[7]conmutador Nov'!J11","v":"Ciudadanía"},{"$f":"+'[7]conmutador Nov'!G11","v":"ENRIQUE ARIZA"},{"$f":"+[7]!Tabla1[[#This Row],[GRUPO DE VALOR]]","v":"Ciudadanía"},{"$f":"+[7]!Tabla1[[#This Row],[NOMBRE DEL GRUPO DE VALOR]]","v":"ENRIQUE ARIZA"},{"$f":"+'[7]conmutador Nov'!K11","v":"Masculino"},{"$f":"+'[7]conmutador Nov'!L11","v":"Hombre "},"Sin datos","Sin datos","Sin datos","Sin datos",{"$f":"+'[7]conmutador Nov'!N11","v":"Consulta"},{"$f":"+'[7]conmutador Nov'!O11","v":"Consulta general"},{"$f":"+'[7]conmutador Nov'!P11","v":"Transferencia de llamada"},{"$f":"+'[7]conmutador Nov'!Q11","v":"Transferencia de llamada a RR HH"},{"$f":"+'[7]conmutador Nov'!R11","v":"Atención al ciudadano"},{"$f":"+'[7]conmutador Nov'!S11","v":"Ciudadano"},"01 Usaquén"]
[141,2022,"NOVIEMBRE",{"$f":"+'[7]conmutador Nov'!B12","v":"2022-11-01"},{"$f":"+'[7]conmutador Nov'!C12","v":"11:43:00"},{"$f":"+'[7]conmutador Nov'!D12","v":"JANETH REDONDO"},"TELEFÓNICO",{"$f":"+'[7]conmutador Nov'!E12","v":"Conmutador"},"Sin datos",{"$f":"+'[7]conmutador Nov'!J12","v":"Ciudadanía"},{"$f":"+'[7]conmutador Nov'!G12","v":"PRISCILLA MILLAN"},{"$f":"+[7]!Tabla1[[#This Row],[GRUPO DE VALOR]]","v":"Ciudadanía"},{"$f":"+[7]!Tabla1[[#This Row],[NOMBRE DEL GRUPO DE VALOR]]","v":"PRISCILLA MILLAN"},{"$f":"+'[7]conmutador Nov'!K12","v":"Femenino"},{"$f":"+'[7]conmutador Nov'!L12","v":"Mujer"},"Sin datos","Sin datos","Sin datos","Sin datos",{"$f":"+'[7]conmutador Nov'!N12","v":"Consulta"},{"$f":"+'[7]conmutador Nov'!O12","v":"Consulta general"},{"$f":"+'[7]conmutador Nov'!P12","v":"Transferencia de llamada"},{"$f":"+'[7]conmutador Nov'!Q12","v":"Transferencia de llamada a SAI"},{"$f":"+'[7]conmutador Nov'!R12","v":"Atención al ciudadano"},{"$f":"+'[7]conmutador Nov'!S12","v":"Ciudadano"},"03 Santa fe"]
[142,2022,"NOVIEMBRE",{"$f":"+'[7]conmutador Nov'!B13","v":"2022-11-01"},{"$f":"+'[7]conmutador Nov'!C13","v":"14:22:00"},{"$f":"+'[7]conmutador Nov'!D13","v":"JANETH REDONDO"},"TELEFÓNICO",{"$f":"+'[7]conmutador Nov'!E13","v":"Conmutador"},"Sin datos",{"$f":"+'[7]conmutador Nov'!J13","v":"Ciudadanía"},{"$f":"+'[7]conmutador Nov'!G13","v":"KATHERINE FERNANDEZ"},{"$f":"+[7]!Tabla1[[#This Row],[GRUPO DE VALOR]]","v":"Ciudadanía"},{"$f":"+[7]!Tabla1[[#This Row],[NOMBRE DEL GRUPO DE VALOR]]","v":"KATHERINE FERNANDEZ"},{"$f":"+'[7]conmutador Nov'!K13","v":"Femenino"},{"$f":"+'[7]conmutador Nov'!L13","v":"Mujer"},"Sin datos","Sin datos","Sin datos","Sin datos",{"$f":"+'[7]conmutador Nov'!N13","v":"Consulta"},{"$f":"+'[7]conmutador Nov'!O13","v":"Consulta general"},{"$f":"+'[7]conmutador Nov'!P13","v":"Transferencia de llamada"},{"$f":"+'[7]conmutador Nov'!Q13","v":"Transferencia de llamada a Sistemas"},{"$f":"+'[7]conmutador Nov'!R13","v":"Atención al ciudadano"},{"$f":"+'[7]conmutador Nov'!S13","v":"Ciudadano"},"13 Teusaquillo"]
[143,2022,"NOVIEMBRE",{"$f":"+'[7]conmutador Nov'!B14","v":"2022-11-01"},{"$f":"+'[7]conmutador Nov'!C14","v":"15:27:00"},{"$f":"+'[7]conmutador Nov'!D14","v":"JANETH REDONDO"},"TELEFÓNICO",{"$f":"+'[7]conmutador Nov'!E14","v":"Conmutador"},"Sin datos",{"$f":"+'[7]conmutador Nov'!J14","v":"Ciudadanía"},{"$f":"+'[7]conmutador Nov'!G14","v":"SERGIO AROCA"},{"$f":"+[7]!Tabla1[[#This Row],[GRUPO DE VALOR]]","v":"Ciudadanía"},{"$f":"+[7]!Tabla1[[#This Row],[NOMBRE DEL GRUPO DE VALOR]]","v":"SERGIO AROCA"},{"$f":"+'[7]conmutador Nov'!K14","v":"Masculino"},{"$f":"+'[7]conmutador Nov'!L14","v":"Hombre "},"Sin datos","Sin datos","Sin datos","Sin datos",{"$f":"+'[7]conmutador Nov'!N14","v":"Consulta"},{"$f":"+'[7]conmutador Nov'!O14","v":"Asesoría en administración y sostenibilidad del espacio público"},{"$f":"+'[7]conmutador Nov'!P14","v":"Asesoría en temas de espacio público"},{"$f":"+'[7]conmutador Nov'!Q14","v":"Solicita información sobre la actividad económica del FOOD TRUCK"},{"$f":"+'[7]conmutador Nov'!R14","v":"Atención al ciudadano"},{"$f":"+'[7]conmutador Nov'!S14","v":"Ciudadano"},"11 Suba"]
[144,2022,"NOVIEMBRE",{"$f":"+'[7]conmutador Nov'!B15","v":"2022-11-01"},{"$f":"+'[7]conmutador Nov'!C15","v":"15:59:00"},{"$f":"+'[7]conmutador Nov'!D15","v":"JANETH REDONDO"},"TELEFÓNICO",{"$f":"+'[7]conmutador Nov'!E15","v":"Conmutador"},"Sin datos",{"$f":"+'[7]conmutador Nov'!J15","v":"Ciudadanía"},{"$f":"+'[7]conmutador Nov'!G15","v":"DANIEL CIFUENTES"},{"$f":"+[7]!Tabla1[[#This Row],[GRUPO DE VALOR]]","v":"Ciudadanía"},{"$f":"+[7]!Tabla1[[#This Row],[NOMBRE DEL GRUPO DE VALOR]]","v":"DANIEL CIFUENTES"},{"$f":"+'[7]conmutador Nov'!K15","v":"Masculino"},{"$f":"+'[7]conmutador Nov'!L15","v":"Hombre "},"Sin datos","Sin datos","Sin datos","Sin datos",{"$f":"+'[7]conmutador Nov'!N15","v":"Consulta"},{"$f":"+'[7]conmutador Nov'!O15","v":"Asesoría en administración y sostenibilidad del espacio público"},{"$f":"+'[7]conmutador Nov'!P15","v":"Asesoría en temas de espacio público"},{"$f":"+'[7]conmutador Nov'!Q15","v":"Solicita información sobre actividad económica a Cielo Abierto 2.0"},{"$f":"+'[7]conmutador Nov'!R15","v":"Atención al ciudadano"},{"$f":"+'[7]conmutador Nov'!S15","v":"Ciudadano"},"02 Chapinero"]
[145,2022,"NOVIEMBRE",{"$f":"+'[7]conmutador Nov'!B16","v":"2022-11-01"},{"$f":"+'[7]conmutador Nov'!C16","v":"16:16:00"},{"$f":"+'[7]conmutador Nov'!D16","v":"JANETH REDONDO"},"TELEFÓNICO",{"$f":"+'[7]conmutador Nov'!E16","v":"Conmutador"},"Sin datos",{"$f":"+'[7]conmutador Nov'!J16","v":"Ciudadanía"},{"$f":"+'[7]conmutador Nov'!G16","v":"ALEJANDRO RAMIREZ"},{"$f":"+[7]!Tabla1[[#This Row],[GRUPO DE VALOR]]","v":"Ciudadanía"},{"$f":"+[7]!Tabla1[[#This Row],[NOMBRE DEL GRUPO DE VALOR]]","v":"ALEJANDRO RAMIREZ"},{"$f":"+'[7]conmutador Nov'!K16","v":"Masculino"},{"$f":"+'[7]conmutador Nov'!L16","v":"Hombre "},"Sin datos","Sin datos","Sin datos","Sin datos",{"$f":"+'[7]conmutador Nov'!N16","v":"Consulta"},{"$f":"+'[7]conmutador Nov'!O16","v":"Asesoría en administración y sostenibilidad del espacio público"},{"$f":"+'[7]conmutador Nov'!P16","v":"Denuncia Cerramiento"},{"$f":"+'[7]conmutador Nov'!Q16","v":"Denuncia cerramiento de espacio público zona verde para acondicionar parqueadero en el conjunto de su localidad."},{"$f":"+'[7]conmutador Nov'!R16","v":"Atención al ciudadano"},{"$f":"+'[7]conmutador Nov'!S16","v":"Ciudadano"},"11 Suba"]
[146,2022,"NOVIEMBRE",{"$f":"+'[7]conmutador Nov'!B17","v":"2022-11-02"},{"$f":"+'[7]conmutador Nov'!C17","v":"09:06:00"},{"$f":"+'[7]conmutador Nov'!D17","v":"JANETH REDONDO"},"TELEFÓNICO",{"$f":"+'[7]conmutador Nov'!E17","v":"Conmutador"},"Sin datos",{"$f":"+'[7]conmutador Nov'!J17","v":"Ciudadanía"},{"$f":"+'[7]conmutador Nov'!G17","v":"GISELLE MORALES"},{"$f":"+[7]!Tabla1[[#This Row],[GRUPO DE VALOR]]","v":"Ciudadanía"},{"$f":"+[7]!Tabla1[[#This Row],[NOMBRE DEL GRUPO DE VALOR]]","v":"GISELLE MORALES"},{"$f":"+'[7]conmutador Nov'!K17","v":"Femenino"},{"$f":"+'[7]conmutador Nov'!L17","v":"Mujer"},"Sin datos","Sin datos","Sin datos","Sin datos",{"$f":"+'[7]conmutador Nov'!N17","v":"Consulta"},{"$f":"+'[7]conmutador Nov'!O17","v":"Consulta general"},{"$f":"+'[7]conmutador Nov'!P17","v":"Competencia otras entidades"},{"$f":"+'[7]conmutador Nov'!Q17","v":"Solicita información de la Defensoría del Pueblo"},{"$f":"+'[7]conmutador Nov'!R17","v":"Atención al ciudadano"},{"$f":"+'[7]conmutador Nov'!S17","v":"Ciudadano"},"07 Bosa"]
[147,2022,"NOVIEMBRE",{"$f":"+'[7]conmutador Nov'!B18","v":"2022-11-02"},{"$f":"+'[7]conmutador Nov'!C18","v":"09:23:00"},{"$f":"+'[7]conmutador Nov'!D18","v":"JANETH REDONDO"},"TELEFÓNICO",{"$f":"+'[7]conmutador Nov'!E18","v":"Conmutador"},"Sin datos",{"$f":"+'[7]conmutador Nov'!J18","v":"Ciudadanía"},{"$f":"+'[7]conmutador Nov'!G18","v":"CRISTIAN DÍAZ"},{"$f":"+[7]!Tabla1[[#This Row],[GRUPO DE VALOR]]","v":"Ciudadanía"},{"$f":"+[7]!Tabla1[[#This Row],[NOMBRE DEL GRUPO DE VALOR]]","v":"CRISTIAN DÍAZ"},{"$f":"+'[7]conmutador Nov'!K18","v":"Masculino"},{"$f":"+'[7]conmutador Nov'!L18","v":"Hombre "},"Sin datos","Sin datos","Sin datos","Sin datos",{"$f":"+'[7]conmutador Nov'!N18","v":"Consulta"},{"$f":"+'[7]conmutador Nov'!O18","v":"Asesoría en administración y sostenibilidad del espacio público"},{"$f":"+'[7]conmutador Nov'!P18","v":"Asesoría en temas de espacio público"},{"$f":"+'[7]conmutador Nov'!Q18","v":"Solicita permiso para intervención de espacio público"},{"$f":"+'[7]conmutador Nov'!R18","v":"Atención al ciudadano"},{"$f":"+'[7]conmutador Nov'!S18","v":"Ciudadano"},{"$f":"+'[7]conmutador Nov'!T18","v":"10 Engativá"}]
[148,2022,"NOVIEMBRE",{"$f":"+'[7]conmutador Nov'!B19","v":"2022-11-02"},{"$f":"+'[7]conmutador Nov'!C19","v":"09:37:00"},{"$f":"+'[7]conmutador Nov'!D19","v":"JANETH REDONDO"},"TELEFÓNICO",{"$f":"+'[7]conmutador Nov'!E19","v":"Conmutador"},"Sin datos","Entidades y Organismos Distritales",{"$f":"+'[7]conmutador Nov'!G19","v":"ARMANDO CRESPO"},"Entidades y Organismos Distritales",{"$f":"+[7]!Tabla1[[#This Row],[NOMBRE DEL GRUPO DE VALOR]]","v":"ARMANDO CRESPO"},{"$f":"+'[7]conmutador Nov'!K19","v":"Masculino"},{"$f":"+'[7]conmutador Nov'!L19","v":"Hombre "},"Sin datos","Sin datos","Sin datos","Sin datos",{"$f":"+'[7]conmutador Nov'!N19","v":"Consulta"},{"$f":"+'[7]conmutador Nov'!O19","v":"Consulta general"},{"$f":"+'[7]conmutador Nov'!P19","v":"Transferencia de llamada"},{"$f":"+'[7]conmutador Nov'!Q19","v":"Transferencia de llamada a SAI del IDRD"},{"$f":"+'[7]conmutador Nov'!R19","v":"Atención al ciudadano"},{"$f":"+'[7]conmutador Nov'!S19","v":"Ciudadano"},"13 Teusaquillo"]
[149,2022,"NOVIEMBRE",{"$f":"+'[7]conmutador Nov'!B20","v":"2022-11-02"},{"$f":"+'[7]conmutador Nov'!C20","v":"09:53:00"},{"$f":"+'[7]conmutador Nov'!D20","v":"JANETH REDONDO"},"TELEFÓNICO",{"$f":"+'[7]conmutador Nov'!E20","v":"Conmutador"},"Sin datos",{"$f":"+'[7]conmutador Nov'!J20","v":"Ciudadanía"},{"$f":"+'[7]conmutador Nov'!G20","v":"MARTHA REYES"},{"$f":"+[7]!Tabla1[[#This Row],[GRUPO DE VALOR]]","v":"Ciudadanía"},{"$f":"+[7]!Tabla1[[#This Row],[NOMBRE DEL GRUPO DE VALOR]]","v":"MARTHA REYES"},{"$f":"+'[7]conmutador Nov'!K20","v":"Femenino"},{"$f":"+'[7]conmutador Nov'!L20","v":"Mujer"},"Sin datos","Sin datos","Sin datos","Sin datos",{"$f":"+'[7]conmutador Nov'!N20","v":"Consulta"},{"$f":"+'[7]conmutador Nov'!O20","v":"Asesoría en administración y sostenibilidad del espacio público"},{"$f":"+'[7]conmutador Nov'!P20","v":"Competencia otras entidades"},{"$f":"+'[7]conmutador Nov'!Q20","v":"Solicita información de la Defensoría del Pueblo"},{"$f":"+'[7]conmutador Nov'!R20","v":"Atención al ciudadano"},{"$f":"+'[7]conmutador Nov'!S20","v":"Ciudadano"},{"$f":"+'[7]conmutador Nov'!T20","v":"No Registra"}]
[150,2022,"NOVIEMBRE",{"$f":"+'[7]conmutador Nov'!B21","v":"2022-11-02"},{"$f":"+'[7]conmutador Nov'!C21","v":"10:03:00"},{"$f":"+'[7]conmutador Nov'!D21","v":"JANETH REDONDO"},"TELEFÓNICO",{"$f":"+'[7]conmutador Nov'!E21","v":"Conmutador"},"Sin datos","Entidades y Organismos Distritales",{"$f":"+'[7]conmutador Nov'!G21","v":"OMAR CAÑA"},"Entidades y Organismos Distritales",{"$f":"+[7]!Tabla1[[#This Row],[NOMBRE DEL GRUPO DE VALOR]]","v":"OMAR CAÑA"},{"$f":"+'[7]conmutador Nov'!K21","v":"Masculino"},{"$f":"+'[7]conmutador Nov'!L21","v":"Hombre "},"Sin datos","Sin datos","Sin datos","Sin datos",{"$f":"+'[7]conmutador Nov'!N21","v":"Consulta"},{"$f":"+'[7]conmutador Nov'!O21","v":"Consulta general"},{"$f":"+'[7]conmutador Nov'!P21","v":"Transferencia de llamada"},{"$f":"+'[7]conmutador Nov'!Q21","v":"Transferencia de llamada a SAI de la Veeduría Distrital"},{"$f":"+'[7]conmutador Nov'!R21","v":"Atención al ciudadano"},{"$f":"+'[7]conmutador Nov'!S21","v":"Ciudadano"},{"$f":"+'[7]conmutador Nov'!T21","v":"No Registra"}]
[151,2022,"NOVIEMBRE",{"$f":"+'[7]conmutador Nov'!B22","v":"2022-11-02"},{"$f":"+'[7]conmutador Nov'!C22","v":"10:12:00"},{"$f":"+'[7]conmutador Nov'!D22","v":"JANETH REDONDO"},"TELEFÓNICO",{"$f":"+'[7]conmutador Nov'!E22","v":"Conmutador"},"Sin datos",{"$f":"+'[7]conmutador Nov'!J22","v":"Ciudadanía"},{"$f":"+'[7]conmutador Nov'!G22","v":"FRANCISCO PATIÑO"},{"$f":"+[7]!Tabla1[[#This Row],[GRUPO DE VALOR]]","v":"Ciudadanía"},{"$f":"+[7]!Tabla1[[#This Row],[NOMBRE DEL GRUPO DE VALOR]]","v":"FRANCISCO PATIÑO"},{"$f":"+'[7]conmutador Nov'!K22","v":"Masculino"},{"$f":"+'[7]conmutador Nov'!L22","v":"Hombre "},"Sin datos","Sin datos","Sin datos","Sin datos",{"$f":"+'[7]conmutador Nov'!N22","v":"Consulta"},{"$f":"+'[7]conmutador Nov'!O22","v":"Asesoría en administración y sostenibilidad del espacio público"},{"$f":"+'[7]conmutador Nov'!P22","v":"Asesoría en temas de espacio público"},{"$f":"+'[7]conmutador Nov'!Q22","v":"Solicta permiso para evento en espacio público."},{"$f":"+'[7]conmutador Nov'!R22","v":"Atención al ciudadano"},{"$f":"+'[7]conmutador Nov'!S22","v":"Ciudadano"},{"$f":"+'[7]conmutador Nov'!T22","v":"No Registra"}]
[152,2022,"NOVIEMBRE",{"$f":"+'[7]conmutador Nov'!B23","v":"2022-11-02"},{"$f":"+'[7]conmutador Nov'!C23","v":"10:47:00"},{"$f":"+'[7]conmutador Nov'!D23","v":"JANETH REDONDO"},"TELEFÓNICO",{"$f":"+'[7]conmutador Nov'!E23","v":"Conmutador"},"Sin datos",{"$f":"+'[7]conmutador Nov'!J23","v":"Ciudadanía"},{"$f":"+'[7]conmutador Nov'!G23","v":"JOHANNA PARRADO"},{"$f":"+[7]!Tabla1[[#This Row],[GRUPO DE VALOR]]","v":"Ciudadanía"},{"$f":"+[7]!Tabla1[[#This Row],[NOMBRE DEL GRUPO DE VALOR]]","v":"JOHANNA PARRADO"},{"$f":"+'[7]conmutador Nov'!K23","v":"Femenino"},{"$f":"+'[7]conmutador Nov'!L23","v":"Mujer"},"Sin datos","Sin datos","Sin datos","Sin datos",{"$f":"+'[7]conmutador Nov'!N23","v":"Consulta"},{"$f":"+'[7]conmutador Nov'!O23","v":"Consulta general"},{"$f":"+'[7]conmutador Nov'!P23","v":"Transferencia de llamada"},{"$f":"+'[7]conmutador Nov'!Q23","v":"Transferencia de llamada a OAJ"},{"$f":"+'[7]conmutador Nov'!R23","v":"Atención al ciudadano"},{"$f":"+'[7]conmutador Nov'!S23","v":"Ciudadano"},{"$f":"+'[7]conmutador Nov'!T23","v":"No Registra"}]
[153,2022,"NOVIEMBRE",{"$f":"+'[7]conmutador Nov'!B24","v":"2022-11-02"},{"$f":"+'[7]conmutador Nov'!C24","v":"10:49:00"},{"$f":"+'[7]conmutador Nov'!D24","v":"JANETH REDONDO"},"TELEFÓNICO",{"$f":"+'[7]conmutador Nov'!E24","v":"Conmutador"},"Sin datos",{"$f":"+'[7]conmutador Nov'!J24","v":"Anónimo"},{"$f":"+'[7]conmutador Nov'!G24","v":"ANÓNIMO"},{"$f":"+[7]!Tabla1[[#This Row],[GRUPO DE VALOR]]","v":"Anónimo"},{"$f":"+[7]!Tabla1[[#This Row],[NOMBRE DEL GRUPO DE VALOR]]","v":"ANÓNIMO"},{"$f":"+'[7]conmutador Nov'!K24","v":"N/A"},{"$f":"+'[7]conmutador Nov'!L24","v":"N/A"},"Sin datos","Sin datos","Sin datos","Sin datos",{"$f":"+'[7]conmutador Nov'!N24","v":"Consulta"},{"$f":"+'[7]conmutador Nov'!O24","v":"Consulta general"},{"$f":"+'[7]conmutador Nov'!P24","v":"Número equivocado"},{"$f":"+'[7]conmutador Nov'!Q24","v":"Número equivocado"},{"$f":"+'[7]conmutador Nov'!R24","v":"Atención al ciudadano"},{"$f":"+'[7]conmutador Nov'!S24","v":"Ciudadano"},{"$f":"+'[7]conmutador Nov'!T24","v":"No Registra"}]
[154,2022,"NOVIEMBRE",{"$f":"+'[7]conmutador Nov'!B25","v":"2022-11-02"},{"$f":"+'[7]conmutador Nov'!C25","v":"11:16:00"},{"$f":"+'[7]conmutador Nov'!D25","v":"JANETH REDONDO"},"TELEFÓNICO",{"$f":"+'[7]conmutador Nov'!E25","v":"Conmutador"},"Sin datos",{"$f":"+'[7]conmutador Nov'!J25","v":"Ciudadanía"},{"$f":"+'[7]conmutador Nov'!G25","v":"CONCEPCIÓN CARRERO"},{"$f":"+[7]!Tabla1[[#This Row],[GRUPO DE VALOR]]","v":"Ciudadanía"},{"$f":"+[7]!Tabla1[[#This Row],[NOMBRE DEL GRUPO DE VALOR]]","v":"CONCEPCIÓN CARRERO"},{"$f":"+'[7]conmutador Nov'!K25","v":"Femenino"},{"$f":"+'[7]conmutador Nov'!L25","v":"Mujer"},"Sin datos","Sin datos","Sin datos","Sin datos",{"$f":"+'[7]conmutador Nov'!N25","v":"Consulta"},{"$f":"+'[7]conmutador Nov'!O25","v":"Consulta general"},{"$f":"+'[7]conmutador Nov'!P25","v":"Competencia otras entidades"},{"$f":"+'[7]conmutador Nov'!Q25","v":"Solicita asesoría sobre quien puede cederle un inmueble para funcionamiento de Fundación para jóvenes drogadictos."},{"$f":"+'[7]conmutador Nov'!R25","v":"Atención al ciudadano"},{"$f":"+'[7]conmutador Nov'!S25","v":"Ciudadano"},"08 Kennedy"]
[155,2022,"NOVIEMBRE",{"$f":"+'[7]conmutador Nov'!B26","v":"2022-11-02"},{"$f":"+'[7]conmutador Nov'!C26","v":"13:02:00"},{"$f":"+'[7]conmutador Nov'!D26","v":"JANETH REDONDO"},"TELEFÓNICO",{"$f":"+'[7]conmutador Nov'!E26","v":"Conmutador"},"Sin datos",{"$f":"+'[7]conmutador Nov'!J26","v":"Ciudadanía"},{"$f":"+'[7]conmutador Nov'!G26","v":"MANUELA PALACIOS"},{"$f":"+[7]!Tabla1[[#This Row],[GRUPO DE VALOR]]","v":"Ciudadanía"},{"$f":"+[7]!Tabla1[[#This Row],[NOMBRE DEL GRUPO DE VALOR]]","v":"MANUELA PALACIOS"},{"$f":"+'[7]conmutador Nov'!K26","v":"Femenino"},{"$f":"+'[7]conmutador Nov'!L26","v":"Mujer"},"Sin datos","Sin datos","Sin datos","Sin datos",{"$f":"+'[7]conmutador Nov'!N26","v":"Consulta"},{"$f":"+'[7]conmutador Nov'!O26","v":"Consulta general"},{"$f":"+'[7]conmutador Nov'!P26","v":"Transferencia de llamada"},{"$f":"+'[7]conmutador Nov'!Q26","v":"Transferencia de llamada a SAI"},{"$f":"+'[7]conmutador Nov'!R26","v":"Atención al ciudadano"},{"$f":"+'[7]conmutador Nov'!S26","v":"Ciudadano"},"01 Usaquén"]
[156,2022,"NOVIEMBRE",{"$f":"+'[7]conmutador Nov'!B27","v":"2022-11-02"},{"$f":"+'[7]conmutador Nov'!C27","v":"13:45:00"},{"$f":"+'[7]conmutador Nov'!D27","v":"JANETH REDONDO"},"TELEFÓNICO",{"$f":"+'[7]conmutador Nov'!E27","v":"Conmutador"},"Sin datos",{"$f":"+'[7]conmutador Nov'!J27","v":"Ciudadanía"},{"$f":"+'[7]conmutador Nov'!G27","v":"ALVARO VASQUEZ"},{"$f":"+[7]!Tabla1[[#This Row],[GRUPO DE VALOR]]","v":"Ciudadanía"},{"$f":"+[7]!Tabla1[[#This Row],[NOMBRE DEL GRUPO DE VALOR]]","v":"ALVARO VASQUEZ"},{"$f":"+'[7]conmutador Nov'!K27","v":"Masculino"},{"$f":"+'[7]conmutador Nov'!L27","v":"Hombre "},"Sin datos","Sin datos","Sin datos","Sin datos",{"$f":"+'[7]conmutador Nov'!N27","v":"Consulta"},{"$f":"+'[7]conmutador Nov'!O27","v":"Consulta general"},{"$f":"+'[7]conmutador Nov'!P27","v":"Consulta radicado"},{"$f":"+'[7]conmutador Nov'!Q27","v":"Consulta radicado No 20224000211162"},{"$f":"+'[7]conmutador Nov'!R27","v":"Atención al ciudadano"},{"$f":"+'[7]conmutador Nov'!S27","v":"Ciudadano"},{"$f":"+'[7]conmutador Nov'!T27","v":"No Registra"}]
[157,2022,"NOVIEMBRE",{"$f":"+'[7]conmutador Nov'!B28","v":"2022-11-02"},{"$f":"+'[7]conmutador Nov'!C28","v":"14:40:00"},{"$f":"+'[7]conmutador Nov'!D28","v":"JANETH REDONDO"},"TELEFÓNICO",{"$f":"+'[7]conmutador Nov'!E28","v":"Conmutador"},"Sin datos",{"$f":"+'[7]conmutador Nov'!J28","v":"Anónimo"},{"$f":"+'[7]conmutador Nov'!G28","v":"ANÓNIMO"},{"$f":"+[7]!Tabla1[[#This Row],[GRUPO DE VALOR]]","v":"Anónimo"},{"$f":"+[7]!Tabla1[[#This Row],[NOMBRE DEL GRUPO DE VALOR]]","v":"ANÓNIMO"},{"$f":"+'[7]conmutador Nov'!K28","v":"Femenino"},{"$f":"+'[7]conmutador Nov'!L28","v":"Mujer"},"Sin datos","Sin datos","Sin datos","Sin datos",{"$f":"+'[7]conmutador Nov'!N28","v":"Consulta"},{"$f":"+'[7]conmutador Nov'!O28","v":"Consulta general"},{"$f":"+'[7]conmutador Nov'!P28","v":"Competencia otras entidades"},{"$f":"+'[7]conmutador Nov'!Q28","v":"Desea saber sobre planos de apartamentos cerca a Bavaria"},{"$f":"+'[7]conmutador Nov'!R28","v":"Atención al ciudadano"},{"$f":"+'[7]conmutador Nov'!S28","v":"Ciudadano"},"08 Kennedy"]
[158,2022,"NOVIEMBRE",{"$f":"+'[7]conmutador Nov'!B29","v":"2022-11-02"},{"$f":"+'[7]conmutador Nov'!C29","v":"14:53:00"},{"$f":"+'[7]conmutador Nov'!D29","v":"JANETH REDONDO"},"TELEFÓNICO",{"$f":"+'[7]conmutador Nov'!E29","v":"Conmutador"},"Sin datos",{"$f":"+'[7]conmutador Nov'!J29","v":"Ciudadanía"},{"$f":"+'[7]conmutador Nov'!G29","v":"LUISA MORENO"},{"$f":"+[7]!Tabla1[[#This Row],[GRUPO DE VALOR]]","v":"Ciudadanía"},{"$f":"+[7]!Tabla1[[#This Row],[NOMBRE DEL GRUPO DE VALOR]]","v":"LUISA MORENO"},{"$f":"+'[7]conmutador Nov'!K29","v":"Femenino"},{"$f":"+'[7]conmutador Nov'!L29","v":"Mujer"},"Sin datos","Sin datos","Sin datos","Sin datos",{"$f":"+'[7]conmutador Nov'!N29","v":"Consulta"},{"$f":"+'[7]conmutador Nov'!O29","v":"Asesoría en administración y sostenibilidad del espacio público"},{"$f":"+'[7]conmutador Nov'!P29","v":"Asesoría en temas de espacio público"},{"$f":"+'[7]conmutador Nov'!Q29","v":"Solicita información sobre la actividad económica del FOOD TRUCK"},{"$f":"+'[7]conmutador Nov'!R29","v":"Atención al ciudadano"},{"$f":"+'[7]conmutador Nov'!S29","v":"Ciudadano"},{"$f":"+'[7]conmutador Nov'!T29","v":"Fuera de Bogotá"}]
[159,2022,"NOVIEMBRE",{"$f":"+'[7]conmutador Nov'!B30","v":"2022-11-02"},{"$f":"+'[7]conmutador Nov'!C30","v":"15:20:00"},{"$f":"+'[7]conmutador Nov'!D30","v":"JANETH REDONDO"},"TELEFÓNICO",{"$f":"+'[7]conmutador Nov'!E30","v":"Conmutador"},"Sin datos",{"$f":"+'[7]conmutador Nov'!J30","v":"Ciudadanía"},{"$f":"+'[7]conmutador Nov'!G30","v":"DANIEL CIFUENTES"},{"$f":"+[7]!Tabla1[[#This Row],[GRUPO DE VALOR]]","v":"Ciudadanía"},{"$f":"+[7]!Tabla1[[#This Row],[NOMBRE DEL GRUPO DE VALOR]]","v":"DANIEL CIFUENTES"},{"$f":"+'[7]conmutador Nov'!K30","v":"Masculino"},{"$f":"+'[7]conmutador Nov'!L30","v":"Hombre "},"Sin datos","Sin datos","Sin datos","Sin datos",{"$f":"+'[7]conmutador Nov'!N30","v":"Consulta"},{"$f":"+'[7]conmutador Nov'!O30","v":"Consulta general"},{"$f":"+'[7]conmutador Nov'!P30","v":"Transferencia de llamada"},{"$f":"+'[7]conmutador Nov'!Q30","v":"Transferencia de llamada a SAI"},{"$f":"+'[7]conmutador Nov'!R30","v":"Atención al ciudadano"},{"$f":"+'[7]conmutador Nov'!S30","v":"Ciudadano"},"02 Chapinero"]
[160,2022,"NOVIEMBRE",{"$f":"+'[7]conmutador Nov'!B31","v":"2022-11-02"},{"$f":"+'[7]conmutador Nov'!C31","v":"15:28:00"},{"$f":"+'[7]conmutador Nov'!D31","v":"JANETH REDONDO"},"TELEFÓNICO",{"$f":"+'[7]conmutador Nov'!E31","v":"Conmutador"},"Sin datos",{"$f":"+'[7]conmutador Nov'!J31","v":"Ciudadanía"},{"$f":"+'[7]conmutador Nov'!G31","v":"RAFAEL ALVARADO"},{"$f":"+[7]!Tabla1[[#This Row],[GRUPO DE VALOR]]","v":"Ciudadanía"},{"$f":"+[7]!Tabla1[[#This Row],[NOMBRE DEL GRUPO DE VALOR]]","v":"RAFAEL ALVARADO"},{"$f":"+'[7]conmutador Nov'!K31","v":"Masculino"},{"$f":"+'[7]conmutador Nov'!L31","v":"Hombre "},"Sin datos","Sin datos","Sin datos","Sin datos",{"$f":"+'[7]conmutador Nov'!N31","v":"Consulta"},{"$f":"+'[7]conmutador Nov'!O31","v":"Incorporación y entrega de las áreas de cesión a favor del municipio"},{"$f":"+'[7]conmutador Nov'!P31","v":"Entrega de zonas de cesión"},{"$f":"+'[7]conmutador Nov'!Q31","v":"Entrega de zonas de cesión"},{"$f":"+'[7]conmutador Nov'!R31","v":"Atención al ciudadano"},{"$f":"+'[7]conmutador Nov'!S31","v":"Ciudadano"},"01 Usaquén"]
[161,2022,"NOVIEMBRE",{"$f":"+'[7]conmutador Nov'!B32","v":"2022-11-02"},{"$f":"+'[7]conmutador Nov'!C32","v":"15:57:00"},{"$f":"+'[7]conmutador Nov'!D32","v":"JANETH REDONDO"},"TELEFÓNICO",{"$f":"+'[7]conmutador Nov'!E32","v":"Conmutador"},"Sin datos",{"$f":"+'[7]conmutador Nov'!J32","v":"Ciudadanía"},{"$f":"+'[7]conmutador Nov'!G32","v":"KATHERINE FERNANDEZ"},{"$f":"+[7]!Tabla1[[#This Row],[GRUPO DE VALOR]]","v":"Ciudadanía"},{"$f":"+[7]!Tabla1[[#This Row],[NOMBRE DEL GRUPO DE VALOR]]","v":"KATHERINE FERNANDEZ"},{"$f":"+'[7]conmutador Nov'!K32","v":"Femenino"},{"$f":"+'[7]conmutador Nov'!L32","v":"Mujer"},"Sin datos","Sin datos","Sin datos","Sin datos",{"$f":"+'[7]conmutador Nov'!N32","v":"Consulta"},{"$f":"+'[7]conmutador Nov'!O32","v":"Consulta general"},{"$f":"+'[7]conmutador Nov'!P32","v":"Transferencia de llamada"},{"$f":"+'[7]conmutador Nov'!Q32","v":"Transferencia de llamada a Sistemas"},{"$f":"+'[7]conmutador Nov'!R32","v":"Atención al ciudadano"},{"$f":"+'[7]conmutador Nov'!S32","v":"Ciudadano"},"13 Teusaquillo"]
[162,2022,"NOVIEMBRE",{"$f":"+'[7]conmutador Nov'!B33","v":"2022-11-03"},{"$f":"+'[7]conmutador Nov'!C33","v":"08:23:00"},{"$f":"+'[7]conmutador Nov'!D33","v":"JANETH REDONDO"},"TELEFÓNICO",{"$f":"+'[7]conmutador Nov'!E33","v":"Conmutador"},"Sin datos",{"$f":"+'[7]conmutador Nov'!J33","v":"Ciudadanía"},{"$f":"+'[7]conmutador Nov'!G33","v":"ISRAEL PEREZ"},{"$f":"+[7]!Tabla1[[#This Row],[GRUPO DE VALOR]]","v":"Ciudadanía"},{"$f":"+[7]!Tabla1[[#This Row],[NOMBRE DEL GRUPO DE VALOR]]","v":"ISRAEL PEREZ"},{"$f":"+'[7]conmutador Nov'!K33","v":"Masculino"},{"$f":"+'[7]conmutador Nov'!L33","v":"Hombre "},"Sin datos","Sin datos","Sin datos","Sin datos",{"$f":"+'[7]conmutador Nov'!N33","v":"Consulta"},{"$f":"+'[7]conmutador Nov'!O33","v":"Consulta general"},{"$f":"+'[7]conmutador Nov'!P33","v":"Solicitud cita"},{"$f":"+'[7]conmutador Nov'!Q33","v":"Solicitud cita con funcionario de SRI"},{"$f":"+'[7]conmutador Nov'!R33","v":"Atención al ciudadano"},{"$f":"+'[7]conmutador Nov'!S33","v":"Ciudadano"},"11 Suba"]
[163,2022,"NOVIEMBRE",{"$f":"+'[7]conmutador Nov'!B34","v":"2022-11-03"},{"$f":"+'[7]conmutador Nov'!C34","v":"09:34:00"},{"$f":"+'[7]conmutador Nov'!D34","v":"JANETH REDONDO"},"TELEFÓNICO",{"$f":"+'[7]conmutador Nov'!E34","v":"Conmutador"},"Sin datos",{"$f":"+'[7]conmutador Nov'!J34","v":"Ciudadanía"},{"$f":"+'[7]conmutador Nov'!G34","v":"WILLIAM ISAZA"},{"$f":"+[7]!Tabla1[[#This Row],[GRUPO DE VALOR]]","v":"Ciudadanía"},{"$f":"+[7]!Tabla1[[#This Row],[NOMBRE DEL GRUPO DE VALOR]]","v":"WILLIAM ISAZA"},{"$f":"+'[7]conmutador Nov'!K34","v":"Masculino"},{"$f":"+'[7]conmutador Nov'!L34","v":"Hombre "},"Sin datos","Sin datos","Sin datos","Sin datos",{"$f":"+'[7]conmutador Nov'!N34","v":"Consulta"},{"$f":"+'[7]conmutador Nov'!O34","v":"Asesoría en administración y sostenibilidad del espacio público"},{"$f":"+'[7]conmutador Nov'!P34","v":"Consulta"},{"$f":"+'[7]conmutador Nov'!Q34","v":"Solicita asesoría para permiso de vender informalmente en espacio público - se le notifica que se comunique con el IPES."},{"$f":"+'[7]conmutador Nov'!R34","v":"Atención al ciudadano"},{"$f":"+'[7]conmutador Nov'!S34","v":"Ciudadano"},"13 Teusaquillo"]
[164,2022,"NOVIEMBRE",{"$f":"+'[7]conmutador Nov'!B35","v":"2022-11-03"},{"$f":"+'[7]conmutador Nov'!C35","v":"09:41:00"},{"$f":"+'[7]conmutador Nov'!D35","v":"JANETH REDONDO"},"TELEFÓNICO",{"$f":"+'[7]conmutador Nov'!E35","v":"Conmutador"},"Sin datos",{"$f":"+'[7]conmutador Nov'!J35","v":"Ciudadanía"},{"$f":"+'[7]conmutador Nov'!G35","v":"JAIRO RUMAÑA"},{"$f":"+[7]!Tabla1[[#This Row],[GRUPO DE VALOR]]","v":"Ciudadanía"},{"$f":"+[7]!Tabla1[[#This Row],[NOMBRE DEL GRUPO DE VALOR]]","v":"JAIRO RUMAÑA"},{"$f":"+'[7]conmutador Nov'!K35","v":"Masculino"},{"$f":"+'[7]conmutador Nov'!L35","v":"Hombre "},"Sin datos","Sin datos","Sin datos","Sin datos",{"$f":"+'[7]conmutador Nov'!N35","v":"Consulta"},{"$f":"+'[7]conmutador Nov'!O35","v":"Consulta general"},{"$f":"+'[7]conmutador Nov'!P35","v":"Consulta"},{"$f":"+'[7]conmutador Nov'!Q35","v":"Transferencia de llamada a SAI"},{"$f":"+'[7]conmutador Nov'!R35","v":"Atención al ciudadano"},{"$f":"+'[7]conmutador Nov'!S35","v":"Ciudadano"},"04 San Cristóbal"]
[165,2022,"NOVIEMBRE",{"$f":"+'[7]conmutador Nov'!B36","v":"2022-11-03"},{"$f":"+'[7]conmutador Nov'!C36","v":"09:19:00"},{"$f":"+'[7]conmutador Nov'!D36","v":"JANETH REDONDO"},"TELEFÓNICO",{"$f":"+'[7]conmutador Nov'!E36","v":"Conmutador"},"Sin datos",{"$f":"+'[7]conmutador Nov'!J36","v":"Ciudadanía"},{"$f":"+'[7]conmutador Nov'!G36","v":"DIANA SUAREZ"},{"$f":"+[7]!Tabla1[[#This Row],[GRUPO DE VALOR]]","v":"Ciudadanía"},{"$f":"+[7]!Tabla1[[#This Row],[NOMBRE DEL GRUPO DE VALOR]]","v":"DIANA SUAREZ"},{"$f":"+'[7]conmutador Nov'!K36","v":"Femenino"},{"$f":"+'[7]conmutador Nov'!L36","v":"Mujer"},"Sin datos","Sin datos","Sin datos","Sin datos",{"$f":"+'[7]conmutador Nov'!N36","v":"Consulta"},{"$f":"+'[7]conmutador Nov'!O36","v":"Asesoría en administración y sostenibilidad del espacio público"},{"$f":"+'[7]conmutador Nov'!P36","v":"Asesoría en temas de espacio público"},{"$f":"+'[7]conmutador Nov'!Q36","v":"Solicita asesoría sobre denuncia de invasión de espacio público de residentes en su conjunto de zona verde."},{"$f":"+'[7]conmutador Nov'!R36","v":"Atención al ciudadano"},{"$f":"+'[7]conmutador Nov'!S36","v":"Ciudadano"},{"$f":"+'[7]conmutador Nov'!T36","v":"10 Engativá"}]
[166,2022,"NOVIEMBRE",{"$f":"+'[7]conmutador Nov'!B37","v":"2022-11-03"},{"$f":"+'[7]conmutador Nov'!C37","v":"10:49:00"},{"$f":"+'[7]conmutador Nov'!D37","v":"JANETH REDONDO"},"TELEFÓNICO",{"$f":"+'[7]conmutador Nov'!E37","v":"Conmutador"},"Sin datos",{"$f":"+'[7]conmutador Nov'!J37","v":"Ciudadanía"},{"$f":"+'[7]conmutador Nov'!G37","v":"FABIO BARRERA"},{"$f":"+[7]!Tabla1[[#This Row],[GRUPO DE VALOR]]","v":"Ciudadanía"},{"$f":"+[7]!Tabla1[[#This Row],[NOMBRE DEL GRUPO DE VALOR]]","v":"FABIO BARRERA"},{"$f":"+'[7]conmutador Nov'!K37","v":"Masculino"},{"$f":"+'[7]conmutador Nov'!L37","v":"Hombre "},"Sin datos","Sin datos","Sin datos","Sin datos",{"$f":"+'[7]conmutador Nov'!N37","v":"Consulta"},{"$f":"+'[7]conmutador Nov'!O37","v":"Consulta general"},{"$f":"+'[7]conmutador Nov'!P37","v":"Transferencia de llamada"},{"$f":"+'[7]conmutador Nov'!Q37","v":"Transferencia de llamada a OAJ"},{"$f":"+'[7]conmutador Nov'!R37","v":"Atención al ciudadano"},{"$f":"+'[7]conmutador Nov'!S37","v":"Ciudadano"},{"$f":"+'[7]conmutador Nov'!T37","v":"10 Engativá"}]
[167,2022,"NOVIEMBRE",{"$f":"+'[7]conmutador Nov'!B38","v":"2022-11-03"},{"$f":"+'[7]conmutador Nov'!C38","v":"10:57:00"},{"$f":"+'[7]conmutador Nov'!D38","v":"JANETH REDONDO"},"TELEFÓNICO",{"$f":"+'[7]conmutador Nov'!E38","v":"Conmutador"},"Sin datos",{"$f":"+'[7]conmutador Nov'!J38","v":"Ciudadanía"},{"$f":"+'[7]conmutador Nov'!G38","v":"ANDREA CAICEDO"},{"$f":"+[7]!Tabla1[[#This Row],[GRUPO DE VALOR]]","v":"Ciudadanía"},{"$f":"+[7]!Tabla1[[#This Row],[NOMBRE DEL GRUPO DE VALOR]]","v":"ANDREA CAICEDO"},{"$f":"+'[7]conmutador Nov'!K38","v":"Femenino"},{"$f":"+'[7]conmutador Nov'!L38","v":"Mujer"},"Sin datos","Sin datos","Sin datos","Sin datos",{"$f":"+'[7]conmutador Nov'!N38","v":"Consulta"},{"$f":"+'[7]conmutador Nov'!O38","v":"Asesoría en administración y sostenibilidad del espacio público"},{"$f":"+'[7]conmutador Nov'!P38","v":"Asesoría en temas de espacio público"},{"$f":"+'[7]conmutador Nov'!Q38","v":"Asesoría sobre permiso para funcionamiento de caseta empotrada en espacio público."},{"$f":"+'[7]conmutador Nov'!R38","v":"Atención al ciudadano"},{"$f":"+'[7]conmutador Nov'!S38","v":"Ciudadano"},"11 Suba"]
[168,2022,"NOVIEMBRE",{"$f":"+'[7]conmutador Nov'!B39","v":"2022-11-03"},{"$f":"+'[7]conmutador Nov'!C39","v":"11:33:00"},{"$f":"+'[7]conmutador Nov'!D39","v":"JANETH REDONDO"},"TELEFÓNICO",{"$f":"+'[7]conmutador Nov'!E39","v":"Conmutador"},"Sin datos",{"$f":"+'[7]conmutador Nov'!J39","v":"Ciudadanía"},{"$f":"+'[7]conmutador Nov'!G39","v":"PILAR ANGELA"},{"$f":"+[7]!Tabla1[[#This Row],[GRUPO DE VALOR]]","v":"Ciudadanía"},{"$f":"+[7]!Tabla1[[#This Row],[NOMBRE DEL GRUPO DE VALOR]]","v":"PILAR ANGELA"},{"$f":"+'[7]conmutador Nov'!K39","v":"Femenino"},{"$f":"+'[7]conmutador Nov'!L39","v":"Mujer"},"Sin datos","Sin datos","Sin datos","Sin datos",{"$f":"+'[7]conmutador Nov'!N39","v":"Consulta"},{"$f":"+'[7]conmutador Nov'!O39","v":"Consulta general"},{"$f":"+'[7]conmutador Nov'!P39","v":"Transferencia de llamada"},{"$f":"+'[7]conmutador Nov'!Q39","v":"Transferencia de llamada a Sistemas"},{"$f":"+'[7]conmutador Nov'!R39","v":"Atención al ciudadano"},{"$f":"+'[7]conmutador Nov'!S39","v":"Ciudadano"},{"$f":"+'[7]conmutador Nov'!T39","v":"No Registra"}]
[169,2022,"NOVIEMBRE",{"$f":"+'[7]conmutador Nov'!B40","v":"2022-11-03"},{"$f":"+'[7]conmutador Nov'!C40","v":"15:34:00"},{"$f":"+'[7]conmutador Nov'!D40","v":"JANETH REDONDO"},"TELEFÓNICO",{"$f":"+'[7]conmutador Nov'!E40","v":"Conmutador"},"Sin datos",{"$f":"+'[7]conmutador Nov'!J40","v":"Ciudadanía"},{"$f":"+'[7]conmutador Nov'!G40","v":"LINA GARRIDO"},{"$f":"+[7]!Tabla1[[#This Row],[GRUPO DE VALOR]]","v":"Ciudadanía"},{"$f":"+[7]!Tabla1[[#This Row],[NOMBRE DEL GRUPO DE VALOR]]","v":"LINA GARRIDO"},{"$f":"+'[7]conmutador Nov'!K40","v":"Femenino"},{"$f":"+'[7]conmutador Nov'!L40","v":"Mujer"},"Sin datos","Sin datos","Sin datos","Sin datos",{"$f":"+'[7]conmutador Nov'!N40","v":"Consulta"},{"$f":"+'[7]conmutador Nov'!O40","v":"Consulta general"},{"$f":"+'[7]conmutador Nov'!P40","v":"Transferencia de llamada"},{"$f":"+'[7]conmutador Nov'!Q40","v":"Transferencia de llamada a SRI"},{"$f":"+'[7]conmutador Nov'!R40","v":"Atención al ciudadano"},{"$f":"+'[7]conmutador Nov'!S40","v":"Ciudadano"},"02 Chapinero"]
[170,2022,"NOVIEMBRE",{"$f":"+'[7]conmutador Nov'!B41","v":"2022-11-03"},{"$f":"+'[7]conmutador Nov'!C41","v":"14:08:00"},{"$f":"+'[7]conmutador Nov'!D41","v":"JANETH REDONDO"},"TELEFÓNICO",{"$f":"+'[7]conmutador Nov'!E41","v":"Conmutador"},"Sin datos",{"$f":"+'[7]conmutador Nov'!J41","v":"Ciudadanía"},{"$f":"+'[7]conmutador Nov'!G41","v":"FABIAN TORRES"},{"$f":"+[7]!Tabla1[[#This Row],[GRUPO DE VALOR]]","v":"Ciudadanía"},{"$f":"+[7]!Tabla1[[#This Row],[NOMBRE DEL GRUPO DE VALOR]]","v":"FABIAN TORRES"},{"$f":"+'[7]conmutador Nov'!K41","v":"Masculino"},{"$f":"+'[7]conmutador Nov'!L41","v":"Hombre "},"Sin datos","Sin datos","Sin datos","Sin datos",{"$f":"+'[7]conmutador Nov'!N41","v":"Consulta"},{"$f":"+'[7]conmutador Nov'!O41","v":"Consulta general"},{"$f":"+'[7]conmutador Nov'!P41","v":"Transferencia de llamada"},{"$f":"+'[7]conmutador Nov'!Q41","v":"Transferencia de llamada a OAJ"},{"$f":"+'[7]conmutador Nov'!R41","v":"Atención al ciudadano"},{"$f":"+'[7]conmutador Nov'!S41","v":"Ciudadano"},{"$f":"+'[7]conmutador Nov'!T41","v":"No Registra"}]
[171,2022,"NOVIEMBRE",{"$f":"+'[7]conmutador Nov'!B42","v":"2022-11-03"},{"$f":"+'[7]conmutador Nov'!C42","v":"15:29:00"},{"$f":"+'[7]conmutador Nov'!D42","v":"JANETH REDONDO"},"TELEFÓNICO",{"$f":"+'[7]conmutador Nov'!E42","v":"Conmutador"},"Sin datos",{"$f":"+'[7]conmutador Nov'!J42","v":"Ciudadanía"},{"$f":"+'[7]conmutador Nov'!G42","v":"GLADYS DUARTE"},{"$f":"+[7]!Tabla1[[#This Row],[GRUPO DE VALOR]]","v":"Ciudadanía"},{"$f":"+[7]!Tabla1[[#This Row],[NOMBRE DEL GRUPO DE VALOR]]","v":"GLADYS DUARTE"},{"$f":"+'[7]conmutador Nov'!K42","v":"Femenino"},{"$f":"+'[7]conmutador Nov'!L42","v":"Mujer"},"Sin datos","Sin datos","Sin datos","Sin datos",{"$f":"+'[7]conmutador Nov'!N42","v":"Consulta"},{"$f":"+'[7]conmutador Nov'!O42","v":"Consulta general"},{"$f":"+'[7]conmutador Nov'!P42","v":"Transferencia de llamada"},{"$f":"+'[7]conmutador Nov'!Q42","v":"Transferencia de llamada a SRI"},{"$f":"+'[7]conmutador Nov'!R42","v":"Atención al ciudadano"},{"$f":"+'[7]conmutador Nov'!S42","v":"Ciudadano"},"11 Suba"]
[172,2022,"NOVIEMBRE",{"$f":"+'[7]conmutador Nov'!B43","v":"2022-11-03"},{"$f":"+'[7]conmutador Nov'!C43","v":"15:33:00"},{"$f":"+'[7]conmutador Nov'!D43","v":"JANETH REDONDO"},"TELEFÓNICO",{"$f":"+'[7]conmutador Nov'!E43","v":"Conmutador"},"Sin datos",{"$f":"+'[7]conmutador Nov'!J43","v":"Ciudadanía"},{"$f":"+'[7]conmutador Nov'!G43","v":"VANESA SALCEDO"},{"$f":"+[7]!Tabla1[[#This Row],[GRUPO DE VALOR]]","v":"Ciudadanía"},{"$f":"+[7]!Tabla1[[#This Row],[NOMBRE DEL GRUPO DE VALOR]]","v":"VANESA SALCEDO"},{"$f":"+'[7]conmutador Nov'!K43","v":"Femenino"},{"$f":"+'[7]conmutador Nov'!L43","v":"Mujer"},"Sin datos","Sin datos","Sin datos","Sin datos",{"$f":"+'[7]conmutador Nov'!N43","v":"Consulta"},{"$f":"+'[7]conmutador Nov'!O43","v":"Asesoría en administración y sostenibilidad del espacio público"},{"$f":"+'[7]conmutador Nov'!P43","v":"Asesoría en temas de espacio público"},{"$f":"+'[7]conmutador Nov'!Q43","v":"Solicita información sobre la actividad económica del FOOD TRUCK"},{"$f":"+'[7]conmutador Nov'!R43","v":"Atención al ciudadano"},{"$f":"+'[7]conmutador Nov'!S43","v":"Ciudadano"},"01 Usaquén"]
[173,2022,"NOVIEMBRE",{"$f":"+'[7]conmutador Nov'!B44","v":"2022-11-03"},{"$f":"+'[7]conmutador Nov'!C44","v":"16:20:00"},{"$f":"+'[7]conmutador Nov'!D44","v":"JANETH REDONDO"},"TELEFÓNICO",{"$f":"+'[7]conmutador Nov'!E44","v":"Conmutador"},"Sin datos","Entidades y Organismos Distritales",{"$f":"+'[7]conmutador Nov'!G44","v":"CARMENZA MIRANDA"},"Entidades y Organismos Distritales",{"$f":"+[7]!Tabla1[[#This Row],[NOMBRE DEL GRUPO DE VALOR]]","v":"CARMENZA MIRANDA"},{"$f":"+'[7]conmutador Nov'!K44","v":"Femenino"},{"$f":"+'[7]conmutador Nov'!L44","v":"Mujer"},"Sin datos","Sin datos","Sin datos","Sin datos",{"$f":"+'[7]conmutador Nov'!N44","v":"Consulta"},{"$f":"+'[7]conmutador Nov'!O44","v":"Consulta general"},{"$f":"+'[7]conmutador Nov'!P44","v":"Transferencia de llamada"},{"$f":"+'[7]conmutador Nov'!Q44","v":"Transferencia de llamada a OAJ de la Secretaría de Medio Ambiente"},{"$f":"+'[7]conmutador Nov'!R44","v":"Atención al ciudadano"},{"$f":"+'[7]conmutador Nov'!S44","v":"Ciudadano"},{"$f":"+'[7]conmutador Nov'!T44","v":"No Registra"}]
[174,2022,"NOVIEMBRE",{"$f":"+'[7]conmutador Nov'!B45","v":"2022-11-04"},{"$f":"+'[7]conmutador Nov'!C45","v":"08:15:00"},{"$f":"+'[7]conmutador Nov'!D45","v":"JANETH REDONDO"},"TELEFÓNICO",{"$f":"+'[7]conmutador Nov'!E45","v":"Conmutador"},"Sin datos",{"$f":"+'[7]conmutador Nov'!J45","v":"Ciudadanía"},{"$f":"+'[7]conmutador Nov'!G45","v":"OSCAR CASTRILLON"},{"$f":"+[7]!Tabla1[[#This Row],[GRUPO DE VALOR]]","v":"Ciudadanía"},{"$f":"+[7]!Tabla1[[#This Row],[NOMBRE DEL GRUPO DE VALOR]]","v":"OSCAR CASTRILLON"},{"$f":"+'[7]conmutador Nov'!K45","v":"Masculino"},{"$f":"+'[7]conmutador Nov'!L45","v":"Hombre "},"Sin datos","Sin datos","Sin datos","Sin datos",{"$f":"+'[7]conmutador Nov'!N45","v":"Consulta"},{"$f":"+'[7]conmutador Nov'!O45","v":"Consulta general"},{"$f":"+'[7]conmutador Nov'!P45","v":"Transferencia de llamada"},{"$f":"+'[7]conmutador Nov'!Q45","v":"Transferencia de llamada a SRI"},{"$f":"+'[7]conmutador Nov'!R45","v":"Atención al ciudadano"},{"$f":"+'[7]conmutador Nov'!S45","v":"Ciudadano"},{"$f":"+'[7]conmutador Nov'!T45","v":"No Registra"}]
[175,2022,"NOVIEMBRE",{"$f":"+'[7]conmutador Nov'!B46","v":"2022-11-04"},{"$f":"+'[7]conmutador Nov'!C46","v":"08:29:00"},{"$f":"+'[7]conmutador Nov'!D46","v":"JANETH REDONDO"},"TELEFÓNICO",{"$f":"+'[7]conmutador Nov'!E46","v":"Conmutador"},"Sin datos",{"$f":"+'[7]conmutador Nov'!J46","v":"Ciudadanía"},{"$f":"+'[7]conmutador Nov'!G46","v":"GLADYS DUARTE"},{"$f":"+[7]!Tabla1[[#This Row],[GRUPO DE VALOR]]","v":"Ciudadanía"},{"$f":"+[7]!Tabla1[[#This Row],[NOMBRE DEL GRUPO DE VALOR]]","v":"GLADYS DUARTE"},{"$f":"+'[7]conmutador Nov'!K46","v":"Femenino"},{"$f":"+'[7]conmutador Nov'!L46","v":"Mujer"},"Sin datos","Sin datos","Sin datos","Sin datos",{"$f":"+'[7]conmutador Nov'!N46","v":"Consulta"},{"$f":"+'[7]conmutador Nov'!O46","v":"Consulta general"},{"$f":"+'[7]conmutador Nov'!P46","v":"Solicitud cita"},{"$f":"+'[7]conmutador Nov'!Q46","v":"Solicitud cita con funcionario de SRI"},{"$f":"+'[7]conmutador Nov'!R46","v":"Atención al ciudadano"},{"$f":"+'[7]conmutador Nov'!S46","v":"Ciudadano"},"11 Suba"]
[176,2022,"NOVIEMBRE",{"$f":"+'[7]conmutador Nov'!B47","v":"2022-11-04"},{"$f":"+'[7]conmutador Nov'!C47","v":"08:49:00"},{"$f":"+'[7]conmutador Nov'!D47","v":"JANETH REDONDO"},"TELEFÓNICO",{"$f":"+'[7]conmutador Nov'!E47","v":"Conmutador"},"Sin datos",{"$f":"+'[7]conmutador Nov'!J47","v":"Ciudadanía"},{"$f":"+'[7]conmutador Nov'!G47","v":"JULIO CESAR TERNA"},{"$f":"+[7]!Tabla1[[#This Row],[GRUPO DE VALOR]]","v":"Ciudadanía"},{"$f":"+[7]!Tabla1[[#This Row],[NOMBRE DEL GRUPO DE VALOR]]","v":"JULIO CESAR TERNA"},{"$f":"+'[7]conmutador Nov'!K47","v":"Masculino"},{"$f":"+'[7]conmutador Nov'!L47","v":"Hombre "},"Sin datos","Sin datos","Sin datos","Sin datos",{"$f":"+'[7]conmutador Nov'!N47","v":"Consulta"},{"$f":"+'[7]conmutador Nov'!O47","v":"Asesoría en administración y sostenibilidad del espacio público"},{"$f":"+'[7]conmutador Nov'!P47","v":"Denuncia vehículos"},{"$f":"+'[7]conmutador Nov'!Q47","v":"Denuncia parqueo ilegal"},{"$f":"+'[7]conmutador Nov'!R47","v":"Atención al ciudadano"},{"$f":"+'[7]conmutador Nov'!S47","v":"Ciudadano"},{"$f":"+'[7]conmutador Nov'!T47","v":"18 Rafael Uribe Uribe"}]
[177,2022,"NOVIEMBRE",{"$f":"+'[7]conmutador Nov'!B48","v":"2022-11-04"},{"$f":"+'[7]conmutador Nov'!C48","v":"08:54:00"},{"$f":"+'[7]conmutador Nov'!D48","v":"JANETH REDONDO"},"TELEFÓNICO",{"$f":"+'[7]conmutador Nov'!E48","v":"Conmutador"},"Sin datos",{"$f":"+'[7]conmutador Nov'!J48","v":"Ciudadanía"},{"$f":"+'[7]conmutador Nov'!G48","v":"EFRAIN SUSANO"},{"$f":"+[7]!Tabla1[[#This Row],[GRUPO DE VALOR]]","v":"Ciudadanía"},{"$f":"+[7]!Tabla1[[#This Row],[NOMBRE DEL GRUPO DE VALOR]]","v":"EFRAIN SUSANO"},{"$f":"+'[7]conmutador Nov'!K48","v":"Masculino"},{"$f":"+'[7]conmutador Nov'!L48","v":"Hombre "},"Sin datos","Sin datos","Sin datos","Sin datos",{"$f":"+'[7]conmutador Nov'!N48","v":"Consulta"},{"$f":"+'[7]conmutador Nov'!O48","v":"Consulta general"},{"$f":"+'[7]conmutador Nov'!P48","v":"Transferencia de llamada"},{"$f":"+'[7]conmutador Nov'!Q48","v":"Transferencia de llamada a SAI"},{"$f":"+'[7]conmutador Nov'!R48","v":"Atención al ciudadano"},{"$f":"+'[7]conmutador Nov'!S48","v":"Ciudadano"},{"$f":"+'[7]conmutador Nov'!T48","v":"10 Engativá"}]
[178,2022,"NOVIEMBRE",{"$f":"+'[7]conmutador Nov'!B49","v":"2022-11-04"},{"$f":"+'[7]conmutador Nov'!C49","v":"08:57:00"},{"$f":"+'[7]conmutador Nov'!D49","v":"JANETH REDONDO"},"TELEFÓNICO",{"$f":"+'[7]conmutador Nov'!E49","v":"Conmutador"},"Sin datos",{"$f":"+'[7]conmutador Nov'!J49","v":"Ciudadanía"},{"$f":"+'[7]conmutador Nov'!G49","v":"YADIRA OJEDA"},{"$f":"+[7]!Tabla1[[#This Row],[GRUPO DE VALOR]]","v":"Ciudadanía"},{"$f":"+[7]!Tabla1[[#This Row],[NOMBRE DEL GRUPO DE VALOR]]","v":"YADIRA OJEDA"},{"$f":"+'[7]conmutador Nov'!K49","v":"Femenino"},{"$f":"+'[7]conmutador Nov'!L49","v":"Mujer"},"Sin datos","Sin datos","Sin datos","Sin datos",{"$f":"+'[7]conmutador Nov'!N49","v":"Consulta"},{"$f":"+'[7]conmutador Nov'!O49","v":"Asesoría en administración y sostenibilidad del espacio público"},{"$f":"+'[7]conmutador Nov'!P49","v":"Denuncia extensión actividad comercial sobre zona de suo publico"},{"$f":"+'[7]conmutador Nov'!Q49","v":"Denuncia extensión actividad comercial sobre zona de suo publico"},{"$f":"+'[7]conmutador Nov'!R49","v":"Atención al ciudadano"},{"$f":"+'[7]conmutador Nov'!S49","v":"Ciudadano"},{"$f":"+'[7]conmutador Nov'!T49","v":"10 Engativá"}]
[179,2022,"NOVIEMBRE",{"$f":"+'[7]conmutador Nov'!B50","v":"2022-11-04"},{"$f":"+'[7]conmutador Nov'!C50","v":"10:09:00"},{"$f":"+'[7]conmutador Nov'!D50","v":"JANETH REDONDO"},"TELEFÓNICO",{"$f":"+'[7]conmutador Nov'!E50","v":"Conmutador"},"Sin datos",{"$f":"+'[7]conmutador Nov'!J50","v":"Ciudadanía"},{"$f":"+'[7]conmutador Nov'!G50","v":"MARIA VALENCIA"},{"$f":"+[7]!Tabla1[[#This Row],[GRUPO DE VALOR]]","v":"Ciudadanía"},{"$f":"+[7]!Tabla1[[#This Row],[NOMBRE DEL GRUPO DE VALOR]]","v":"MARIA VALENCIA"},{"$f":"+'[7]conmutador Nov'!K50","v":"Femenino"},{"$f":"+'[7]conmutador Nov'!L50","v":"Mujer"},"Sin datos","Sin datos","Sin datos","Sin datos",{"$f":"+'[7]conmutador Nov'!N50","v":"Consulta"},{"$f":"+'[7]conmutador Nov'!O50","v":"Asesoría en administración y sostenibilidad del espacio público"},{"$f":"+'[7]conmutador Nov'!P50","v":"Denuncia extensión actividad comercial sobre zona de suo publico"},{"$f":"+'[7]conmutador Nov'!Q50","v":"Denuncia extensión actividad comercial sobre zona de suo publico"},{"$f":"+'[7]conmutador Nov'!R50","v":"Atención al ciudadano"},{"$f":"+'[7]conmutador Nov'!S50","v":"Ciudadano"},"08 Kennedy"]
[180,2022,"NOVIEMBRE",{"$f":"+'[7]conmutador Nov'!B51","v":"2022-11-04"},{"$f":"+'[7]conmutador Nov'!C51","v":"10:13:00"},{"$f":"+'[7]conmutador Nov'!D51","v":"JANETH REDONDO"},"TELEFÓNICO",{"$f":"+'[7]conmutador Nov'!E51","v":"Conmutador"},"Sin datos",{"$f":"+'[7]conmutador Nov'!J51","v":"Ciudadanía"},{"$f":"+'[7]conmutador Nov'!G51","v":"HUGO BUITRAGO"},{"$f":"+[7]!Tabla1[[#This Row],[GRUPO DE VALOR]]","v":"Ciudadanía"},{"$f":"+[7]!Tabla1[[#This Row],[NOMBRE DEL GRUPO DE VALOR]]","v":"HUGO BUITRAGO"},{"$f":"+'[7]conmutador Nov'!K51","v":"Masculino"},{"$f":"+'[7]conmutador Nov'!L51","v":"Hombre "},"Sin datos","Sin datos","Sin datos","Sin datos",{"$f":"+'[7]conmutador Nov'!N51","v":"Consulta"},{"$f":"+'[7]conmutador Nov'!O51","v":"Asesoría en administración y sostenibilidad del espacio público"},{"$f":"+'[7]conmutador Nov'!P51","v":"Denuncia vehículos"},{"$f":"+'[7]conmutador Nov'!Q51","v":"Denuncia parqueo ilegal"},{"$f":"+'[7]conmutador Nov'!R51","v":"Atención al ciudadano"},{"$f":"+'[7]conmutador Nov'!S51","v":"Ciudadano"},"16 Puente Aranda"]
[181,2022,"NOVIEMBRE",{"$f":"+'[7]conmutador Nov'!B52","v":"2022-11-04"},{"$f":"+'[7]conmutador Nov'!C52","v":"10:33:00"},{"$f":"+'[7]conmutador Nov'!D52","v":"JANETH REDONDO"},"TELEFÓNICO",{"$f":"+'[7]conmutador Nov'!E52","v":"Conmutador"},"Sin datos",{"$f":"+'[7]conmutador Nov'!J52","v":"Ciudadanía"},{"$f":"+'[7]conmutador Nov'!G52","v":"ROSA DE BEJARANO"},{"$f":"+[7]!Tabla1[[#This Row],[GRUPO DE VALOR]]","v":"Ciudadanía"},{"$f":"+[7]!Tabla1[[#This Row],[NOMBRE DEL GRUPO DE VALOR]]","v":"ROSA DE BEJARANO"},{"$f":"+'[7]conmutador Nov'!K52","v":"Femenino"},{"$f":"+'[7]conmutador Nov'!L52","v":"Mujer"},"Sin datos","Sin datos","Sin datos","Sin datos",{"$f":"+'[7]conmutador Nov'!N52","v":"Consulta"},{"$f":"+'[7]conmutador Nov'!O52","v":"Consulta general"},{"$f":"+'[7]conmutador Nov'!P52","v":"Transferencia de llamada"},{"$f":"+'[7]conmutador Nov'!Q52","v":"Transferencia de llamada a SAI"},{"$f":"+'[7]conmutador Nov'!R52","v":"Atención al ciudadano"},{"$f":"+'[7]conmutador Nov'!S52","v":"Ciudadano"},"11 Suba"]
[182,2022,"NOVIEMBRE",{"$f":"+'[7]conmutador Nov'!B53","v":"2022-11-04"},{"$f":"+'[7]conmutador Nov'!C53","v":"11:26:00"},{"$f":"+'[7]conmutador Nov'!D53","v":"JANETH REDONDO"},"TELEFÓNICO",{"$f":"+'[7]conmutador Nov'!E53","v":"Conmutador"},"Sin datos",{"$f":"+'[7]conmutador Nov'!J53","v":"Ciudadanía"},{"$f":"+'[7]conmutador Nov'!G53","v":"DELFA RAMIREZ"},{"$f":"+[7]!Tabla1[[#This Row],[GRUPO DE VALOR]]","v":"Ciudadanía"},{"$f":"+[7]!Tabla1[[#This Row],[NOMBRE DEL GRUPO DE VALOR]]","v":"DELFA RAMIREZ"},{"$f":"+'[7]conmutador Nov'!K53","v":"Femenino"},{"$f":"+'[7]conmutador Nov'!L53","v":"Mujer"},"Sin datos","Sin datos","Sin datos","Sin datos",{"$f":"+'[7]conmutador Nov'!N53","v":"Consulta"},{"$f":"+'[7]conmutador Nov'!O53","v":"Consulta general"},{"$f":"+'[7]conmutador Nov'!P53","v":"Transferencia de llamada"},{"$f":"+'[7]conmutador Nov'!Q53","v":"Transferencia de llamada a Dirección"},{"$f":"+'[7]conmutador Nov'!R53","v":"Atención al ciudadano"},{"$f":"+'[7]conmutador Nov'!S53","v":"Ciudadano"},"05 Usme"]
[183,2022,"NOVIEMBRE",{"$f":"+'[7]conmutador Nov'!B54","v":"2022-11-04"},{"$f":"+'[7]conmutador Nov'!C54","v":"13:42:00"},{"$f":"+'[7]conmutador Nov'!D54","v":"JANETH REDONDO"},"TELEFÓNICO",{"$f":"+'[7]conmutador Nov'!E54","v":"Conmutador"},"Sin datos",{"$f":"+'[7]conmutador Nov'!J54","v":"Ciudadanía"},{"$f":"+'[7]conmutador Nov'!G54","v":"ISRAEL PEREZ"},{"$f":"+[7]!Tabla1[[#This Row],[GRUPO DE VALOR]]","v":"Ciudadanía"},{"$f":"+[7]!Tabla1[[#This Row],[NOMBRE DEL GRUPO DE VALOR]]","v":"ISRAEL PEREZ"},{"$f":"+'[7]conmutador Nov'!K54","v":"Masculino"},{"$f":"+'[7]conmutador Nov'!L54","v":"Hombre "},"Sin datos","Sin datos","Sin datos","Sin datos",{"$f":"+'[7]conmutador Nov'!N54","v":"Consulta"},{"$f":"+'[7]conmutador Nov'!O54","v":"Consulta general"},{"$f":"+'[7]conmutador Nov'!P54","v":"Solicitud cita"},{"$f":"+'[7]conmutador Nov'!Q54","v":"Solicitud cita con funcionario de SRI"},{"$f":"+'[7]conmutador Nov'!R54","v":"Consulta_general"},{"$f":"+'[7]conmutador Nov'!S54","v":"Ciudadano"},{"$f":"+'[7]conmutador Nov'!T54","v":"No Registra"}]
[184,2022,"NOVIEMBRE",{"$f":"+'[7]conmutador Nov'!B55","v":"2022-11-04"},{"$f":"+'[7]conmutador Nov'!C55","v":"14:20:00"},{"$f":"+'[7]conmutador Nov'!D55","v":"JANETH REDONDO"},"TELEFÓNICO",{"$f":"+'[7]conmutador Nov'!E55","v":"Conmutador"},"Sin datos",{"$f":"+'[7]conmutador Nov'!J55","v":"Ciudadanía"},{"$f":"+'[7]conmutador Nov'!G55","v":"FERNANDO PULIDO"},{"$f":"+[7]!Tabla1[[#This Row],[GRUPO DE VALOR]]","v":"Ciudadanía"},{"$f":"+[7]!Tabla1[[#This Row],[NOMBRE DEL GRUPO DE VALOR]]","v":"FERNANDO PULIDO"},{"$f":"+'[7]conmutador Nov'!K55","v":"Femenino"},{"$f":"+'[7]conmutador Nov'!L55","v":"Mujer"},"Sin datos","Sin datos","Sin datos","Sin datos",{"$f":"+'[7]conmutador Nov'!N55","v":"Consulta"},{"$f":"+'[7]conmutador Nov'!O55","v":"Consulta general"},{"$f":"+'[7]conmutador Nov'!P55","v":"Transferencia de llamada"},{"$f":"+'[7]conmutador Nov'!Q55","v":"Transferencia de llamada a SRI"},{"$f":"+'[7]conmutador Nov'!R55","v":"Atención al ciudadano"},{"$f":"+'[7]conmutador Nov'!S55","v":"Ciudadano"},"11 Suba"]
[185,2022,"NOVIEMBRE",{"$f":"+'[7]conmutador Nov'!B56","v":"2022-11-04"},{"$f":"+'[7]conmutador Nov'!C56","v":"14:58:00"},{"$f":"+'[7]conmutador Nov'!D56","v":"JANETH REDONDO"},"TELEFÓNICO",{"$f":"+'[7]conmutador Nov'!E56","v":"Conmutador"},"Sin datos",{"$f":"+'[7]conmutador Nov'!J56","v":"Ciudadanía"},{"$f":"+'[7]conmutador Nov'!G56","v":"OSWALDO MEDINA"},{"$f":"+[7]!Tabla1[[#This Row],[GRUPO DE VALOR]]","v":"Ciudadanía"},{"$f":"+[7]!Tabla1[[#This Row],[NOMBRE DEL GRUPO DE VALOR]]","v":"OSWALDO MEDINA"},{"$f":"+'[7]conmutador Nov'!K56","v":"Masculino"},{"$f":"+'[7]conmutador Nov'!L56","v":"Hombre "},"Sin datos","Sin datos","Sin datos","Sin datos",{"$f":"+'[7]conmutador Nov'!N56","v":"Consulta"},{"$f":"+'[7]conmutador Nov'!O56","v":"Consulta general"},{"$f":"+'[7]conmutador Nov'!P56","v":"Transferencia de llamada"},{"$f":"+'[7]conmutador Nov'!Q56","v":"Transferencia de llamada a SAI"},{"$f":"+'[7]conmutador Nov'!R56","v":"Atención al ciudadano"},{"$f":"+'[7]conmutador Nov'!S56","v":"Ciudadano"},{"$f":"+'[7]conmutador Nov'!T56","v":"15 Antonio Nariño"}]
[186,2022,"NOVIEMBRE",{"$f":"+'[7]conmutador Nov'!B57","v":"2022-11-04"},{"$f":"+'[7]conmutador Nov'!C57","v":"15:11:00"},{"$f":"+'[7]conmutador Nov'!D57","v":"JANETH REDONDO"},"TELEFÓNICO",{"$f":"+'[7]conmutador Nov'!E57","v":"Conmutador"},"Sin datos",{"$f":"+'[7]conmutador Nov'!J57","v":"Ciudadanía"},{"$f":"+'[7]conmutador Nov'!G57","v":"PABLO ROMERO"},{"$f":"+[7]!Tabla1[[#This Row],[GRUPO DE VALOR]]","v":"Ciudadanía"},{"$f":"+[7]!Tabla1[[#This Row],[NOMBRE DEL GRUPO DE VALOR]]","v":"PABLO ROMERO"},{"$f":"+'[7]conmutador Nov'!K57","v":"Masculino"},{"$f":"+'[7]conmutador Nov'!L57","v":"Hombre "},"Sin datos","Sin datos","Sin datos","Sin datos",{"$f":"+'[7]conmutador Nov'!N57","v":"Consulta"},{"$f":"+'[7]conmutador Nov'!O57","v":"Consulta general"},{"$f":"+'[7]conmutador Nov'!P57","v":"Consulta radicado"},{"$f":"+'[7]conmutador Nov'!Q57","v":"Consulta radicado"},{"$f":"+'[7]conmutador Nov'!R57","v":"Atención al ciudadano"},{"$f":"+'[7]conmutador Nov'!S57","v":"Ciudadano"},"11 Suba"]
[187,2022,"NOVIEMBRE",{"$f":"+'[7]conmutador Nov'!B58","v":"2022-11-04"},{"$f":"+'[7]conmutador Nov'!C58","v":"15:30:00"},{"$f":"+'[7]conmutador Nov'!D58","v":"JANETH REDONDO"},"TELEFÓNICO",{"$f":"+'[7]conmutador Nov'!E58","v":"Conmutador"},"Sin datos","Entidades y Organismos Distritales",{"$f":"+'[7]conmutador Nov'!G58","v":"ANGEL PEREZ"},"Entidades y Organismos Distritales",{"$f":"+[7]!Tabla1[[#This Row],[NOMBRE DEL GRUPO DE VALOR]]","v":"ANGEL PEREZ"},{"$f":"+'[7]conmutador Nov'!K58","v":"Masculino"},{"$f":"+'[7]conmutador Nov'!L58","v":"Hombre "},"Sin datos","Sin datos","Sin datos","Sin datos",{"$f":"+'[7]conmutador Nov'!N58","v":"Consulta"},{"$f":"+'[7]conmutador Nov'!O58","v":"Consulta general"},{"$f":"+'[7]conmutador Nov'!P58","v":"Transferencia de llamada"},{"$f":"+'[7]conmutador Nov'!Q58","v":"Transferencia de llamada a Sistemas de planeación distrital"},{"$f":"+'[7]conmutador Nov'!R58","v":"Atención al ciudadano"},{"$f":"+'[7]conmutador Nov'!S58","v":"Ciudadano"},{"$f":"+'[7]conmutador Nov'!T58","v":"No Registra"}]
[188,2022,"NOVIEMBRE",{"$f":"+'[7]conmutador Nov'!B59","v":"2022-11-08"},{"$f":"+'[7]conmutador Nov'!C59","v":"10:00:00"},{"$f":"+'[7]conmutador Nov'!D59","v":"JANETH REDONDO"},"TELEFÓNICO",{"$f":"+'[7]conmutador Nov'!E59","v":"Conmutador"},"Sin datos",{"$f":"+'[7]conmutador Nov'!J59","v":"Ciudadanía"},{"$f":"+'[7]conmutador Nov'!G59","v":"ISRAEL PEREZ"},{"$f":"+[7]!Tabla1[[#This Row],[GRUPO DE VALOR]]","v":"Ciudadanía"},{"$f":"+[7]!Tabla1[[#This Row],[NOMBRE DEL GRUPO DE VALOR]]","v":"ISRAEL PEREZ"},{"$f":"+'[7]conmutador Nov'!K59","v":"Masculino"},{"$f":"+'[7]conmutador Nov'!L59","v":"Hombre "},"Sin datos","Sin datos","Sin datos","Sin datos",{"$f":"+'[7]conmutador Nov'!N59","v":"Consulta"},{"$f":"+'[7]conmutador Nov'!O59","v":"Consulta general"},{"$f":"+'[7]conmutador Nov'!P59","v":"Solicitud cita"},{"$f":"+'[7]conmutador Nov'!Q59","v":"Llmada reiterativa"},{"$f":"+'[7]conmutador Nov'!R59","v":"Atención al ciudadano"},{"$f":"+'[7]conmutador Nov'!S59","v":"Ciudadano"},"11 Suba"]
[189,2022,"NOVIEMBRE",{"$f":"+'[7]conmutador Nov'!B60","v":"2022-11-08"},{"$f":"+'[7]conmutador Nov'!C60","v":"13:43:00"},{"$f":"+'[7]conmutador Nov'!D60","v":"JANETH REDONDO"},"TELEFÓNICO",{"$f":"+'[7]conmutador Nov'!E60","v":"Conmutador"},"Sin datos",{"$f":"+'[7]conmutador Nov'!J60","v":"Anónimo"},{"$f":"+'[7]conmutador Nov'!G60","v":"ANÓNIMO"},{"$f":"+[7]!Tabla1[[#This Row],[GRUPO DE VALOR]]","v":"Anónimo"},{"$f":"+[7]!Tabla1[[#This Row],[NOMBRE DEL GRUPO DE VALOR]]","v":"ANÓNIMO"},{"$f":"+'[7]conmutador Nov'!K60","v":"N/A"},{"$f":"+'[7]conmutador Nov'!L60","v":"N/A"},"Sin datos","Sin datos","Sin datos","Sin datos",{"$f":"+'[7]conmutador Nov'!N60","v":"Consulta"},{"$f":"+'[7]conmutador Nov'!O60","v":"Incorporación y entrega de las áreas de cesión a favor del municipio"},{"$f":"+'[7]conmutador Nov'!P60","v":"Número equivocado"},{"$f":"+'[7]conmutador Nov'!Q60","v":"Número equivocado"},{"$f":"+'[7]conmutador Nov'!R60","v":"Atención al ciudadano"},{"$f":"+'[7]conmutador Nov'!S60","v":"Ciudadano"},{"$f":"+'[7]conmutador Nov'!T60","v":"No Registra"}]
[190,2022,"NOVIEMBRE",{"$f":"+'[7]conmutador Nov'!B61","v":"2022-11-08"},{"$f":"+'[7]conmutador Nov'!C61","v":"13:57:00"},{"$f":"+'[7]conmutador Nov'!D61","v":"JANETH REDONDO"},"TELEFÓNICO",{"$f":"+'[7]conmutador Nov'!E61","v":"Conmutador"},"Sin datos",{"$f":"+'[7]conmutador Nov'!J61","v":"Anónimo"},{"$f":"+'[7]conmutador Nov'!G61","v":"ANÓNIMO"},{"$f":"+[7]!Tabla1[[#This Row],[GRUPO DE VALOR]]","v":"Anónimo"},{"$f":"+[7]!Tabla1[[#This Row],[NOMBRE DEL GRUPO DE VALOR]]","v":"ANÓNIMO"},{"$f":"+'[7]conmutador Nov'!K61","v":"N/A"},{"$f":"+'[7]conmutador Nov'!L61","v":"N/A"},"Sin datos","Sin datos","Sin datos","Sin datos",{"$f":"+'[7]conmutador Nov'!N61","v":"Consulta"},{"$f":"+'[7]conmutador Nov'!O61","v":"Consulta general"},{"$f":"+'[7]conmutador Nov'!P61","v":"Número equivocado"},{"$f":"+'[7]conmutador Nov'!Q61","v":"Número equivocado"},{"$f":"+'[7]conmutador Nov'!R61","v":"Atención al ciudadano"},{"$f":"+'[7]conmutador Nov'!S61","v":"Ciudadano"},{"$f":"+'[7]conmutador Nov'!T61","v":"No Registra"}]
[191,2022,"NOVIEMBRE",{"$f":"+'[7]conmutador Nov'!B62","v":"2022-11-08"},{"$f":"+'[7]conmutador Nov'!C62","v":"14:26:00"},{"$f":"+'[7]conmutador Nov'!D62","v":"JANETH REDONDO"},"TELEFÓNICO",{"$f":"+'[7]conmutador Nov'!E62","v":"Conmutador"},"Sin datos",{"$f":"+'[7]conmutador Nov'!J62","v":"Ciudadanía"},{"$f":"+'[7]conmutador Nov'!G62","v":"CAMILA CORTES"},{"$f":"+[7]!Tabla1[[#This Row],[GRUPO DE VALOR]]","v":"Ciudadanía"},{"$f":"+[7]!Tabla1[[#This Row],[NOMBRE DEL GRUPO DE VALOR]]","v":"CAMILA CORTES"},{"$f":"+'[7]conmutador Nov'!K62","v":"Femenino"},{"$f":"+'[7]conmutador Nov'!L62","v":"Mujer"},"Sin datos","Sin datos","Sin datos","Sin datos",{"$f":"+'[7]conmutador Nov'!N62","v":"Consulta"},{"$f":"+'[7]conmutador Nov'!O62","v":"Incorporación y entrega de las áreas de cesión a favor del municipio"},{"$f":"+'[7]conmutador Nov'!P62","v":"Incorporación de zonas de cesión"},{"$f":"+'[7]conmutador Nov'!Q62","v":"La ciudadana solicita certificación para intervenir zona verde, ya que en la escritura aparece zona de la propietaria."},{"$f":"+'[7]conmutador Nov'!R62","v":"Atención al ciudadano"},{"$f":"+'[7]conmutador Nov'!S62","v":"Ciudadano"},{"$f":"+'[7]conmutador Nov'!T62","v":"12 Barrios Unidos"}]
[192,2022,"NOVIEMBRE",{"$f":"+'[7]conmutador Nov'!B63","v":"2022-11-08"},{"$f":"+'[7]conmutador Nov'!C63","v":"14:50:00"},{"$f":"+'[7]conmutador Nov'!D63","v":"JANETH REDONDO"},"TELEFÓNICO",{"$f":"+'[7]conmutador Nov'!E63","v":"Conmutador"},"Sin datos",{"$f":"+'[7]conmutador Nov'!J63","v":"Anónimo"},{"$f":"+'[7]conmutador Nov'!G63","v":"ANÓNIMO"},{"$f":"+[7]!Tabla1[[#This Row],[GRUPO DE VALOR]]","v":"Anónimo"},{"$f":"+[7]!Tabla1[[#This Row],[NOMBRE DEL GRUPO DE VALOR]]","v":"ANÓNIMO"},{"$f":"+'[7]conmutador Nov'!K63","v":"N/A"},{"$f":"+'[7]conmutador Nov'!L63","v":"N/A"},"Sin datos","Sin datos","Sin datos","Sin datos",{"$f":"+'[7]conmutador Nov'!N63","v":"Consulta"},{"$f":"+'[7]conmutador Nov'!O63","v":"Incorporación y entrega de las áreas de cesión a favor del municipio"},{"$f":"+'[7]conmutador Nov'!P63","v":"Número equivocado"},{"$f":"+'[7]conmutador Nov'!Q63","v":"Número equivocado"},{"$f":"+'[7]conmutador Nov'!R63","v":"Atención al ciudadano"},{"$f":"+'[7]conmutador Nov'!S63","v":"Ciudadano"},{"$f":"+'[7]conmutador Nov'!T63","v":"No Registra"}]
[193,2022,"NOVIEMBRE",{"$f":"+'[7]conmutador Nov'!B64","v":"2022-11-08"},{"$f":"+'[7]conmutador Nov'!C64","v":"15:01:00"},{"$f":"+'[7]conmutador Nov'!D64","v":"JANETH REDONDO"},"TELEFÓNICO",{"$f":"+'[7]conmutador Nov'!E64","v":"Conmutador"},"Sin datos",{"$f":"+'[7]conmutador Nov'!J64","v":"Ciudadanía"},{"$f":"+'[7]conmutador Nov'!G64","v":"LILIANA CASTRO"},{"$f":"+[7]!Tabla1[[#This Row],[GRUPO DE VALOR]]","v":"Ciudadanía"},{"$f":"+[7]!Tabla1[[#This Row],[NOMBRE DEL GRUPO DE VALOR]]","v":"LILIANA CASTRO"},{"$f":"+'[7]conmutador Nov'!K64","v":"Femenino"},{"$f":"+'[7]conmutador Nov'!L64","v":"Mujer"},"Sin datos","Sin datos","Sin datos","Sin datos",{"$f":"+'[7]conmutador Nov'!N64","v":"Consulta"},{"$f":"+'[7]conmutador Nov'!O64","v":"Consulta general"},{"$f":"+'[7]conmutador Nov'!P64","v":"Transferencia de llamada"},{"$f":"+'[7]conmutador Nov'!Q64","v":"Transferencia de llamada a SAI"},{"$f":"+'[7]conmutador Nov'!R64","v":"Atención al ciudadano"},{"$f":"+'[7]conmutador Nov'!S64","v":"Ciudadano"},{"$f":"+'[7]conmutador Nov'!T64","v":"No Registra"}]
[194,2022,"NOVIEMBRE",{"$f":"+'[7]conmutador Nov'!B65","v":"2022-11-08"},{"$f":"+'[7]conmutador Nov'!C65","v":"15:05:00"},{"$f":"+'[7]conmutador Nov'!D65","v":"JANETH REDONDO"},"TELEFÓNICO",{"$f":"+'[7]conmutador Nov'!E65","v":"Conmutador"},"Sin datos",{"$f":"+'[7]conmutador Nov'!J65","v":"Ciudadanía"},{"$f":"+'[7]conmutador Nov'!G65","v":"GUSTAVO CORTES"},{"$f":"+[7]!Tabla1[[#This Row],[GRUPO DE VALOR]]","v":"Ciudadanía"},{"$f":"+[7]!Tabla1[[#This Row],[NOMBRE DEL GRUPO DE VALOR]]","v":"GUSTAVO CORTES"},{"$f":"+'[7]conmutador Nov'!K65","v":"Masculino"},{"$f":"+'[7]conmutador Nov'!L65","v":"Hombre "},"Sin datos","Sin datos","Sin datos","Sin datos",{"$f":"+'[7]conmutador Nov'!N65","v":"Consulta"},{"$f":"+'[7]conmutador Nov'!O65","v":"Incorporación y entrega de las áreas de cesión a favor del municipio"},{"$f":"+'[7]conmutador Nov'!P65","v":"Incorporación de zonas de cesión"},{"$f":"+'[7]conmutador Nov'!Q65","v":"Llamada reiterativa"},{"$f":"+'[7]conmutador Nov'!R65","v":"Atención al ciudadano"},{"$f":"+'[7]conmutador Nov'!S65","v":"Ciudadano"},{"$f":"+'[7]conmutador Nov'!T65","v":"12 Barrios Unidos"}]
[195,2022,"NOVIEMBRE",{"$f":"+'[7]conmutador Nov'!B66","v":"2022-11-08"},{"$f":"+'[7]conmutador Nov'!C66","v":"15:29:00"},{"$f":"+'[7]conmutador Nov'!D66","v":"JANETH REDONDO"},"TELEFÓNICO",{"$f":"+'[7]conmutador Nov'!E66","v":"Conmutador"},"Sin datos",{"$f":"+'[7]conmutador Nov'!J66","v":"Ciudadanía"},{"$f":"+'[7]conmutador Nov'!G66","v":"JOSE HERNANDEZ"},{"$f":"+[7]!Tabla1[[#This Row],[GRUPO DE VALOR]]","v":"Ciudadanía"},{"$f":"+[7]!Tabla1[[#This Row],[NOMBRE DEL GRUPO DE VALOR]]","v":"JOSE HERNANDEZ"},{"$f":"+'[7]conmutador Nov'!K66","v":"Masculino"},{"$f":"+'[7]conmutador Nov'!L66","v":"Hombre "},"Sin datos","Sin datos","Sin datos","Sin datos",{"$f":"+'[7]conmutador Nov'!N66","v":"Consulta"},{"$f":"+'[7]conmutador Nov'!O66","v":"Asesoría en administración y sostenibilidad del espacio público"},{"$f":"+'[7]conmutador Nov'!P66","v":"Denuncia ventas informales"},{"$f":"+'[7]conmutador Nov'!Q66","v":"Denuncia invasión de espacio público por ventas informales en furgones y casetas."},{"$f":"+'[7]conmutador Nov'!R66","v":"Atención al ciudadano"},{"$f":"+'[7]conmutador Nov'!S66","v":"Ciudadano"},{"$f":"+'[7]conmutador Nov'!T66","v":"19 Ciudad Bolívar"}]
[196,2022,"NOVIEMBRE",{"$f":"+'[7]conmutador Nov'!B67","v":"2022-11-08"},{"$f":"+'[7]conmutador Nov'!C67","v":"15:37:00"},{"$f":"+'[7]conmutador Nov'!D67","v":"JANETH REDONDO"},"TELEFÓNICO",{"$f":"+'[7]conmutador Nov'!E67","v":"Conmutador"},"Sin datos",{"$f":"+'[7]conmutador Nov'!J67","v":"Ciudadanía"},{"$f":"+'[7]conmutador Nov'!G67","v":"NELSON BUSTOS"},{"$f":"+[7]!Tabla1[[#This Row],[GRUPO DE VALOR]]","v":"Ciudadanía"},{"$f":"+[7]!Tabla1[[#This Row],[NOMBRE DEL GRUPO DE VALOR]]","v":"NELSON BUSTOS"},{"$f":"+'[7]conmutador Nov'!K67","v":"Masculino"},{"$f":"+'[7]conmutador Nov'!L67","v":"Hombre "},"Sin datos","Sin datos","Sin datos","Sin datos",{"$f":"+'[7]conmutador Nov'!N67","v":"Consulta"},{"$f":"+'[7]conmutador Nov'!O67","v":"Consulta general"},{"$f":"+'[7]conmutador Nov'!P67","v":"Transferencia de llamada"},{"$f":"+'[7]conmutador Nov'!Q67","v":"Transferencia de llamada a SGC"},{"$f":"+'[7]conmutador Nov'!R67","v":"Atención al ciudadano"},{"$f":"+'[7]conmutador Nov'!S67","v":"Ciudadano"},"07 Bosa"]
[197,2022,"NOVIEMBRE",{"$f":"+'[7]conmutador Nov'!B68","v":"2022-11-08"},{"$f":"+'[7]conmutador Nov'!C68","v":"16:17:00"},{"$f":"+'[7]conmutador Nov'!D68","v":"JANETH REDONDO"},"TELEFÓNICO",{"$f":"+'[7]conmutador Nov'!E68","v":"Conmutador"},"Sin datos","Entidades y Organismos Distritales",{"$f":"+'[7]conmutador Nov'!G68","v":"JEFFERSON AMADO"},"Entidades y Organismos Distritales",{"$f":"+[7]!Tabla1[[#This Row],[NOMBRE DEL GRUPO DE VALOR]]","v":"JEFFERSON AMADO"},{"$f":"+'[7]conmutador Nov'!K68","v":"Masculino"},{"$f":"+'[7]conmutador Nov'!L68","v":"Hombre "},"Sin datos","Sin datos","Sin datos","Sin datos",{"$f":"+'[7]conmutador Nov'!N68","v":"Consulta"},{"$f":"+'[7]conmutador Nov'!O68","v":"Consulta general"},{"$f":"+'[7]conmutador Nov'!P68","v":"Transferencia de llamada"},{"$f":"+'[7]conmutador Nov'!Q68","v":"Transferencia de llamada a SGC del IDRD"},{"$f":"+'[7]conmutador Nov'!R68","v":"Atención al ciudadano"},{"$f":"+'[7]conmutador Nov'!S68","v":"Ciudadano"},"13 Teusaquillo"]
[198,2022,"NOVIEMBRE",{"$f":"+'[7]conmutador Nov'!B69","v":"2022-11-09"},{"$f":"+'[7]conmutador Nov'!C69","v":"15:20:00"},{"$f":"+'[7]conmutador Nov'!D69","v":"JANETH REDONDO"},"TELEFÓNICO",{"$f":"+'[7]conmutador Nov'!E69","v":"Conmutador"},"Sin datos",{"$f":"+'[7]conmutador Nov'!J69","v":"Ciudadanía"},{"$f":"+'[7]conmutador Nov'!G69","v":"SERGIO CRUZ"},{"$f":"+[7]!Tabla1[[#This Row],[GRUPO DE VALOR]]","v":"Ciudadanía"},{"$f":"+[7]!Tabla1[[#This Row],[NOMBRE DEL GRUPO DE VALOR]]","v":"SERGIO CRUZ"},{"$f":"+'[7]conmutador Nov'!K69","v":"Masculino"},{"$f":"+'[7]conmutador Nov'!L69","v":"Hombre "},"Sin datos","Sin datos","Sin datos","Sin datos",{"$f":"+'[7]conmutador Nov'!N69","v":"Consulta"},{"$f":"+'[7]conmutador Nov'!O69","v":"Consulta general"},{"$f":"+'[7]conmutador Nov'!P69","v":"Consulta radicado"},{"$f":"+'[7]conmutador Nov'!Q69","v":"Consulta correo electrónico que envío."},{"$f":"+'[7]conmutador Nov'!R69","v":"Atención al ciudadano"},{"$f":"+'[7]conmutador Nov'!S69","v":"Ciudadano"},{"$f":"+'[7]conmutador Nov'!T69","v":"No Registra"}]
[199,2022,"NOVIEMBRE",{"$f":"+'[7]conmutador Nov'!B70","v":"2022-11-09"},{"$f":"+'[7]conmutador Nov'!C70","v":"07:57:00"},{"$f":"+'[7]conmutador Nov'!D70","v":"JANETH REDONDO"},"TELEFÓNICO",{"$f":"+'[7]conmutador Nov'!E70","v":"Conmutador"},"Sin datos",{"$f":"+'[7]conmutador Nov'!J70","v":"Ciudadanía"},{"$f":"+'[7]conmutador Nov'!G70","v":"GILBERTO OSORIO"},{"$f":"+[7]!Tabla1[[#This Row],[GRUPO DE VALOR]]","v":"Ciudadanía"},{"$f":"+[7]!Tabla1[[#This Row],[NOMBRE DEL GRUPO DE VALOR]]","v":"GILBERTO OSORIO"},{"$f":"+'[7]conmutador Nov'!K70","v":"Masculino"},{"$f":"+'[7]conmutador Nov'!L70","v":"Hombre "},"Sin datos","Sin datos","Sin datos","Sin datos",{"$f":"+'[7]conmutador Nov'!N70","v":"Consulta"},{"$f":"+'[7]conmutador Nov'!O70","v":"Consulta general"},{"$f":"+'[7]conmutador Nov'!P70","v":"Consulta radicado"},{"$f":"+'[7]conmutador Nov'!Q70","v":"El ciudadano recibió un Derecho de Petición sobre invasión de espacio público, comenta que desde hace más de 30 años tiene esa zona verde y le hizo cerramiento y nunca tuvo inconveniente alguno."},{"$f":"+'[7]conmutador Nov'!R70","v":"Atención al ciudadano"},{"$f":"+'[7]conmutador Nov'!S70","v":"Ciudadano"},"07 Bosa"]
[200,2022,"NOVIEMBRE",{"$f":"+'[7]conmutador Nov'!B71","v":"2022-11-10"},{"$f":"+'[7]conmutador Nov'!C71","v":"08:02:00"},{"$f":"+'[7]conmutador Nov'!D71","v":"JANETH REDONDO"},"TELEFÓNICO",{"$f":"+'[7]conmutador Nov'!E71","v":"Conmutador"},"Sin datos",{"$f":"+'[7]conmutador Nov'!J71","v":"Ciudadanía"},{"$f":"+'[7]conmutador Nov'!G71","v":"GILBERTO OSORIO"},{"$f":"+[7]!Tabla1[[#This Row],[GRUPO DE VALOR]]","v":"Ciudadanía"},{"$f":"+[7]!Tabla1[[#This Row],[NOMBRE DEL GRUPO DE VALOR]]","v":"GILBERTO OSORIO"},{"$f":"+'[7]conmutador Nov'!K71","v":"Masculino"},{"$f":"+'[7]conmutador Nov'!L71","v":"Hombre "},"Sin datos","Sin datos","Sin datos","Sin datos",{"$f":"+'[7]conmutador Nov'!N71","v":"Consulta"},{"$f":"+'[7]conmutador Nov'!O71","v":"Consulta general"},{"$f":"+'[7]conmutador Nov'!P71","v":"Consulta radicado"},{"$f":"+'[7]conmutador Nov'!Q71","v":"Llamada reiterativa"},{"$f":"+'[7]conmutador Nov'!R71","v":"Atención al ciudadano"},{"$f":"+'[7]conmutador Nov'!S71","v":"Ciudadano"},"07 Bosa"]
[201,2022,"NOVIEMBRE",{"$f":"+'[7]conmutador Nov'!B72","v":"2022-11-10"},{"$f":"+'[7]conmutador Nov'!C72","v":"10:10:00"},{"$f":"+'[7]conmutador Nov'!D72","v":"JANETH REDONDO"},"TELEFÓNICO",{"$f":"+'[7]conmutador Nov'!E72","v":"Conmutador"},"Sin datos",{"$f":"+'[7]conmutador Nov'!J72","v":"Ciudadanía"},{"$f":"+'[7]conmutador Nov'!G72","v":"ISRAEL PEREZ"},{"$f":"+[7]!Tabla1[[#This Row],[GRUPO DE VALOR]]","v":"Ciudadanía"},{"$f":"+[7]!Tabla1[[#This Row],[NOMBRE DEL GRUPO DE VALOR]]","v":"ISRAEL PEREZ"},{"$f":"+'[7]conmutador Nov'!K72","v":"Masculino"},{"$f":"+'[7]conmutador Nov'!L72","v":"Hombre "},"Sin datos","Sin datos","Sin datos","Sin datos",{"$f":"+'[7]conmutador Nov'!N72","v":"Consulta"},{"$f":"+'[7]conmutador Nov'!O72","v":"Consulta general"},{"$f":"+'[7]conmutador Nov'!P72","v":"Solicitud cita"},{"$f":"+'[7]conmutador Nov'!Q72","v":"Llamada reiterativa"},{"$f":"+'[7]conmutador Nov'!R72","v":"Atención al ciudadano"},{"$f":"+'[7]conmutador Nov'!S72","v":"Ciudadano"},"11 Suba"]
[202,2022,"NOVIEMBRE",{"$f":"+'[7]conmutador Nov'!B73","v":"2022-11-10"},{"$f":"+'[7]conmutador Nov'!C73","v":"10:18:00"},{"$f":"+'[7]conmutador Nov'!D73","v":"JANETH REDONDO"},"TELEFÓNICO",{"$f":"+'[7]conmutador Nov'!E73","v":"Conmutador"},"Sin datos",{"$f":"+'[7]conmutador Nov'!J73","v":"Ciudadanía"},{"$f":"+'[7]conmutador Nov'!G73","v":"JULIETH RIVERA"},{"$f":"+[7]!Tabla1[[#This Row],[GRUPO DE VALOR]]","v":"Ciudadanía"},{"$f":"+[7]!Tabla1[[#This Row],[NOMBRE DEL GRUPO DE VALOR]]","v":"JULIETH RIVERA"},{"$f":"+'[7]conmutador Nov'!K73","v":"Femenino"},{"$f":"+'[7]conmutador Nov'!L73","v":"Mujer"},"Sin datos","Sin datos","Sin datos","Sin datos",{"$f":"+'[7]conmutador Nov'!N73","v":"Consulta"},{"$f":"+'[7]conmutador Nov'!O73","v":"Consulta general"},{"$f":"+'[7]conmutador Nov'!P73","v":"Consulta radicado"},{"$f":"+'[7]conmutador Nov'!Q73","v":"La ciudadana consulta radicado de otra entidad."},{"$f":"+'[7]conmutador Nov'!R73","v":"Atención al ciudadano"},{"$f":"+'[7]conmutador Nov'!S73","v":"Ciudadano"},"13 Teusaquillo"]
[203,2022,"NOVIEMBRE",{"$f":"+'[7]conmutador Nov'!B74","v":"2022-11-10"},{"$f":"+'[7]conmutador Nov'!C74","v":"10:32:00"},{"$f":"+'[7]conmutador Nov'!D74","v":"JANETH REDONDO"},"TELEFÓNICO",{"$f":"+'[7]conmutador Nov'!E74","v":"Conmutador"},"Sin datos",{"$f":"+'[7]conmutador Nov'!J74","v":"Ciudadanía"},{"$f":"+'[7]conmutador Nov'!G74","v":"CLAUDIA"},{"$f":"+[7]!Tabla1[[#This Row],[GRUPO DE VALOR]]","v":"Ciudadanía"},{"$f":"+[7]!Tabla1[[#This Row],[NOMBRE DEL GRUPO DE VALOR]]","v":"CLAUDIA"},{"$f":"+'[7]conmutador Nov'!K74","v":"Femenino"},{"$f":"+'[7]conmutador Nov'!L74","v":"Mujer"},"Sin datos","Sin datos","Sin datos","Sin datos",{"$f":"+'[7]conmutador Nov'!N74","v":"Consulta"},{"$f":"+'[7]conmutador Nov'!O74","v":"Consulta general"},{"$f":"+'[7]conmutador Nov'!P74","v":"Sin información de fondo"},{"$f":"+'[7]conmutador Nov'!Q74","v":"Sin información de fondo"},{"$f":"+'[7]conmutador Nov'!R74","v":"Atención al ciudadano"},{"$f":"+'[7]conmutador Nov'!S74","v":"Ciudadano"},{"$f":"+'[7]conmutador Nov'!T74","v":"No Registra"}]
[204,2022,"NOVIEMBRE",{"$f":"+'[7]conmutador Nov'!B75","v":"2022-11-10"},{"$f":"+'[7]conmutador Nov'!C75","v":"10:35:00"},{"$f":"+'[7]conmutador Nov'!D75","v":"JANETH REDONDO"},"TELEFÓNICO",{"$f":"+'[7]conmutador Nov'!E75","v":"Conmutador"},"Sin datos",{"$f":"+'[7]conmutador Nov'!J75","v":"Anónimo"},{"$f":"+'[7]conmutador Nov'!G75","v":"ANÓNIMO"},{"$f":"+[7]!Tabla1[[#This Row],[GRUPO DE VALOR]]","v":"Anónimo"},{"$f":"+[7]!Tabla1[[#This Row],[NOMBRE DEL GRUPO DE VALOR]]","v":"ANÓNIMO"},{"$f":"+'[7]conmutador Nov'!K75","v":"Femenino"},{"$f":"+'[7]conmutador Nov'!L75","v":"Mujer"},"Sin datos","Sin datos","Sin datos","Sin datos",{"$f":"+'[7]conmutador Nov'!N75","v":"Consulta"},{"$f":"+'[7]conmutador Nov'!O75","v":"Asesoría en administración y sostenibilidad del espacio público"},{"$f":"+'[7]conmutador Nov'!P75","v":"Asesoría en temas de espacio público"},{"$f":"+'[7]conmutador Nov'!Q75","v":"Denuncia invasión de espacio público por cerramiento de cemento de parte de un vecino "},{"$f":"+'[7]conmutador Nov'!R75","v":"Atención al ciudadano"},{"$f":"+'[7]conmutador Nov'!S75","v":"Ciudadano"},"08 Kennedy"]
[205,2022,"NOVIEMBRE",{"$f":"+'[7]conmutador Nov'!B76","v":"2022-11-10"},{"$f":"+'[7]conmutador Nov'!C76","v":"10:42:00"},{"$f":"+'[7]conmutador Nov'!D76","v":"JANETH REDONDO"},"TELEFÓNICO",{"$f":"+'[7]conmutador Nov'!E76","v":"Conmutador"},"Sin datos",{"$f":"+'[7]conmutador Nov'!J76","v":"Anónimo"},{"$f":"+'[7]conmutador Nov'!G76","v":"ANÓNIMO"},{"$f":"+[7]!Tabla1[[#This Row],[GRUPO DE VALOR]]","v":"Anónimo"},{"$f":"+[7]!Tabla1[[#This Row],[NOMBRE DEL GRUPO DE VALOR]]","v":"ANÓNIMO"},{"$f":"+'[7]conmutador Nov'!K76","v":"N/A"},{"$f":"+'[7]conmutador Nov'!L76","v":"N/A"},"Sin datos","Sin datos","Sin datos","Sin datos",{"$f":"+'[7]conmutador Nov'!N76","v":"Consulta"},{"$f":"+'[7]conmutador Nov'!O76","v":"Consulta general"},{"$f":"+'[7]conmutador Nov'!P76","v":"Número equivocado"},{"$f":"+'[7]conmutador Nov'!Q76","v":"Número equivocado"},{"$f":"+'[7]conmutador Nov'!R76","v":"Atención al ciudadano"},{"$f":"+'[7]conmutador Nov'!S76","v":"Ciudadano"},{"$f":"+'[7]conmutador Nov'!T76","v":"No Registra"}]
[206,2022,"NOVIEMBRE",{"$f":"+'[7]conmutador Nov'!B77","v":"2022-11-10"},{"$f":"+'[7]conmutador Nov'!C77","v":"10:45:00"},{"$f":"+'[7]conmutador Nov'!D77","v":"JANETH REDONDO"},"TELEFÓNICO",{"$f":"+'[7]conmutador Nov'!E77","v":"Conmutador"},"Sin datos",{"$f":"+'[7]conmutador Nov'!J77","v":"Ciudadanía"},{"$f":"+'[7]conmutador Nov'!G77","v":"JULIETH RIVERA"},{"$f":"+[7]!Tabla1[[#This Row],[GRUPO DE VALOR]]","v":"Ciudadanía"},{"$f":"+[7]!Tabla1[[#This Row],[NOMBRE DEL GRUPO DE VALOR]]","v":"JULIETH RIVERA"},{"$f":"+'[7]conmutador Nov'!K77","v":"Femenino"},{"$f":"+'[7]conmutador Nov'!L77","v":"Mujer"},"Sin datos","Sin datos","Sin datos","Sin datos",{"$f":"+'[7]conmutador Nov'!N77","v":"Consulta"},{"$f":"+'[7]conmutador Nov'!O77","v":"Consulta general"},{"$f":"+'[7]conmutador Nov'!P77","v":"Consulta radicado"},{"$f":"+'[7]conmutador Nov'!Q77","v":"Llamada reiterativa"},{"$f":"+'[7]conmutador Nov'!R77","v":"Atención al ciudadano"},{"$f":"+'[7]conmutador Nov'!S77","v":"Ciudadano"},"13 Teusaquillo"]
[207,2022,"NOVIEMBRE",{"$f":"+'[7]conmutador Nov'!B78","v":"2022-11-10"},{"$f":"+'[7]conmutador Nov'!C78","v":"11:11:00"},{"$f":"+'[7]conmutador Nov'!D78","v":"JANETH REDONDO"},"TELEFÓNICO",{"$f":"+'[7]conmutador Nov'!E78","v":"Conmutador"},"Sin datos","Entidades y Organismos Distritales",{"$f":"+'[7]conmutador Nov'!G78","v":"JEFFERSON AMADO"},"Entidades y Organismos Distritales",{"$f":"+[7]!Tabla1[[#This Row],[NOMBRE DEL GRUPO DE VALOR]]","v":"JEFFERSON AMADO"},{"$f":"+'[7]conmutador Nov'!K78","v":"Masculino"},{"$f":"+'[7]conmutador Nov'!L78","v":"Hombre "},"Sin datos","Sin datos","Sin datos","Sin datos",{"$f":"+'[7]conmutador Nov'!N78","v":"Consulta"},{"$f":"+'[7]conmutador Nov'!O78","v":"Consulta general"},{"$f":"+'[7]conmutador Nov'!P78","v":"Transferencia de llamada"},{"$f":"+'[7]conmutador Nov'!Q78","v":"Transferencia de llamada a SGC del IDRD"},{"$f":"+'[7]conmutador Nov'!R78","v":"Atención al ciudadano"},{"$f":"+'[7]conmutador Nov'!S78","v":"Ciudadano"},"13 Teusaquillo"]
[208,2022,"NOVIEMBRE",{"$f":"+'[7]conmutador Nov'!B79","v":"2022-11-10"},{"$f":"+'[7]conmutador Nov'!C79","v":"11:15:00"},{"$f":"+'[7]conmutador Nov'!D79","v":"JANETH REDONDO"},"TELEFÓNICO",{"$f":"+'[7]conmutador Nov'!E79","v":"Conmutador"},"Sin datos",{"$f":"+'[7]conmutador Nov'!J79","v":"Ciudadanía"},{"$f":"+'[7]conmutador Nov'!G79","v":"ISRAEL PEREZ"},{"$f":"+[7]!Tabla1[[#This Row],[GRUPO DE VALOR]]","v":"Ciudadanía"},{"$f":"+[7]!Tabla1[[#This Row],[NOMBRE DEL GRUPO DE VALOR]]","v":"ISRAEL PEREZ"},{"$f":"+'[7]conmutador Nov'!K79","v":"Masculino"},{"$f":"+'[7]conmutador Nov'!L79","v":"Hombre "},"Sin datos","Sin datos","Sin datos","Sin datos",{"$f":"+'[7]conmutador Nov'!N79","v":"Consulta"},{"$f":"+'[7]conmutador Nov'!O79","v":"Consulta general"},{"$f":"+'[7]conmutador Nov'!P79","v":"Solicitud cita"},{"$f":"+'[7]conmutador Nov'!Q79","v":"Llamada reiterativa"},{"$f":"+'[7]conmutador Nov'!R79","v":"Atención al ciudadano"},{"$f":"+'[7]conmutador Nov'!S79","v":"Ciudadano"},"11 Suba"]
[209,2022,"NOVIEMBRE",{"$f":"+'[7]conmutador Nov'!B80","v":"2022-11-10"},{"$f":"+'[7]conmutador Nov'!C80","v":"11:18:00"},{"$f":"+'[7]conmutador Nov'!D80","v":"JANETH REDONDO"},"TELEFÓNICO",{"$f":"+'[7]conmutador Nov'!E80","v":"Conmutador"},"Sin datos",{"$f":"+'[7]conmutador Nov'!J80","v":"Ciudadanía"},{"$f":"+'[7]conmutador Nov'!G80","v":"MARCO TULIO SOTO"},{"$f":"+[7]!Tabla1[[#This Row],[GRUPO DE VALOR]]","v":"Ciudadanía"},{"$f":"+[7]!Tabla1[[#This Row],[NOMBRE DEL GRUPO DE VALOR]]","v":"MARCO TULIO SOTO"},{"$f":"+'[7]conmutador Nov'!K80","v":"Masculino"},{"$f":"+'[7]conmutador Nov'!L80","v":"Hombre "},"Sin datos","Sin datos","Sin datos","Sin datos",{"$f":"+'[7]conmutador Nov'!N80","v":"Consulta"},{"$f":"+'[7]conmutador Nov'!O80","v":"Consulta general"},{"$f":"+'[7]conmutador Nov'!P80","v":"Consulta radicado"},{"$f":"+'[7]conmutador Nov'!Q80","v":"Consulta radicado"},{"$f":"+'[7]conmutador Nov'!R80","v":"Atención al ciudadano"},{"$f":"+'[7]conmutador Nov'!S80","v":"Ciudadano"},"08 Kennedy"]
[210,2022,"NOVIEMBRE",{"$f":"+'[7]conmutador Nov'!B81","v":"2022-11-10"},{"$f":"+'[7]conmutador Nov'!C81","v":"11:29:00"},{"$f":"+'[7]conmutador Nov'!D81","v":"JANETH REDONDO"},"TELEFÓNICO",{"$f":"+'[7]conmutador Nov'!E81","v":"Conmutador"},"Sin datos",{"$f":"+'[7]conmutador Nov'!J81","v":"Ciudadanía"},{"$f":"+'[7]conmutador Nov'!G81","v":"HUGO FERNANDO MORENO"},{"$f":"+[7]!Tabla1[[#This Row],[GRUPO DE VALOR]]","v":"Ciudadanía"},{"$f":"+[7]!Tabla1[[#This Row],[NOMBRE DEL GRUPO DE VALOR]]","v":"HUGO FERNANDO MORENO"},{"$f":"+'[7]conmutador Nov'!K81","v":"Masculino"},{"$f":"+'[7]conmutador Nov'!L81","v":"Hombre "},"Sin datos","Sin datos","Sin datos","Sin datos",{"$f":"+'[7]conmutador Nov'!N81","v":"Consulta"},{"$f":"+'[7]conmutador Nov'!O81","v":"Consulta general"},{"$f":"+'[7]conmutador Nov'!P81","v":"Consulta radicado"},{"$f":"+'[7]conmutador Nov'!Q81","v":"Consulta radicado 20224000212562"},{"$f":"+'[7]conmutador Nov'!R81","v":"Atención al ciudadano"},{"$f":"+'[7]conmutador Nov'!S81","v":"Ciudadano"},"07 Bosa"]
[211,2022,"NOVIEMBRE",{"$f":"+'[7]conmutador Nov'!B82","v":"2022-11-10"},{"$f":"+'[7]conmutador Nov'!C82","v":"11:39:00"},{"$f":"+'[7]conmutador Nov'!D82","v":"JANETH REDONDO"},"TELEFÓNICO",{"$f":"+'[7]conmutador Nov'!E82","v":"Conmutador"},"Sin datos",{"$f":"+'[7]conmutador Nov'!J82","v":"Ciudadanía"},{"$f":"+'[7]conmutador Nov'!G82","v":"RAFAEL GONZALEZ"},{"$f":"+[7]!Tabla1[[#This Row],[GRUPO DE VALOR]]","v":"Ciudadanía"},{"$f":"+[7]!Tabla1[[#This Row],[NOMBRE DEL GRUPO DE VALOR]]","v":"RAFAEL GONZALEZ"},{"$f":"+'[7]conmutador Nov'!K82","v":"Masculino"},{"$f":"+'[7]conmutador Nov'!L82","v":"Hombre "},"Sin datos","Sin datos","Sin datos","Sin datos",{"$f":"+'[7]conmutador Nov'!N82","v":"Consulta"},{"$f":"+'[7]conmutador Nov'!O82","v":"Consulta general"},{"$f":"+'[7]conmutador Nov'!P82","v":"Consulta radicado"},{"$f":"+'[7]conmutador Nov'!Q82","v":"Consulta radicado 20224000126361"},{"$f":"+'[7]conmutador Nov'!R82","v":"Atención al ciudadano"},{"$f":"+'[7]conmutador Nov'!S82","v":"Ciudadano"},{"$f":"+'[7]conmutador Nov'!T82","v":"18 Rafael Uribe Uribe"}]
[212,2022,"NOVIEMBRE",{"$f":"+'[7]conmutador Nov'!B83","v":"2022-11-10"},{"$f":"+'[7]conmutador Nov'!C83","v":"13:07:00"},{"$f":"+'[7]conmutador Nov'!D83","v":"JANETH REDONDO"},"TELEFÓNICO",{"$f":"+'[7]conmutador Nov'!E83","v":"Conmutador"},"Sin datos",{"$f":"+'[7]conmutador Nov'!J83","v":"Ciudadanía"},{"$f":"+'[7]conmutador Nov'!G83","v":"LEIDY SAENZ"},{"$f":"+[7]!Tabla1[[#This Row],[GRUPO DE VALOR]]","v":"Ciudadanía"},{"$f":"+[7]!Tabla1[[#This Row],[NOMBRE DEL GRUPO DE VALOR]]","v":"LEIDY SAENZ"},{"$f":"+'[7]conmutador Nov'!K83","v":"Femenino"},{"$f":"+'[7]conmutador Nov'!L83","v":"Mujer"},"Sin datos","Sin datos","Sin datos","Sin datos",{"$f":"+'[7]conmutador Nov'!N83","v":"Consulta"},{"$f":"+'[7]conmutador Nov'!O83","v":"Consulta general"},{"$f":"+'[7]conmutador Nov'!P83","v":"Competencia otras entidades"},{"$f":"+'[7]conmutador Nov'!Q83","v":"Asesoría sobre canecas de basura, que interfieren el aseo al frente de su casa."},{"$f":"+'[7]conmutador Nov'!R83","v":"Atención al ciudadano"},{"$f":"+'[7]conmutador Nov'!S83","v":"Ciudadano"},"14 Los Mártires"]
[213,2022,"NOVIEMBRE",{"$f":"+'[7]conmutador Nov'!B84","v":"2022-11-10"},{"$f":"+'[7]conmutador Nov'!C84","v":"14:47:00"},{"$f":"+'[7]conmutador Nov'!D84","v":"JANETH REDONDO"},"TELEFÓNICO",{"$f":"+'[7]conmutador Nov'!E84","v":"Conmutador"},"Sin datos",{"$f":"+'[7]conmutador Nov'!J84","v":"Ciudadanía"},{"$f":"+'[7]conmutador Nov'!G84","v":"MARTHA DIAZ"},{"$f":"+[7]!Tabla1[[#This Row],[GRUPO DE VALOR]]","v":"Ciudadanía"},{"$f":"+[7]!Tabla1[[#This Row],[NOMBRE DEL GRUPO DE VALOR]]","v":"MARTHA DIAZ"},{"$f":"+'[7]conmutador Nov'!K84","v":"Femenino"},{"$f":"+'[7]conmutador Nov'!L84","v":"Mujer"},"Sin datos","Sin datos","Sin datos","Sin datos",{"$f":"+'[7]conmutador Nov'!N84","v":"Consulta"},{"$f":"+'[7]conmutador Nov'!O84","v":"Asesoría en administración y sostenibilidad del espacio público"},{"$f":"+'[7]conmutador Nov'!P84","v":"Denuncia vehículos"},{"$f":"+'[7]conmutador Nov'!Q84","v":"Denuncia invasión de espacio público por parqueo ilegal."},{"$f":"+'[7]conmutador Nov'!R84","v":"Atención al ciudadano"},{"$f":"+'[7]conmutador Nov'!S84","v":"Ciudadano"},"11 Suba"]
[214,2022,"NOVIEMBRE",{"$f":"+'[7]conmutador Nov'!B85","v":"2022-11-10"},{"$f":"+'[7]conmutador Nov'!C85","v":"15:23:00"},{"$f":"+'[7]conmutador Nov'!D85","v":"JANETH REDONDO"},"TELEFÓNICO",{"$f":"+'[7]conmutador Nov'!E85","v":"Conmutador"},"Sin datos",{"$f":"+'[7]conmutador Nov'!J85","v":"Ciudadanía"},{"$f":"+'[7]conmutador Nov'!G85","v":"RAFAEL GONZALEZ"},{"$f":"+[7]!Tabla1[[#This Row],[GRUPO DE VALOR]]","v":"Ciudadanía"},{"$f":"+[7]!Tabla1[[#This Row],[NOMBRE DEL GRUPO DE VALOR]]","v":"RAFAEL GONZALEZ"},{"$f":"+'[7]conmutador Nov'!K85","v":"Masculino"},{"$f":"+'[7]conmutador Nov'!L85","v":"Hombre "},"Sin datos","Sin datos","Sin datos","Sin datos",{"$f":"+'[7]conmutador Nov'!N85","v":"Consulta"},{"$f":"+'[7]conmutador Nov'!O85","v":"Consulta general"},{"$f":"+'[7]conmutador Nov'!P85","v":"Consulta radicado"},{"$f":"+'[7]conmutador Nov'!Q85","v":"Transferencia de llamada a SAI"},{"$f":"+'[7]conmutador Nov'!R85","v":"Atención al ciudadano"},{"$f":"+'[7]conmutador Nov'!S85","v":"Ciudadano"},{"$f":"+'[7]conmutador Nov'!T85","v":"18 Rafael Uribe Uribe"}]
[215,2022,"NOVIEMBRE",{"$f":"+'[7]conmutador Nov'!B86","v":"2022-11-10"},{"$f":"+'[7]conmutador Nov'!C86","v":"16:04:00"},{"$f":"+'[7]conmutador Nov'!D86","v":"JANETH REDONDO"},"TELEFÓNICO",{"$f":"+'[7]conmutador Nov'!E86","v":"Conmutador"},"Sin datos",{"$f":"+'[7]conmutador Nov'!J86","v":"Ciudadanía"},{"$f":"+'[7]conmutador Nov'!G86","v":"CLAUDIA ZAMBRANO "},{"$f":"+[7]!Tabla1[[#This Row],[GRUPO DE VALOR]]","v":"Ciudadanía"},{"$f":"+[7]!Tabla1[[#This Row],[NOMBRE DEL GRUPO DE VALOR]]","v":"CLAUDIA ZAMBRANO "},{"$f":"+'[7]conmutador Nov'!K86","v":"Femenino"},{"$f":"+'[7]conmutador Nov'!L86","v":"Mujer"},"Sin datos","Sin datos","Sin datos","Sin datos",{"$f":"+'[7]conmutador Nov'!N86","v":"Consulta"},{"$f":"+'[7]conmutador Nov'!O86","v":"Consulta general"},{"$f":"+'[7]conmutador Nov'!P86","v":"Transferencia de llamada"},{"$f":"+'[7]conmutador Nov'!Q86","v":"Transferencia de llamada a SAI"},{"$f":"+'[7]conmutador Nov'!R86","v":"Atención al ciudadano"},{"$f":"+'[7]conmutador Nov'!S86","v":"Ciudadano"},"02 Chapinero"]
[216,2022,"NOVIEMBRE",{"$f":"+'[7]conmutador Nov'!B87","v":"2022-11-11"},{"$f":"+'[7]conmutador Nov'!C87","v":"09:24:00"},{"$f":"+'[7]conmutador Nov'!D87","v":"JANETH REDONDO"},"TELEFÓNICO",{"$f":"+'[7]conmutador Nov'!E87","v":"Conmutador"},"Sin datos",{"$f":"+'[7]conmutador Nov'!J87","v":"Anónimo"},{"$f":"+'[7]conmutador Nov'!G87","v":"ANÓNIMO"},{"$f":"+[7]!Tabla1[[#This Row],[GRUPO DE VALOR]]","v":"Anónimo"},{"$f":"+[7]!Tabla1[[#This Row],[NOMBRE DEL GRUPO DE VALOR]]","v":"ANÓNIMO"},{"$f":"+'[7]conmutador Nov'!K87","v":"Femenino"},{"$f":"+'[7]conmutador Nov'!L87","v":"Mujer"},"Sin datos","Sin datos","Sin datos","Sin datos",{"$f":"+'[7]conmutador Nov'!N87","v":"Consulta"},{"$f":"+'[7]conmutador Nov'!O87","v":"Asesoría en administración y sostenibilidad del espacio público"},{"$f":"+'[7]conmutador Nov'!P87","v":"Denuncia vehículos"},{"$f":"+'[7]conmutador Nov'!Q87","v":"Denuncia parqueo ilegal"},{"$f":"+'[7]conmutador Nov'!R87","v":"Atención al ciudadano"},{"$f":"+'[7]conmutador Nov'!S87","v":"Ciudadano"},"07 Bosa"]
[217,2022,"NOVIEMBRE",{"$f":"+'[7]conmutador Nov'!B88","v":"2022-11-11"},{"$f":"+'[7]conmutador Nov'!C88","v":"10:12:00"},{"$f":"+'[7]conmutador Nov'!D88","v":"JANETH REDONDO"},"TELEFÓNICO",{"$f":"+'[7]conmutador Nov'!E88","v":"Conmutador"},"Sin datos",{"$f":"+'[7]conmutador Nov'!J88","v":"Ciudadanía"},{"$f":"+'[7]conmutador Nov'!G88","v":"DANNY PINEDA"},{"$f":"+[7]!Tabla1[[#This Row],[GRUPO DE VALOR]]","v":"Ciudadanía"},{"$f":"+[7]!Tabla1[[#This Row],[NOMBRE DEL GRUPO DE VALOR]]","v":"DANNY PINEDA"},{"$f":"+'[7]conmutador Nov'!K88","v":"Femenino"},{"$f":"+'[7]conmutador Nov'!L88","v":"Mujer"},"Sin datos","Sin datos","Sin datos","Sin datos",{"$f":"+'[7]conmutador Nov'!N88","v":"Consulta"},{"$f":"+'[7]conmutador Nov'!O88","v":"Asesoría en administración y sostenibilidad del espacio público"},{"$f":"+'[7]conmutador Nov'!P88","v":"Asesoría en temas de espacio público"},{"$f":"+'[7]conmutador Nov'!Q88","v":"Solicita asesoría para administración de parqueadero en su localidad"},{"$f":"+'[7]conmutador Nov'!R88","v":"Atención al ciudadano"},{"$f":"+'[7]conmutador Nov'!S88","v":"Ciudadano"},"11 Suba"]
[218,2022,"NOVIEMBRE",{"$f":"+'[7]conmutador Nov'!B89","v":"2022-11-11"},{"$f":"+'[7]conmutador Nov'!C89","v":"10:13:00"},{"$f":"+'[7]conmutador Nov'!D89","v":"JANETH REDONDO"},"TELEFÓNICO",{"$f":"+'[7]conmutador Nov'!E89","v":"Conmutador"},"Sin datos",{"$f":"+'[7]conmutador Nov'!J89","v":"Ciudadanía"},{"$f":"+'[7]conmutador Nov'!G89","v":"SERGIO CRUZ"},{"$f":"+[7]!Tabla1[[#This Row],[GRUPO DE VALOR]]","v":"Ciudadanía"},{"$f":"+[7]!Tabla1[[#This Row],[NOMBRE DEL GRUPO DE VALOR]]","v":"SERGIO CRUZ"},{"$f":"+'[7]conmutador Nov'!K89","v":"Femenino"},{"$f":"+'[7]conmutador Nov'!L89","v":"Mujer"},"Sin datos","Sin datos","Sin datos","Sin datos",{"$f":"+'[7]conmutador Nov'!N89","v":"Consulta"},{"$f":"+'[7]conmutador Nov'!O89","v":"Consulta general"},{"$f":"+'[7]conmutador Nov'!P89","v":"Transferencia de llamada"},{"$f":"+'[7]conmutador Nov'!Q89","v":"Transferencia de llamada a Módulo 152"},{"$f":"+'[7]conmutador Nov'!R89","v":"Atención al ciudadano"},{"$f":"+'[7]conmutador Nov'!S89","v":"Ciudadano"},"08 Kennedy"]
[219,2022,"NOVIEMBRE",{"$f":"+'[7]conmutador Nov'!B90","v":"2022-11-11"},{"$f":"+'[7]conmutador Nov'!C90","v":"11:22:00"},{"$f":"+'[7]conmutador Nov'!D90","v":"JANETH REDONDO"},"TELEFÓNICO",{"$f":"+'[7]conmutador Nov'!E90","v":"Conmutador"},"Sin datos",{"$f":"+'[7]conmutador Nov'!J90","v":"Ciudadanía"},{"$f":"+'[7]conmutador Nov'!G90","v":"DANNY PINEDA"},{"$f":"+[7]!Tabla1[[#This Row],[GRUPO DE VALOR]]","v":"Ciudadanía"},{"$f":"+[7]!Tabla1[[#This Row],[NOMBRE DEL GRUPO DE VALOR]]","v":"DANNY PINEDA"},{"$f":"+'[7]conmutador Nov'!K90","v":"Femenino"},{"$f":"+'[7]conmutador Nov'!L90","v":"Mujer"},"Sin datos","Sin datos","Sin datos","Sin datos",{"$f":"+'[7]conmutador Nov'!N90","v":"Consulta"},{"$f":"+'[7]conmutador Nov'!O90","v":"Asesoría en administración y sostenibilidad del espacio público"},{"$f":"+'[7]conmutador Nov'!P90","v":"Asesoría en temas de espacio público"},{"$f":"+'[7]conmutador Nov'!Q90","v":"Llamada reiterativa"},{"$f":"+'[7]conmutador Nov'!R90","v":"Atención al ciudadano"},{"$f":"+'[7]conmutador Nov'!S90","v":"Ciudadano"},"11 Suba"]
[220,2022,"NOVIEMBRE",{"$f":"+'[7]conmutador Nov'!B91","v":"2022-11-11"},{"$f":"+'[7]conmutador Nov'!C91","v":"13:06:00"},{"$f":"+'[7]conmutador Nov'!D91","v":"JANETH REDONDO"},"TELEFÓNICO",{"$f":"+'[7]conmutador Nov'!E91","v":"Conmutador"},"Sin datos",{"$f":"+'[7]conmutador Nov'!J91","v":"Ciudadanía"},{"$f":"+'[7]conmutador Nov'!G91","v":"OSCAR PEREZ"},{"$f":"+[7]!Tabla1[[#This Row],[GRUPO DE VALOR]]","v":"Ciudadanía"},{"$f":"+[7]!Tabla1[[#This Row],[NOMBRE DEL GRUPO DE VALOR]]","v":"OSCAR PEREZ"},{"$f":"+'[7]conmutador Nov'!K91","v":"Masculino"},{"$f":"+'[7]conmutador Nov'!L91","v":"Hombre "},"Sin datos","Sin datos","Sin datos","Sin datos",{"$f":"+'[7]conmutador Nov'!N91","v":"Consulta"},{"$f":"+'[7]conmutador Nov'!O91","v":"Consulta general"},{"$f":"+'[7]conmutador Nov'!P91","v":"Sin información de fondo"},{"$f":"+'[7]conmutador Nov'!Q91","v":"Sin información de fondo"},{"$f":"+'[7]conmutador Nov'!R91","v":"Atención al ciudadano"},{"$f":"+'[7]conmutador Nov'!S91","v":"Ciudadano"},{"$f":"+'[7]conmutador Nov'!T91","v":"No Registra"}]
[221,2022,"NOVIEMBRE",{"$f":"+'[7]conmutador Nov'!B92","v":"2022-11-11"},{"$f":"+'[7]conmutador Nov'!C92","v":"15:02:00"},{"$f":"+'[7]conmutador Nov'!D92","v":"JANETH REDONDO"},"TELEFÓNICO",{"$f":"+'[7]conmutador Nov'!E92","v":"Conmutador"},"Sin datos",{"$f":"+'[7]conmutador Nov'!J92","v":"Ciudadanía"},{"$f":"+'[7]conmutador Nov'!G92","v":"LUZ ESTELA LIZARAZO"},{"$f":"+[7]!Tabla1[[#This Row],[GRUPO DE VALOR]]","v":"Ciudadanía"},{"$f":"+[7]!Tabla1[[#This Row],[NOMBRE DEL GRUPO DE VALOR]]","v":"LUZ ESTELA LIZARAZO"},{"$f":"+'[7]conmutador Nov'!K92","v":"Femenino"},{"$f":"+'[7]conmutador Nov'!L92","v":"Mujer"},"Sin datos","Sin datos","Sin datos","Sin datos",{"$f":"+'[7]conmutador Nov'!N92","v":"Consulta"},{"$f":"+'[7]conmutador Nov'!O92","v":"Consulta general"},{"$f":"+'[7]conmutador Nov'!P92","v":"Consulta radicado"},{"$f":"+'[7]conmutador Nov'!Q92","v":"Consulta radicado 20224000242892"},{"$f":"+'[7]conmutador Nov'!R92","v":"Atención al ciudadano"},{"$f":"+'[7]conmutador Nov'!S92","v":"Ciudadano"},"11 Suba"]
[222,2022,"NOVIEMBRE",{"$f":"+'[7]conmutador Nov'!B93","v":"2022-11-11"},{"$f":"+'[7]conmutador Nov'!C93","v":"15:04:00"},{"$f":"+'[7]conmutador Nov'!D93","v":"JANETH REDONDO"},"TELEFÓNICO",{"$f":"+'[7]conmutador Nov'!E93","v":"Conmutador"},"Sin datos","Entidades y Organismos Distritales",{"$f":"+'[7]conmutador Nov'!G93","v":"OLGA SANCHEZ"},"Entidades y Organismos Distritales",{"$f":"+[7]!Tabla1[[#This Row],[NOMBRE DEL GRUPO DE VALOR]]","v":"OLGA SANCHEZ"},{"$f":"+'[7]conmutador Nov'!K93","v":"Femenino"},{"$f":"+'[7]conmutador Nov'!L93","v":"Mujer"},"Sin datos","Sin datos","Sin datos","Sin datos",{"$f":"+'[7]conmutador Nov'!N93","v":"Consulta"},{"$f":"+'[7]conmutador Nov'!O93","v":"Consulta general"},{"$f":"+'[7]conmutador Nov'!P93","v":"Transferencia de llamada"},{"$f":"+'[7]conmutador Nov'!Q93","v":"Transferencia de llamada a SRI"},{"$f":"+'[7]conmutador Nov'!R93","v":"Atención al ciudadano"},{"$f":"+'[7]conmutador Nov'!S93","v":"Ciudadano"},{"$f":"+'[7]conmutador Nov'!T93","v":"No Registra"}]
[223,2022,"NOVIEMBRE",{"$f":"+'[7]conmutador Nov'!B94","v":"2022-11-11"},{"$f":"+'[7]conmutador Nov'!C94","v":"15:16:00"},{"$f":"+'[7]conmutador Nov'!D94","v":"JANETH REDONDO"},"TELEFÓNICO",{"$f":"+'[7]conmutador Nov'!E94","v":"Conmutador"},"Sin datos",{"$f":"+'[7]conmutador Nov'!J94","v":"Ciudadanía"},{"$f":"+'[7]conmutador Nov'!G94","v":"JAIRO APONTE"},{"$f":"+[7]!Tabla1[[#This Row],[GRUPO DE VALOR]]","v":"Ciudadanía"},{"$f":"+[7]!Tabla1[[#This Row],[NOMBRE DEL GRUPO DE VALOR]]","v":"JAIRO APONTE"},{"$f":"+'[7]conmutador Nov'!K94","v":"Masculino"},{"$f":"+'[7]conmutador Nov'!L94","v":"Hombre "},"Sin datos","Sin datos","Sin datos","Sin datos",{"$f":"+'[7]conmutador Nov'!N94","v":"Consulta"},{"$f":"+'[7]conmutador Nov'!O94","v":"Consulta general"},{"$f":"+'[7]conmutador Nov'!P94","v":"Transferencia de llamada"},{"$f":"+'[7]conmutador Nov'!Q94","v":"Transferencia de llamada a SAI"},{"$f":"+'[7]conmutador Nov'!R94","v":"Atención al ciudadano"},{"$f":"+'[7]conmutador Nov'!S94","v":"Ciudadano"},"08 Kennedy"]
[224,2022,"NOVIEMBRE",{"$f":"+'[7]conmutador Nov'!B95","v":"2022-11-11"},{"$f":"+'[7]conmutador Nov'!C95","v":"15:38:00"},{"$f":"+'[7]conmutador Nov'!D95","v":"JANETH REDONDO"},"TELEFÓNICO",{"$f":"+'[7]conmutador Nov'!E95","v":"Conmutador"},"Sin datos",{"$f":"+'[7]conmutador Nov'!J95","v":"Ciudadanía"},{"$f":"+'[7]conmutador Nov'!G95","v":"RICARDO BELLO"},{"$f":"+[7]!Tabla1[[#This Row],[GRUPO DE VALOR]]","v":"Ciudadanía"},{"$f":"+[7]!Tabla1[[#This Row],[NOMBRE DEL GRUPO DE VALOR]]","v":"RICARDO BELLO"},{"$f":"+'[7]conmutador Nov'!K95","v":"Masculino"},{"$f":"+'[7]conmutador Nov'!L95","v":"Hombre "},"Sin datos","Sin datos","Sin datos","Sin datos",{"$f":"+'[7]conmutador Nov'!N95","v":"Consulta"},{"$f":"+'[7]conmutador Nov'!O95","v":"Consulta general"},{"$f":"+'[7]conmutador Nov'!P95","v":"Transferencia de llamada"},{"$f":"+'[7]conmutador Nov'!Q95","v":"Transferencia de llamada a Registro"},{"$f":"+'[7]conmutador Nov'!R95","v":"Atención al ciudadano"},{"$f":"+'[7]conmutador Nov'!S95","v":"Ciudadano"},"09 Fontibón"]
[225,2022,"NOVIEMBRE",{"$f":"+'[7]conmutador Nov'!B96","v":"2022-11-11"},{"$f":"+'[7]conmutador Nov'!C96","v":"16:00:00"},{"$f":"+'[7]conmutador Nov'!D96","v":"JANETH REDONDO"},"TELEFÓNICO",{"$f":"+'[7]conmutador Nov'!E96","v":"Conmutador"},"Sin datos",{"$f":"+'[7]conmutador Nov'!J96","v":"Ciudadanía"},{"$f":"+'[7]conmutador Nov'!G96","v":"AURA DE GÓMEZ"},{"$f":"+[7]!Tabla1[[#This Row],[GRUPO DE VALOR]]","v":"Ciudadanía"},{"$f":"+[7]!Tabla1[[#This Row],[NOMBRE DEL GRUPO DE VALOR]]","v":"AURA DE GÓMEZ"},{"$f":"+'[7]conmutador Nov'!K96","v":"Femenino"},{"$f":"+'[7]conmutador Nov'!L96","v":"Mujer"},"Sin datos","Sin datos","Sin datos","Sin datos",{"$f":"+'[7]conmutador Nov'!N96","v":"Consulta"},{"$f":"+'[7]conmutador Nov'!O96","v":"Consulta general"},{"$f":"+'[7]conmutador Nov'!P96","v":"Transferencia de llamada"},{"$f":"+'[7]conmutador Nov'!Q96","v":"Transferencia de llamada a SRI"},{"$f":"+'[7]conmutador Nov'!R96","v":"Atención al ciudadano"},{"$f":"+'[7]conmutador Nov'!S96","v":"Ciudadano"},"08 Kennedy"]
[226,2022,"NOVIEMBRE",{"$f":"+'[7]conmutador Nov'!B97","v":"2022-11-15"},{"$f":"+'[7]conmutador Nov'!C97","v":"09:03:00"},{"$f":"+'[7]conmutador Nov'!D97","v":"JANETH REDONDO"},"TELEFÓNICO",{"$f":"+'[7]conmutador Nov'!E97","v":"Conmutador"},"Sin datos",{"$f":"+'[7]conmutador Nov'!J97","v":"Ciudadanía"},{"$f":"+'[7]conmutador Nov'!G97","v":"ANGELICA GUERRERO"},{"$f":"+[7]!Tabla1[[#This Row],[GRUPO DE VALOR]]","v":"Ciudadanía"},{"$f":"+[7]!Tabla1[[#This Row],[NOMBRE DEL GRUPO DE VALOR]]","v":"ANGELICA GUERRERO"},{"$f":"+'[7]conmutador Nov'!K97","v":"Femenino"},{"$f":"+'[7]conmutador Nov'!L97","v":"Mujer"},"Sin datos","Sin datos","Sin datos","Sin datos",{"$f":"+'[7]conmutador Nov'!N97","v":"Consulta"},{"$f":"+'[7]conmutador Nov'!O97","v":"Consulta general"},{"$f":"+'[7]conmutador Nov'!P97","v":"Transferencia de llamada"},{"$f":"+'[7]conmutador Nov'!Q97","v":"Transferencia de llamada a SRI"},{"$f":"+'[7]conmutador Nov'!R97","v":"Atención al ciudadano"},{"$f":"+'[7]conmutador Nov'!S97","v":"Ciudadano"},"02 Chapinero"]
[227,2022,"NOVIEMBRE",{"$f":"+'[7]conmutador Nov'!B98","v":"2022-11-15"},{"$f":"+'[7]conmutador Nov'!C98","v":"09:26:00"},{"$f":"+'[7]conmutador Nov'!D98","v":"JANETH REDONDO"},"TELEFÓNICO",{"$f":"+'[7]conmutador Nov'!E98","v":"Conmutador"},"Sin datos",{"$f":"+'[7]conmutador Nov'!J98","v":"Ciudadanía"},{"$f":"+'[7]conmutador Nov'!G98","v":"CLAUDIA MELO"},{"$f":"+[7]!Tabla1[[#This Row],[GRUPO DE VALOR]]","v":"Ciudadanía"},{"$f":"+[7]!Tabla1[[#This Row],[NOMBRE DEL GRUPO DE VALOR]]","v":"CLAUDIA MELO"},{"$f":"+'[7]conmutador Nov'!K98","v":"Femenino"},{"$f":"+'[7]conmutador Nov'!L98","v":"Mujer"},"Sin datos","Sin datos","Sin datos","Sin datos",{"$f":"+'[7]conmutador Nov'!N98","v":"Consulta"},{"$f":"+'[7]conmutador Nov'!O98","v":"Consulta general"},{"$f":"+'[7]conmutador Nov'!P98","v":"Transferencia de llamada"},{"$f":"+'[7]conmutador Nov'!Q98","v":"Transferencia de llamada a Fondadep"},{"$f":"+'[7]conmutador Nov'!R98","v":"Atención al ciudadano"},{"$f":"+'[7]conmutador Nov'!S98","v":"Ciudadano"},{"$f":"+'[7]conmutador Nov'!T98","v":"No Registra"}]
[228,2022,"NOVIEMBRE",{"$f":"+'[7]conmutador Nov'!B99","v":"2022-11-15"},{"$f":"+'[7]conmutador Nov'!C99","v":"09:29:00"},{"$f":"+'[7]conmutador Nov'!D99","v":"JANETH REDONDO"},"TELEFÓNICO",{"$f":"+'[7]conmutador Nov'!E99","v":"Conmutador"},"Sin datos",{"$f":"+'[7]conmutador Nov'!J99","v":"Ciudadanía"},{"$f":"+'[7]conmutador Nov'!G99","v":"LUZ MARINA PIQUE"},{"$f":"+[7]!Tabla1[[#This Row],[GRUPO DE VALOR]]","v":"Ciudadanía"},{"$f":"+[7]!Tabla1[[#This Row],[NOMBRE DEL GRUPO DE VALOR]]","v":"LUZ MARINA PIQUE"},{"$f":"+'[7]conmutador Nov'!K99","v":"Femenino"},{"$f":"+'[7]conmutador Nov'!L99","v":"Mujer"},"Sin datos","Sin datos","Sin datos","Sin datos",{"$f":"+'[7]conmutador Nov'!N99","v":"Consulta"},{"$f":"+'[7]conmutador Nov'!O99","v":"Asesoría en administración y sostenibilidad del espacio público"},{"$f":"+'[7]conmutador Nov'!P99","v":"Denuncia Cerramiento"},{"$f":"+'[7]conmutador Nov'!Q99","v":"Denuncia cerramiento ilegal con ladrillos."},{"$f":"+'[7]conmutador Nov'!R99","v":"Atención al ciudadano"},{"$f":"+'[7]conmutador Nov'!S99","v":"Ciudadano"},{"$f":"+'[7]conmutador Nov'!T99","v":"19 Ciudad Bolívar"}]
[229,2022,"NOVIEMBRE",{"$f":"+'[7]conmutador Nov'!B100","v":"2022-11-15"},{"$f":"+'[7]conmutador Nov'!C100","v":"10:45:00"},{"$f":"+'[7]conmutador Nov'!D100","v":"JANETH REDONDO"},"TELEFÓNICO",{"$f":"+'[7]conmutador Nov'!E100","v":"Conmutador"},"Sin datos",{"$f":"+'[7]conmutador Nov'!J100","v":"Ciudadanía"},{"$f":"+'[7]conmutador Nov'!G100","v":"DIANA GUERRERO"},{"$f":"+[7]!Tabla1[[#This Row],[GRUPO DE VALOR]]","v":"Ciudadanía"},{"$f":"+[7]!Tabla1[[#This Row],[NOMBRE DEL GRUPO DE VALOR]]","v":"DIANA GUERRERO"},{"$f":"+'[7]conmutador Nov'!K100","v":"Femenino"},{"$f":"+'[7]conmutador Nov'!L100","v":"Mujer"},"Sin datos","Sin datos","Sin datos","Sin datos",{"$f":"+'[7]conmutador Nov'!N100","v":"Consulta"},{"$f":"+'[7]conmutador Nov'!O100","v":"Consulta general"},{"$f":"+'[7]conmutador Nov'!P100","v":"Transferencia de llamada"},{"$f":"+'[7]conmutador Nov'!Q100","v":"Transferencia de llamada a SRI"},{"$f":"+'[7]conmutador Nov'!R100","v":"Atención al ciudadano"},{"$f":"+'[7]conmutador Nov'!S100","v":"Ciudadano"},{"$f":"+'[7]conmutador Nov'!T100","v":"No Registra"}]
[230,2022,"NOVIEMBRE",{"$f":"+'[7]conmutador Nov'!B101","v":"2022-11-15"},{"$f":"+'[7]conmutador Nov'!C101","v":"10:56:00"},{"$f":"+'[7]conmutador Nov'!D101","v":"JANETH REDONDO"},"TELEFÓNICO",{"$f":"+'[7]conmutador Nov'!E101","v":"Conmutador"},"Sin datos",{"$f":"+'[7]conmutador Nov'!J101","v":"Ciudadanía"},{"$f":"+'[7]conmutador Nov'!G101","v":"JUAN ESTEBAN AHUMADA"},{"$f":"+[7]!Tabla1[[#This Row],[GRUPO DE VALOR]]","v":"Ciudadanía"},{"$f":"+[7]!Tabla1[[#This Row],[NOMBRE DEL GRUPO DE VALOR]]","v":"JUAN ESTEBAN AHUMADA"},{"$f":"+'[7]conmutador Nov'!K101","v":"Masculino"},{"$f":"+'[7]conmutador Nov'!L101","v":"Hombre "},"Sin datos","Sin datos","Sin datos","Sin datos",{"$f":"+'[7]conmutador Nov'!N101","v":"Consulta"},{"$f":"+'[7]conmutador Nov'!O101","v":"Asesoría en administración y sostenibilidad del espacio público"},{"$f":"+'[7]conmutador Nov'!P101","v":"Asesoría en temas de espacio público"},{"$f":"+'[7]conmutador Nov'!Q101","v":"Solicita información sobre la actividad económica del FOOD TRUCK"},{"$f":"+'[7]conmutador Nov'!R101","v":"Atención al ciudadano"},{"$f":"+'[7]conmutador Nov'!S101","v":"Ciudadano"},{"$f":"+'[7]conmutador Nov'!T101","v":"10 Engativá"}]
[231,2022,"NOVIEMBRE",{"$f":"+'[7]conmutador Nov'!B102","v":"2022-11-15"},{"$f":"+'[7]conmutador Nov'!C102","v":"11:37:00"},{"$f":"+'[7]conmutador Nov'!D102","v":"JANETH REDONDO"},"TELEFÓNICO",{"$f":"+'[7]conmutador Nov'!E102","v":"Conmutador"},"Sin datos",{"$f":"+'[7]conmutador Nov'!J102","v":"Ciudadanía"},{"$f":"+'[7]conmutador Nov'!G102","v":"YOMARA DIAZ"},{"$f":"+[7]!Tabla1[[#This Row],[GRUPO DE VALOR]]","v":"Ciudadanía"},{"$f":"+[7]!Tabla1[[#This Row],[NOMBRE DEL GRUPO DE VALOR]]","v":"YOMARA DIAZ"},{"$f":"+'[7]conmutador Nov'!K102","v":"Femenino"},{"$f":"+'[7]conmutador Nov'!L102","v":"Mujer"},"Sin datos","Sin datos","Sin datos","Sin datos",{"$f":"+'[7]conmutador Nov'!N102","v":"Consulta"},{"$f":"+'[7]conmutador Nov'!O102","v":"Consulta general"},{"$f":"+'[7]conmutador Nov'!P102","v":"Transferencia de llamada"},{"$f":"+'[7]conmutador Nov'!Q102","v":"Transferencia de llamada a Jurídica"},{"$f":"+'[7]conmutador Nov'!R102","v":"Atención al ciudadano"},{"$f":"+'[7]conmutador Nov'!S102","v":"Ciudadano"},{"$f":"+'[7]conmutador Nov'!T102","v":"No Registra"}]
[232,2022,"NOVIEMBRE",{"$f":"+'[7]conmutador Nov'!B103","v":"2022-11-15"},{"$f":"+'[7]conmutador Nov'!C103","v":"11:55:00"},{"$f":"+'[7]conmutador Nov'!D103","v":"JANETH REDONDO"},"TELEFÓNICO",{"$f":"+'[7]conmutador Nov'!E103","v":"Conmutador"},"Sin datos",{"$f":"+'[7]conmutador Nov'!J103","v":"Ciudadanía"},{"$f":"+'[7]conmutador Nov'!G103","v":"YOLIMA GONZALEZ"},{"$f":"+[7]!Tabla1[[#This Row],[GRUPO DE VALOR]]","v":"Ciudadanía"},{"$f":"+[7]!Tabla1[[#This Row],[NOMBRE DEL GRUPO DE VALOR]]","v":"YOLIMA GONZALEZ"},{"$f":"+'[7]conmutador Nov'!K103","v":"Femenino"},{"$f":"+'[7]conmutador Nov'!L103","v":"Mujer"},"Sin datos","Sin datos","Sin datos","Sin datos",{"$f":"+'[7]conmutador Nov'!N103","v":"Consulta"},{"$f":"+'[7]conmutador Nov'!O103","v":"Consulta general"},{"$f":"+'[7]conmutador Nov'!P103","v":"Transferencia de llamada"},{"$f":"+'[7]conmutador Nov'!Q103","v":"Transferencia de llamada a SRI"},{"$f":"+'[7]conmutador Nov'!R103","v":"Atención al ciudadano"},{"$f":"+'[7]conmutador Nov'!S103","v":"Ciudadano"},"01 Usaquén"]
[233,2022,"NOVIEMBRE",{"$f":"+'[7]conmutador Nov'!B104","v":"2022-11-15"},{"$f":"+'[7]conmutador Nov'!C104","v":"11:59:00"},{"$f":"+'[7]conmutador Nov'!D104","v":"JANETH REDONDO"},"TELEFÓNICO",{"$f":"+'[7]conmutador Nov'!E104","v":"Conmutador"},"Sin datos",{"$f":"+'[7]conmutador Nov'!J104","v":"Ciudadanía"},{"$f":"+'[7]conmutador Nov'!G104","v":"MELQUICIDEC FORERO"},{"$f":"+[7]!Tabla1[[#This Row],[GRUPO DE VALOR]]","v":"Ciudadanía"},{"$f":"+[7]!Tabla1[[#This Row],[NOMBRE DEL GRUPO DE VALOR]]","v":"MELQUICIDEC FORERO"},{"$f":"+'[7]conmutador Nov'!K104","v":"Masculino"},{"$f":"+'[7]conmutador Nov'!L104","v":"Hombre "},"Sin datos","Sin datos","Sin datos","Sin datos",{"$f":"+'[7]conmutador Nov'!N104","v":"Consulta"},{"$f":"+'[7]conmutador Nov'!O104","v":"Asesoría en administración y sostenibilidad del espacio público"},{"$f":"+'[7]conmutador Nov'!P104","v":"Asesoría en temas de espacio público"},{"$f":"+'[7]conmutador Nov'!Q104","v":"Está interesado en participar en la subasta de los inmuebles."},{"$f":"+'[7]conmutador Nov'!R104","v":"Atención al ciudadano"},{"$f":"+'[7]conmutador Nov'!S104","v":"Ciudadano"},"04 San Cristóbal"]
[234,2022,"NOVIEMBRE",{"$f":"+'[7]conmutador Nov'!B105","v":"2022-11-15"},{"$f":"+'[7]conmutador Nov'!C105","v":"13:23:00"},{"$f":"+'[7]conmutador Nov'!D105","v":"JANETH REDONDO"},"TELEFÓNICO",{"$f":"+'[7]conmutador Nov'!E105","v":"Conmutador"},"Sin datos",{"$f":"+'[7]conmutador Nov'!J105","v":"Ciudadanía"},{"$f":"+'[7]conmutador Nov'!G105","v":"PATRICIA OLAYA"},{"$f":"+[7]!Tabla1[[#This Row],[GRUPO DE VALOR]]","v":"Ciudadanía"},{"$f":"+[7]!Tabla1[[#This Row],[NOMBRE DEL GRUPO DE VALOR]]","v":"PATRICIA OLAYA"},{"$f":"+'[7]conmutador Nov'!K105","v":"Masculino"},{"$f":"+'[7]conmutador Nov'!L105","v":"Hombre "},"Sin datos","Sin datos","Sin datos","Sin datos",{"$f":"+'[7]conmutador Nov'!N105","v":"Consulta"},{"$f":"+'[7]conmutador Nov'!O105","v":"Asesoría en administración y sostenibilidad del espacio público"},{"$f":"+'[7]conmutador Nov'!P105","v":"Denuncia ventas informales"},{"$f":"+'[7]conmutador Nov'!Q105","v":"Denuncia ventas informales"},{"$f":"+'[7]conmutador Nov'!R105","v":"Atención al ciudadano"},{"$f":"+'[7]conmutador Nov'!S105","v":"Ciudadano"},"08 Kennedy"]
[235,2022,"NOVIEMBRE",{"$f":"+'[7]conmutador Nov'!B106","v":"2022-11-15"},{"$f":"+'[7]conmutador Nov'!C106","v":"13:34:00"},{"$f":"+'[7]conmutador Nov'!D106","v":"JANETH REDONDO"},"TELEFÓNICO",{"$f":"+'[7]conmutador Nov'!E106","v":"Conmutador"},"Sin datos",{"$f":"+'[7]conmutador Nov'!J106","v":"Ciudadanía"},{"$f":"+'[7]conmutador Nov'!G106","v":"PAOLA RODRIGUEZ"},{"$f":"+[7]!Tabla1[[#This Row],[GRUPO DE VALOR]]","v":"Ciudadanía"},{"$f":"+[7]!Tabla1[[#This Row],[NOMBRE DEL GRUPO DE VALOR]]","v":"PAOLA RODRIGUEZ"},{"$f":"+'[7]conmutador Nov'!K106","v":"Femenino"},{"$f":"+'[7]conmutador Nov'!L106","v":"Mujer"},"Sin datos","Sin datos","Sin datos","Sin datos",{"$f":"+'[7]conmutador Nov'!N106","v":"Consulta"},{"$f":"+'[7]conmutador Nov'!O106","v":"Consulta general"},{"$f":"+'[7]conmutador Nov'!P106","v":"Solicitud de copia"},{"$f":"+'[7]conmutador Nov'!Q106","v":"Solicita información del decreto 040 de 2021"},{"$f":"+'[7]conmutador Nov'!R106","v":"Atención al ciudadano"},{"$f":"+'[7]conmutador Nov'!S106","v":"Ciudadano"},"11 Suba"]
[236,2022,"NOVIEMBRE",{"$f":"+'[7]conmutador Nov'!B107","v":"2022-11-15"},{"$f":"+'[7]conmutador Nov'!C107","v":"14:37:00"},{"$f":"+'[7]conmutador Nov'!D107","v":"JANETH REDONDO"},"TELEFÓNICO",{"$f":"+'[7]conmutador Nov'!E107","v":"Conmutador"},"Sin datos",{"$f":"+'[7]conmutador Nov'!J107","v":"Ciudadanía"},{"$f":"+'[7]conmutador Nov'!G107","v":"XIOMARA CASTELLANO"},{"$f":"+[7]!Tabla1[[#This Row],[GRUPO DE VALOR]]","v":"Ciudadanía"},{"$f":"+[7]!Tabla1[[#This Row],[NOMBRE DEL GRUPO DE VALOR]]","v":"XIOMARA CASTELLANO"},{"$f":"+'[7]conmutador Nov'!K107","v":"Femenino"},{"$f":"+'[7]conmutador Nov'!L107","v":"Mujer"},"Sin datos","Sin datos","Sin datos","Sin datos",{"$f":"+'[7]conmutador Nov'!N107","v":"Consulta"},{"$f":"+'[7]conmutador Nov'!O107","v":"Consulta general"},{"$f":"+'[7]conmutador Nov'!P107","v":"Transferencia de llamada"},{"$f":"+'[7]conmutador Nov'!Q107","v":"Transferencia de llamada a SGC"},{"$f":"+'[7]conmutador Nov'!R107","v":"Atención al ciudadano"},{"$f":"+'[7]conmutador Nov'!S107","v":"Ciudadano"},"01 Usaquén"]
[237,2022,"NOVIEMBRE",{"$f":"+'[7]conmutador Nov'!B108","v":"2022-11-15"},{"$f":"+'[7]conmutador Nov'!C108","v":"14:35:00"},{"$f":"+'[7]conmutador Nov'!D108","v":"JANETH REDONDO"},"TELEFÓNICO",{"$f":"+'[7]conmutador Nov'!E108","v":"Conmutador"},"Sin datos",{"$f":"+'[7]conmutador Nov'!J108","v":"Ciudadanía"},{"$f":"+'[7]conmutador Nov'!G108","v":"YOLIMA GONZALEZ"},{"$f":"+[7]!Tabla1[[#This Row],[GRUPO DE VALOR]]","v":"Ciudadanía"},{"$f":"+[7]!Tabla1[[#This Row],[NOMBRE DEL GRUPO DE VALOR]]","v":"YOLIMA GONZALEZ"},{"$f":"+'[7]conmutador Nov'!K108","v":"Femenino"},{"$f":"+'[7]conmutador Nov'!L108","v":"Mujer"},"Sin datos","Sin datos","Sin datos","Sin datos",{"$f":"+'[7]conmutador Nov'!N108","v":"Consulta"},{"$f":"+'[7]conmutador Nov'!O108","v":"Consulta general"},{"$f":"+'[7]conmutador Nov'!P108","v":"Transferencia de llamada"},{"$f":"+'[7]conmutador Nov'!Q108","v":"Transferencia de llamada a SRI"},{"$f":"+'[7]conmutador Nov'!R108","v":"Atención al ciudadano"},{"$f":"+'[7]conmutador Nov'!S108","v":"Ciudadano"},"01 Usaquén"]
[238,2022,"NOVIEMBRE",{"$f":"+'[7]conmutador Nov'!B109","v":"2022-11-15"},{"$f":"+'[7]conmutador Nov'!C109","v":"15:51:00"},{"$f":"+'[7]conmutador Nov'!D109","v":"JANETH REDONDO"},"TELEFÓNICO",{"$f":"+'[7]conmutador Nov'!E109","v":"Conmutador"},"Sin datos",{"$f":"+'[7]conmutador Nov'!J109","v":"Ciudadanía"},{"$f":"+'[7]conmutador Nov'!G109","v":"MAICKOL GOMEZ"},{"$f":"+[7]!Tabla1[[#This Row],[GRUPO DE VALOR]]","v":"Ciudadanía"},{"$f":"+[7]!Tabla1[[#This Row],[NOMBRE DEL GRUPO DE VALOR]]","v":"MAICKOL GOMEZ"},{"$f":"+'[7]conmutador Nov'!K109","v":"Masculino"},{"$f":"+'[7]conmutador Nov'!L109","v":"Hombre "},"Sin datos","Sin datos","Sin datos","Sin datos",{"$f":"+'[7]conmutador Nov'!N109","v":"Consulta"},{"$f":"+'[7]conmutador Nov'!O109","v":"Consulta general"},{"$f":"+'[7]conmutador Nov'!P109","v":"Transferencia de llamada"},{"$f":"+'[7]conmutador Nov'!Q109","v":"Transferencia de llamada a Dirección"},{"$f":"+'[7]conmutador Nov'!R109","v":"Atención al ciudadano"},{"$f":"+'[7]conmutador Nov'!S109","v":"Ciudadano"},"08 Kennedy"]
[239,2022,"NOVIEMBRE",{"$f":"+'[7]conmutador Nov'!B110","v":"2022-11-15"},{"$f":"+'[7]conmutador Nov'!C110","v":"15:53:00"},{"$f":"+'[7]conmutador Nov'!D110","v":"JANETH REDONDO"},"TELEFÓNICO",{"$f":"+'[7]conmutador Nov'!E110","v":"Conmutador"},"Sin datos",{"$f":"+'[7]conmutador Nov'!J110","v":"Ciudadanía"},{"$f":"+'[7]conmutador Nov'!G110","v":"JAVIER CASTRO"},{"$f":"+[7]!Tabla1[[#This Row],[GRUPO DE VALOR]]","v":"Ciudadanía"},{"$f":"+[7]!Tabla1[[#This Row],[NOMBRE DEL GRUPO DE VALOR]]","v":"JAVIER CASTRO"},{"$f":"+'[7]conmutador Nov'!K110","v":"Masculino"},{"$f":"+'[7]conmutador Nov'!L110","v":"Hombre "},"Sin datos","Sin datos","Sin datos","Sin datos",{"$f":"+'[7]conmutador Nov'!N110","v":"Consulta"},{"$f":"+'[7]conmutador Nov'!O110","v":"Consulta general"},{"$f":"+'[7]conmutador Nov'!P110","v":"Transferencia de llamada"},{"$f":"+'[7]conmutador Nov'!Q110","v":"Transferencia de llamada a Dirección"},{"$f":"+'[7]conmutador Nov'!R110","v":"Atención al ciudadano"},{"$f":"+'[7]conmutador Nov'!S110","v":"Ciudadano"},{"$f":"+'[7]conmutador Nov'!T110","v":"10 Engativá"}]
[240,2022,"NOVIEMBRE",{"$f":"+'[7]conmutador Nov'!B111","v":"2022-11-16"},{"$f":"+'[7]conmutador Nov'!C111","v":"10:40:00"},{"$f":"+'[7]conmutador Nov'!D111","v":"PAULA ALEJANDRA MARTÍNEZ CALDERÓN "},"TELEFÓNICO",{"$f":"+'[7]conmutador Nov'!E111","v":"Conmutador"},"Sin datos",{"$f":"+'[7]conmutador Nov'!J111","v":"Ciudadanía"},{"$f":"+'[7]conmutador Nov'!G111","v":"JORGE OCHOA"},{"$f":"+[7]!Tabla1[[#This Row],[GRUPO DE VALOR]]","v":"Ciudadanía"},{"$f":"+[7]!Tabla1[[#This Row],[NOMBRE DEL GRUPO DE VALOR]]","v":"JORGE OCHOA"},{"$f":"+'[7]conmutador Nov'!K111","v":"Masculino"},{"$f":"+'[7]conmutador Nov'!L111","v":"Hombre "},"Sin datos","Sin datos","Sin datos","Sin datos",{"$f":"+'[7]conmutador Nov'!N111","v":"Asesoría"},{"$f":"+'[7]conmutador Nov'!O111","v":"Asesoría en administración y sostenibilidad del espacio público"},{"$f":"+'[7]conmutador Nov'!P111","v":"Asesoría en temas de espacio público"},{"$f":"+'[7]conmutador Nov'!Q111","v":"Consulta sobre Convenio Solidario CL 40G 74D 67 SUR Urbanización Nuevo Timiza"},{"$f":"+'[7]conmutador Nov'!R111","v":"Atención al ciudadano"},{"$f":"+'[7]conmutador Nov'!S111","v":"Ciudadano"},"08 Kennedy"]
[241,2022,"NOVIEMBRE",{"$f":"+'[7]conmutador Nov'!B112","v":"2022-11-16"},{"$f":"+'[7]conmutador Nov'!C112","v":"11:25:00"},{"$f":"+'[7]conmutador Nov'!D112","v":"PAULA ALEJANDRA MARTÍNEZ CALDERÓN "},"TELEFÓNICO",{"$f":"+'[7]conmutador Nov'!E112","v":"Conmutador"},"Sin datos",{"$f":"+'[7]conmutador Nov'!J112","v":"Ciudadanía"},{"$f":"+'[7]conmutador Nov'!G112","v":"JORGE LUIS DUARTE"},{"$f":"+[7]!Tabla1[[#This Row],[GRUPO DE VALOR]]","v":"Ciudadanía"},{"$f":"+[7]!Tabla1[[#This Row],[NOMBRE DEL GRUPO DE VALOR]]","v":"JORGE LUIS DUARTE"},{"$f":"+'[7]conmutador Nov'!K112","v":"Masculino"},{"$f":"+'[7]conmutador Nov'!L112","v":"Hombre "},"Sin datos","Sin datos","Sin datos","Sin datos",{"$f":"+'[7]conmutador Nov'!N112","v":"Consulta"},{"$f":"+'[7]conmutador Nov'!O112","v":"Consulta general"},{"$f":"+'[7]conmutador Nov'!P112","v":"Competencia otras entidades"},{"$f":"+'[7]conmutador Nov'!Q112","v":"Consulta sobre predio CRA 13 79A 49 SUR - Dirección Técnica de Urbanizaciones y Titulación Caja de Vivienda Popular"},{"$f":"+'[7]conmutador Nov'!R112","v":"Atención al ciudadano"},{"$f":"+'[7]conmutador Nov'!S112","v":"Ciudadano"},{"$f":"+'[7]conmutador Nov'!T112","v":"19 Ciudad Bolívar"}]
[242,2022,"NOVIEMBRE",{"$f":"+'[7]conmutador Nov'!B113","v":"2022-11-16"},{"$f":"+'[7]conmutador Nov'!C113","v":"1903-02-13T11:40:00"},"LILIANA AGUILAR PUENTES","TELEFÓNICO",{"$f":"+'[7]conmutador Nov'!E113","v":"Conmutador"},"Sin datos",{"$f":"+'[7]conmutador Nov'!J113","v":"Ciudadanía"},{"$f":"+'[7]conmutador Nov'!G113","v":"JONATHAN OSORIO"},{"$f":"+[7]!Tabla1[[#This Row],[GRUPO DE VALOR]]","v":"Ciudadanía"},{"$f":"+[7]!Tabla1[[#This Row],[NOMBRE DEL GRUPO DE VALOR]]","v":"JONATHAN OSORIO"},{"$f":"+'[7]conmutador Nov'!K113","v":"Masculino"},{"$f":"+'[7]conmutador Nov'!L113","v":"Hombre "},"Sin datos","Sin datos","Sin datos","Sin datos",{"$f":"+'[7]conmutador Nov'!N113","v":"Consulta"},{"$f":"+'[7]conmutador Nov'!O113","v":"Asesoría en administración y sostenibilidad del espacio público"},{"$f":"+'[7]conmutador Nov'!P113","v":"Competencia otras entidades"},{"$f":"+'[7]conmutador Nov'!Q113","v":"Consulta sobre plano residencial"},{"$f":"+'[7]conmutador Nov'!R113","v":"Atención al ciudadano"},{"$f":"+'[7]conmutador Nov'!S113","v":"Ciudadano"},{"$f":"+'[7]conmutador Nov'!T113","v":"No Registra"}]
[243,2022,"NOVIEMBRE",{"$f":"+'[7]conmutador Nov'!B114","v":"2022-11-16"},{"$f":"+'[7]conmutador Nov'!C114","v":"11:45:00"},{"$f":"+'[7]conmutador Nov'!D114","v":"PAULA ALEJANDRA MARTÍNEZ CALDERÓN "},"TELEFÓNICO",{"$f":"+'[7]conmutador Nov'!E114","v":"Conmutador"},"Sin datos",{"$f":"+'[7]conmutador Nov'!J114","v":"Ciudadanía"},{"$f":"+'[7]conmutador Nov'!G114","v":"MARÍA TERESA NIVIA"},{"$f":"+[7]!Tabla1[[#This Row],[GRUPO DE VALOR]]","v":"Ciudadanía"},{"$f":"+[7]!Tabla1[[#This Row],[NOMBRE DEL GRUPO DE VALOR]]","v":"MARÍA TERESA NIVIA"},{"$f":"+'[7]conmutador Nov'!K114","v":"Femenino"},{"$f":"+'[7]conmutador Nov'!L114","v":"Mujer"},"Sin datos","Sin datos","Sin datos","Sin datos",{"$f":"+'[7]conmutador Nov'!N114","v":"Consulta"},{"$f":"+'[7]conmutador Nov'!O114","v":"Consulta general"},{"$f":"+'[7]conmutador Nov'!P114","v":"Consulta radicado"},{"$f":"+'[7]conmutador Nov'!Q114","v":"Consulta radicado 202210169821"},{"$f":"+'[7]conmutador Nov'!R114","v":"Atención al ciudadano"},{"$f":"+'[7]conmutador Nov'!S114","v":"Ciudadano"},{"$f":"+'[7]conmutador Nov'!T114","v":"No Registra"}]
[244,2022,"NOVIEMBRE",{"$f":"+'[7]conmutador Nov'!B115","v":"2022-11-16"},{"$f":"+'[7]conmutador Nov'!C115","v":"13:01:00"},{"$f":"+'[7]conmutador Nov'!D115","v":"PAULA ALEJANDRA MARTÍNEZ CALDERÓN "},"TELEFÓNICO",{"$f":"+'[7]conmutador Nov'!E115","v":"Conmutador"},"Sin datos",{"$f":"+'[7]conmutador Nov'!J115","v":"Ciudadanía"},{"$f":"+'[7]conmutador Nov'!G115","v":"SEBASTIAN ARDILA"},{"$f":"+[7]!Tabla1[[#This Row],[GRUPO DE VALOR]]","v":"Ciudadanía"},{"$f":"+[7]!Tabla1[[#This Row],[NOMBRE DEL GRUPO DE VALOR]]","v":"SEBASTIAN ARDILA"},{"$f":"+'[7]conmutador Nov'!K115","v":"Masculino"},{"$f":"+'[7]conmutador Nov'!L115","v":"Hombre "},"Sin datos","Sin datos","Sin datos","Sin datos",{"$f":"+'[7]conmutador Nov'!N115","v":"Asesoría"},{"$f":"+'[7]conmutador Nov'!O115","v":"Asesoría en administración y sostenibilidad del espacio público"},{"$f":"+'[7]conmutador Nov'!P115","v":"Denuncia Cerramiento"},{"$f":"+'[7]conmutador Nov'!Q115","v":"Denuncia parqueadero ilegal CL 193 8 27 RUPI 281-7"},{"$f":"+'[7]conmutador Nov'!R115","v":"Atención al ciudadano"},{"$f":"+'[7]conmutador Nov'!S115","v":"Ciudadano"},"01 Usaquén"]
[245,2022,"NOVIEMBRE",{"$f":"+'[7]conmutador Nov'!B116","v":"2022-11-16"},{"$f":"+'[7]conmutador Nov'!C116","v":"13:32:00"},{"$f":"+'[7]conmutador Nov'!D116","v":"PAULA ALEJANDRA MARTÍNEZ CALDERÓN "},"TELEFÓNICO",{"$f":"+'[7]conmutador Nov'!E116","v":"Conmutador"},"Sin datos",{"$f":"+'[7]conmutador Nov'!J116","v":"Ciudadanía"},{"$f":"+'[7]conmutador Nov'!G116","v":"ERNESTO ESCOBAR DUARTE"},{"$f":"+[7]!Tabla1[[#This Row],[GRUPO DE VALOR]]","v":"Ciudadanía"},{"$f":"+[7]!Tabla1[[#This Row],[NOMBRE DEL GRUPO DE VALOR]]","v":"ERNESTO ESCOBAR DUARTE"},{"$f":"+'[7]conmutador Nov'!K116","v":"Masculino"},{"$f":"+'[7]conmutador Nov'!L116","v":"Hombre "},"Sin datos","Sin datos","Sin datos","Sin datos",{"$f":"+'[7]conmutador Nov'!N116","v":"Consulta"},{"$f":"+'[7]conmutador Nov'!O116","v":"Consulta general"},{"$f":"+'[7]conmutador Nov'!P116","v":"Competencia otras entidades"},{"$f":"+'[7]conmutador Nov'!Q116","v":"Obras con saldo pedagogico liderado por el IDPAC y Secretaría de Hábitat"},{"$f":"+'[7]conmutador Nov'!R116","v":"Atención al ciudadano"},{"$f":"+'[7]conmutador Nov'!S116","v":"Ciudadano"},{"$f":"+'[7]conmutador Nov'!T116","v":"18 Rafael Uribe Uribe"}]
[246,2022,"NOVIEMBRE",{"$f":"+'[7]conmutador Nov'!B117","v":"2022-11-16"},{"$f":"+'[7]conmutador Nov'!C117","v":"13:55:00"},{"$f":"+'[7]conmutador Nov'!D117","v":"PAULA ALEJANDRA MARTÍNEZ CALDERÓN "},"TELEFÓNICO",{"$f":"+'[7]conmutador Nov'!E117","v":"Conmutador"},"Sin datos",{"$f":"+'[7]conmutador Nov'!J117","v":"Ciudadanía"},{"$f":"+'[7]conmutador Nov'!G117","v":"DAYANNA"},{"$f":"+[7]!Tabla1[[#This Row],[GRUPO DE VALOR]]","v":"Ciudadanía"},{"$f":"+[7]!Tabla1[[#This Row],[NOMBRE DEL GRUPO DE VALOR]]","v":"DAYANNA"},{"$f":"+'[7]conmutador Nov'!K117","v":"Femenino"},{"$f":"+'[7]conmutador Nov'!L117","v":"Mujer"},"Sin datos","Sin datos","Sin datos","Sin datos",{"$f":"+'[7]conmutador Nov'!N117","v":"Consulta"},{"$f":"+'[7]conmutador Nov'!O117","v":"Incorporación y entrega de las áreas de cesión a favor del municipio"},{"$f":"+'[7]conmutador Nov'!P117","v":"Desempeño de la entidad"},{"$f":"+'[7]conmutador Nov'!Q117","v":"Permiso Sistema Único para el Manejo y Aprovechamiento del Espacio Público -SUMA cambio de clave"},{"$f":"+'[7]conmutador Nov'!R117","v":"Trasladar"},{"$f":"+'[7]conmutador Nov'!S117","v":"Atención al Ciudadano"},{"$f":"+'[7]conmutador Nov'!T117","v":"No Registra"}]
[247,2022,"NOVIEMBRE",{"$f":"+'[7]conmutador Nov'!B118","v":"2022-11-16"},{"$f":"+'[7]conmutador Nov'!C118","v":"14:54:00"},{"$f":"+'[7]conmutador Nov'!D118","v":"PAULA ALEJANDRA MARTÍNEZ CALDERÓN "},"TELEFÓNICO",{"$f":"+'[7]conmutador Nov'!E118","v":"Conmutador"},"Sin datos",{"$f":"+'[7]conmutador Nov'!J118","v":"Ciudadanía"},{"$f":"+'[7]conmutador Nov'!G118","v":"DAVID NAVARRO"},{"$f":"+[7]!Tabla1[[#This Row],[GRUPO DE VALOR]]","v":"Ciudadanía"},{"$f":"+[7]!Tabla1[[#This Row],[NOMBRE DEL GRUPO DE VALOR]]","v":"DAVID NAVARRO"},{"$f":"+'[7]conmutador Nov'!K118","v":"Masculino"},{"$f":"+'[7]conmutador Nov'!L118","v":"Hombre "},"Sin datos","Sin datos","Sin datos","Sin datos",{"$f":"+'[7]conmutador Nov'!N118","v":"Consulta"},{"$f":"+'[7]conmutador Nov'!O118","v":"Consulta general"},{"$f":"+'[7]conmutador Nov'!P118","v":"Transferencia de llamada"},{"$f":"+'[7]conmutador Nov'!Q118","v":"Transferencia de llamada a Sistemas"},{"$f":"+'[7]conmutador Nov'!R118","v":"Trasladar"},{"$f":"+'[7]conmutador Nov'!S118","v":"Atención al Ciudadano"},{"$f":"+'[7]conmutador Nov'!T118","v":"No Registra"}]
[248,2022,"NOVIEMBRE",{"$f":"+'[7]conmutador Nov'!B119","v":"2022-11-16"},{"$f":"+'[7]conmutador Nov'!C119","v":"16:01:00"},{"$f":"+'[7]conmutador Nov'!D119","v":"PAULA ALEJANDRA MARTÍNEZ CALDERÓN "},"TELEFÓNICO",{"$f":"+'[7]conmutador Nov'!E119","v":"Conmutador"},"Sin datos",{"$f":"+'[7]conmutador Nov'!J119","v":"Ciudadanía"},{"$f":"+'[7]conmutador Nov'!G119","v":"PAOLA GARCÍA"},{"$f":"+[7]!Tabla1[[#This Row],[GRUPO DE VALOR]]","v":"Ciudadanía"},{"$f":"+[7]!Tabla1[[#This Row],[NOMBRE DEL GRUPO DE VALOR]]","v":"PAOLA GARCÍA"},{"$f":"+'[7]conmutador Nov'!K119","v":"Masculino"},{"$f":"+'[7]conmutador Nov'!L119","v":"Hombre "},"Sin datos","Sin datos","Sin datos","Sin datos",{"$f":"+'[7]conmutador Nov'!N119","v":"Consulta"},{"$f":"+'[7]conmutador Nov'!O119","v":"Incorporación y entrega de las áreas de cesión a favor del municipio"},{"$f":"+'[7]conmutador Nov'!P119","v":"Cabida y linderos"},{"$f":"+'[7]conmutador Nov'!Q119","v":"Verificación antejardín"},{"$f":"+'[7]conmutador Nov'!R119","v":"Atención al ciudadano"},{"$f":"+'[7]conmutador Nov'!S119","v":"Ciudadano"},"07 Bosa"]
[249,2022,"NOVIEMBRE",{"$f":"+'[7]conmutador Nov'!B120","v":"2022-11-17"},{"$f":"+'[7]conmutador Nov'!C120","v":"08:58:00"},{"$f":"+'[7]conmutador Nov'!D120","v":"PAULA ALEJANDRA MARTÍNEZ CALDERÓN "},"TELEFÓNICO",{"$f":"+'[7]conmutador Nov'!E120","v":"Conmutador"},"Sin datos",{"$f":"+'[7]conmutador Nov'!J120","v":"Ciudadanía"},{"$f":"+'[7]conmutador Nov'!G120","v":"JOHANNA"},{"$f":"+[7]!Tabla1[[#This Row],[GRUPO DE VALOR]]","v":"Ciudadanía"},{"$f":"+[7]!Tabla1[[#This Row],[NOMBRE DEL GRUPO DE VALOR]]","v":"JOHANNA"},{"$f":"+'[7]conmutador Nov'!K120","v":"Femenino"},{"$f":"+'[7]conmutador Nov'!L120","v":"Mujer"},"Sin datos","Sin datos","Sin datos","Sin datos",{"$f":"+'[7]conmutador Nov'!N120","v":"Asesoría"},{"$f":"+'[7]conmutador Nov'!O120","v":"Asesoría en administración y sostenibilidad del espacio público"},{"$f":"+'[7]conmutador Nov'!P120","v":"Denuncia Cerramiento"},{"$f":"+'[7]conmutador Nov'!Q120","v":"Denuncia cerramiento Calle 8A BIS 94 23"},{"$f":"+'[7]conmutador Nov'!R120","v":"Atención al ciudadano"},{"$f":"+'[7]conmutador Nov'!S120","v":"Ciudadano"},"08 Kennedy"]
[250,2022,"NOVIEMBRE",{"$f":"+'[7]conmutador Nov'!B121","v":"2022-11-17"},{"$f":"+'[7]conmutador Nov'!C121","v":"10:44:00"},{"$f":"+'[7]conmutador Nov'!D121","v":"PAULA ALEJANDRA MARTÍNEZ CALDERÓN "},"TELEFÓNICO",{"$f":"+'[7]conmutador Nov'!E121","v":"Conmutador"},"Sin datos",{"$f":"+'[7]conmutador Nov'!J121","v":"Anónimo"},{"$f":"+'[7]conmutador Nov'!G121","v":"ANÓNIMO"},{"$f":"+[7]!Tabla1[[#This Row],[GRUPO DE VALOR]]","v":"Anónimo"},{"$f":"+[7]!Tabla1[[#This Row],[NOMBRE DEL GRUPO DE VALOR]]","v":"ANÓNIMO"},{"$f":"+'[7]conmutador Nov'!K121","v":"Femenino"},{"$f":"+'[7]conmutador Nov'!L121","v":"Mujer"},"Sin datos","Sin datos","Sin datos","Sin datos",{"$f":"+'[7]conmutador Nov'!N121","v":"Consulta"},{"$f":"+'[7]conmutador Nov'!O121","v":"Asesoría en administración y sostenibilidad del espacio público"},{"$f":"+'[7]conmutador Nov'!P121","v":"Competencia otras entidades"},{"$f":"+'[7]conmutador Nov'!Q121","v":"Concepto técnico de Bomberos, llamada a línea equivocada"},{"$f":"+'[7]conmutador Nov'!R121","v":"Atención al ciudadano"},{"$f":"+'[7]conmutador Nov'!S121","v":"Ciudadano"},{"$f":"+'[7]conmutador Nov'!T121","v":"10 Engativá"}]
[251,2022,"NOVIEMBRE",{"$f":"+'[7]conmutador Nov'!B122","v":"2022-11-17"},{"$f":"+'[7]conmutador Nov'!C122","v":"11:40:00"},{"$f":"+'[7]conmutador Nov'!D122","v":"PAULA ALEJANDRA MARTÍNEZ CALDERÓN "},"TELEFÓNICO",{"$f":"+'[7]conmutador Nov'!E122","v":"Conmutador"},"Sin datos",{"$f":"+'[7]conmutador Nov'!J122","v":"Ciudadanía"},{"$f":"+'[7]conmutador Nov'!G122","v":"JULIETH"},{"$f":"+[7]!Tabla1[[#This Row],[GRUPO DE VALOR]]","v":"Ciudadanía"},{"$f":"+[7]!Tabla1[[#This Row],[NOMBRE DEL GRUPO DE VALOR]]","v":"JULIETH"},{"$f":"+'[7]conmutador Nov'!K122","v":"Femenino"},{"$f":"+'[7]conmutador Nov'!L122","v":"Mujer"},"Sin datos","Sin datos","Sin datos","Sin datos",{"$f":"+'[7]conmutador Nov'!N122","v":"Consulta"},{"$f":"+'[7]conmutador Nov'!O122","v":"Consulta general"},{"$f":"+'[7]conmutador Nov'!P122","v":"Competencia otras entidades"},{"$f":"+'[7]conmutador Nov'!Q122","v":"Indemnización de Doña Juana "},{"$f":"+'[7]conmutador Nov'!R122","v":"Atención al ciudadano"},{"$f":"+'[7]conmutador Nov'!S122","v":"Ciudadano"},{"$f":"+'[7]conmutador Nov'!T122","v":"No Registra"}]
[252,2022,"NOVIEMBRE",{"$f":"+'[7]conmutador Nov'!B123","v":"2022-11-17"},{"$f":"+'[7]conmutador Nov'!C123","v":"13:15:00"},{"$f":"+'[7]conmutador Nov'!D123","v":"PAULA ALEJANDRA MARTÍNEZ CALDERÓN "},"TELEFÓNICO",{"$f":"+'[7]conmutador Nov'!E123","v":"Conmutador"},"Sin datos",{"$f":"+'[7]conmutador Nov'!J123","v":"Ciudadanía"},{"$f":"+'[7]conmutador Nov'!G123","v":"CAROLINA GONZALEZ"},{"$f":"+[7]!Tabla1[[#This Row],[GRUPO DE VALOR]]","v":"Ciudadanía"},{"$f":"+[7]!Tabla1[[#This Row],[NOMBRE DEL GRUPO DE VALOR]]","v":"CAROLINA GONZALEZ"},{"$f":"+'[7]conmutador Nov'!K123","v":"Femenino"},{"$f":"+'[7]conmutador Nov'!L123","v":"Mujer"},"Sin datos","Sin datos","Sin datos","Sin datos",{"$f":"+'[7]conmutador Nov'!N123","v":"Asesoría"},{"$f":"+'[7]conmutador Nov'!O123","v":"Asesoría en administración y sostenibilidad del espacio público"},{"$f":"+'[7]conmutador Nov'!P123","v":"Reporta habitantes de calle/recicladores"},{"$f":"+'[7]conmutador Nov'!Q123","v":"Ocupación habitantes de Cr. 107B # 74B – 31"},{"$f":"+'[7]conmutador Nov'!R123","v":"Atención al ciudadano"},{"$f":"+'[7]conmutador Nov'!S123","v":"Ciudadano"},{"$f":"+'[7]conmutador Nov'!T123","v":"10 Engativá"}]
[253,2022,"NOVIEMBRE",{"$f":"+'[7]conmutador Nov'!B124","v":"2022-11-17"},{"$f":"+'[7]conmutador Nov'!C124","v":"16:25:00"},{"$f":"+'[7]conmutador Nov'!D124","v":"PAULA ALEJANDRA MARTÍNEZ CALDERÓN "},"TELEFÓNICO",{"$f":"+'[7]conmutador Nov'!E124","v":"Conmutador"},"Sin datos","Entidades y Organismos Distritales",{"$f":"+'[7]conmutador Nov'!G124","v":"TATIANA"},"Entidades y Organismos Distritales",{"$f":"+[7]!Tabla1[[#This Row],[NOMBRE DEL GRUPO DE VALOR]]","v":"TATIANA"},{"$f":"+'[7]conmutador Nov'!K124","v":"Femenino"},{"$f":"+'[7]conmutador Nov'!L124","v":"Mujer"},"Sin datos","Sin datos","Sin datos","Sin datos",{"$f":"+'[7]conmutador Nov'!N124","v":"Consulta"},{"$f":"+'[7]conmutador Nov'!O124","v":"Consulta general"},{"$f":"+'[7]conmutador Nov'!P124","v":"Consulta radicado"},{"$f":"+'[7]conmutador Nov'!Q124","v":"Consulta radicado, solicita transferencia de llamada Subdirección de Gestión Inmobiliaria (SAI)"},{"$f":"+'[7]conmutador Nov'!R124","v":"Trasladar"},{"$f":"+'[7]conmutador Nov'!S124","v":"SAI"},{"$f":"+'[7]conmutador Nov'!T124","v":"No Registra"}]
[254,2022,"NOVIEMBRE",{"$f":"+'[7]conmutador Nov'!B125","v":"2022-11-17"},{"$f":"+'[7]conmutador Nov'!C125","v":"13:10:00"},{"$f":"+'[7]conmutador Nov'!D125","v":"PAULA ALEJANDRA MARTÍNEZ CALDERÓN "},"TELEFÓNICO",{"$f":"+'[7]conmutador Nov'!E125","v":"Conmutador"},"Sin datos",{"$f":"+'[7]conmutador Nov'!J125","v":"Ciudadanía"},{"$f":"+'[7]conmutador Nov'!G125","v":"DANNY PINEDA"},{"$f":"+[7]!Tabla1[[#This Row],[GRUPO DE VALOR]]","v":"Ciudadanía"},{"$f":"+[7]!Tabla1[[#This Row],[NOMBRE DEL GRUPO DE VALOR]]","v":"DANNY PINEDA"},{"$f":"+'[7]conmutador Nov'!K125","v":"Femenino"},{"$f":"+'[7]conmutador Nov'!L125","v":"Mujer"},"Sin datos","Sin datos","Sin datos","Sin datos",{"$f":"+'[7]conmutador Nov'!N125","v":"Consulta"},{"$f":"+'[7]conmutador Nov'!O125","v":"Consulta general"},{"$f":"+'[7]conmutador Nov'!P125","v":"Consulta radicado"},{"$f":"+'[7]conmutador Nov'!Q125","v":"Consulta radicado 20224000272002"},{"$f":"+'[7]conmutador Nov'!R125","v":"Atención al ciudadano"},{"$f":"+'[7]conmutador Nov'!S125","v":"Ciudadano"},"11 Suba"]
[255,2022,"NOVIEMBRE",{"$f":"+'[7]conmutador Nov'!B126","v":"2022-11-17"},{"$f":"+'[7]conmutador Nov'!C126","v":"15:20:00"},{"$f":"+'[7]conmutador Nov'!D126","v":"PAULA ALEJANDRA MARTÍNEZ CALDERÓN "},"TELEFÓNICO",{"$f":"+'[7]conmutador Nov'!E126","v":"Conmutador"},"Sin datos",{"$f":"+'[7]conmutador Nov'!J126","v":"Ciudadanía"},{"$f":"+'[7]conmutador Nov'!G126","v":"GIOVANNI ROZO"},{"$f":"+[7]!Tabla1[[#This Row],[GRUPO DE VALOR]]","v":"Ciudadanía"},{"$f":"+[7]!Tabla1[[#This Row],[NOMBRE DEL GRUPO DE VALOR]]","v":"GIOVANNI ROZO"},{"$f":"+'[7]conmutador Nov'!K126","v":"Masculino"},{"$f":"+'[7]conmutador Nov'!L126","v":"Hombre "},"Sin datos","Sin datos","Sin datos","Sin datos",{"$f":"+'[7]conmutador Nov'!N126","v":"Consulta"},{"$f":"+'[7]conmutador Nov'!O126","v":"Consulta general"},{"$f":"+'[7]conmutador Nov'!P126","v":"Consulta radicado"},{"$f":"+'[7]conmutador Nov'!Q126","v":"Consulta radicado 20224000269822"},{"$f":"+'[7]conmutador Nov'!R126","v":"Atención al ciudadano"},{"$f":"+'[7]conmutador Nov'!S126","v":"Ciudadano"},"11 Suba"]
[256,2022,"NOVIEMBRE",{"$f":"+'[7]conmutador Nov'!B127","v":"2022-11-17"},{"$f":"+'[7]conmutador Nov'!C127","v":"15:30:00"},{"$f":"+'[7]conmutador Nov'!D127","v":"PAULA ALEJANDRA MARTÍNEZ CALDERÓN "},"TELEFÓNICO",{"$f":"+'[7]conmutador Nov'!E127","v":"Conmutador"},"Sin datos",{"$f":"+'[7]conmutador Nov'!J127","v":"Ciudadanía"},{"$f":"+'[7]conmutador Nov'!G127","v":"MARÍA DEL CARMEN AGADON"},{"$f":"+[7]!Tabla1[[#This Row],[GRUPO DE VALOR]]","v":"Ciudadanía"},{"$f":"+[7]!Tabla1[[#This Row],[NOMBRE DEL GRUPO DE VALOR]]","v":"MARÍA DEL CARMEN AGADON"},{"$f":"+'[7]conmutador Nov'!K127","v":"Femenino"},{"$f":"+'[7]conmutador Nov'!L127","v":"Mujer"},"Sin datos","Sin datos","Sin datos","Sin datos",{"$f":"+'[7]conmutador Nov'!N127","v":"Consulta"},{"$f":"+'[7]conmutador Nov'!O127","v":"Consulta general"},{"$f":"+'[7]conmutador Nov'!P127","v":"Consulta radicado"},{"$f":"+'[7]conmutador Nov'!Q127","v":"Consulta radicado 20223060043521"},{"$f":"+'[7]conmutador Nov'!R127","v":"Atención al ciudadano"},{"$f":"+'[7]conmutador Nov'!S127","v":"Atención al Ciudadano"},"05 Usme"]
[257,2022,"NOVIEMBRE",{"$f":"+'[7]conmutador Nov'!B128","v":"2022-11-17"},{"$f":"+'[7]conmutador Nov'!C128","v":"16:23:00"},{"$f":"+'[7]conmutador Nov'!D128","v":"PAULA ALEJANDRA MARTÍNEZ CALDERÓN "},"TELEFÓNICO",{"$f":"+'[7]conmutador Nov'!E128","v":"Conmutador"},"Sin datos",{"$f":"+'[7]conmutador Nov'!J128","v":"Ciudadanía"},{"$f":"+'[7]conmutador Nov'!G128","v":"CRISTINA"},{"$f":"+[7]!Tabla1[[#This Row],[GRUPO DE VALOR]]","v":"Ciudadanía"},{"$f":"+[7]!Tabla1[[#This Row],[NOMBRE DEL GRUPO DE VALOR]]","v":"CRISTINA"},{"$f":"+'[7]conmutador Nov'!K128","v":"Femenino"},{"$f":"+'[7]conmutador Nov'!L128","v":"Mujer"},"Sin datos","Sin datos","Sin datos","Sin datos",{"$f":"+'[7]conmutador Nov'!N128","v":"Consulta"},{"$f":"+'[7]conmutador Nov'!O128","v":"Consulta general"},{"$f":"+'[7]conmutador Nov'!P128","v":"Transferencia de llamada"},{"$f":"+'[7]conmutador Nov'!Q128","v":"Transferencia de llamada Extensión 1085"},{"$f":"+'[7]conmutador Nov'!R128","v":"Atención al ciudadano"},{"$f":"+'[7]conmutador Nov'!S128","v":"Ciudadano"},{"$f":"+'[7]conmutador Nov'!T128","v":"10 Engativá"}]
[258,2022,"NOVIEMBRE",{"$f":"+'[7]conmutador Nov'!B129","v":"2022-11-17"},{"$f":"+'[7]conmutador Nov'!C129","v":"16:33:00"},{"$f":"+'[7]conmutador Nov'!D129","v":"PAULA ALEJANDRA MARTÍNEZ CALDERÓN "},"TELEFÓNICO",{"$f":"+'[7]conmutador Nov'!E129","v":"Conmutador"},"Sin datos",{"$f":"+'[7]conmutador Nov'!J129","v":"Ciudadanía"},{"$f":"+'[7]conmutador Nov'!G129","v":"JOHN JAIRO HUERFANO"},{"$f":"+[7]!Tabla1[[#This Row],[GRUPO DE VALOR]]","v":"Ciudadanía"},{"$f":"+[7]!Tabla1[[#This Row],[NOMBRE DEL GRUPO DE VALOR]]","v":"JOHN JAIRO HUERFANO"},{"$f":"+'[7]conmutador Nov'!K129","v":"Masculino"},{"$f":"+'[7]conmutador Nov'!L129","v":"Hombre "},"Sin datos","Sin datos","Sin datos","Sin datos",{"$f":"+'[7]conmutador Nov'!N129","v":"Consulta"},{"$f":"+'[7]conmutador Nov'!O129","v":"Consulta general"},{"$f":"+'[7]conmutador Nov'!P129","v":"Consulta radicado"},{"$f":"+'[7]conmutador Nov'!Q129","v":"Consulta estado 20224000214352"},{"$f":"+'[7]conmutador Nov'!R129","v":"Atención al ciudadano"},{"$f":"+'[7]conmutador Nov'!S129","v":"Ciudadano"},"04 San Cristóbal"]
[259,2022,"NOVIEMBRE",{"$f":"+'[7]conmutador Nov'!B130","v":"2022-11-21"},{"$f":"+'[7]conmutador Nov'!C130","v":"09:42:00"},{"$f":"+'[7]conmutador Nov'!D130","v":"PAULA ALEJANDRA MARTÍNEZ CALDERÓN "},"TELEFÓNICO",{"$f":"+'[7]conmutador Nov'!E130","v":"Conmutador"},"Sin datos",{"$f":"+'[7]conmutador Nov'!J130","v":"Ciudadanía"},{"$f":"+'[7]conmutador Nov'!G130","v":"LILIANA"},{"$f":"+[7]!Tabla1[[#This Row],[GRUPO DE VALOR]]","v":"Ciudadanía"},{"$f":"+[7]!Tabla1[[#This Row],[NOMBRE DEL GRUPO DE VALOR]]","v":"LILIANA"},{"$f":"+'[7]conmutador Nov'!K130","v":"Femenino"},{"$f":"+'[7]conmutador Nov'!L130","v":"Mujer"},"Sin datos","Sin datos","Sin datos","Sin datos",{"$f":"+'[7]conmutador Nov'!N130","v":"Asesoría"},{"$f":"+'[7]conmutador Nov'!O130","v":"Asesoría en administración y sostenibilidad del espacio público"},{"$f":"+'[7]conmutador Nov'!P130","v":"Recuperación de espacio público"},{"$f":"+'[7]conmutador Nov'!Q130","v":"Denuncia por ocupacion de espacio publico en la CL 132 Y CL 132A Y AV. CIUDAD DE CALI A LA CARRERA 110A (AVENIDA EL TABOR) "},{"$f":"+'[7]conmutador Nov'!R130","v":"Atención al ciudadano"},{"$f":"+'[7]conmutador Nov'!S130","v":"Ciudadano"},"11 Suba"]
[260,2022,"NOVIEMBRE",{"$f":"+'[7]conmutador Nov'!B131","v":"2022-11-21"},{"$f":"+'[7]conmutador Nov'!C131","v":"09:55:00"},{"$f":"+'[7]conmutador Nov'!D131","v":"PAULA ALEJANDRA MARTÍNEZ CALDERÓN "},"TELEFÓNICO",{"$f":"+'[7]conmutador Nov'!E131","v":"Conmutador"},"Sin datos",{"$f":"+'[7]conmutador Nov'!J131","v":"Ciudadanía"},{"$f":"+'[7]conmutador Nov'!G131","v":"EMERSON"},{"$f":"+[7]!Tabla1[[#This Row],[GRUPO DE VALOR]]","v":"Ciudadanía"},{"$f":"+[7]!Tabla1[[#This Row],[NOMBRE DEL GRUPO DE VALOR]]","v":"EMERSON"},{"$f":"+'[7]conmutador Nov'!K131","v":"Masculino"},{"$f":"+'[7]conmutador Nov'!L131","v":"Hombre "},"Sin datos","Sin datos","Sin datos","Sin datos",{"$f":"+'[7]conmutador Nov'!N131","v":"Asesoría"},{"$f":"+'[7]conmutador Nov'!O131","v":"Asesoría en administración y sostenibilidad del espacio público"},{"$f":"+'[7]conmutador Nov'!P131","v":"Recuperación de espacio público"},{"$f":"+'[7]conmutador Nov'!Q131","v":"Denuncia por ocupación y extension de la actividad comercial"},{"$f":"+'[7]conmutador Nov'!R131","v":"Atención al ciudadano"},{"$f":"+'[7]conmutador Nov'!S131","v":"Ciudadano"},{"$f":"+'[7]conmutador Nov'!T131","v":"19 Ciudad Bolívar"}]
[261,2022,"NOVIEMBRE",{"$f":"+'[7]conmutador Nov'!B132","v":"2022-11-21"},{"$f":"+'[7]conmutador Nov'!C132","v":"10:21:00"},{"$f":"+'[7]conmutador Nov'!D132","v":"PAULA ALEJANDRA MARTÍNEZ CALDERÓN "},"TELEFÓNICO",{"$f":"+'[7]conmutador Nov'!E132","v":"Conmutador"},"Sin datos",{"$f":"+'[7]conmutador Nov'!J132","v":"Ciudadanía"},{"$f":"+'[7]conmutador Nov'!G132","v":"OMAR RUIZ"},{"$f":"+[7]!Tabla1[[#This Row],[GRUPO DE VALOR]]","v":"Ciudadanía"},{"$f":"+[7]!Tabla1[[#This Row],[NOMBRE DEL GRUPO DE VALOR]]","v":"OMAR RUIZ"},{"$f":"+'[7]conmutador Nov'!K132","v":"Masculino"},{"$f":"+'[7]conmutador Nov'!L132","v":"Hombre "},"Sin datos","Sin datos","Sin datos","Sin datos",{"$f":"+'[7]conmutador Nov'!N132","v":"Asesoría"},{"$f":"+'[7]conmutador Nov'!O132","v":"Asesoría en administración y sostenibilidad del espacio público"},{"$f":"+'[7]conmutador Nov'!P132","v":"Parqueaderos"},{"$f":"+'[7]conmutador Nov'!Q132","v":"Estado tramite parqueaderos Los Alcaparros DADEP-SMINC-435-2022 CL 135A 105C 39 (RUPI  777-23) Y CL 103A 104 - 84(RUPI 77-24)"},{"$f":"+'[7]conmutador Nov'!R132","v":"Atención al ciudadano"},{"$f":"+'[7]conmutador Nov'!S132","v":"Ciudadano"},"11 Suba"]
[262,2022,"NOVIEMBRE",{"$f":"+'[7]conmutador Nov'!B133","v":"2022-11-21"},{"$f":"+'[7]conmutador Nov'!C133","v":"10:25:00"},{"$f":"+'[7]conmutador Nov'!D133","v":"PAULA ALEJANDRA MARTÍNEZ CALDERÓN "},"TELEFÓNICO",{"$f":"+'[7]conmutador Nov'!E133","v":"Conmutador"},"Sin datos",{"$f":"+'[7]conmutador Nov'!J133","v":"Ciudadanía"},{"$f":"+'[7]conmutador Nov'!G133","v":"GLORIA CASTRILLON VELASQUEZ"},{"$f":"+[7]!Tabla1[[#This Row],[GRUPO DE VALOR]]","v":"Ciudadanía"},{"$f":"+[7]!Tabla1[[#This Row],[NOMBRE DEL GRUPO DE VALOR]]","v":"GLORIA CASTRILLON VELASQUEZ"},{"$f":"+'[7]conmutador Nov'!K133","v":"Femenino"},{"$f":"+'[7]conmutador Nov'!L133","v":"Mujer"},"Sin datos","Sin datos","Sin datos","Sin datos",{"$f":"+'[7]conmutador Nov'!N133","v":"Asesoría"},{"$f":"+'[7]conmutador Nov'!O133","v":"Incorporación y entrega de las áreas de cesión a favor del municipio"},{"$f":"+'[7]conmutador Nov'!P133","v":"Entrega de zonas de cesión"},{"$f":"+'[7]conmutador Nov'!Q133","v":"Titulación Zonas Verde Cesión Desarrollo incompleto Las Mercedes Manzanas M N O P-Radicado 20222030167261 y radicado 20222030181711."},{"$f":"+'[7]conmutador Nov'!R133","v":"Atención al ciudadano"},{"$f":"+'[7]conmutador Nov'!S133","v":"Ciudadano"},"04 San Cristóbal"]
[263,2022,"NOVIEMBRE",{"$f":"+'[7]conmutador Nov'!B134","v":"2022-11-21"},{"$f":"+'[7]conmutador Nov'!C134","v":"10:30:00"},{"$f":"+'[7]conmutador Nov'!D134","v":"PAULA ALEJANDRA MARTÍNEZ CALDERÓN "},"TELEFÓNICO",{"$f":"+'[7]conmutador Nov'!E134","v":"Conmutador"},"Sin datos",{"$f":"+'[7]conmutador Nov'!J134","v":"Ciudadanía"},{"$f":"+'[7]conmutador Nov'!G134","v":"ALEJANDRO MARTINEZ"},{"$f":"+[7]!Tabla1[[#This Row],[GRUPO DE VALOR]]","v":"Ciudadanía"},{"$f":"+[7]!Tabla1[[#This Row],[NOMBRE DEL GRUPO DE VALOR]]","v":"ALEJANDRO MARTINEZ"},{"$f":"+'[7]conmutador Nov'!K134","v":"Femenino"},{"$f":"+'[7]conmutador Nov'!L134","v":"Mujer"},"Sin datos","Sin datos","Sin datos","Sin datos",{"$f":"+'[7]conmutador Nov'!N134","v":"Asesoría"},{"$f":"+'[7]conmutador Nov'!O134","v":"Consulta general"},{"$f":"+'[7]conmutador Nov'!P134","v":"Parqueaderos"},{"$f":"+'[7]conmutador Nov'!Q134","v":"Estado tramite parqueaderos Los Alcaparros DADEP-SMINC-435-2022 CL 135A 105C 39 (RUPI  777-23) Y CL 103A 104 - 84(RUPI 77-24)"},{"$f":"+'[7]conmutador Nov'!R134","v":"Atención al ciudadano"},{"$f":"+'[7]conmutador Nov'!S134","v":"Ciudadano"},"11 Suba"]
[264,2022,"NOVIEMBRE",{"$f":"+'[7]conmutador Nov'!B135","v":"2022-11-21"},{"$f":"+'[7]conmutador Nov'!C135","v":"11:21:00"},"LILIANA AGUILAR PUENTES","TELEFÓNICO",{"$f":"+'[7]conmutador Nov'!E135","v":"Conmutador"},"Sin datos",{"$f":"+'[7]conmutador Nov'!J135","v":"Ciudadanía"},{"$f":"+'[7]conmutador Nov'!G135","v":"JUAN CARLOS PARRA "},{"$f":"+[7]!Tabla1[[#This Row],[GRUPO DE VALOR]]","v":"Ciudadanía"},{"$f":"+[7]!Tabla1[[#This Row],[NOMBRE DEL GRUPO DE VALOR]]","v":"JUAN CARLOS PARRA "},{"$f":"+'[7]conmutador Nov'!K135","v":"Masculino"},{"$f":"+'[7]conmutador Nov'!L135","v":"Hombre "},"Sin datos","Sin datos","Sin datos","Sin datos",{"$f":"+'[7]conmutador Nov'!N135","v":"Consulta"},{"$f":"+'[7]conmutador Nov'!O135","v":"Consulta general"},{"$f":"+'[7]conmutador Nov'!P135","v":"Consulta radicado"},{"$f":"+'[7]conmutador Nov'!Q135","v":"Preguntar correo de radicación de la Defensoría del Espacio Público"},{"$f":"+'[7]conmutador Nov'!R135","v":"Atención al ciudadano"},{"$f":"+'[7]conmutador Nov'!S135","v":"Ciudadano"},"04 San Cristóbal"]
[265,2022,"NOVIEMBRE",{"$f":"+'[7]conmutador Nov'!B136","v":"2022-11-21"},{"$f":"+'[7]conmutador Nov'!C136","v":"11:24:00"},{"$f":"+'[7]conmutador Nov'!D136","v":"PAULA ALEJANDRA MARTÍNEZ CALDERÓN "},"TELEFÓNICO",{"$f":"+'[7]conmutador Nov'!E136","v":"Conmutador"},"Sin datos",{"$f":"+'[7]conmutador Nov'!J136","v":"Ciudadanía"},{"$f":"+'[7]conmutador Nov'!G136","v":"ARNOLD MORENO"},{"$f":"+[7]!Tabla1[[#This Row],[GRUPO DE VALOR]]","v":"Ciudadanía"},{"$f":"+[7]!Tabla1[[#This Row],[NOMBRE DEL GRUPO DE VALOR]]","v":"ARNOLD MORENO"},{"$f":"+'[7]conmutador Nov'!K136","v":"Femenino"},{"$f":"+'[7]conmutador Nov'!L136","v":"Mujer"},"Sin datos","Sin datos","Sin datos","Sin datos",{"$f":"+'[7]conmutador Nov'!N136","v":"Consulta"},{"$f":"+'[7]conmutador Nov'!O136","v":"Consulta general"},{"$f":"+'[7]conmutador Nov'!P136","v":"Solicitud cita"},{"$f":"+'[7]conmutador Nov'!Q136","v":"Solicitud atención presencial Dadep"},{"$f":"+'[7]conmutador Nov'!R136","v":"Atención al ciudadano"},{"$f":"+'[7]conmutador Nov'!S136","v":"Ciudadano"},"04 San Cristóbal"]
[266,2022,"NOVIEMBRE",{"$f":"+'[7]conmutador Nov'!B137","v":"2022-11-21"},{"$f":"+'[7]conmutador Nov'!C137","v":"11:29:00"},{"$f":"+'[7]conmutador Nov'!D137","v":"PAULA ALEJANDRA MARTÍNEZ CALDERÓN "},"TELEFÓNICO",{"$f":"+'[7]conmutador Nov'!E137","v":"Conmutador"},"Sin datos",{"$f":"+'[7]conmutador Nov'!J137","v":"Ciudadanía"},{"$f":"+'[7]conmutador Nov'!G137","v":"ALEXANDRA ORTIZ"},{"$f":"+[7]!Tabla1[[#This Row],[GRUPO DE VALOR]]","v":"Ciudadanía"},{"$f":"+[7]!Tabla1[[#This Row],[NOMBRE DEL GRUPO DE VALOR]]","v":"ALEXANDRA ORTIZ"},{"$f":"+'[7]conmutador Nov'!K137","v":"Masculino"},{"$f":"+'[7]conmutador Nov'!L137","v":"Hombre "},"Sin datos","Sin datos","Sin datos","Sin datos",{"$f":"+'[7]conmutador Nov'!N137","v":"Consulta"},{"$f":"+'[7]conmutador Nov'!O137","v":"Asesoría en administración y sostenibilidad del espacio público"},{"$f":"+'[7]conmutador Nov'!P137","v":"Solicitud cita"},{"$f":"+'[7]conmutador Nov'!Q137","v":"Solicitud cita presencial Subdirección de Registro Inmobiliario - Solicitud de susticion de un predio"},{"$f":"+'[7]conmutador Nov'!R137","v":"Atención al ciudadano"},{"$f":"+'[7]conmutador Nov'!S137","v":"Ciudadano"},{"$f":"+'[7]conmutador Nov'!T137","v":"No Registra"}]
[267,2022,"NOVIEMBRE",{"$f":"+'[7]conmutador Nov'!B138","v":"2022-11-21"},{"$f":"+'[7]conmutador Nov'!C138","v":"11:25:00"},{"$f":"+'[7]conmutador Nov'!D138","v":"PAULA ALEJANDRA MARTÍNEZ CALDERÓN "},"TELEFÓNICO",{"$f":"+'[7]conmutador Nov'!E138","v":"Conmutador"},"Sin datos",{"$f":"+'[7]conmutador Nov'!J138","v":"Ciudadanía"},{"$f":"+'[7]conmutador Nov'!G138","v":"NUMERO PRIVADO"},{"$f":"+[7]!Tabla1[[#This Row],[GRUPO DE VALOR]]","v":"Ciudadanía"},{"$f":"+[7]!Tabla1[[#This Row],[NOMBRE DEL GRUPO DE VALOR]]","v":"NUMERO PRIVADO"},{"$f":"+'[7]conmutador Nov'!K138","v":"Femenino"},{"$f":"+'[7]conmutador Nov'!L138","v":"Mujer"},"Sin datos","Sin datos","Sin datos","Sin datos",{"$f":"+'[7]conmutador Nov'!N138","v":"Consulta"},{"$f":"+'[7]conmutador Nov'!O138","v":"Consulta general"},{"$f":"+'[7]conmutador Nov'!P138","v":"Transferencia de llamada"},{"$f":"+'[7]conmutador Nov'!Q138","v":"Solicita al Ing. Iván Poveda de Sistemas "},{"$f":"+'[7]conmutador Nov'!R138","v":"Trasladar"},{"$f":"+'[7]conmutador Nov'!S138","v":"Atención al Ciudadano"},{"$f":"+'[7]conmutador Nov'!T138","v":"Fuera de Bogotá"}]
[268,2022,"NOVIEMBRE",{"$f":"+'[7]conmutador Nov'!B139","v":"2022-11-21"},{"$f":"+'[7]conmutador Nov'!C139","v":"11:39:00"},{"$f":"+'[7]conmutador Nov'!D139","v":"PAULA ALEJANDRA MARTÍNEZ CALDERÓN "},"TELEFÓNICO",{"$f":"+'[7]conmutador Nov'!E139","v":"Conmutador"},"Sin datos",{"$f":"+'[7]conmutador Nov'!J139","v":"Ciudadanía"},{"$f":"+'[7]conmutador Nov'!G139","v":"JOAQUIN ORJUELA "},{"$f":"+[7]!Tabla1[[#This Row],[GRUPO DE VALOR]]","v":"Ciudadanía"},{"$f":"+[7]!Tabla1[[#This Row],[NOMBRE DEL GRUPO DE VALOR]]","v":"JOAQUIN ORJUELA "},{"$f":"+'[7]conmutador Nov'!K139","v":"Masculino"},{"$f":"+'[7]conmutador Nov'!L139","v":"Hombre "},"Sin datos","Sin datos","Sin datos","Sin datos",{"$f":"+'[7]conmutador Nov'!N139","v":"Asesoría"},{"$f":"+'[7]conmutador Nov'!O139","v":"Consulta general"},{"$f":"+'[7]conmutador Nov'!P139","v":"Parqueaderos"},{"$f":"+'[7]conmutador Nov'!Q139","v":"Solicita información respecto Parqueaderos Bosa - Radicado 20223060155401"},{"$f":"+'[7]conmutador Nov'!R139","v":"Atención al ciudadano"},{"$f":"+'[7]conmutador Nov'!S139","v":"Ciudadano"},{"$f":"+'[7]conmutador Nov'!T139","v":"No Registra"}]
[269,2022,"NOVIEMBRE",{"$f":"+'[7]conmutador Nov'!B140","v":"2022-11-21"},{"$f":"+'[7]conmutador Nov'!C140","v":"11:44:00"},{"$f":"+'[7]conmutador Nov'!D140","v":"PAULA ALEJANDRA MARTÍNEZ CALDERÓN "},"TELEFÓNICO",{"$f":"+'[7]conmutador Nov'!E140","v":"Conmutador"},"Sin datos",{"$f":"+'[7]conmutador Nov'!J140","v":"Ciudadanía"},{"$f":"+'[7]conmutador Nov'!G140","v":"CARLOS SALCEDO"},{"$f":"+[7]!Tabla1[[#This Row],[GRUPO DE VALOR]]","v":"Ciudadanía"},{"$f":"+[7]!Tabla1[[#This Row],[NOMBRE DEL GRUPO DE VALOR]]","v":"CARLOS SALCEDO"},{"$f":"+'[7]conmutador Nov'!K140","v":"Masculino"},{"$f":"+'[7]conmutador Nov'!L140","v":"Hombre "},"Sin datos","Sin datos","Sin datos","Sin datos",{"$f":"+'[7]conmutador Nov'!N140","v":"Consulta"},{"$f":"+'[7]conmutador Nov'!O140","v":"Consulta general"},{"$f":"+'[7]conmutador Nov'!P140","v":"Desempeño de la entidad"},{"$f":"+'[7]conmutador Nov'!Q140","v":"Solicitud permiso de eventos en Espacio Público"},{"$f":"+'[7]conmutador Nov'!R140","v":"Atención al ciudadano"},{"$f":"+'[7]conmutador Nov'!S140","v":"Ciudadano"},{"$f":"+'[7]conmutador Nov'!T140","v":"No Registra"}]
[270,2022,"NOVIEMBRE",{"$f":"+'[7]conmutador Nov'!B141","v":"2022-11-21"},{"$f":"+'[7]conmutador Nov'!C141","v":"11:56:00"},{"$f":"+'[7]conmutador Nov'!D141","v":"PAULA ALEJANDRA MARTÍNEZ CALDERÓN "},"TELEFÓNICO",{"$f":"+'[7]conmutador Nov'!E141","v":"Conmutador"},"Sin datos",{"$f":"+'[7]conmutador Nov'!J141","v":"Empresas privadas"},{"$f":"+'[7]conmutador Nov'!G141","v":"CASA EDITORIAL EL TIEMPO"},{"$f":"+[7]!Tabla1[[#This Row],[GRUPO DE VALOR]]","v":"Empresas privadas"},{"$f":"+[7]!Tabla1[[#This Row],[NOMBRE DEL GRUPO DE VALOR]]","v":"CASA EDITORIAL EL TIEMPO"},{"$f":"+'[7]conmutador Nov'!K141","v":"Femenino"},{"$f":"+'[7]conmutador Nov'!L141","v":"Mujer"},"Sin datos","Sin datos","Sin datos","Sin datos",{"$f":"+'[7]conmutador Nov'!N141","v":"Consulta"},{"$f":"+'[7]conmutador Nov'!O141","v":"Consulta general"},{"$f":"+'[7]conmutador Nov'!P141","v":"Transferencia de llamada"},{"$f":"+'[7]conmutador Nov'!Q141","v":"Transferencia de llamada a Oficina de Comunicaciones DADEP"},{"$f":"+'[7]conmutador Nov'!R141","v":"Trasladar"},{"$f":"+'[7]conmutador Nov'!S141","v":"OC"},{"$f":"+'[7]conmutador Nov'!T141","v":"No Registra"}]
[271,2022,"NOVIEMBRE",{"$f":"+'[7]conmutador Nov'!B142","v":"2022-11-21"},{"$f":"+'[7]conmutador Nov'!C142","v":"11:50:00"},"LILIANA AGUILAR PUENTES","TELEFÓNICO",{"$f":"+'[7]conmutador Nov'!E142","v":"Conmutador"},"Sin datos",{"$f":"+'[7]conmutador Nov'!J142","v":"Ciudadanía"},{"$f":"+'[7]conmutador Nov'!G142","v":"OLEGARIO PIÑEROS"},{"$f":"+[7]!Tabla1[[#This Row],[GRUPO DE VALOR]]","v":"Ciudadanía"},{"$f":"+[7]!Tabla1[[#This Row],[NOMBRE DEL GRUPO DE VALOR]]","v":"OLEGARIO PIÑEROS"},{"$f":"+'[7]conmutador Nov'!K142","v":"Masculino"},{"$f":"+'[7]conmutador Nov'!L142","v":"Hombre "},"Sin datos","Sin datos","Sin datos","Sin datos",{"$f":"+'[7]conmutador Nov'!N142","v":"Consulta"},{"$f":"+'[7]conmutador Nov'!O142","v":"Consulta general"},{"$f":"+'[7]conmutador Nov'!P142","v":"Consulta radicado"},{"$f":"+'[7]conmutador Nov'!Q142","v":"Solicitud radicado 20224000233362"},{"$f":"+'[7]conmutador Nov'!R142","v":"Atención al ciudadano"},{"$f":"+'[7]conmutador Nov'!S142","v":"Ciudadano"},"11 Suba"]
[272,2022,"NOVIEMBRE",{"$f":"+'[7]conmutador Nov'!B143","v":"2022-11-21"},{"$f":"+'[7]conmutador Nov'!C143","v":"15:33:00"},{"$f":"+'[7]conmutador Nov'!D143","v":"PAULA ALEJANDRA MARTÍNEZ CALDERÓN "},"TELEFÓNICO",{"$f":"+'[7]conmutador Nov'!E143","v":"Conmutador"},"Sin datos",{"$f":"+'[7]conmutador Nov'!J143","v":"Ciudadanía"},{"$f":"+'[7]conmutador Nov'!G143","v":"NANCY"},{"$f":"+[7]!Tabla1[[#This Row],[GRUPO DE VALOR]]","v":"Ciudadanía"},{"$f":"+[7]!Tabla1[[#This Row],[NOMBRE DEL GRUPO DE VALOR]]","v":"NANCY"},{"$f":"+'[7]conmutador Nov'!K143","v":"Femenino"},{"$f":"+'[7]conmutador Nov'!L143","v":"Mujer"},"Sin datos","Sin datos","Sin datos","Sin datos",{"$f":"+'[7]conmutador Nov'!N143","v":"Consulta"},{"$f":"+'[7]conmutador Nov'!O143","v":"Consulta general"},{"$f":"+'[7]conmutador Nov'!P143","v":"Consulta radicado"},{"$f":"+'[7]conmutador Nov'!Q143","v":"Consulta correo electrónico para radicación de la Entidad"},{"$f":"+'[7]conmutador Nov'!R143","v":"Atención al ciudadano"},{"$f":"+'[7]conmutador Nov'!S143","v":"Ciudadano"},{"$f":"+'[7]conmutador Nov'!T143","v":"No Registra"}]
[273,2022,"NOVIEMBRE",{"$f":"+'[7]conmutador Nov'!B144","v":"2022-11-21"},{"$f":"+'[7]conmutador Nov'!C144","v":"04:01:00"},{"$f":"+'[7]conmutador Nov'!D144","v":"PAULA ALEJANDRA MARTÍNEZ CALDERÓN "},"TELEFÓNICO",{"$f":"+'[7]conmutador Nov'!E144","v":"Conmutador"},"Sin datos",{"$f":"+'[7]conmutador Nov'!J144","v":"Empresas privadas"},{"$f":"+'[7]conmutador Nov'!G144","v":"ERIKA"},{"$f":"+[7]!Tabla1[[#This Row],[GRUPO DE VALOR]]","v":"Empresas privadas"},{"$f":"+[7]!Tabla1[[#This Row],[NOMBRE DEL GRUPO DE VALOR]]","v":"ERIKA"},{"$f":"+'[7]conmutador Nov'!K144","v":"Femenino"},{"$f":"+'[7]conmutador Nov'!L144","v":"Mujer"},"Sin datos","Sin datos","Sin datos","Sin datos",{"$f":"+'[7]conmutador Nov'!N144","v":"Consulta"},{"$f":"+'[7]conmutador Nov'!O144","v":"Consulta general"},{"$f":"+'[7]conmutador Nov'!P144","v":"Transferencia de llamada"},{"$f":"+'[7]conmutador Nov'!Q144","v":"Tranferencia de llamada Arq. Stefania Quijano -SGIEP"},{"$f":"+'[7]conmutador Nov'!R144","v":"Trasladar"},{"$f":"+'[7]conmutador Nov'!S144","v":"SAI"},{"$f":"+'[7]conmutador Nov'!T144","v":"No Registra"}]
[274,2022,"NOVIEMBRE",{"$f":"+'[7]conmutador Nov'!B145","v":"2022-11-22"},{"$f":"+'[7]conmutador Nov'!C145","v":"08:53:00"},{"$f":"+'[7]conmutador Nov'!D145","v":"PAULA ALEJANDRA MARTÍNEZ CALDERÓN "},"TELEFÓNICO",{"$f":"+'[7]conmutador Nov'!E145","v":"Conmutador"},"Sin datos",{"$f":"+'[7]conmutador Nov'!J145","v":"Ciudadanía"},{"$f":"+'[7]conmutador Nov'!G145","v":"ARLEY PARDO"},{"$f":"+[7]!Tabla1[[#This Row],[GRUPO DE VALOR]]","v":"Ciudadanía"},{"$f":"+[7]!Tabla1[[#This Row],[NOMBRE DEL GRUPO DE VALOR]]","v":"ARLEY PARDO"},{"$f":"+'[7]conmutador Nov'!K145","v":"Masculino"},{"$f":"+'[7]conmutador Nov'!L145","v":"Hombre "},"Sin datos","Sin datos","Sin datos","Sin datos",{"$f":"+'[7]conmutador Nov'!N145","v":"Asesoría"},{"$f":"+'[7]conmutador Nov'!O145","v":"Asesoría en administración y sostenibilidad del espacio público"},{"$f":"+'[7]conmutador Nov'!P145","v":"Recuperación de espacio público"},{"$f":"+'[7]conmutador Nov'!Q145","v":"Denuncia por ocupación y extension de la actividad comercial"},{"$f":"+'[7]conmutador Nov'!R145","v":"Atención al ciudadano"},{"$f":"+'[7]conmutador Nov'!S145","v":"Ciudadano"},{"$f":"+'[7]conmutador Nov'!T145","v":"19 Ciudad Bolívar"}]
[275,2022,"NOVIEMBRE",{"$f":"+'[7]conmutador Nov'!B146","v":"2022-11-22"},{"$f":"+'[7]conmutador Nov'!C146","v":"09:10:00"},{"$f":"+'[7]conmutador Nov'!D146","v":"PAULA ALEJANDRA MARTÍNEZ CALDERÓN "},"TELEFÓNICO",{"$f":"+'[7]conmutador Nov'!E146","v":"Conmutador"},"Sin datos",{"$f":"+'[7]conmutador Nov'!J146","v":"Ciudadanía"},{"$f":"+'[7]conmutador Nov'!G146","v":"ALEXANDRA"},{"$f":"+[7]!Tabla1[[#This Row],[GRUPO DE VALOR]]","v":"Ciudadanía"},{"$f":"+[7]!Tabla1[[#This Row],[NOMBRE DEL GRUPO DE VALOR]]","v":"ALEXANDRA"},{"$f":"+'[7]conmutador Nov'!K146","v":"Femenino"},{"$f":"+'[7]conmutador Nov'!L146","v":"Mujer"},"Sin datos","Sin datos","Sin datos","Sin datos",{"$f":"+'[7]conmutador Nov'!N146","v":"Consulta"},{"$f":"+'[7]conmutador Nov'!O146","v":"Consulta general"},{"$f":"+'[7]conmutador Nov'!P146","v":"Transferencia de llamada"},{"$f":"+'[7]conmutador Nov'!Q146","v":"Transferencia de llamada gestión documental"},{"$f":"+'[7]conmutador Nov'!R146","v":"Atención al ciudadano"},{"$f":"+'[7]conmutador Nov'!S146","v":"Ciudadano"},{"$f":"+'[7]conmutador Nov'!T146","v":"No Registra"}]
[276,2022,"NOVIEMBRE",{"$f":"+'[7]conmutador Nov'!B147","v":"2022-11-22"},{"$f":"+'[7]conmutador Nov'!C147","v":"09:26:00"},{"$f":"+'[7]conmutador Nov'!D147","v":"PAULA ALEJANDRA MARTÍNEZ CALDERÓN "},"TELEFÓNICO",{"$f":"+'[7]conmutador Nov'!E147","v":"Conmutador"},"Sin datos",{"$f":"+'[7]conmutador Nov'!J147","v":"Ciudadanía"},{"$f":"+'[7]conmutador Nov'!G147","v":"MARLENE"},{"$f":"+[7]!Tabla1[[#This Row],[GRUPO DE VALOR]]","v":"Ciudadanía"},{"$f":"+[7]!Tabla1[[#This Row],[NOMBRE DEL GRUPO DE VALOR]]","v":"MARLENE"},{"$f":"+'[7]conmutador Nov'!K147","v":"Femenino"},{"$f":"+'[7]conmutador Nov'!L147","v":"Mujer"},"Sin datos","Sin datos","Sin datos","Sin datos",{"$f":"+'[7]conmutador Nov'!N147","v":"Asesoría"},{"$f":"+'[7]conmutador Nov'!O147","v":"Asesoría en administración y sostenibilidad del espacio público"},{"$f":"+'[7]conmutador Nov'!P147","v":"Asesoría en temas de espacio público"},{"$f":"+'[7]conmutador Nov'!Q147","v":"Solicitud información salón comunal JJ Vargas"},{"$f":"+'[7]conmutador Nov'!R147","v":"Atención al ciudadano"},{"$f":"+'[7]conmutador Nov'!S147","v":"Ciudadano"},{"$f":"+'[7]conmutador Nov'!T147","v":"12 Barrios Unidos"}]
[277,2022,"NOVIEMBRE",{"$f":"+'[7]conmutador Nov'!B148","v":"2022-11-22"},{"$f":"+'[7]conmutador Nov'!C148","v":"10:03:00"},{"$f":"+'[7]conmutador Nov'!D148","v":"PAULA ALEJANDRA MARTÍNEZ CALDERÓN "},"TELEFÓNICO",{"$f":"+'[7]conmutador Nov'!E148","v":"Conmutador"},"Sin datos",{"$f":"+'[7]conmutador Nov'!J148","v":"Ciudadanía"},{"$f":"+'[7]conmutador Nov'!G148","v":"CLAUDIA VASQUEZ"},{"$f":"+[7]!Tabla1[[#This Row],[GRUPO DE VALOR]]","v":"Ciudadanía"},{"$f":"+[7]!Tabla1[[#This Row],[NOMBRE DEL GRUPO DE VALOR]]","v":"CLAUDIA VASQUEZ"},{"$f":"+'[7]conmutador Nov'!K148","v":"Femenino"},{"$f":"+'[7]conmutador Nov'!L148","v":"Mujer"},"Sin datos","Sin datos","Sin datos","Sin datos",{"$f":"+'[7]conmutador Nov'!N148","v":"Asesoría"},{"$f":"+'[7]conmutador Nov'!O148","v":"Asesoría en administración y sostenibilidad del espacio público"},{"$f":"+'[7]conmutador Nov'!P148","v":"Asesoría en temas de espacio público"},{"$f":"+'[7]conmutador Nov'!Q148","v":"Solicitud información parqueaderos BOSA LA CAPILLA Calle 62 SUR 79B - 29"},{"$f":"+'[7]conmutador Nov'!R148","v":"Atención al ciudadano"},{"$f":"+'[7]conmutador Nov'!S148","v":"Ciudadano"},"07 Bosa"]
[278,2022,"NOVIEMBRE",{"$f":"+'[7]conmutador Nov'!B149","v":"2022-11-22"},{"$f":"+'[7]conmutador Nov'!C149","v":"10:35:00"},{"$f":"+'[7]conmutador Nov'!D149","v":"PAULA ALEJANDRA MARTÍNEZ CALDERÓN "},"TELEFÓNICO",{"$f":"+'[7]conmutador Nov'!E149","v":"Conmutador"},"Sin datos",{"$f":"+'[7]conmutador Nov'!J149","v":"Ciudadanía"},{"$f":"+'[7]conmutador Nov'!G149","v":"CLAUDIA VASQUEZ"},{"$f":"+[7]!Tabla1[[#This Row],[GRUPO DE VALOR]]","v":"Ciudadanía"},{"$f":"+[7]!Tabla1[[#This Row],[NOMBRE DEL GRUPO DE VALOR]]","v":"CLAUDIA VASQUEZ"},{"$f":"+'[7]conmutador Nov'!K149","v":"Femenino"},{"$f":"+'[7]conmutador Nov'!L149","v":"Mujer"},"Sin datos","Sin datos","Sin datos","Sin datos",{"$f":"+'[7]conmutador Nov'!N149","v":"Asesoría"},{"$f":"+'[7]conmutador Nov'!O149","v":"Asesoría en administración y sostenibilidad del espacio público"},{"$f":"+'[7]conmutador Nov'!P149","v":"Asesoría en temas de espacio público"},{"$f":"+'[7]conmutador Nov'!Q149","v":"Solicitud información parqueaderos BOSA LA CAPILLA Calle 62 SUR 79B - 29, solicita trasladar llamada a Grupo de Entregas - Erika Medina"},{"$f":"+'[7]conmutador Nov'!R149","v":"Atención al ciudadano"},{"$f":"+'[7]conmutador Nov'!S149","v":"Ciudadano"},"07 Bosa"]
[279,2022,"NOVIEMBRE",{"$f":"+'[7]conmutador Nov'!B150","v":"2022-11-22"},{"$f":"+'[7]conmutador Nov'!C150","v":"14:55:00"},{"$f":"+'[7]conmutador Nov'!D150","v":"PAULA ALEJANDRA MARTÍNEZ CALDERÓN "},"TELEFÓNICO",{"$f":"+'[7]conmutador Nov'!E150","v":"Conmutador"},"Sin datos",{"$f":"+'[7]conmutador Nov'!J150","v":"Ciudadanía"},{"$f":"+'[7]conmutador Nov'!G150","v":"LINA CORTES"},{"$f":"+[7]!Tabla1[[#This Row],[GRUPO DE VALOR]]","v":"Ciudadanía"},{"$f":"+[7]!Tabla1[[#This Row],[NOMBRE DEL GRUPO DE VALOR]]","v":"LINA CORTES"},{"$f":"+'[7]conmutador Nov'!K150","v":"Femenino"},{"$f":"+'[7]conmutador Nov'!L150","v":"Mujer"},"Sin datos","Sin datos","Sin datos","Sin datos",{"$f":"+'[7]conmutador Nov'!N150","v":"Consulta"},{"$f":"+'[7]conmutador Nov'!O150","v":"Consulta general"},{"$f":"+'[7]conmutador Nov'!P150","v":"Competencia otras entidades"},{"$f":"+'[7]conmutador Nov'!Q150","v":"Consulta posibilidad cierre de vía"},{"$f":"+'[7]conmutador Nov'!R150","v":"Atención al ciudadano"},{"$f":"+'[7]conmutador Nov'!S150","v":"Ciudadano"},"01 Usaquén"]
[280,2022,"NOVIEMBRE",{"$f":"+'[7]conmutador Nov'!B151","v":"2022-11-22"},{"$f":"+'[7]conmutador Nov'!C151","v":"15:05:00"},{"$f":"+'[7]conmutador Nov'!D151","v":"PAULA ALEJANDRA MARTÍNEZ CALDERÓN "},"TELEFÓNICO",{"$f":"+'[7]conmutador Nov'!E151","v":"Conmutador"},"Sin datos",{"$f":"+'[7]conmutador Nov'!J151","v":"Ciudadanía"},{"$f":"+'[7]conmutador Nov'!G151","v":"GLORIA BLANCO"},{"$f":"+[7]!Tabla1[[#This Row],[GRUPO DE VALOR]]","v":"Ciudadanía"},{"$f":"+[7]!Tabla1[[#This Row],[NOMBRE DEL GRUPO DE VALOR]]","v":"GLORIA BLANCO"},{"$f":"+'[7]conmutador Nov'!K151","v":"Femenino"},{"$f":"+'[7]conmutador Nov'!L151","v":"Mujer"},"Sin datos","Sin datos","Sin datos","Sin datos",{"$f":"+'[7]conmutador Nov'!N151","v":"Consulta"},{"$f":"+'[7]conmutador Nov'!O151","v":"Asesoría en administración y sostenibilidad del espacio público"},{"$f":"+'[7]conmutador Nov'!P151","v":"Competencia otras entidades"},{"$f":"+'[7]conmutador Nov'!Q151","v":"Ubicación publicidad exterior visual"},{"$f":"+'[7]conmutador Nov'!R151","v":"Atención al ciudadano"},{"$f":"+'[7]conmutador Nov'!S151","v":"Ciudadano"},"13 Teusaquillo"]
[281,2022,"NOVIEMBRE",{"$f":"+'[7]conmutador Nov'!B152","v":"2022-11-22"},{"$f":"+'[7]conmutador Nov'!C152","v":"15:22:00"},"LILIANA AGUILAR PUENTES","TELEFÓNICO",{"$f":"+'[7]conmutador Nov'!E152","v":"Conmutador"},"Sin datos",{"$f":"+'[7]conmutador Nov'!J152","v":"Ciudadanía"},{"$f":"+'[7]conmutador Nov'!G152","v":"ROSA DE BEJARANO"},{"$f":"+[7]!Tabla1[[#This Row],[GRUPO DE VALOR]]","v":"Ciudadanía"},{"$f":"+[7]!Tabla1[[#This Row],[NOMBRE DEL GRUPO DE VALOR]]","v":"ROSA DE BEJARANO"},{"$f":"+'[7]conmutador Nov'!K152","v":"Femenino"},{"$f":"+'[7]conmutador Nov'!L152","v":"Mujer"},"Sin datos","Sin datos","Sin datos","Sin datos",{"$f":"+'[7]conmutador Nov'!N152","v":"Consulta"},{"$f":"+'[7]conmutador Nov'!O152","v":"Consulta general"},{"$f":"+'[7]conmutador Nov'!P152","v":"Transferencia de llamada personal"},{"$f":"+'[7]conmutador Nov'!Q152","v":"Transferencia de llamada a Guillermo Bejarano"},{"$f":"+'[7]conmutador Nov'!R152","v":"Atención al ciudadano"},{"$f":"+'[7]conmutador Nov'!S152","v":"Ciudadano"},{"$f":"+'[7]conmutador Nov'!T152","v":"No Registra"}]
[282,2022,"NOVIEMBRE",{"$f":"+'[7]conmutador Nov'!B153","v":"2022-11-22"},{"$f":"+'[7]conmutador Nov'!C153","v":"16:14:00"},{"$f":"+'[7]conmutador Nov'!D153","v":"PAULA ALEJANDRA MARTÍNEZ CALDERÓN "},"TELEFÓNICO",{"$f":"+'[7]conmutador Nov'!E153","v":"Conmutador"},"Sin datos",{"$f":"+'[7]conmutador Nov'!J153","v":"Ciudadanía"},{"$f":"+'[7]conmutador Nov'!G153","v":"YUDY CARDENAS"},{"$f":"+[7]!Tabla1[[#This Row],[GRUPO DE VALOR]]","v":"Ciudadanía"},{"$f":"+[7]!Tabla1[[#This Row],[NOMBRE DEL GRUPO DE VALOR]]","v":"YUDY CARDENAS"},{"$f":"+'[7]conmutador Nov'!K153","v":"Femenino"},{"$f":"+'[7]conmutador Nov'!L153","v":"Mujer"},"Sin datos","Sin datos","Sin datos","Sin datos",{"$f":"+'[7]conmutador Nov'!N153","v":"Consulta"},{"$f":"+'[7]conmutador Nov'!O153","v":"Asesoría en administración y sostenibilidad del espacio público"},{"$f":"+'[7]conmutador Nov'!P153","v":"Denuncia ventas informales"},{"$f":"+'[7]conmutador Nov'!Q153","v":"Denuncia ventas informales en la cuadra "},{"$f":"+'[7]conmutador Nov'!R153","v":"Atención al ciudadano"},{"$f":"+'[7]conmutador Nov'!S153","v":"Ciudadano"},"08 Kennedy"]
[283,2022,"NOVIEMBRE",{"$f":"+'[7]conmutador Nov'!B154","v":"2022-11-23"},{"$f":"+'[7]conmutador Nov'!C154","v":"07:15:00"},{"$f":"+'[7]conmutador Nov'!D154","v":"PAULA ALEJANDRA MARTÍNEZ CALDERÓN "},"TELEFÓNICO",{"$f":"+'[7]conmutador Nov'!E154","v":"Conmutador"},"Sin datos",{"$f":"+'[7]conmutador Nov'!J154","v":"Anónimo"},{"$f":"+'[7]conmutador Nov'!G154","v":"ANÓNIMO"},{"$f":"+[7]!Tabla1[[#This Row],[GRUPO DE VALOR]]","v":"Anónimo"},{"$f":"+[7]!Tabla1[[#This Row],[NOMBRE DEL GRUPO DE VALOR]]","v":"ANÓNIMO"},{"$f":"+'[7]conmutador Nov'!K154","v":"Femenino"},{"$f":"+'[7]conmutador Nov'!L154","v":"Mujer"},"Sin datos","Sin datos","Sin datos","Sin datos",{"$f":"+'[7]conmutador Nov'!N154","v":"Consulta"},{"$f":"+'[7]conmutador Nov'!O154","v":"Asesoría en administración y sostenibilidad del espacio público"},{"$f":"+'[7]conmutador Nov'!P154","v":"Recuperación de espacio público"},{"$f":"+'[7]conmutador Nov'!Q154","v":"Ocupación Parque 11-042 Puente Largo "},{"$f":"+'[7]conmutador Nov'!R154","v":"Atención al ciudadano"},{"$f":"+'[7]conmutador Nov'!S154","v":"Ciudadano"},"11 Suba"]
[284,2022,"NOVIEMBRE",{"$f":"+'[7]conmutador Nov'!B155","v":"2022-11-23"},{"$f":"+'[7]conmutador Nov'!C155","v":"10:57:00"},"LILIANA AGUILAR PUENTES","TELEFÓNICO",{"$f":"+'[7]conmutador Nov'!E155","v":"Conmutador"},"Sin datos",{"$f":"+'[7]conmutador Nov'!J155","v":"Ciudadanía"},{"$f":"+'[7]conmutador Nov'!G155","v":"DAYAN GODOY"},{"$f":"+[7]!Tabla1[[#This Row],[GRUPO DE VALOR]]","v":"Ciudadanía"},{"$f":"+[7]!Tabla1[[#This Row],[NOMBRE DEL GRUPO DE VALOR]]","v":"DAYAN GODOY"},{"$f":"+'[7]conmutador Nov'!K155","v":"Masculino"},{"$f":"+'[7]conmutador Nov'!L155","v":"Hombre "},"Sin datos","Sin datos","Sin datos","Sin datos",{"$f":"+'[7]conmutador Nov'!N155","v":"Consulta"},{"$f":"+'[7]conmutador Nov'!O155","v":"Asesoría en administración y sostenibilidad del espacio público"},{"$f":"+'[7]conmutador Nov'!P155","v":"Competencia otras entidades"},{"$f":"+'[7]conmutador Nov'!Q155","v":"Intervención fachadas predio colindante del IDU"},{"$f":"+'[7]conmutador Nov'!R155","v":"Atención al ciudadano"},{"$f":"+'[7]conmutador Nov'!S155","v":"Ciudadano"},"11 Suba"]
[285,2022,"NOVIEMBRE",{"$f":"+'[7]conmutador Nov'!B156","v":"2022-11-23"},{"$f":"+'[7]conmutador Nov'!C156","v":"11:22:00"},{"$f":"+'[7]conmutador Nov'!D156","v":"PAULA ALEJANDRA MARTÍNEZ CALDERÓN "},"TELEFÓNICO",{"$f":"+'[7]conmutador Nov'!E156","v":"Conmutador"},"Sin datos",{"$f":"+'[7]conmutador Nov'!J156","v":"Ciudadanía"},{"$f":"+'[7]conmutador Nov'!G156","v":"JULIETH PEÑA"},{"$f":"+[7]!Tabla1[[#This Row],[GRUPO DE VALOR]]","v":"Ciudadanía"},{"$f":"+[7]!Tabla1[[#This Row],[NOMBRE DEL GRUPO DE VALOR]]","v":"JULIETH PEÑA"},{"$f":"+'[7]conmutador Nov'!K156","v":"Femenino"},{"$f":"+'[7]conmutador Nov'!L156","v":"Mujer"},"Sin datos","Sin datos","Sin datos","Sin datos",{"$f":"+'[7]conmutador Nov'!N156","v":"Consulta"},{"$f":"+'[7]conmutador Nov'!O156","v":"Consulta general"},{"$f":"+'[7]conmutador Nov'!P156","v":"Competencia otras entidades"},{"$f":"+'[7]conmutador Nov'!Q156","v":"Consultar asignación puestos en las Plazas de Mercado, corresponde al Instituto para la Economía Social -IPES"},{"$f":"+'[7]conmutador Nov'!R156","v":"Atención al ciudadano"},{"$f":"+'[7]conmutador Nov'!S156","v":"Ciudadano"},{"$f":"+'[7]conmutador Nov'!T156","v":"No Registra"}]
[286,2022,"NOVIEMBRE",{"$f":"+'[7]conmutador Nov'!B157","v":"2022-11-23"},{"$f":"+'[7]conmutador Nov'!C157","v":"13:06:00"},{"$f":"+'[7]conmutador Nov'!D157","v":"PAULA ALEJANDRA MARTÍNEZ CALDERÓN "},"TELEFÓNICO",{"$f":"+'[7]conmutador Nov'!E157","v":"Conmutador"},"Sin datos",{"$f":"+'[7]conmutador Nov'!J157","v":"Ciudadanía"},{"$f":"+'[7]conmutador Nov'!G157","v":"JONATHAN GOMEZ"},{"$f":"+[7]!Tabla1[[#This Row],[GRUPO DE VALOR]]","v":"Ciudadanía"},{"$f":"+[7]!Tabla1[[#This Row],[NOMBRE DEL GRUPO DE VALOR]]","v":"JONATHAN GOMEZ"},{"$f":"+'[7]conmutador Nov'!K157","v":"Masculino"},{"$f":"+'[7]conmutador Nov'!L157","v":"Hombre "},"Sin datos","Sin datos","Sin datos","Sin datos",{"$f":"+'[7]conmutador Nov'!N157","v":"Asesoría"},{"$f":"+'[7]conmutador Nov'!O157","v":"Asesoría en administración y sostenibilidad del espacio público"},{"$f":"+'[7]conmutador Nov'!P157","v":"Denuncia extensión actividad comercial sobre zona de suo publico"},{"$f":"+'[7]conmutador Nov'!Q157","v":"Solicitud permisos por extensión de actividad comercial"},{"$f":"+'[7]conmutador Nov'!R157","v":"Atención al ciudadano"},{"$f":"+'[7]conmutador Nov'!S157","v":"Ciudadano"},"05 Usme"]
[287,2022,"NOVIEMBRE",{"$f":"+'[7]conmutador Nov'!B158","v":"2022-11-23"},{"$f":"+'[7]conmutador Nov'!C158","v":"14:03:00"},{"$f":"+'[7]conmutador Nov'!D158","v":"PAULA ALEJANDRA MARTÍNEZ CALDERÓN "},"TELEFÓNICO",{"$f":"+'[7]conmutador Nov'!E158","v":"Conmutador"},"Sin datos",{"$f":"+'[7]conmutador Nov'!J158","v":"Ciudadanía"},{"$f":"+'[7]conmutador Nov'!G158","v":"JUAN CARLOS VASQUEZ"},{"$f":"+[7]!Tabla1[[#This Row],[GRUPO DE VALOR]]","v":"Ciudadanía"},{"$f":"+[7]!Tabla1[[#This Row],[NOMBRE DEL GRUPO DE VALOR]]","v":"JUAN CARLOS VASQUEZ"},{"$f":"+'[7]conmutador Nov'!K158","v":"Masculino"},{"$f":"+'[7]conmutador Nov'!L158","v":"Hombre "},"Sin datos","Sin datos","Sin datos","Sin datos",{"$f":"+'[7]conmutador Nov'!N158","v":"Consulta"},{"$f":"+'[7]conmutador Nov'!O158","v":"Asesoría en administración y sostenibilidad del espacio público"},{"$f":"+'[7]conmutador Nov'!P158","v":"Competencia otras entidades"},{"$f":"+'[7]conmutador Nov'!Q158","v":"Cambio de uso rural y uso urbano"},{"$f":"+'[7]conmutador Nov'!R158","v":"Atención al ciudadano"},{"$f":"+'[7]conmutador Nov'!S158","v":"Ciudadano"},"11 Suba"]
[288,2022,"NOVIEMBRE",{"$f":"+'[7]conmutador Nov'!B159","v":"2022-11-23"},{"$f":"+'[7]conmutador Nov'!C159","v":"14:36:00"},{"$f":"+'[7]conmutador Nov'!D159","v":"PAULA ALEJANDRA MARTÍNEZ CALDERÓN "},"TELEFÓNICO",{"$f":"+'[7]conmutador Nov'!E159","v":"Conmutador"},"Sin datos",{"$f":"+'[7]conmutador Nov'!J159","v":"Ciudadanía"},{"$f":"+'[7]conmutador Nov'!G159","v":"EDINSON"},{"$f":"+[7]!Tabla1[[#This Row],[GRUPO DE VALOR]]","v":"Ciudadanía"},{"$f":"+[7]!Tabla1[[#This Row],[NOMBRE DEL GRUPO DE VALOR]]","v":"EDINSON"},{"$f":"+'[7]conmutador Nov'!K159","v":"Masculino"},{"$f":"+'[7]conmutador Nov'!L159","v":"Hombre "},"Sin datos","Sin datos","Sin datos","Sin datos",{"$f":"+'[7]conmutador Nov'!N159","v":"Asesoría"},{"$f":"+'[7]conmutador Nov'!O159","v":"Certificación de la propiedad inmobiliaria distrital"},{"$f":"+'[7]conmutador Nov'!P159","v":"Certificación de la propiedad inmobiliaria"},{"$f":"+'[7]conmutador Nov'!Q159","v":"Expedición Certificado de Bienes de Uso Público - Sector Central "},{"$f":"+'[7]conmutador Nov'!R159","v":"Atención al ciudadano"},{"$f":"+'[7]conmutador Nov'!S159","v":"Ciudadano"},"09 Fontibón"]
[289,2022,"NOVIEMBRE",{"$f":"+'[7]conmutador Nov'!B160","v":"2022-11-23"},{"$f":"+'[7]conmutador Nov'!C160","v":"15:35:00"},{"$f":"+'[7]conmutador Nov'!D160","v":"PAULA ALEJANDRA MARTÍNEZ CALDERÓN "},"TELEFÓNICO",{"$f":"+'[7]conmutador Nov'!E160","v":"Conmutador"},"Sin datos",{"$f":"+'[7]conmutador Nov'!J160","v":"Ciudadanía"},{"$f":"+'[7]conmutador Nov'!G160","v":"DIEGO HERNÁNDEZ"},{"$f":"+[7]!Tabla1[[#This Row],[GRUPO DE VALOR]]","v":"Ciudadanía"},{"$f":"+[7]!Tabla1[[#This Row],[NOMBRE DEL GRUPO DE VALOR]]","v":"DIEGO HERNÁNDEZ"},{"$f":"+'[7]conmutador Nov'!K160","v":"Masculino"},{"$f":"+'[7]conmutador Nov'!L160","v":"Hombre "},"Sin datos","Sin datos","Sin datos","Sin datos",{"$f":"+'[7]conmutador Nov'!N160","v":"Asesoría"},{"$f":"+'[7]conmutador Nov'!O160","v":"Asesoría en administración y sostenibilidad del espacio público"},{"$f":"+'[7]conmutador Nov'!P160","v":"Asesoría en temas de espacio público"},{"$f":"+'[7]conmutador Nov'!Q160","v":"Bogotá a Cielo Abierto y como instalar un Footruck"},{"$f":"+'[7]conmutador Nov'!R160","v":"Atención al ciudadano"},{"$f":"+'[7]conmutador Nov'!S160","v":"Ciudadano"},"08 Kennedy"]
[290,2022,"NOVIEMBRE",{"$f":"+'[7]conmutador Nov'!B161","v":"2022-11-24"},{"$f":"+'[7]conmutador Nov'!C161","v":"07:35:00"},{"$f":"+'[7]conmutador Nov'!D161","v":"PAULA ALEJANDRA MARTÍNEZ CALDERÓN "},"TELEFÓNICO",{"$f":"+'[7]conmutador Nov'!E161","v":"Conmutador"},"Sin datos",{"$f":"+'[7]conmutador Nov'!J161","v":"Anónimo"},{"$f":"+'[7]conmutador Nov'!G161","v":"ANÓNIMO"},{"$f":"+[7]!Tabla1[[#This Row],[GRUPO DE VALOR]]","v":"Anónimo"},{"$f":"+[7]!Tabla1[[#This Row],[NOMBRE DEL GRUPO DE VALOR]]","v":"ANÓNIMO"},{"$f":"+'[7]conmutador Nov'!K161","v":"Femenino"},{"$f":"+'[7]conmutador Nov'!L161","v":"Mujer"},"Sin datos","Sin datos","Sin datos","Sin datos",{"$f":"+'[7]conmutador Nov'!N161","v":"Consulta"},{"$f":"+'[7]conmutador Nov'!O161","v":"Consulta general"},{"$f":"+'[7]conmutador Nov'!P161","v":"Competencia otras entidades"},{"$f":"+'[7]conmutador Nov'!Q161","v":"Llamada Defensoría del Pueblo"},{"$f":"+'[7]conmutador Nov'!R161","v":"Atención al ciudadano"},{"$f":"+'[7]conmutador Nov'!S161","v":"Ciudadano"},{"$f":"+'[7]conmutador Nov'!T161","v":"No Registra"}]
[291,2022,"NOVIEMBRE",{"$f":"+'[7]conmutador Nov'!B162","v":"2022-11-24"},{"$f":"+'[7]conmutador Nov'!C162","v":"20:25:00"},"LILIANA AGUILAR PUENTES","TELEFÓNICO",{"$f":"+'[7]conmutador Nov'!E162","v":"Conmutador"},"Sin datos",{"$f":"+'[7]conmutador Nov'!J162","v":"Ciudadanía"},{"$f":"+'[7]conmutador Nov'!G162","v":"LUZ MARINA REAL"},{"$f":"+[7]!Tabla1[[#This Row],[GRUPO DE VALOR]]","v":"Ciudadanía"},{"$f":"+[7]!Tabla1[[#This Row],[NOMBRE DEL GRUPO DE VALOR]]","v":"LUZ MARINA REAL"},{"$f":"+'[7]conmutador Nov'!K162","v":"Femenino"},{"$f":"+'[7]conmutador Nov'!L162","v":"Mujer"},"Sin datos","Sin datos","Sin datos","Sin datos",{"$f":"+'[7]conmutador Nov'!N162","v":"Asesoría"},{"$f":"+'[7]conmutador Nov'!O162","v":"Asesoría en administración y sostenibilidad del espacio público"},{"$f":"+'[7]conmutador Nov'!P162","v":"Asesoría en temas de espacio público"},{"$f":"+'[7]conmutador Nov'!Q162","v":"Queja frente a ocupación CL 161 51 40"},{"$f":"+'[7]conmutador Nov'!R162","v":"Atención al ciudadano"},{"$f":"+'[7]conmutador Nov'!S162","v":"Ciudadano"},"11 Suba"]
[292,2022,"NOVIEMBRE",{"$f":"+'[7]conmutador Nov'!B163","v":"2022-11-24"},{"$f":"+'[7]conmutador Nov'!C163","v":"11:25:00"},{"$f":"+'[7]conmutador Nov'!D163","v":"PAULA ALEJANDRA MARTÍNEZ CALDERÓN "},"TELEFÓNICO",{"$f":"+'[7]conmutador Nov'!E163","v":"Conmutador"},"Sin datos",{"$f":"+'[7]conmutador Nov'!J163","v":"Ciudadanía"},{"$f":"+'[7]conmutador Nov'!G163","v":"GIOVANNI ROZO"},{"$f":"+[7]!Tabla1[[#This Row],[GRUPO DE VALOR]]","v":"Ciudadanía"},{"$f":"+[7]!Tabla1[[#This Row],[NOMBRE DEL GRUPO DE VALOR]]","v":"GIOVANNI ROZO"},{"$f":"+'[7]conmutador Nov'!K163","v":"Masculino"},{"$f":"+'[7]conmutador Nov'!L163","v":"Hombre "},"Sin datos","Sin datos","Sin datos","Sin datos",{"$f":"+'[7]conmutador Nov'!N163","v":"Consulta"},{"$f":"+'[7]conmutador Nov'!O163","v":"Consulta general"},{"$f":"+'[7]conmutador Nov'!P163","v":"Consulta radicado"},{"$f":"+'[7]conmutador Nov'!Q163","v":"Consulta radicado 20222010181691"},{"$f":"+'[7]conmutador Nov'!R163","v":"Atención al ciudadano"},{"$f":"+'[7]conmutador Nov'!S163","v":"Ciudadano"},"11 Suba"]
[293,2022,"NOVIEMBRE",{"$f":"+'[7]conmutador Nov'!B164","v":"2022-11-24"},{"$f":"+'[7]conmutador Nov'!C164","v":"11:36:00"},{"$f":"+'[7]conmutador Nov'!D164","v":"PAULA ALEJANDRA MARTÍNEZ CALDERÓN "},"TELEFÓNICO",{"$f":"+'[7]conmutador Nov'!E164","v":"Conmutador"},"Sin datos",{"$f":"+'[7]conmutador Nov'!J164","v":"Universidades / Estudiantes"},{"$f":"+'[7]conmutador Nov'!G164","v":"DAVID MAURICIO FORERO"},{"$f":"+[7]!Tabla1[[#This Row],[GRUPO DE VALOR]]","v":"Universidades / Estudiantes"},{"$f":"+[7]!Tabla1[[#This Row],[NOMBRE DEL GRUPO DE VALOR]]","v":"DAVID MAURICIO FORERO"},{"$f":"+'[7]conmutador Nov'!K164","v":"Masculino"},{"$f":"+'[7]conmutador Nov'!L164","v":"Hombre "},"Sin datos","Sin datos","Sin datos","Sin datos",{"$f":"+'[7]conmutador Nov'!N164","v":"Consulta"},{"$f":"+'[7]conmutador Nov'!O164","v":"Asesoría en administración y sostenibilidad del espacio público"},{"$f":"+'[7]conmutador Nov'!P164","v":"Desempeño de la entidad"},{"$f":"+'[7]conmutador Nov'!Q164","v":"Conocer la formación del Código RUPI y asesoria en incorporación al inventario de patrimonio distrital"},{"$f":"+'[7]conmutador Nov'!R164","v":"Atención al ciudadano"},{"$f":"+'[7]conmutador Nov'!S164","v":"Ciudadano"},{"$f":"+'[7]conmutador Nov'!T164","v":"17 La Candelaria"}]
[294,2022,"NOVIEMBRE",{"$f":"+'[7]conmutador Nov'!B165","v":"2022-11-24"},{"$f":"+'[7]conmutador Nov'!C165","v":"01:36:00"},{"$f":"+'[7]conmutador Nov'!D165","v":"PAULA ALEJANDRA MARTÍNEZ CALDERÓN "},"TELEFÓNICO",{"$f":"+'[7]conmutador Nov'!E165","v":"Conmutador"},"Sin datos",{"$f":"+'[7]conmutador Nov'!J165","v":"Ciudadanía"},{"$f":"+'[7]conmutador Nov'!G165","v":"MAYERLY"},{"$f":"+[7]!Tabla1[[#This Row],[GRUPO DE VALOR]]","v":"Ciudadanía"},{"$f":"+[7]!Tabla1[[#This Row],[NOMBRE DEL GRUPO DE VALOR]]","v":"MAYERLY"},{"$f":"+'[7]conmutador Nov'!K165","v":"Femenino"},{"$f":"+'[7]conmutador Nov'!L165","v":"Mujer"},"Sin datos","Sin datos","Sin datos","Sin datos",{"$f":"+'[7]conmutador Nov'!N165","v":"Asesoría"},{"$f":"+'[7]conmutador Nov'!O165","v":"Asesoría en administración y sostenibilidad del espacio público"},{"$f":"+'[7]conmutador Nov'!P165","v":"Denuncia Cerramiento"},{"$f":"+'[7]conmutador Nov'!Q165","v":"Denuncia ocupación espacio público CRA 80D 7B 83 EN LA URBANIZACION SENDEROS DE CASTILLA EN LA LOCALIDAD DE KENNEDY."},{"$f":"+'[7]conmutador Nov'!R165","v":"Atención al ciudadano"},{"$f":"+'[7]conmutador Nov'!S165","v":"Ciudadano"},"08 Kennedy"]
[295,2022,"NOVIEMBRE",{"$f":"+'[7]conmutador Nov'!B166","v":"2022-11-24"},{"$f":"+'[7]conmutador Nov'!C166","v":"14:55:00"},{"$f":"+'[7]conmutador Nov'!D166","v":"PAULA ALEJANDRA MARTÍNEZ CALDERÓN "},"TELEFÓNICO",{"$f":"+'[7]conmutador Nov'!E166","v":"Conmutador"},"Sin datos",{"$f":"+'[7]conmutador Nov'!J166","v":"Ciudadanía"},{"$f":"+'[7]conmutador Nov'!G166","v":"MAYERLY"},{"$f":"+[7]!Tabla1[[#This Row],[GRUPO DE VALOR]]","v":"Ciudadanía"},{"$f":"+[7]!Tabla1[[#This Row],[NOMBRE DEL GRUPO DE VALOR]]","v":"MAYERLY"},{"$f":"+'[7]conmutador Nov'!K166","v":"Femenino"},{"$f":"+'[7]conmutador Nov'!L166","v":"Mujer"},"Sin datos","Sin datos","Sin datos","Sin datos",{"$f":"+'[7]conmutador Nov'!N166","v":"Asesoría"},{"$f":"+'[7]conmutador Nov'!O166","v":"Asesoría en administración y sostenibilidad del espacio público"},{"$f":"+'[7]conmutador Nov'!P166","v":"Denuncia Cerramiento"},{"$f":"+'[7]conmutador Nov'!Q166","v":"Denuncia ocupación espacio público CRA 80D 7B 83 EN LA URBANIZACION SENDEROS DE CASTILLA EN LA LOCALIDAD DE KENNEDY."},{"$f":"+'[7]conmutador Nov'!R166","v":"Atención al ciudadano"},{"$f":"+'[7]conmutador Nov'!S166","v":"Ciudadano"},"08 Kennedy"]
[296,2022,"NOVIEMBRE",{"$f":"+'[7]conmutador Nov'!B167","v":"2022-11-25"},{"$f":"+'[7]conmutador Nov'!C167","v":"07:20:00"},{"$f":"+'[7]conmutador Nov'!D167","v":"PAULA ALEJANDRA MARTÍNEZ CALDERÓN "},"TELEFÓNICO",{"$f":"+'[7]conmutador Nov'!E167","v":"Conmutador"},"Sin datos",{"$f":"+'[7]conmutador Nov'!J167","v":"Ciudadanía"},{"$f":"+'[7]conmutador Nov'!G167","v":"MARÍA ELSY "},{"$f":"+[7]!Tabla1[[#This Row],[GRUPO DE VALOR]]","v":"Ciudadanía"},{"$f":"+[7]!Tabla1[[#This Row],[NOMBRE DEL GRUPO DE VALOR]]","v":"MARÍA ELSY "},{"$f":"+'[7]conmutador Nov'!K167","v":"Femenino"},{"$f":"+'[7]conmutador Nov'!L167","v":"Mujer"},"Sin datos","Sin datos","Sin datos","Sin datos",{"$f":"+'[7]conmutador Nov'!N167","v":"Consulta"},{"$f":"+'[7]conmutador Nov'!O167","v":"Consulta general"},{"$f":"+'[7]conmutador Nov'!P167","v":"Transferencia de llamada personal"},{"$f":"+'[7]conmutador Nov'!Q167","v":"Transferencia de llamada a Arq. Daniel García"},{"$f":"+'[7]conmutador Nov'!R167","v":"Atención al ciudadano"},{"$f":"+'[7]conmutador Nov'!S167","v":"Ciudadano"},{"$f":"+'[7]conmutador Nov'!T167","v":"No Registra"}]
[297,2022,"NOVIEMBRE",{"$f":"+'[7]conmutador Nov'!B168","v":"2022-11-25"},{"$f":"+'[7]conmutador Nov'!C168","v":"08:23:00"},{"$f":"+'[7]conmutador Nov'!D168","v":"PAULA ALEJANDRA MARTÍNEZ CALDERÓN "},"TELEFÓNICO",{"$f":"+'[7]conmutador Nov'!E168","v":"Conmutador"},"Sin datos",{"$f":"+'[7]conmutador Nov'!J168","v":"Ciudadanía"},{"$f":"+'[7]conmutador Nov'!G168","v":"EMPERATRIZ DUARTE"},{"$f":"+[7]!Tabla1[[#This Row],[GRUPO DE VALOR]]","v":"Ciudadanía"},{"$f":"+[7]!Tabla1[[#This Row],[NOMBRE DEL GRUPO DE VALOR]]","v":"EMPERATRIZ DUARTE"},{"$f":"+'[7]conmutador Nov'!K168","v":"Femenino"},{"$f":"+'[7]conmutador Nov'!L168","v":"Mujer"},"Sin datos","Sin datos","Sin datos","Sin datos",{"$f":"+'[7]conmutador Nov'!N168","v":"Consulta"},{"$f":"+'[7]conmutador Nov'!O168","v":"Consulta general"},{"$f":"+'[7]conmutador Nov'!P168","v":"Consulta radicado"},{"$f":"+'[7]conmutador Nov'!Q168","v":"Consulta radicado 2024000256492"},{"$f":"+'[7]conmutador Nov'!R168","v":"Atención al ciudadano"},{"$f":"+'[7]conmutador Nov'!S168","v":"Ciudadano"},"11 Suba"]
[298,2022,"NOVIEMBRE",{"$f":"+'[7]conmutador Nov'!B169","v":"2022-11-25"},{"$f":"+'[7]conmutador Nov'!C169","v":"08:45:00"},{"$f":"+'[7]conmutador Nov'!D169","v":"PAULA ALEJANDRA MARTÍNEZ CALDERÓN "},"TELEFÓNICO",{"$f":"+'[7]conmutador Nov'!E169","v":"Conmutador"},"Sin datos",{"$f":"+'[7]conmutador Nov'!J169","v":"Ciudadanía"},{"$f":"+'[7]conmutador Nov'!G169","v":"NUBIA REAL"},{"$f":"+[7]!Tabla1[[#This Row],[GRUPO DE VALOR]]","v":"Ciudadanía"},{"$f":"+[7]!Tabla1[[#This Row],[NOMBRE DEL GRUPO DE VALOR]]","v":"NUBIA REAL"},{"$f":"+'[7]conmutador Nov'!K169","v":"Femenino"},{"$f":"+'[7]conmutador Nov'!L169","v":"Mujer"},"Sin datos","Sin datos","Sin datos","Sin datos",{"$f":"+'[7]conmutador Nov'!N169","v":"Asesoría"},{"$f":"+'[7]conmutador Nov'!O169","v":"Asesoría en administración y sostenibilidad del espacio público"},{"$f":"+'[7]conmutador Nov'!P169","v":"Asesoría en temas de espacio público"},{"$f":"+'[7]conmutador Nov'!Q169","v":"Queja frente a ocupación CL 161 51 40"},{"$f":"+'[7]conmutador Nov'!R169","v":"Atención al ciudadano"},{"$f":"+'[7]conmutador Nov'!S169","v":"Ciudadano"},"11 Suba"]
[299,2022,"NOVIEMBRE",{"$f":"+'[7]conmutador Nov'!B170","v":"2022-11-25"},{"$f":"+'[7]conmutador Nov'!C170","v":"09:15:00"},{"$f":"+'[7]conmutador Nov'!D170","v":"PAULA ALEJANDRA MARTÍNEZ CALDERÓN "},"TELEFÓNICO",{"$f":"+'[7]conmutador Nov'!E170","v":"Conmutador"},"Sin datos",{"$f":"+'[7]conmutador Nov'!J170","v":"Anónimo"},{"$f":"+'[7]conmutador Nov'!G170","v":"ANÓNIMO"},{"$f":"+[7]!Tabla1[[#This Row],[GRUPO DE VALOR]]","v":"Anónimo"},{"$f":"+[7]!Tabla1[[#This Row],[NOMBRE DEL GRUPO DE VALOR]]","v":"ANÓNIMO"},{"$f":"+'[7]conmutador Nov'!K170","v":"Masculino"},{"$f":"+'[7]conmutador Nov'!L170","v":"Hombre "},"Sin datos","Sin datos","Sin datos","Sin datos",{"$f":"+'[7]conmutador Nov'!N170","v":"Consulta"},{"$f":"+'[7]conmutador Nov'!O170","v":"Consulta general"},{"$f":"+'[7]conmutador Nov'!P170","v":"Información pública"},{"$f":"+'[7]conmutador Nov'!Q170","v":"Numero equivocado"},{"$f":"+'[7]conmutador Nov'!R170","v":"Atención al ciudadano"},{"$f":"+'[7]conmutador Nov'!S170","v":"Ciudadano"},{"$f":"+'[7]conmutador Nov'!T170","v":"No Registra"}]
[300,2022,"NOVIEMBRE",{"$f":"+'[7]conmutador Nov'!B171","v":"2022-11-25"},{"$f":"+'[7]conmutador Nov'!C171","v":"09:03:00"},{"$f":"+'[7]conmutador Nov'!D171","v":"PAULA ALEJANDRA MARTÍNEZ CALDERÓN "},"TELEFÓNICO",{"$f":"+'[7]conmutador Nov'!E171","v":"Conmutador"},"Sin datos",{"$f":"+'[7]conmutador Nov'!J171","v":"Entidades y Organismos Nacionales"},{"$f":"+'[7]conmutador Nov'!G171","v":"AURA"},{"$f":"+[7]!Tabla1[[#This Row],[GRUPO DE VALOR]]","v":"Entidades y Organismos Nacionales"},{"$f":"+[7]!Tabla1[[#This Row],[NOMBRE DEL GRUPO DE VALOR]]","v":"AURA"},{"$f":"+'[7]conmutador Nov'!K171","v":"Femenino"},{"$f":"+'[7]conmutador Nov'!L171","v":"Mujer"},"Sin datos","Sin datos","Sin datos","Sin datos",{"$f":"+'[7]conmutador Nov'!N171","v":"Consulta"},{"$f":"+'[7]conmutador Nov'!O171","v":"Consulta general"},{"$f":"+'[7]conmutador Nov'!P171","v":"Transferencia de llamada"},{"$f":"+'[7]conmutador Nov'!Q171","v":"Transferencia de llamada Supervisores Convenio Interadministrativo Alcaldía de Cubarral Meta RUPI 265-05"},{"$f":"+'[7]conmutador Nov'!R171","v":"Trasladar"},{"$f":"+'[7]conmutador Nov'!S171","v":"SAI"},{"$f":"+'[7]conmutador Nov'!T171","v":"Fuera de Bogotá"}]
[301,2022,"NOVIEMBRE",{"$f":"+'[7]conmutador Nov'!B172","v":"2022-11-25"},{"$f":"+'[7]conmutador Nov'!C172","v":"09:25:00"},{"$f":"+'[7]conmutador Nov'!D172","v":"PAULA ALEJANDRA MARTÍNEZ CALDERÓN "},"TELEFÓNICO",{"$f":"+'[7]conmutador Nov'!E172","v":"Conmutador"},"Sin datos",{"$f":"+'[7]conmutador Nov'!J172","v":"Juntas de Acción Comunal (JAC)"},{"$f":"+'[7]conmutador Nov'!G172","v":"ALEJANDRO MARTINEZ"},{"$f":"+[7]!Tabla1[[#This Row],[GRUPO DE VALOR]]","v":"Juntas de Acción Comunal (JAC)"},{"$f":"+[7]!Tabla1[[#This Row],[NOMBRE DEL GRUPO DE VALOR]]","v":"ALEJANDRO MARTINEZ"},{"$f":"+'[7]conmutador Nov'!K172","v":"Masculino"},{"$f":"+'[7]conmutador Nov'!L172","v":"Hombre "},"Sin datos","Sin datos","Sin datos","Sin datos",{"$f":"+'[7]conmutador Nov'!N172","v":"Consulta"},{"$f":"+'[7]conmutador Nov'!O172","v":"Consulta general"},{"$f":"+'[7]conmutador Nov'!P172","v":"Transferencia de llamada"},{"$f":"+'[7]conmutador Nov'!Q172","v":"Transferencia de llamada Equipo de Supervisiones"},{"$f":"+'[7]conmutador Nov'!R172","v":"Trasladar"},{"$f":"+'[7]conmutador Nov'!S172","v":"SAI"},"11 Suba"]
[302,2022,"NOVIEMBRE",{"$f":"+'[7]conmutador Nov'!B173","v":"2022-11-25"},{"$f":"+'[7]conmutador Nov'!C173","v":"09:44:00"},{"$f":"+'[7]conmutador Nov'!D173","v":"PAULA ALEJANDRA MARTÍNEZ CALDERÓN "},"TELEFÓNICO",{"$f":"+'[7]conmutador Nov'!E173","v":"Conmutador"},"Sin datos",{"$f":"+'[7]conmutador Nov'!J173","v":"Ciudadanía"},{"$f":"+'[7]conmutador Nov'!G173","v":"JOAQUIN POSSE PAREDES"},{"$f":"+[7]!Tabla1[[#This Row],[GRUPO DE VALOR]]","v":"Ciudadanía"},{"$f":"+[7]!Tabla1[[#This Row],[NOMBRE DEL GRUPO DE VALOR]]","v":"JOAQUIN POSSE PAREDES"},{"$f":"+'[7]conmutador Nov'!K173","v":"Masculino"},{"$f":"+'[7]conmutador Nov'!L173","v":"Hombre "},"Sin datos","Sin datos","Sin datos","Sin datos",{"$f":"+'[7]conmutador Nov'!N173","v":"Consulta"},{"$f":"+'[7]conmutador Nov'!O173","v":"Consulta general"},{"$f":"+'[7]conmutador Nov'!P173","v":"Consulta radicado"},{"$f":"+'[7]conmutador Nov'!Q173","v":"Consultado estado radicado 20224000246672 y respuesta en radicado 20222030172751"},{"$f":"+'[7]conmutador Nov'!R173","v":"Atención al ciudadano"},{"$f":"+'[7]conmutador Nov'!S173","v":"Ciudadano"},{"$f":"+'[7]conmutador Nov'!T173","v":"No Registra"}]
[303,2022,"NOVIEMBRE",{"$f":"+'[7]conmutador Nov'!B174","v":"2022-11-25"},{"$f":"+'[7]conmutador Nov'!C174","v":"10:18:00"},{"$f":"+'[7]conmutador Nov'!D174","v":"PAULA ALEJANDRA MARTÍNEZ CALDERÓN "},"TELEFÓNICO",{"$f":"+'[7]conmutador Nov'!E174","v":"Conmutador"},"Sin datos",{"$f":"+'[7]conmutador Nov'!J174","v":"Ciudadanía"},{"$f":"+'[7]conmutador Nov'!G174","v":"JOAQUIN POSSE PAREDES"},{"$f":"+[7]!Tabla1[[#This Row],[GRUPO DE VALOR]]","v":"Ciudadanía"},{"$f":"+[7]!Tabla1[[#This Row],[NOMBRE DEL GRUPO DE VALOR]]","v":"JOAQUIN POSSE PAREDES"},{"$f":"+'[7]conmutador Nov'!K174","v":"Masculino"},{"$f":"+'[7]conmutador Nov'!L174","v":"Hombre "},"Sin datos","Sin datos","Sin datos","Sin datos",{"$f":"+'[7]conmutador Nov'!N174","v":"Consulta"},{"$f":"+'[7]conmutador Nov'!O174","v":"Consulta general"},{"$f":"+'[7]conmutador Nov'!P174","v":"Consulta radicado"},{"$f":"+'[7]conmutador Nov'!Q174","v":"Consultado estado radicado 20224000246672 y respuesta en radicado 20222030172751"},{"$f":"+'[7]conmutador Nov'!R174","v":"Atención al ciudadano"},{"$f":"+'[7]conmutador Nov'!S174","v":"Ciudadano"},{"$f":"+'[7]conmutador Nov'!T174","v":"No Registra"}]
[304,2022,"NOVIEMBRE",{"$f":"+'[7]conmutador Nov'!B175","v":"2022-11-25"},{"$f":"+'[7]conmutador Nov'!C175","v":"10:43:00"},{"$f":"+'[7]conmutador Nov'!D175","v":"PAULA ALEJANDRA MARTÍNEZ CALDERÓN "},"TELEFÓNICO",{"$f":"+'[7]conmutador Nov'!E175","v":"Conmutador"},"Sin datos",{"$f":"+'[7]conmutador Nov'!J175","v":"Ciudadanía"},{"$f":"+'[7]conmutador Nov'!G175","v":"IRMA ROZO"},{"$f":"+[7]!Tabla1[[#This Row],[GRUPO DE VALOR]]","v":"Ciudadanía"},{"$f":"+[7]!Tabla1[[#This Row],[NOMBRE DEL GRUPO DE VALOR]]","v":"IRMA ROZO"},{"$f":"+'[7]conmutador Nov'!K175","v":"Femenino"},{"$f":"+'[7]conmutador Nov'!L175","v":"Mujer"},"Sin datos","Sin datos","Sin datos","Sin datos",{"$f":"+'[7]conmutador Nov'!N175","v":"Asesoría"},{"$f":"+'[7]conmutador Nov'!O175","v":"Asesoría en administración y sostenibilidad del espacio público"},{"$f":"+'[7]conmutador Nov'!P175","v":"Denuncia extensión actividad comercial sobre zona de suo publico"},{"$f":"+'[7]conmutador Nov'!Q175","v":"Denuncia extensión actividad comercial de taller de motos"},{"$f":"+'[7]conmutador Nov'!R175","v":"Atención al ciudadano"},{"$f":"+'[7]conmutador Nov'!S175","v":"Ciudadano"},"16 Puente Aranda"]
[305,2022,"NOVIEMBRE",{"$f":"+'[7]conmutador Nov'!B176","v":"2022-11-25"},{"$f":"+'[7]conmutador Nov'!C176","v":"13:20:00"},{"$f":"+'[7]conmutador Nov'!D176","v":"PAULA ALEJANDRA MARTÍNEZ CALDERÓN "},"TELEFÓNICO",{"$f":"+'[7]conmutador Nov'!E176","v":"Conmutador"},"Sin datos",{"$f":"+'[7]conmutador Nov'!J176","v":"Ciudadanía"},{"$f":"+'[7]conmutador Nov'!G176","v":"MARÍA ARDILA"},{"$f":"+[7]!Tabla1[[#This Row],[GRUPO DE VALOR]]","v":"Ciudadanía"},{"$f":"+[7]!Tabla1[[#This Row],[NOMBRE DEL GRUPO DE VALOR]]","v":"MARÍA ARDILA"},{"$f":"+'[7]conmutador Nov'!K176","v":"Femenino"},{"$f":"+'[7]conmutador Nov'!L176","v":"Mujer"},"Sin datos","Sin datos","Sin datos","Sin datos",{"$f":"+'[7]conmutador Nov'!N176","v":"Consulta"},{"$f":"+'[7]conmutador Nov'!O176","v":"Consulta general"},{"$f":"+'[7]conmutador Nov'!P176","v":"Parqueaderos"},{"$f":"+'[7]conmutador Nov'!Q176","v":"Buena tarde me informan por favor como puedo verificar si adjudicaron un contrato de la localidad de BOSA LA CAPILLA Calle 62 SUR 79B - 29"},{"$f":"+'[7]conmutador Nov'!R176","v":"Atención al ciudadano"},{"$f":"+'[7]conmutador Nov'!S176","v":"Ciudadano"},"07 Bosa"]
[306,2022,"NOVIEMBRE",{"$f":"+'[7]conmutador Nov'!B177","v":"2022-11-25"},{"$f":"+'[7]conmutador Nov'!C177","v":"13:35:00"},{"$f":"+'[7]conmutador Nov'!D177","v":"PAULA ALEJANDRA MARTÍNEZ CALDERÓN "},"TELEFÓNICO",{"$f":"+'[7]conmutador Nov'!E177","v":"Conmutador"},"Sin datos",{"$f":"+'[7]conmutador Nov'!J177","v":"Ciudadanía"},{"$f":"+'[7]conmutador Nov'!G177","v":"LAURA URREA"},{"$f":"+[7]!Tabla1[[#This Row],[GRUPO DE VALOR]]","v":"Ciudadanía"},{"$f":"+[7]!Tabla1[[#This Row],[NOMBRE DEL GRUPO DE VALOR]]","v":"LAURA URREA"},{"$f":"+'[7]conmutador Nov'!K177","v":"Femenino"},{"$f":"+'[7]conmutador Nov'!L177","v":"Mujer"},"Sin datos","Sin datos","Sin datos","Sin datos",{"$f":"+'[7]conmutador Nov'!N177","v":"Consulta"},{"$f":"+'[7]conmutador Nov'!O177","v":"Consulta general"},{"$f":"+'[7]conmutador Nov'!P177","v":"Transferencia de llamada"},{"$f":"+'[7]conmutador Nov'!Q177","v":"Transferencia de llamada a Mesa de Ayuda"},{"$f":"+'[7]conmutador Nov'!R177","v":"Trasladar"},{"$f":"+'[7]conmutador Nov'!S177","v":"Atención al Ciudadano"},{"$f":"+'[7]conmutador Nov'!T177","v":"No Registra"}]
[307,2022,"NOVIEMBRE",{"$f":"+'[7]conmutador Nov'!B178","v":"2022-11-25"},{"$f":"+'[7]conmutador Nov'!C178","v":"13:40:00"},{"$f":"+'[7]conmutador Nov'!D178","v":"PAULA ALEJANDRA MARTÍNEZ CALDERÓN "},"TELEFÓNICO",{"$f":"+'[7]conmutador Nov'!E178","v":"Conmutador"},"Sin datos",{"$f":"+'[7]conmutador Nov'!J178","v":"Ciudadanía"},{"$f":"+'[7]conmutador Nov'!G178","v":"YOLANDA"},{"$f":"+[7]!Tabla1[[#This Row],[GRUPO DE VALOR]]","v":"Ciudadanía"},{"$f":"+[7]!Tabla1[[#This Row],[NOMBRE DEL GRUPO DE VALOR]]","v":"YOLANDA"},{"$f":"+'[7]conmutador Nov'!K178","v":"Femenino"},{"$f":"+'[7]conmutador Nov'!L178","v":"Mujer"},"Sin datos","Sin datos","Sin datos","Sin datos",{"$f":"+'[7]conmutador Nov'!N178","v":"Consulta"},{"$f":"+'[7]conmutador Nov'!O178","v":"Consulta general"},{"$f":"+'[7]conmutador Nov'!P178","v":"Competencia otras entidades"},{"$f":"+'[7]conmutador Nov'!Q178","v":"Cita con la SHD"},{"$f":"+'[7]conmutador Nov'!R178","v":"Atención al ciudadano"},{"$f":"+'[7]conmutador Nov'!S178","v":"Ciudadano"},{"$f":"+'[7]conmutador Nov'!T178","v":"Fuera de Bogotá"}]
[308,2022,"NOVIEMBRE",{"$f":"+'[7]conmutador Nov'!B179","v":"2022-11-25"},{"$f":"+'[7]conmutador Nov'!C179","v":"14:00:00"},{"$f":"+'[7]conmutador Nov'!D179","v":"PAULA ALEJANDRA MARTÍNEZ CALDERÓN "},"TELEFÓNICO",{"$f":"+'[7]conmutador Nov'!E179","v":"Conmutador"},"Sin datos",{"$f":"+'[7]conmutador Nov'!J179","v":"Ciudadanía"},{"$f":"+'[7]conmutador Nov'!G179","v":"LILIA SOLANO"},{"$f":"+[7]!Tabla1[[#This Row],[GRUPO DE VALOR]]","v":"Ciudadanía"},{"$f":"+[7]!Tabla1[[#This Row],[NOMBRE DEL GRUPO DE VALOR]]","v":"LILIA SOLANO"},{"$f":"+'[7]conmutador Nov'!K179","v":"Femenino"},{"$f":"+'[7]conmutador Nov'!L179","v":"Mujer"},"Sin datos","Sin datos","Sin datos","Sin datos",{"$f":"+'[7]conmutador Nov'!N179","v":"Consulta"},{"$f":"+'[7]conmutador Nov'!O179","v":"Asesoría en administración y sostenibilidad del espacio público"},{"$f":"+'[7]conmutador Nov'!P179","v":"Cómo radicar en SDQS"},{"$f":"+'[7]conmutador Nov'!Q179","v":"Consulta de datos de la Entidad para radicar"},{"$f":"+'[7]conmutador Nov'!R179","v":"Atención al ciudadano"},{"$f":"+'[7]conmutador Nov'!S179","v":"Ciudadano"},"11 Suba"]
[309,2022,"NOVIEMBRE",{"$f":"+'[7]conmutador Nov'!B180","v":"2022-11-28"},{"$f":"+'[7]conmutador Nov'!C180","v":"08:32:00"},{"$f":"+'[7]conmutador Nov'!D180","v":"PAULA ALEJANDRA MARTÍNEZ CALDERÓN "},"TELEFÓNICO",{"$f":"+'[7]conmutador Nov'!E180","v":"Conmutador"},"Sin datos",{"$f":"+'[7]conmutador Nov'!J180","v":"Ciudadanía"},{"$f":"+'[7]conmutador Nov'!G180","v":"BLANCA NIDIA FERNANDEZ"},{"$f":"+[7]!Tabla1[[#This Row],[GRUPO DE VALOR]]","v":"Ciudadanía"},{"$f":"+[7]!Tabla1[[#This Row],[NOMBRE DEL GRUPO DE VALOR]]","v":"BLANCA NIDIA FERNANDEZ"},{"$f":"+'[7]conmutador Nov'!K180","v":"Femenino"},{"$f":"+'[7]conmutador Nov'!L180","v":"Mujer"},"Sin datos","Sin datos","Sin datos","Sin datos",{"$f":"+'[7]conmutador Nov'!N180","v":"Consulta"},{"$f":"+'[7]conmutador Nov'!O180","v":"Consulta general"},{"$f":"+'[7]conmutador Nov'!P180","v":"Cómo radicar en SDQS"},{"$f":"+'[7]conmutador Nov'!Q180","v":"Consulta canales de radicación (presencial) y horarios de atención de la Defensoría del Espacio Público"},{"$f":"+'[7]conmutador Nov'!R180","v":"Atención al ciudadano"},{"$f":"+'[7]conmutador Nov'!S180","v":"Ciudadano"},{"$f":"+'[7]conmutador Nov'!T180","v":"No Registra"}]
[310,2022,"NOVIEMBRE",{"$f":"+'[7]conmutador Nov'!B181","v":"2022-11-28"},{"$f":"+'[7]conmutador Nov'!C181","v":"08:45:00"},{"$f":"+'[7]conmutador Nov'!D181","v":"PAULA ALEJANDRA MARTÍNEZ CALDERÓN "},"TELEFÓNICO",{"$f":"+'[7]conmutador Nov'!E181","v":"Conmutador"},"Sin datos",{"$f":"+'[7]conmutador Nov'!J181","v":"Ciudadanía"},{"$f":"+'[7]conmutador Nov'!G181","v":"JENNIFER"},{"$f":"+[7]!Tabla1[[#This Row],[GRUPO DE VALOR]]","v":"Ciudadanía"},{"$f":"+[7]!Tabla1[[#This Row],[NOMBRE DEL GRUPO DE VALOR]]","v":"JENNIFER"},{"$f":"+'[7]conmutador Nov'!K181","v":"Femenino"},{"$f":"+'[7]conmutador Nov'!L181","v":"Mujer"},"Sin datos","Sin datos","Sin datos","Sin datos",{"$f":"+'[7]conmutador Nov'!N181","v":"Consulta"},{"$f":"+'[7]conmutador Nov'!O181","v":"Consulta general"},{"$f":"+'[7]conmutador Nov'!P181","v":"Parqueaderos"},{"$f":"+'[7]conmutador Nov'!Q181","v":"Solicitud estado de polizas Convenio Solidario 110-00129-395-0-2018 suscrito con JAC Sabana de Tibabuyes - RUPI 1385-14 CALLE 142 D # 127 A – 59"},{"$f":"+'[7]conmutador Nov'!R181","v":"Atención al ciudadano"},{"$f":"+'[7]conmutador Nov'!S181","v":"Ciudadano"},"11 Suba"]
[311,2022,"NOVIEMBRE",{"$f":"+'[7]conmutador Nov'!B182","v":"2022-11-28"},{"$f":"+'[7]conmutador Nov'!C182","v":"09:14:00"},{"$f":"+'[7]conmutador Nov'!D182","v":"PAULA ALEJANDRA MARTÍNEZ CALDERÓN "},"TELEFÓNICO",{"$f":"+'[7]conmutador Nov'!E182","v":"Conmutador"},"Sin datos",{"$f":"+'[7]conmutador Nov'!J182","v":"Universidades / Estudiantes"},{"$f":"+'[7]conmutador Nov'!G182","v":"DIANA"},{"$f":"+[7]!Tabla1[[#This Row],[GRUPO DE VALOR]]","v":"Universidades / Estudiantes"},{"$f":"+[7]!Tabla1[[#This Row],[NOMBRE DEL GRUPO DE VALOR]]","v":"DIANA"},{"$f":"+'[7]conmutador Nov'!K182","v":"Femenino"},{"$f":"+'[7]conmutador Nov'!L182","v":"Mujer"},"Sin datos","Sin datos","Sin datos","Sin datos",{"$f":"+'[7]conmutador Nov'!N182","v":"Consulta"},{"$f":"+'[7]conmutador Nov'!O182","v":"Consulta general"},{"$f":"+'[7]conmutador Nov'!P182","v":"Transferencia de llamada"},{"$f":"+'[7]conmutador Nov'!Q182","v":"Solicita información sobre la recepción de correo electrónico por parte de la Directora del Observatorio de la Universidad Externado de Colombia"},{"$f":"+'[7]conmutador Nov'!R182","v":"Atención al ciudadano"},{"$f":"+'[7]conmutador Nov'!S182","v":"Ciudadano"},{"$f":"+'[7]conmutador Nov'!T182","v":"17 La Candelaria"}]
[312,2022,"NOVIEMBRE",{"$f":"+'[7]conmutador Nov'!B183","v":"2022-11-28"},{"$f":"+'[7]conmutador Nov'!C183","v":"09:56:00"},{"$f":"+'[7]conmutador Nov'!D183","v":"PAULA ALEJANDRA MARTÍNEZ CALDERÓN "},"TELEFÓNICO",{"$f":"+'[7]conmutador Nov'!E183","v":"Conmutador"},"Sin datos",{"$f":"+'[7]conmutador Nov'!J183","v":"Empresas privadas"},{"$f":"+'[7]conmutador Nov'!G183","v":"CLAUDIA ROMERO"},{"$f":"+[7]!Tabla1[[#This Row],[GRUPO DE VALOR]]","v":"Empresas privadas"},{"$f":"+[7]!Tabla1[[#This Row],[NOMBRE DEL GRUPO DE VALOR]]","v":"CLAUDIA ROMERO"},{"$f":"+'[7]conmutador Nov'!K183","v":"Femenino"},{"$f":"+'[7]conmutador Nov'!L183","v":"Mujer"},"Sin datos","Sin datos","Sin datos","Sin datos",{"$f":"+'[7]conmutador Nov'!N183","v":"Consulta"},{"$f":"+'[7]conmutador Nov'!O183","v":"Consulta general"},{"$f":"+'[7]conmutador Nov'!P183","v":"Transferencia de llamada"},{"$f":"+'[7]conmutador Nov'!Q183","v":"Consulta ex-funcionaria MARTHA HELENA DIAZ GRANADOS"},{"$f":"+'[7]conmutador Nov'!R183","v":"Atención al ciudadano"},{"$f":"+'[7]conmutador Nov'!S183","v":"Ciudadano"},{"$f":"+'[7]conmutador Nov'!T183","v":"No Registra"}]
[313,2022,"NOVIEMBRE",{"$f":"+'[7]conmutador Nov'!B184","v":"2022-11-28"},{"$f":"+'[7]conmutador Nov'!C184","v":"10:02:00"},{"$f":"+'[7]conmutador Nov'!D184","v":"PAULA ALEJANDRA MARTÍNEZ CALDERÓN "},"TELEFÓNICO",{"$f":"+'[7]conmutador Nov'!E184","v":"Conmutador"},"Sin datos",{"$f":"+'[7]conmutador Nov'!J184","v":"Servidores públicos (funcionarios y contratistas)"},{"$f":"+'[7]conmutador Nov'!G184","v":"CLAUDIA MELO"},{"$f":"+[7]!Tabla1[[#This Row],[GRUPO DE VALOR]]","v":"Servidores públicos (funcionarios y contratistas)"},{"$f":"+[7]!Tabla1[[#This Row],[NOMBRE DEL GRUPO DE VALOR]]","v":"CLAUDIA MELO"},{"$f":"+'[7]conmutador Nov'!K184","v":"Femenino"},{"$f":"+'[7]conmutador Nov'!L184","v":"Mujer"},"Sin datos","Sin datos","Sin datos","Sin datos",{"$f":"+'[7]conmutador Nov'!N184","v":"Consulta"},{"$f":"+'[7]conmutador Nov'!O184","v":"Consulta general"},{"$f":"+'[7]conmutador Nov'!P184","v":"Transferencia de llamada"},{"$f":"+'[7]conmutador Nov'!Q184","v":"Transferencia de llamada a Julieth Bermudez"},{"$f":"+'[7]conmutador Nov'!R184","v":"Trasladar"},{"$f":"+'[7]conmutador Nov'!S184","v":"SAF"},{"$f":"+'[7]conmutador Nov'!T184","v":"No Registra"}]
[314,2022,"NOVIEMBRE",{"$f":"+'[7]conmutador Nov'!B185","v":"2022-11-28"},{"$f":"+'[7]conmutador Nov'!C185","v":"10:08:00"},{"$f":"+'[7]conmutador Nov'!D185","v":"PAULA ALEJANDRA MARTÍNEZ CALDERÓN "},"TELEFÓNICO",{"$f":"+'[7]conmutador Nov'!E185","v":"Conmutador"},"Sin datos",{"$f":"+'[7]conmutador Nov'!J185","v":"Servidores públicos (funcionarios y contratistas)"},{"$f":"+'[7]conmutador Nov'!G185","v":"CLAUDIA MELO"},{"$f":"+[7]!Tabla1[[#This Row],[GRUPO DE VALOR]]","v":"Servidores públicos (funcionarios y contratistas)"},{"$f":"+[7]!Tabla1[[#This Row],[NOMBRE DEL GRUPO DE VALOR]]","v":"CLAUDIA MELO"},{"$f":"+'[7]conmutador Nov'!K185","v":"Femenino"},{"$f":"+'[7]conmutador Nov'!L185","v":"Mujer"},"Sin datos","Sin datos","Sin datos","Sin datos",{"$f":"+'[7]conmutador Nov'!N185","v":"Consulta"},{"$f":"+'[7]conmutador Nov'!O185","v":"Consulta general"},{"$f":"+'[7]conmutador Nov'!P185","v":"Transferencia de llamada"},{"$f":"+'[7]conmutador Nov'!Q185","v":"Transferencia de llamada a Fernando Lizarazo"},{"$f":"+'[7]conmutador Nov'!R185","v":"Trasladar"},{"$f":"+'[7]conmutador Nov'!S185","v":"SAF"},{"$f":"+'[7]conmutador Nov'!T185","v":"No Registra"}]
[315,2022,"NOVIEMBRE",{"$f":"+'[7]conmutador Nov'!B186","v":"2022-11-28"},{"$f":"+'[7]conmutador Nov'!C186","v":"10:21:00"},{"$f":"+'[7]conmutador Nov'!D186","v":"PAULA ALEJANDRA MARTÍNEZ CALDERÓN "},"TELEFÓNICO",{"$f":"+'[7]conmutador Nov'!E186","v":"Conmutador"},"Sin datos",{"$f":"+'[7]conmutador Nov'!J186","v":"Ciudadanía"},{"$f":"+'[7]conmutador Nov'!G186","v":"MARÍA ARDILA"},{"$f":"+[7]!Tabla1[[#This Row],[GRUPO DE VALOR]]","v":"Ciudadanía"},{"$f":"+[7]!Tabla1[[#This Row],[NOMBRE DEL GRUPO DE VALOR]]","v":"MARÍA ARDILA"},{"$f":"+'[7]conmutador Nov'!K186","v":"Femenino"},{"$f":"+'[7]conmutador Nov'!L186","v":"Mujer"},"Sin datos","Sin datos","Sin datos","Sin datos",{"$f":"+'[7]conmutador Nov'!N186","v":"Consulta"},{"$f":"+'[7]conmutador Nov'!O186","v":"Consulta general"},{"$f":"+'[7]conmutador Nov'!P186","v":"Parqueaderos"},{"$f":"+'[7]conmutador Nov'!Q186","v":"Consulta estado de adjudicación proceso  DADEP-SMINC-435-2022 Caso: BOSA LA CAPILLA Calle 62 SUR 79B - 29"},{"$f":"+'[7]conmutador Nov'!R186","v":"Atención al ciudadano"},{"$f":"+'[7]conmutador Nov'!S186","v":"Ciudadano"},"07 Bosa"]
[316,2022,"NOVIEMBRE",{"$f":"+'[7]conmutador Nov'!B187","v":"2022-11-28"},{"$f":"+'[7]conmutador Nov'!C187","v":"10:29:00"},{"$f":"+'[7]conmutador Nov'!D187","v":"PAULA ALEJANDRA MARTÍNEZ CALDERÓN "},"TELEFÓNICO",{"$f":"+'[7]conmutador Nov'!E187","v":"Conmutador"},"Sin datos",{"$f":"+'[7]conmutador Nov'!J187","v":"Servidores públicos (funcionarios y contratistas)"},{"$f":"+'[7]conmutador Nov'!G187","v":"EDINSON MOLINA"},{"$f":"+[7]!Tabla1[[#This Row],[GRUPO DE VALOR]]","v":"Servidores públicos (funcionarios y contratistas)"},{"$f":"+[7]!Tabla1[[#This Row],[NOMBRE DEL GRUPO DE VALOR]]","v":"EDINSON MOLINA"},{"$f":"+'[7]conmutador Nov'!K187","v":"Masculino"},{"$f":"+'[7]conmutador Nov'!L187","v":"Hombre "},"Sin datos","Sin datos","Sin datos","Sin datos",{"$f":"+'[7]conmutador Nov'!N187","v":"Consulta"},{"$f":"+'[7]conmutador Nov'!O187","v":"Consulta general"},{"$f":"+'[7]conmutador Nov'!P187","v":"Número equivocado"},{"$f":"+'[7]conmutador Nov'!Q187","v":"Número equivocado, solicita información Alcaldía Local de Puente Aranda"},{"$f":"+'[7]conmutador Nov'!R187","v":"Atención al ciudadano"},{"$f":"+'[7]conmutador Nov'!S187","v":"Ciudadano"},{"$f":"+'[7]conmutador Nov'!T187","v":"No Registra"}]
[317,2022,"NOVIEMBRE",{"$f":"+'[7]conmutador Nov'!B188","v":"2022-11-28"},{"$f":"+'[7]conmutador Nov'!C188","v":"10:34:00"},{"$f":"+'[7]conmutador Nov'!D188","v":"PAULA ALEJANDRA MARTÍNEZ CALDERÓN "},"TELEFÓNICO",{"$f":"+'[7]conmutador Nov'!E188","v":"Conmutador"},"Sin datos",{"$f":"+'[7]conmutador Nov'!J188","v":"Ciudadanía"},{"$f":"+'[7]conmutador Nov'!G188","v":"CAROLINA ARIAS"},{"$f":"+[7]!Tabla1[[#This Row],[GRUPO DE VALOR]]","v":"Ciudadanía"},{"$f":"+[7]!Tabla1[[#This Row],[NOMBRE DEL GRUPO DE VALOR]]","v":"CAROLINA ARIAS"},{"$f":"+'[7]conmutador Nov'!K188","v":"Femenino"},{"$f":"+'[7]conmutador Nov'!L188","v":"Mujer"},"Sin datos","Sin datos","Sin datos","Sin datos",{"$f":"+'[7]conmutador Nov'!N188","v":"Consulta"},{"$f":"+'[7]conmutador Nov'!O188","v":"Consulta general"},{"$f":"+'[7]conmutador Nov'!P188","v":"Transferencia de llamada"},{"$f":"+'[7]conmutador Nov'!Q188","v":"Solicita comunicarse con Maria Ines Reyes Suarez de la Subdirección de Registro Inmobiliario"},{"$f":"+'[7]conmutador Nov'!R188","v":"Trasladar"},{"$f":"+'[7]conmutador Nov'!S188","v":"SRI"},{"$f":"+'[7]conmutador Nov'!T188","v":"No Registra"}]
[318,2022,"NOVIEMBRE",{"$f":"+'[7]conmutador Nov'!B189","v":"2022-11-28"},{"$f":"+'[7]conmutador Nov'!C189","v":"10:39:00"},{"$f":"+'[7]conmutador Nov'!D189","v":"PAULA ALEJANDRA MARTÍNEZ CALDERÓN "},"TELEFÓNICO",{"$f":"+'[7]conmutador Nov'!E189","v":"Conmutador"},"Sin datos",{"$f":"+'[7]conmutador Nov'!J189","v":"Entidades y Organismos Nacionales"},{"$f":"+'[7]conmutador Nov'!G189","v":"JANETH JIMENEZ"},{"$f":"+[7]!Tabla1[[#This Row],[GRUPO DE VALOR]]","v":"Entidades y Organismos Nacionales"},{"$f":"+[7]!Tabla1[[#This Row],[NOMBRE DEL GRUPO DE VALOR]]","v":"JANETH JIMENEZ"},{"$f":"+'[7]conmutador Nov'!K189","v":"Femenino"},{"$f":"+'[7]conmutador Nov'!L189","v":"Mujer"},"Sin datos","Sin datos","Sin datos","Sin datos",{"$f":"+'[7]conmutador Nov'!N189","v":"Consulta"},{"$f":"+'[7]conmutador Nov'!O189","v":"Consulta general"},{"$f":"+'[7]conmutador Nov'!P189","v":"Transferencia de llamada"},{"$f":"+'[7]conmutador Nov'!Q189","v":"Transferencia de Comunicaciones "},{"$f":"+'[7]conmutador Nov'!R189","v":"Atención al ciudadano"},{"$f":"+'[7]conmutador Nov'!S189","v":"Ciudadano"},{"$f":"+'[7]conmutador Nov'!T189","v":"No Registra"}]
[319,2022,"NOVIEMBRE",{"$f":"+'[7]conmutador Nov'!B190","v":"2022-11-28"},{"$f":"+'[7]conmutador Nov'!C190","v":"11:04:00"},{"$f":"+'[7]conmutador Nov'!D190","v":"PAULA ALEJANDRA MARTÍNEZ CALDERÓN "},"TELEFÓNICO",{"$f":"+'[7]conmutador Nov'!E190","v":"Conmutador"},"Sin datos",{"$f":"+'[7]conmutador Nov'!J190","v":"Ciudadanía"},{"$f":"+'[7]conmutador Nov'!G190","v":"MARLENE ANDRADE"},{"$f":"+[7]!Tabla1[[#This Row],[GRUPO DE VALOR]]","v":"Ciudadanía"},{"$f":"+[7]!Tabla1[[#This Row],[NOMBRE DEL GRUPO DE VALOR]]","v":"MARLENE ANDRADE"},{"$f":"+'[7]conmutador Nov'!K190","v":"Femenino"},{"$f":"+'[7]conmutador Nov'!L190","v":"Mujer"},"Sin datos","Sin datos","Sin datos","Sin datos",{"$f":"+'[7]conmutador Nov'!N190","v":"Consulta"},{"$f":"+'[7]conmutador Nov'!O190","v":"Consulta general"},{"$f":"+'[7]conmutador Nov'!P190","v":"Competencia otras entidades"},{"$f":"+'[7]conmutador Nov'!Q190","v":"Consulta sobre cerramiento en espacio público TV 7 ESTE 107A SUR"},{"$f":"+'[7]conmutador Nov'!R190","v":"Atención al ciudadano"},{"$f":"+'[7]conmutador Nov'!S190","v":"Ciudadano"},"05 Usme"]
[320,2022,"NOVIEMBRE",{"$f":"+'[7]conmutador Nov'!B191","v":"2022-11-28"},{"$f":"+'[7]conmutador Nov'!C191","v":"11:28:00"},{"$f":"+'[7]conmutador Nov'!D191","v":"PAULA ALEJANDRA MARTÍNEZ CALDERÓN "},"TELEFÓNICO",{"$f":"+'[7]conmutador Nov'!E191","v":"Conmutador"},"Sin datos",{"$f":"+'[7]conmutador Nov'!J191","v":"Ciudadanía"},{"$f":"+'[7]conmutador Nov'!G191","v":"ANGELA OTALORA"},{"$f":"+[7]!Tabla1[[#This Row],[GRUPO DE VALOR]]","v":"Ciudadanía"},{"$f":"+[7]!Tabla1[[#This Row],[NOMBRE DEL GRUPO DE VALOR]]","v":"ANGELA OTALORA"},{"$f":"+'[7]conmutador Nov'!K191","v":"Femenino"},{"$f":"+'[7]conmutador Nov'!L191","v":"Mujer"},"Sin datos","Sin datos","Sin datos","Sin datos",{"$f":"+'[7]conmutador Nov'!N191","v":"Consulta"},{"$f":"+'[7]conmutador Nov'!O191","v":"Consulta general"},{"$f":"+'[7]conmutador Nov'!P191","v":"Consulta radicado"},{"$f":"+'[7]conmutador Nov'!Q191","v":"Consultado estado radicado 20224000270162"},{"$f":"+'[7]conmutador Nov'!R191","v":"Atención al ciudadano"},{"$f":"+'[7]conmutador Nov'!S191","v":"Ciudadano"},{"$f":"+'[7]conmutador Nov'!T191","v":"No Registra"}]
[321,2022,"NOVIEMBRE",{"$f":"+'[7]conmutador Nov'!B192","v":"2022-11-28"},{"$f":"+'[7]conmutador Nov'!C192","v":"11:48:00"},{"$f":"+'[7]conmutador Nov'!D192","v":"PAULA ALEJANDRA MARTÍNEZ CALDERÓN "},"TELEFÓNICO",{"$f":"+'[7]conmutador Nov'!E192","v":"Conmutador"},"Sin datos",{"$f":"+'[7]conmutador Nov'!J192","v":"Anónimo"},{"$f":"+'[7]conmutador Nov'!G192","v":"ANÓNIMO"},{"$f":"+[7]!Tabla1[[#This Row],[GRUPO DE VALOR]]","v":"Anónimo"},{"$f":"+[7]!Tabla1[[#This Row],[NOMBRE DEL GRUPO DE VALOR]]","v":"ANÓNIMO"},{"$f":"+'[7]conmutador Nov'!K192","v":"Femenino"},{"$f":"+'[7]conmutador Nov'!L192","v":"Mujer"},"Sin datos","Sin datos","Sin datos","Sin datos",{"$f":"+'[7]conmutador Nov'!N192","v":"Consulta"},{"$f":"+'[7]conmutador Nov'!O192","v":"Consulta general"},{"$f":"+'[7]conmutador Nov'!P192","v":"Sin información de fondo"},{"$f":"+'[7]conmutador Nov'!Q192","v":"Sin información de fondo"},{"$f":"+'[7]conmutador Nov'!R192","v":"Atención al ciudadano"},{"$f":"+'[7]conmutador Nov'!S192","v":"Ciudadano"},{"$f":"+'[7]conmutador Nov'!T192","v":"No Registra"}]
[322,2022,"NOVIEMBRE",{"$f":"+'[7]conmutador Nov'!B193","v":"2022-11-28"},{"$f":"+'[7]conmutador Nov'!C193","v":"11:53:00"},{"$f":"+'[7]conmutador Nov'!D193","v":"PAULA ALEJANDRA MARTÍNEZ CALDERÓN "},"TELEFÓNICO",{"$f":"+'[7]conmutador Nov'!E193","v":"Conmutador"},"Sin datos",{"$f":"+'[7]conmutador Nov'!J193","v":"Ciudadanía"},{"$f":"+'[7]conmutador Nov'!G193","v":"JAVIER FLOREZ"},{"$f":"+[7]!Tabla1[[#This Row],[GRUPO DE VALOR]]","v":"Ciudadanía"},{"$f":"+[7]!Tabla1[[#This Row],[NOMBRE DEL GRUPO DE VALOR]]","v":"JAVIER FLOREZ"},{"$f":"+'[7]conmutador Nov'!K193","v":"Masculino"},{"$f":"+'[7]conmutador Nov'!L193","v":"Hombre "},"Sin datos","Sin datos","Sin datos","Sin datos",{"$f":"+'[7]conmutador Nov'!N193","v":"Asesoría"},{"$f":"+'[7]conmutador Nov'!O193","v":"Asesoría en administración y sostenibilidad del espacio público"},{"$f":"+'[7]conmutador Nov'!P193","v":"Denuncia extensión actividad comercial sobre zona de suo publico"},{"$f":"+'[7]conmutador Nov'!Q193","v":"Queja frente a ocupación CRA 112 A Villas de Granada"},{"$f":"+'[7]conmutador Nov'!R193","v":"Atención al ciudadano"},{"$f":"+'[7]conmutador Nov'!S193","v":"Ciudadano"},{"$f":"+'[7]conmutador Nov'!T193","v":"10 Engativá"}]
[323,2022,"NOVIEMBRE",{"$f":"+'[7]conmutador Nov'!B194","v":"2022-11-28"},{"$f":"+'[7]conmutador Nov'!C194","v":"14:15:00"},"NIDIA JINETH GONZALEZ CÁRDENAS","TELEFÓNICO",{"$f":"+'[7]conmutador Nov'!E194","v":"Conmutador"},"Sin datos",{"$f":"+'[7]conmutador Nov'!J194","v":"Ciudadanía"},{"$f":"+'[7]conmutador Nov'!G194","v":"CAROLINA CEBALLOS"},{"$f":"+[7]!Tabla1[[#This Row],[GRUPO DE VALOR]]","v":"Ciudadanía"},{"$f":"+[7]!Tabla1[[#This Row],[NOMBRE DEL GRUPO DE VALOR]]","v":"CAROLINA CEBALLOS"},{"$f":"+'[7]conmutador Nov'!K194","v":"Femenino"},{"$f":"+'[7]conmutador Nov'!L194","v":"Mujer"},"Sin datos","Sin datos","Sin datos","Sin datos",{"$f":"+'[7]conmutador Nov'!N194","v":"Consulta"},{"$f":"+'[7]conmutador Nov'!O194","v":"Consulta general"},{"$f":"+'[7]conmutador Nov'!P194","v":"Cómo radicar en SDQS"},{"$f":"+'[7]conmutador Nov'!Q194","v":"Solicita información para radicar una petición, se sumistra correo electronico"},{"$f":"+'[7]conmutador Nov'!R194","v":"Atención al ciudadano"},{"$f":"+'[7]conmutador Nov'!S194","v":"Ciudadano"},"01 Usaquén"]
[324,2022,"NOVIEMBRE",{"$f":"+'[7]conmutador Nov'!B195","v":"2022-11-28"},{"$f":"+'[7]conmutador Nov'!C195","v":"13:54:00"},{"$f":"+'[7]conmutador Nov'!D195","v":"PAULA ALEJANDRA MARTÍNEZ CALDERÓN "},"TELEFÓNICO",{"$f":"+'[7]conmutador Nov'!E195","v":"Conmutador"},"Sin datos",{"$f":"+'[7]conmutador Nov'!J195","v":"Ciudadanía"},{"$f":"+'[7]conmutador Nov'!G195","v":"MARITZA JÉREZ"},{"$f":"+[7]!Tabla1[[#This Row],[GRUPO DE VALOR]]","v":"Ciudadanía"},{"$f":"+[7]!Tabla1[[#This Row],[NOMBRE DEL GRUPO DE VALOR]]","v":"MARITZA JÉREZ"},{"$f":"+'[7]conmutador Nov'!K195","v":"Femenino"},{"$f":"+'[7]conmutador Nov'!L195","v":"Mujer"},"Sin datos","Sin datos","Sin datos","Sin datos",{"$f":"+'[7]conmutador Nov'!N195","v":"Asesoría"},{"$f":"+'[7]conmutador Nov'!O195","v":"Estudio de la viabilidad de las solicitudes de administración de bienes públicos"},{"$f":"+'[7]conmutador Nov'!P195","v":"Autorización de uso"},{"$f":"+'[7]conmutador Nov'!Q195","v":"Autorización de uso de espacio público Food Truck"},{"$f":"+'[7]conmutador Nov'!R195","v":"Atención al ciudadano"},{"$f":"+'[7]conmutador Nov'!S195","v":"Ciudadano"},"09 Fontibón"]
[325,2022,"NOVIEMBRE",{"$f":"+'[7]conmutador Nov'!B196","v":"2022-11-28"},{"$f":"+'[7]conmutador Nov'!C196","v":"14:23:00"},{"$f":"+'[7]conmutador Nov'!D196","v":"PAULA ALEJANDRA MARTÍNEZ CALDERÓN "},"TELEFÓNICO",{"$f":"+'[7]conmutador Nov'!E196","v":"Conmutador"},"Sin datos",{"$f":"+'[7]conmutador Nov'!J196","v":"Ciudadanía"},{"$f":"+'[7]conmutador Nov'!G196","v":"DANIEL HERLEY CIFUENTES CASTRO "},{"$f":"+[7]!Tabla1[[#This Row],[GRUPO DE VALOR]]","v":"Ciudadanía"},{"$f":"+[7]!Tabla1[[#This Row],[NOMBRE DEL GRUPO DE VALOR]]","v":"DANIEL HERLEY CIFUENTES CASTRO "},{"$f":"+'[7]conmutador Nov'!K196","v":"Masculino"},{"$f":"+'[7]conmutador Nov'!L196","v":"Hombre "},"Sin datos","Sin datos","Sin datos","Sin datos",{"$f":"+'[7]conmutador Nov'!N196","v":"Consulta"},{"$f":"+'[7]conmutador Nov'!O196","v":"Consulta general"},{"$f":"+'[7]conmutador Nov'!P196","v":"Consulta radicado"},{"$f":"+'[7]conmutador Nov'!Q196","v":"Consulta radicado 20224000267982"},{"$f":"+'[7]conmutador Nov'!R196","v":"Atención al ciudadano"},{"$f":"+'[7]conmutador Nov'!S196","v":"Ciudadano"},"02 Chapinero"]
[326,2022,"NOVIEMBRE",{"$f":"+'[7]conmutador Nov'!B197","v":"2022-11-28"},{"$f":"+'[7]conmutador Nov'!C197","v":"14:53:00"},{"$f":"+'[7]conmutador Nov'!D197","v":"PAULA ALEJANDRA MARTÍNEZ CALDERÓN "},"TELEFÓNICO",{"$f":"+'[7]conmutador Nov'!E197","v":"Conmutador"},"Sin datos",{"$f":"+'[7]conmutador Nov'!J197","v":"Anónimo"},{"$f":"+'[7]conmutador Nov'!G197","v":"ANÓNIMO"},{"$f":"+[7]!Tabla1[[#This Row],[GRUPO DE VALOR]]","v":"Anónimo"},{"$f":"+[7]!Tabla1[[#This Row],[NOMBRE DEL GRUPO DE VALOR]]","v":"ANÓNIMO"},{"$f":"+'[7]conmutador Nov'!K197","v":"Masculino"},{"$f":"+'[7]conmutador Nov'!L197","v":"Hombre "},"Sin datos","Sin datos","Sin datos","Sin datos",{"$f":"+'[7]conmutador Nov'!N197","v":"Consulta"},{"$f":"+'[7]conmutador Nov'!O197","v":"Consulta general"},{"$f":"+'[7]conmutador Nov'!P197","v":"Transferencia de llamada"},{"$f":"+'[7]conmutador Nov'!Q197","v":"Transferencia de llamada Módulo D-152"},{"$f":"+'[7]conmutador Nov'!R197","v":"Atención al ciudadano"},{"$f":"+'[7]conmutador Nov'!S197","v":"Ciudadano"},{"$f":"+'[7]conmutador Nov'!T197","v":"No Registra"}]
[327,2022,"NOVIEMBRE",{"$f":"+'[7]conmutador Nov'!B198","v":"2022-11-28"},{"$f":"+'[7]conmutador Nov'!C198","v":"15:22:00"},{"$f":"+'[7]conmutador Nov'!D198","v":"PAULA ALEJANDRA MARTÍNEZ CALDERÓN "},"TELEFÓNICO",{"$f":"+'[7]conmutador Nov'!E198","v":"Conmutador"},"Sin datos",{"$f":"+'[7]conmutador Nov'!J198","v":"Ciudadanía"},{"$f":"+'[7]conmutador Nov'!G198","v":"WILLIAM"},{"$f":"+[7]!Tabla1[[#This Row],[GRUPO DE VALOR]]","v":"Ciudadanía"},{"$f":"+[7]!Tabla1[[#This Row],[NOMBRE DEL GRUPO DE VALOR]]","v":"WILLIAM"},{"$f":"+'[7]conmutador Nov'!K198","v":"Masculino"},{"$f":"+'[7]conmutador Nov'!L198","v":"Hombre "},"Sin datos","Sin datos","Sin datos","Sin datos",{"$f":"+'[7]conmutador Nov'!N198","v":"Asesoría"},{"$f":"+'[7]conmutador Nov'!O198","v":"Consulta general"},{"$f":"+'[7]conmutador Nov'!P198","v":"Parqueaderos"},{"$f":"+'[7]conmutador Nov'!Q198","v":"Asesoría en Administración de Bienes de Uso Público - Estacionamiento, Bahia o Parqueadero RUPI: 768-3, 768-4, 768-5, 768-7, 768-8, 768-9, 768-14 Suba Los Almendros "},{"$f":"+'[7]conmutador Nov'!R198","v":"Atención al ciudadano"},{"$f":"+'[7]conmutador Nov'!S198","v":"Ciudadano"},"11 Suba"]
[328,2022,"NOVIEMBRE",{"$f":"+'[7]conmutador Nov'!B199","v":"2022-11-29"},{"$f":"+'[7]conmutador Nov'!C199","v":"09:35:00"},{"$f":"+'[7]conmutador Nov'!D199","v":"PAULA ALEJANDRA MARTÍNEZ CALDERÓN "},"TELEFÓNICO",{"$f":"+'[7]conmutador Nov'!E199","v":"Conmutador"},"Sin datos",{"$f":"+'[7]conmutador Nov'!J199","v":"Ciudadanía"},{"$f":"+'[7]conmutador Nov'!G199","v":"ALEJANDRA RONCANDIO"},{"$f":"+[7]!Tabla1[[#This Row],[GRUPO DE VALOR]]","v":"Ciudadanía"},{"$f":"+[7]!Tabla1[[#This Row],[NOMBRE DEL GRUPO DE VALOR]]","v":"ALEJANDRA RONCANDIO"},{"$f":"+'[7]conmutador Nov'!K199","v":"Femenino"},{"$f":"+'[7]conmutador Nov'!L199","v":"Mujer"},"Sin datos","Sin datos","Sin datos","Sin datos",{"$f":"+'[7]conmutador Nov'!N199","v":"Consulta"},{"$f":"+'[7]conmutador Nov'!O199","v":"Consulta general"},{"$f":"+'[7]conmutador Nov'!P199","v":"Talento humano"},{"$f":"+'[7]conmutador Nov'!Q199","v":"Solicita requisitos para práctica y/o pasantia en Entidad"},{"$f":"+'[7]conmutador Nov'!R199","v":"Atención al ciudadano"},{"$f":"+'[7]conmutador Nov'!S199","v":"Ciudadano"},{"$f":"+'[7]conmutador Nov'!T199","v":"No Registra"}]
[329,2022,"NOVIEMBRE",{"$f":"+'[7]conmutador Nov'!B200","v":"2022-11-29"},{"$f":"+'[7]conmutador Nov'!C200","v":"09:45:00"},{"$f":"+'[7]conmutador Nov'!D200","v":"PAULA ALEJANDRA MARTÍNEZ CALDERÓN "},"TELEFÓNICO",{"$f":"+'[7]conmutador Nov'!E200","v":"Conmutador"},"Sin datos",{"$f":"+'[7]conmutador Nov'!J200","v":"Servidores públicos (funcionarios y contratistas)"},{"$f":"+'[7]conmutador Nov'!G200","v":"LORENA SANCHEZ"},{"$f":"+[7]!Tabla1[[#This Row],[GRUPO DE VALOR]]","v":"Servidores públicos (funcionarios y contratistas)"},{"$f":"+[7]!Tabla1[[#This Row],[NOMBRE DEL GRUPO DE VALOR]]","v":"LORENA SANCHEZ"},{"$f":"+'[7]conmutador Nov'!K200","v":"Femenino"},{"$f":"+'[7]conmutador Nov'!L200","v":"Mujer"},"Sin datos","Sin datos","Sin datos","Sin datos",{"$f":"+'[7]conmutador Nov'!N200","v":"Consulta"},{"$f":"+'[7]conmutador Nov'!O200","v":"Asesoría en administración y sostenibilidad del espacio público"},{"$f":"+'[7]conmutador Nov'!P200","v":"Desempeño de la entidad"},{"$f":"+'[7]conmutador Nov'!Q200","v":"Solicita correo electrónico para extender información sobre formulación de Política Pública de Vendedores Informales -IPE"},{"$f":"+'[7]conmutador Nov'!R200","v":"Atención al ciudadano"},{"$f":"+'[7]conmutador Nov'!S200","v":"Ciudadano"},{"$f":"+'[7]conmutador Nov'!T200","v":"No Registra"}]
[330,2022,"NOVIEMBRE",{"$f":"+'[7]conmutador Nov'!B201","v":"2022-11-29"},{"$f":"+'[7]conmutador Nov'!C201","v":"10:16:00"},{"$f":"+'[7]conmutador Nov'!D201","v":"PAULA ALEJANDRA MARTÍNEZ CALDERÓN "},"TELEFÓNICO",{"$f":"+'[7]conmutador Nov'!E201","v":"Conmutador"},"Sin datos",{"$f":"+'[7]conmutador Nov'!J201","v":"Servidores públicos (funcionarios y contratistas)"},{"$f":"+'[7]conmutador Nov'!G201","v":"MARGARITA"},{"$f":"+[7]!Tabla1[[#This Row],[GRUPO DE VALOR]]","v":"Servidores públicos (funcionarios y contratistas)"},{"$f":"+[7]!Tabla1[[#This Row],[NOMBRE DEL GRUPO DE VALOR]]","v":"MARGARITA"},{"$f":"+'[7]conmutador Nov'!K201","v":"Femenino"},{"$f":"+'[7]conmutador Nov'!L201","v":"Mujer"},"Sin datos","Sin datos","Sin datos","Sin datos",{"$f":"+'[7]conmutador Nov'!N201","v":"Consulta"},{"$f":"+'[7]conmutador Nov'!O201","v":"Consulta general"},{"$f":"+'[7]conmutador Nov'!P201","v":"Desempeño de la entidad"},{"$f":"+'[7]conmutador Nov'!Q201","v":"Solicita correo electrónico para extender y socializar Aplicativo IVC Secretaria General - Alcaldía Mayor"},{"$f":"+'[7]conmutador Nov'!R201","v":"Atención al ciudadano"},{"$f":"+'[7]conmutador Nov'!S201","v":"Ciudadano"},{"$f":"+'[7]conmutador Nov'!T201","v":"17 La Candelaria"}]
[331,2022,"NOVIEMBRE",{"$f":"+'[7]conmutador Nov'!B202","v":"2022-11-29"},{"$f":"+'[7]conmutador Nov'!C202","v":"10:21:00"},{"$f":"+'[7]conmutador Nov'!D202","v":"PAULA ALEJANDRA MARTÍNEZ CALDERÓN "},"TELEFÓNICO",{"$f":"+'[7]conmutador Nov'!E202","v":"Conmutador"},"Sin datos",{"$f":"+'[7]conmutador Nov'!J202","v":"Ciudadanía"},{"$f":"+'[7]conmutador Nov'!G202","v":"MARIA ALEXANDRA"},{"$f":"+[7]!Tabla1[[#This Row],[GRUPO DE VALOR]]","v":"Ciudadanía"},{"$f":"+[7]!Tabla1[[#This Row],[NOMBRE DEL GRUPO DE VALOR]]","v":"MARIA ALEXANDRA"},{"$f":"+'[7]conmutador Nov'!K202","v":"Femenino"},{"$f":"+'[7]conmutador Nov'!L202","v":"Mujer"},"Sin datos","Sin datos","Sin datos","Sin datos",{"$f":"+'[7]conmutador Nov'!N202","v":"Asesoría"},{"$f":"+'[7]conmutador Nov'!O202","v":"Asesoría en administración y sostenibilidad del espacio público"},{"$f":"+'[7]conmutador Nov'!P202","v":"Denuncia extensión actividad comercial sobre zona de suo publico"},{"$f":"+'[7]conmutador Nov'!Q202","v":"Denuncia ocupación antejardines Barrio Los Andes"},{"$f":"+'[7]conmutador Nov'!R202","v":"Atención al ciudadano"},{"$f":"+'[7]conmutador Nov'!S202","v":"Ciudadano"},{"$f":"+'[7]conmutador Nov'!T202","v":"12 Barrios Unidos"}]
[332,2022,"NOVIEMBRE",{"$f":"+'[7]conmutador Nov'!B203","v":"2022-11-29"},{"$f":"+'[7]conmutador Nov'!C203","v":"1903-04-15T12:00:00"},"NIDIA JINETH GONZALEZ CÁRDENAS","TELEFÓNICO",{"$f":"+'[7]conmutador Nov'!E203","v":"Conmutador"},"Sin datos",{"$f":"+'[7]conmutador Nov'!J203","v":"Ciudadanía"},{"$f":"+'[7]conmutador Nov'!G203","v":"MILEIDY "},{"$f":"+[7]!Tabla1[[#This Row],[GRUPO DE VALOR]]","v":"Ciudadanía"},{"$f":"+[7]!Tabla1[[#This Row],[NOMBRE DEL GRUPO DE VALOR]]","v":"MILEIDY "},{"$f":"+'[7]conmutador Nov'!K203","v":"Femenino"},{"$f":"+'[7]conmutador Nov'!L203","v":"Mujer"},"Sin datos","Sin datos","Sin datos","Sin datos",{"$f":"+'[7]conmutador Nov'!N203","v":"Asesoría"},{"$f":"+'[7]conmutador Nov'!O203","v":"Asesoría en administración y sostenibilidad del espacio público"},{"$f":"+'[7]conmutador Nov'!P203","v":"Desempeño de la entidad"},{"$f":"+'[7]conmutador Nov'!Q203","v":"Transferencia de llamada - Gloria Pulga"},{"$f":"+'[7]conmutador Nov'!R203","v":"Atención al ciudadano"},{"$f":"+'[7]conmutador Nov'!S203","v":"Ciudadano"},{"$f":"+'[7]conmutador Nov'!T203","v":"No Registra"}]
[333,2022,"NOVIEMBRE",{"$f":"+'[7]conmutador Nov'!B204","v":"2022-11-29"},{"$f":"+'[7]conmutador Nov'!C204","v":"13:13:00"},"NIDIA JINETH GONZALEZ CÁRDENAS","TELEFÓNICO",{"$f":"+'[7]conmutador Nov'!E204","v":"Conmutador"},"Sin datos",{"$f":"+'[7]conmutador Nov'!J204","v":"Empresas privadas"},{"$f":"+'[7]conmutador Nov'!G204","v":"BANCO DE BOGOTA"},{"$f":"+[7]!Tabla1[[#This Row],[GRUPO DE VALOR]]","v":"Empresas privadas"},{"$f":"+[7]!Tabla1[[#This Row],[NOMBRE DEL GRUPO DE VALOR]]","v":"BANCO DE BOGOTA"},{"$f":"+'[7]conmutador Nov'!K204","v":"Femenino"},{"$f":"+'[7]conmutador Nov'!L204","v":"Mujer"},"Sin datos","Sin datos","Sin datos","Sin datos",{"$f":"+'[7]conmutador Nov'!N204","v":"Asesoría"},{"$f":"+'[7]conmutador Nov'!O204","v":"Consulta general"},{"$f":"+'[7]conmutador Nov'!P204","v":"Desempeño de la entidad"},{"$f":"+'[7]conmutador Nov'!Q204","v":"Transferencia de llamada - Referencia laboral "},{"$f":"+'[7]conmutador Nov'!R204","v":"Atención al ciudadano"},{"$f":"+'[7]conmutador Nov'!S204","v":"Ciudadano"},{"$f":"+'[7]conmutador Nov'!T204","v":"No Registra"}]
[334,2022,"NOVIEMBRE",{"$f":"+'[7]conmutador Nov'!B205","v":"2022-11-29"},{"$f":"+'[7]conmutador Nov'!C205","v":"13:51:00"},"NIDIA JINETH GONZALEZ CÁRDENAS","TELEFÓNICO",{"$f":"+'[7]conmutador Nov'!E205","v":"Conmutador"},"Sin datos",{"$f":"+'[7]conmutador Nov'!J205","v":"Ciudadanía"},{"$f":"+'[7]conmutador Nov'!G205","v":"ALEJANDRO MURILLO"},{"$f":"+[7]!Tabla1[[#This Row],[GRUPO DE VALOR]]","v":"Ciudadanía"},{"$f":"+[7]!Tabla1[[#This Row],[NOMBRE DEL GRUPO DE VALOR]]","v":"ALEJANDRO MURILLO"},{"$f":"+'[7]conmutador Nov'!K205","v":"Masculino"},{"$f":"+'[7]conmutador Nov'!L205","v":"Hombre "},"Sin datos","Sin datos","Sin datos","Sin datos",{"$f":"+'[7]conmutador Nov'!N205","v":"Asesoría"},{"$f":"+'[7]conmutador Nov'!O205","v":"Asesoría en administración y sostenibilidad del espacio público"},{"$f":"+'[7]conmutador Nov'!P205","v":"Asesoría en temas de espacio público"},{"$f":"+'[7]conmutador Nov'!Q205","v":"Queja invasión espacio público, escombros y parqueadero."},{"$f":"+'[7]conmutador Nov'!R205","v":"Atención al ciudadano"},{"$f":"+'[7]conmutador Nov'!S205","v":"Ciudadano"},"11 Suba"]
[335,2022,"NOVIEMBRE",{"$f":"+'[7]conmutador Nov'!B206","v":"2022-11-29"},{"$f":"+'[7]conmutador Nov'!C206","v":"14:06:00"},"NIDIA JINETH GONZALEZ CÁRDENAS","TELEFÓNICO",{"$f":"+'[7]conmutador Nov'!E206","v":"Conmutador"},"Sin datos",{"$f":"+'[7]conmutador Nov'!J206","v":"Ciudadanía"},{"$f":"+'[7]conmutador Nov'!G206","v":"BANCO DE BOGOTA"},{"$f":"+[7]!Tabla1[[#This Row],[GRUPO DE VALOR]]","v":"Ciudadanía"},{"$f":"+[7]!Tabla1[[#This Row],[NOMBRE DEL GRUPO DE VALOR]]","v":"BANCO DE BOGOTA"},{"$f":"+'[7]conmutador Nov'!K206","v":"Femenino"},{"$f":"+'[7]conmutador Nov'!L206","v":"Mujer"},"Sin datos","Sin datos","Sin datos","Sin datos",{"$f":"+'[7]conmutador Nov'!N206","v":"Asesoría"},{"$f":"+'[7]conmutador Nov'!O206","v":"Consulta general"},{"$f":"+'[7]conmutador Nov'!P206","v":"Desempeño de la entidad"},{"$f":"+'[7]conmutador Nov'!Q206","v":"Transferencia de llamada - Referencia laboral "},{"$f":"+'[7]conmutador Nov'!R206","v":"Atención al ciudadano"},{"$f":"+'[7]conmutador Nov'!S206","v":"Ciudadano"},{"$f":"+'[7]conmutador Nov'!T206","v":"No Registra"}]
[336,2022,"NOVIEMBRE",{"$f":"+'[7]conmutador Nov'!B207","v":"2022-11-29"},{"$f":"+'[7]conmutador Nov'!C207","v":"16:00:00"},"NIDIA JINETH GONZALEZ CÁRDENAS","TELEFÓNICO",{"$f":"+'[7]conmutador Nov'!E207","v":"Conmutador"},"Sin datos",{"$f":"+'[7]conmutador Nov'!J207","v":"Ciudadanía"},{"$f":"+'[7]conmutador Nov'!G207","v":"FANNY PERILLA"},{"$f":"+[7]!Tabla1[[#This Row],[GRUPO DE VALOR]]","v":"Ciudadanía"},{"$f":"+[7]!Tabla1[[#This Row],[NOMBRE DEL GRUPO DE VALOR]]","v":"FANNY PERILLA"},{"$f":"+'[7]conmutador Nov'!K207","v":"Femenino"},{"$f":"+'[7]conmutador Nov'!L207","v":"Mujer"},"Sin datos","Sin datos","Sin datos","Sin datos",{"$f":"+'[7]conmutador Nov'!N207","v":"Asesoría"},{"$f":"+'[7]conmutador Nov'!O207","v":"Consulta general"},{"$f":"+'[7]conmutador Nov'!P207","v":"Consulta radicado"},{"$f":"+'[7]conmutador Nov'!Q207","v":"Solicita información y explicación sobre radicado y concepto emitido sobre espacio público"},{"$f":"+'[7]conmutador Nov'!R207","v":"Atención al ciudadano"},{"$f":"+'[7]conmutador Nov'!S207","v":"Ciudadano"},"04 San Cristóbal"]
[337,2022,"NOVIEMBRE",{"$f":"+'[7]conmutador Nov'!B208","v":"2022-11-30"},{"$f":"+'[7]conmutador Nov'!C208","v":"08:10:00"},"LILIANA AGUILAR PUENTES","TELEFÓNICO",{"$f":"+'[7]conmutador Nov'!E208","v":"Conmutador"},"Sin datos",{"$f":"+'[7]conmutador Nov'!J208","v":"Ciudadanía"},{"$f":"+'[7]conmutador Nov'!G208","v":"AMPARO AREVALO"},{"$f":"+[7]!Tabla1[[#This Row],[GRUPO DE VALOR]]","v":"Ciudadanía"},{"$f":"+[7]!Tabla1[[#This Row],[NOMBRE DEL GRUPO DE VALOR]]","v":"AMPARO AREVALO"},{"$f":"+'[7]conmutador Nov'!K208","v":"Femenino"},{"$f":"+'[7]conmutador Nov'!L208","v":"Mujer"},"Sin datos","Sin datos","Sin datos","Sin datos",{"$f":"+'[7]conmutador Nov'!N208","v":"Consulta"},{"$f":"+'[7]conmutador Nov'!O208","v":"Consulta general"},{"$f":"+'[7]conmutador Nov'!P208","v":"Servicios TIC"},{"$f":"+'[7]conmutador Nov'!Q208","v":"Informa que le esta llegando un correo de Dadep de la funcioanria Cindy Cristina Ruiz Lopez"},{"$f":"+'[7]conmutador Nov'!R208","v":"Atención al ciudadano"},{"$f":"+'[7]conmutador Nov'!S208","v":"Ciudadano"},"13 Teusaquillo"]
[338,2022,"NOVIEMBRE",{"$f":"+'[7]conmutador Nov'!B209","v":"2022-11-30"},{"$f":"+'[7]conmutador Nov'!C209","v":"9:06 A.M."},"LILIANA AGUILAR PUENTES","TELEFÓNICO",{"$f":"+'[7]conmutador Nov'!E209","v":"Conmutador"},"Sin datos",{"$f":"+'[7]conmutador Nov'!J209","v":"Ciudadanía"},{"$f":"+'[7]conmutador Nov'!G209","v":"LIGIA FORERO"},{"$f":"+[7]!Tabla1[[#This Row],[GRUPO DE VALOR]]","v":"Ciudadanía"},{"$f":"+[7]!Tabla1[[#This Row],[NOMBRE DEL GRUPO DE VALOR]]","v":"LIGIA FORERO"},{"$f":"+'[7]conmutador Nov'!K209","v":"Femenino"},{"$f":"+'[7]conmutador Nov'!L209","v":"Mujer"},"Sin datos","Sin datos","Sin datos","Sin datos",{"$f":"+'[7]conmutador Nov'!N209","v":"Consulta"},{"$f":"+'[7]conmutador Nov'!O209","v":"Consulta general"},{"$f":"+'[7]conmutador Nov'!P209","v":"Servicios TIC"},{"$f":"+'[7]conmutador Nov'!Q209","v":"Informa que le esta llegando un correo de Dadep de la funcioanria Cindy Cristina Ruiz Lopez"},{"$f":"+'[7]conmutador Nov'!R209","v":"Atención al ciudadano"},{"$f":"+'[7]conmutador Nov'!S209","v":"Ciudadano"},"13 Teusaquillo"]
[339,2022,"NOVIEMBRE",{"$f":"+'[7]conmutador Nov'!B210","v":"2022-11-30"},{"$f":"+'[7]conmutador Nov'!C210","v":"09:15:00"},"LILIANA AGUILAR PUENTES","TELEFÓNICO",{"$f":"+'[7]conmutador Nov'!E210","v":"Conmutador"},"Sin datos",{"$f":"+'[7]conmutador Nov'!J210","v":"Ciudadanía"},{"$f":"+'[7]conmutador Nov'!G210","v":"JULIAN BETANVOURT"},{"$f":"+[7]!Tabla1[[#This Row],[GRUPO DE VALOR]]","v":"Ciudadanía"},{"$f":"+[7]!Tabla1[[#This Row],[NOMBRE DEL GRUPO DE VALOR]]","v":"JULIAN BETANVOURT"},{"$f":"+'[7]conmutador Nov'!K210","v":"Femenino"},{"$f":"+'[7]conmutador Nov'!L210","v":"Mujer"},"Sin datos","Sin datos","Sin datos","Sin datos",{"$f":"+'[7]conmutador Nov'!N210","v":"Consulta"},{"$f":"+'[7]conmutador Nov'!O210","v":"Consulta general"},{"$f":"+'[7]conmutador Nov'!P210","v":"Servicios TIC"},{"$f":"+'[7]conmutador Nov'!Q210","v":"Informa que le esta llegando un correo de Dadep de la funcioanria Cindy Cristina Ruiz Lopez"},{"$f":"+'[7]conmutador Nov'!R210","v":"Atención al ciudadano"},{"$f":"+'[7]conmutador Nov'!S210","v":"Ciudadano"},"13 Teusaquillo"]
[340,2022,"NOVIEMBRE",{"$f":"+'[7]conmutador Nov'!B211","v":"2022-11-30"},{"$f":"+'[7]conmutador Nov'!C211","v":"09:25:00"},"LILIANA AGUILAR PUENTES","TELEFÓNICO",{"$f":"+'[7]conmutador Nov'!E211","v":"Conmutador"},"Sin datos",{"$f":"+'[7]conmutador Nov'!J211","v":"Ciudadanía"},{"$f":"+'[7]conmutador Nov'!G211","v":"SANDRA ROMERO "},{"$f":"+[7]!Tabla1[[#This Row],[GRUPO DE VALOR]]","v":"Ciudadanía"},{"$f":"+[7]!Tabla1[[#This Row],[NOMBRE DEL GRUPO DE VALOR]]","v":"SANDRA ROMERO "},{"$f":"+'[7]conmutador Nov'!K211","v":"Femenino"},{"$f":"+'[7]conmutador Nov'!L211","v":"Mujer"},"Sin datos","Sin datos","Sin datos","Sin datos",{"$f":"+'[7]conmutador Nov'!N211","v":"Consulta"},{"$f":"+'[7]conmutador Nov'!O211","v":"Consulta general"},{"$f":"+'[7]conmutador Nov'!P211","v":"Servicios TIC"},{"$f":"+'[7]conmutador Nov'!Q211","v":"Informa que le esta llegando un correo de Dadep de la funcioanria Cindy Cristina Ruiz Lopez"},{"$f":"+'[7]conmutador Nov'!R211","v":"Atención al ciudadano"},{"$f":"+'[7]conmutador Nov'!S211","v":"Ciudadano"},"13 Teusaquillo"]
[341,2022,"NOVIEMBRE",{"$f":"+'[7]conmutador Nov'!B212","v":"2022-11-30"},{"$f":"+'[7]conmutador Nov'!C212","v":"09:30:00"},"LILIANA AGUILAR PUENTES","TELEFÓNICO",{"$f":"+'[7]conmutador Nov'!E212","v":"Conmutador"},"Sin datos",{"$f":"+'[7]conmutador Nov'!J212","v":"Ciudadanía"},{"$f":"+'[7]conmutador Nov'!G212","v":"AIDA LEON"},{"$f":"+[7]!Tabla1[[#This Row],[GRUPO DE VALOR]]","v":"Ciudadanía"},{"$f":"+[7]!Tabla1[[#This Row],[NOMBRE DEL GRUPO DE VALOR]]","v":"AIDA LEON"},{"$f":"+'[7]conmutador Nov'!K212","v":"Femenino"},{"$f":"+'[7]conmutador Nov'!L212","v":"Mujer"},"Sin datos","Sin datos","Sin datos","Sin datos",{"$f":"+'[7]conmutador Nov'!N212","v":"Consulta"},{"$f":"+'[7]conmutador Nov'!O212","v":"Consulta general"},{"$f":"+'[7]conmutador Nov'!P212","v":"Transferencia de llamada"},{"$f":"+'[7]conmutador Nov'!Q212","v":"Transferencia de llamada  EXT 1049"},{"$f":"+'[7]conmutador Nov'!R212","v":"Atención al ciudadano"},{"$f":"+'[7]conmutador Nov'!S212","v":"Ciudadano"},{"$f":"+'[7]conmutador Nov'!T212","v":"No Registra"}]
[342,2022,"NOVIEMBRE",{"$f":"+'[7]conmutador Nov'!B213","v":"2022-11-30"},{"$f":"+'[7]conmutador Nov'!C213","v":"09:46:00"},"LILIANA AGUILAR PUENTES","TELEFÓNICO",{"$f":"+'[7]conmutador Nov'!E213","v":"Conmutador"},"Sin datos",{"$f":"+'[7]conmutador Nov'!J213","v":"Ciudadanía"},{"$f":"+'[7]conmutador Nov'!G213","v":"fredy leon"},{"$f":"+[7]!Tabla1[[#This Row],[GRUPO DE VALOR]]","v":"Ciudadanía"},{"$f":"+[7]!Tabla1[[#This Row],[NOMBRE DEL GRUPO DE VALOR]]","v":"fredy leon"},{"$f":"+'[7]conmutador Nov'!K213","v":"Femenino"},{"$f":"+'[7]conmutador Nov'!L213","v":"Mujer"},"Sin datos","Sin datos","Sin datos","Sin datos",{"$f":"+'[7]conmutador Nov'!N213","v":"Consulta"},{"$f":"+'[7]conmutador Nov'!O213","v":"Consulta general"},{"$f":"+'[7]conmutador Nov'!P213","v":"Competencia otras entidades"},{"$f":"+'[7]conmutador Nov'!Q213","v":"DENUNCIA HABITALTE DE CALLE A LA SALIDA DE LA SEDE CARVAJAL DE MONTEVIDEO "},{"$f":"+'[7]conmutador Nov'!R213","v":"Atención al ciudadano"},{"$f":"+'[7]conmutador Nov'!S213","v":"Ciudadano"},"16 Puente Aranda"]
[343,2022,"NOVIEMBRE",{"$f":"+'[7]conmutador Nov'!B214","v":"2022-11-30"},{"$f":"+'[7]conmutador Nov'!C214","v":"09:54:00"},"LILIANA AGUILAR PUENTES","TELEFÓNICO",{"$f":"+'[7]conmutador Nov'!E214","v":"Conmutador"},"Sin datos",{"$f":"+'[7]conmutador Nov'!J214","v":"Ciudadanía"},{"$f":"+'[7]conmutador Nov'!G214","v":"CLAUDIA CONTRERAS"},{"$f":"+[7]!Tabla1[[#This Row],[GRUPO DE VALOR]]","v":"Ciudadanía"},{"$f":"+[7]!Tabla1[[#This Row],[NOMBRE DEL GRUPO DE VALOR]]","v":"CLAUDIA CONTRERAS"},{"$f":"+'[7]conmutador Nov'!K214","v":"Femenino"},{"$f":"+'[7]conmutador Nov'!L214","v":"Mujer"},"Sin datos","Sin datos","Sin datos","Sin datos",{"$f":"+'[7]conmutador Nov'!N214","v":"Consulta"},{"$f":"+'[7]conmutador Nov'!O214","v":"Consulta general"},{"$f":"+'[7]conmutador Nov'!P214","v":"Parqueaderos"},{"$f":"+'[7]conmutador Nov'!Q214","v":"informa que es usuaria del parqueadero de suba el cual es administrado por el terminal de transporte , y se le vence la cuota en en diciembre y le indicarn que no puede ingresar y tampcoo sacar el vehiculo"},{"$f":"+'[7]conmutador Nov'!R214","v":"Atención al ciudadano"},{"$f":"+'[7]conmutador Nov'!S214","v":"Ciudadano"},"11 Suba"]
[344,2022,"NOVIEMBRE",{"$f":"+'[7]conmutador Nov'!B215","v":"2022-11-30"},{"$f":"+'[7]conmutador Nov'!C215","v":"10:00:00"},"LILIANA AGUILAR PUENTES","TELEFÓNICO",{"$f":"+'[7]conmutador Nov'!E215","v":"Conmutador"},"Sin datos",{"$f":"+'[7]conmutador Nov'!J215","v":"Ciudadanía"},{"$f":"+'[7]conmutador Nov'!G215","v":"VICTOR RORIGUEZ"},{"$f":"+[7]!Tabla1[[#This Row],[GRUPO DE VALOR]]","v":"Ciudadanía"},{"$f":"+[7]!Tabla1[[#This Row],[NOMBRE DEL GRUPO DE VALOR]]","v":"VICTOR RORIGUEZ"},{"$f":"+'[7]conmutador Nov'!K215","v":"Masculino"},{"$f":"+'[7]conmutador Nov'!L215","v":"Hombre "},"Sin datos","Sin datos","Sin datos","Sin datos",{"$f":"+'[7]conmutador Nov'!N215","v":"Consulta"},{"$f":"+'[7]conmutador Nov'!O215","v":"Consulta general"},{"$f":"+'[7]conmutador Nov'!P215","v":"Número equivocado"},{"$f":"+'[7]conmutador Nov'!Q215","v":"PREGUNTANDO POR EL FUNCIONARIO ALEJANDRO RIVERA QUE TRABAJ CON EL DISTRIO"},{"$f":"+'[7]conmutador Nov'!R215","v":"Atención al ciudadano"},{"$f":"+'[7]conmutador Nov'!S215","v":"Ciudadano"},{"$f":"+'[7]conmutador Nov'!T215","v":"No Registra"}]
[345,2022,"NOVIEMBRE",{"$f":"+'[7]conmutador Nov'!B216","v":"2022-11-30"},{"$f":"+'[7]conmutador Nov'!C216","v":"11:00:00"},"LILIANA AGUILAR PUENTES","TELEFÓNICO",{"$f":"+'[7]conmutador Nov'!E216","v":"Conmutador"},"Sin datos",{"$f":"+'[7]conmutador Nov'!J216","v":"Ciudadanía"},{"$f":"+'[7]conmutador Nov'!G216","v":"NATALY TORRES"},{"$f":"+[7]!Tabla1[[#This Row],[GRUPO DE VALOR]]","v":"Ciudadanía"},{"$f":"+[7]!Tabla1[[#This Row],[NOMBRE DEL GRUPO DE VALOR]]","v":"NATALY TORRES"},{"$f":"+'[7]conmutador Nov'!K216","v":"Femenino"},{"$f":"+'[7]conmutador Nov'!L216","v":"Mujer"},"Sin datos","Sin datos","Sin datos","Sin datos",{"$f":"+'[7]conmutador Nov'!N216","v":"Consulta"},{"$f":"+'[7]conmutador Nov'!O216","v":"Consulta general"},{"$f":"+'[7]conmutador Nov'!P216","v":"Servicios TIC"},{"$f":"+'[7]conmutador Nov'!Q216","v":"Informa que le esta llegando un correo de Dadep de la funcioanria Cindy Cristina Ruiz Lopez"},{"$f":"+'[7]conmutador Nov'!R216","v":"Atención al ciudadano"},{"$f":"+'[7]conmutador Nov'!S216","v":"Ciudadano"},"13 Teusaquillo"]
[346,2022,"NOVIEMBRE",{"$f":"+'[7]conmutador Nov'!B217","v":"2022-11-30"},{"$f":"+'[7]conmutador Nov'!C217","v":"11:04:00"},"LILIANA AGUILAR PUENTES","TELEFÓNICO",{"$f":"+'[7]conmutador Nov'!E217","v":"Conmutador"},"Sin datos",{"$f":"+'[7]conmutador Nov'!J217","v":"Ciudadanía"},{"$f":"+'[7]conmutador Nov'!G217","v":"JAIR AGUDELO"},{"$f":"+[7]!Tabla1[[#This Row],[GRUPO DE VALOR]]","v":"Ciudadanía"},{"$f":"+[7]!Tabla1[[#This Row],[NOMBRE DEL GRUPO DE VALOR]]","v":"JAIR AGUDELO"},{"$f":"+'[7]conmutador Nov'!K217","v":"Masculino"},{"$f":"+'[7]conmutador Nov'!L217","v":"Hombre "},"Sin datos","Sin datos","Sin datos","Sin datos",{"$f":"+'[7]conmutador Nov'!N217","v":"Consulta"},{"$f":"+'[7]conmutador Nov'!O217","v":"Consulta general"},{"$f":"+'[7]conmutador Nov'!P217","v":"Servicios TIC"},{"$f":"+'[7]conmutador Nov'!Q217","v":"Informa que le esta llegando un correo de Dadep de la funcioanria Cindy Cristina Ruiz Lopez"},{"$f":"+'[7]conmutador Nov'!R217","v":"Atención al ciudadano"},{"$f":"+'[7]conmutador Nov'!S217","v":"Ciudadano"},{"$f":"+'[7]conmutador Nov'!T217","v":"No Registra"}]
[347,2022,"NOVIEMBRE",{"$f":"+'[7]conmutador Nov'!B218","v":"2022-11-30"},{"$f":"+'[7]conmutador Nov'!C218","v":"11:52:00"},"LILIANA AGUILAR PUENTES","TELEFÓNICO",{"$f":"+'[7]conmutador Nov'!E218","v":"Conmutador"},"Sin datos",{"$f":"+'[7]conmutador Nov'!J218","v":"Ciudadanía"},{"$f":"+'[7]conmutador Nov'!G218","v":"EMPERATRIZ DUARTE"},{"$f":"+[7]!Tabla1[[#This Row],[GRUPO DE VALOR]]","v":"Ciudadanía"},{"$f":"+[7]!Tabla1[[#This Row],[NOMBRE DEL GRUPO DE VALOR]]","v":"EMPERATRIZ DUARTE"},{"$f":"+'[7]conmutador Nov'!K218","v":"Masculino"},{"$f":"+'[7]conmutador Nov'!L218","v":"Hombre "},"Sin datos","Sin datos","Sin datos","Sin datos",{"$f":"+'[7]conmutador Nov'!N218","v":"Consulta"},{"$f":"+'[7]conmutador Nov'!O218","v":"Consulta general"},{"$f":"+'[7]conmutador Nov'!P218","v":"Servicios TIC"},{"$f":"+'[7]conmutador Nov'!Q218","v":"consulta radicado No. 20223010177441 y que le trasfiera la llamada con lina Maria Mojica"},{"$f":"+'[7]conmutador Nov'!R218","v":"Atención al ciudadano"},{"$f":"+'[7]conmutador Nov'!S218","v":"Ciudadano"},"11 Suba"]
[348,2022,"NOVIEMBRE",{"$f":"+'[7]conmutador Nov'!B219","v":"2022-11-30"},{"$f":"+'[7]conmutador Nov'!C219","v":"01:43:00"},"LILIANA AGUILAR PUENTES","TELEFÓNICO",{"$f":"+'[7]conmutador Nov'!E219","v":"Conmutador"},"Sin datos",{"$f":"+'[7]conmutador Nov'!J219","v":"Ciudadanía"},{"$f":"+'[7]conmutador Nov'!G219","v":"RAUL DUARTE"},{"$f":"+[7]!Tabla1[[#This Row],[GRUPO DE VALOR]]","v":"Ciudadanía"},{"$f":"+[7]!Tabla1[[#This Row],[NOMBRE DEL GRUPO DE VALOR]]","v":"RAUL DUARTE"},{"$f":"+'[7]conmutador Nov'!K219","v":"Masculino"},{"$f":"+'[7]conmutador Nov'!L219","v":"Hombre "},"Sin datos","Sin datos","Sin datos","Sin datos",{"$f":"+'[7]conmutador Nov'!N219","v":"Consulta"},{"$f":"+'[7]conmutador Nov'!O219","v":"Consulta general"},{"$f":"+'[7]conmutador Nov'!P219","v":"Consulta"},{"$f":"+'[7]conmutador Nov'!Q219","v":"Consulta"},{"$f":"+'[7]conmutador Nov'!R219","v":"Atención al ciudadano"},{"$f":"+'[7]conmutador Nov'!S219","v":"Ciudadano"},"11 Suba"]
[349,2022,"NOVIEMBRE",{"$f":"+'[7]conmutador Nov'!B220","v":"2022-11-30"},{"$f":"+'[7]conmutador Nov'!C220","v":"13:58:00"},"LILIANA AGUILAR PUENTES","TELEFÓNICO",{"$f":"+'[7]conmutador Nov'!E220","v":"Conmutador"},"Sin datos",{"$f":"+'[7]conmutador Nov'!J220","v":"Anónimo"},{"$f":"+'[7]conmutador Nov'!G220","v":"ANÓNIMO"},{"$f":"+[7]!Tabla1[[#This Row],[GRUPO DE VALOR]]","v":"Anónimo"},{"$f":"+[7]!Tabla1[[#This Row],[NOMBRE DEL GRUPO DE VALOR]]","v":"ANÓNIMO"},{"$f":"+'[7]conmutador Nov'!K220","v":"Femenino"},{"$f":"+'[7]conmutador Nov'!L220","v":"Mujer"},"Sin datos","Sin datos","Sin datos","Sin datos",{"$f":"+'[7]conmutador Nov'!N220","v":"Consulta"},{"$f":"+'[7]conmutador Nov'!O220","v":"Consulta general"},{"$f":"+'[7]conmutador Nov'!P220","v":"Consulta"},{"$f":"+'[7]conmutador Nov'!Q220","v":"Numero equivocado"},{"$f":"+'[7]conmutador Nov'!R220","v":"Atención al ciudadano"},{"$f":"+'[7]conmutador Nov'!S220","v":"Ciudadano"},{"$f":"+'[7]conmutador Nov'!T220","v":"no registra"}]
[350,2022,"NOVIEMBRE",{"$f":"+'[7]conmutador Nov'!B221","v":"2022-11-30"},{"$f":"+'[7]conmutador Nov'!C221","v":"14:00:00"},"LILIANA AGUILAR PUENTES","TELEFÓNICO",{"$f":"+'[7]conmutador Nov'!E221","v":"Conmutador"},"Sin datos",{"$f":"+'[7]conmutador Nov'!J221","v":"Ciudadanía"},{"$f":"+'[7]conmutador Nov'!G221","v":"YOLIMA GONZALEZ"},{"$f":"+[7]!Tabla1[[#This Row],[GRUPO DE VALOR]]","v":"Ciudadanía"},{"$f":"+[7]!Tabla1[[#This Row],[NOMBRE DEL GRUPO DE VALOR]]","v":"YOLIMA GONZALEZ"},{"$f":"+'[7]conmutador Nov'!K221","v":"Femenino"},{"$f":"+'[7]conmutador Nov'!L221","v":"Mujer"},"Sin datos","Sin datos","Sin datos","Sin datos",{"$f":"+'[7]conmutador Nov'!N221","v":"Consulta"},{"$f":"+'[7]conmutador Nov'!O221","v":"Consulta general"},{"$f":"+'[7]conmutador Nov'!P221","v":"Consulta"},{"$f":"+'[7]conmutador Nov'!Q221","v":"PREGUNTA HORARIO DE ATENCION DEL MES DE DICIEMBRE"},{"$f":"+'[7]conmutador Nov'!R221","v":"Atención al ciudadano"},{"$f":"+'[7]conmutador Nov'!S221","v":"Ciudadano"},"01 Usaquén"]
[351,2022,"NOVIEMBRE",{"$f":"+'[7]conmutador Nov'!B222","v":"2022-11-30"},{"$f":"+'[7]conmutador Nov'!C222","v":"8:33:00 A.M."},{"$f":"+'[7]conmutador Nov'!D222","v":"ALBEIRO ESCOBAR"},"TELEFÓNICO",{"$f":"+'[7]conmutador Nov'!E222","v":"CELULAR"},"Sin datos",{"$f":"+'[7]conmutador Nov'!J222","v":"Ciudadanía"},{"$f":"+'[7]conmutador Nov'!G222","v":"BRAYAN ARISTIZABAL"},{"$f":"+[7]!Tabla1[[#This Row],[GRUPO DE VALOR]]","v":"Ciudadanía"},{"$f":"+[7]!Tabla1[[#This Row],[NOMBRE DEL GRUPO DE VALOR]]","v":"BRAYAN ARISTIZABAL"},{"$f":"+'[7]conmutador Nov'!K222","v":"Masculino"},{"$f":"+'[7]conmutador Nov'!L222","v":"Hombre "},"Sin datos","Sin datos","Sin datos","Sin datos",{"$f":"+'[7]conmutador Nov'!N222","v":"Consulta"},{"$f":"+'[7]conmutador Nov'!O222","v":"Consulta general"},{"$f":"+'[7]conmutador Nov'!P222","v":"Consulta"},{"$f":"+'[7]conmutador Nov'!Q222","v":"TERMINAL DE TRANSPORTE MOBILIARIO PARA CEPOS"},{"$f":"+'[7]conmutador Nov'!R222","v":"Atención al ciudadano"},{"$f":"+'[7]conmutador Nov'!S222","v":"Ciudadano"},{"$f":"+'[7]conmutador Nov'!T222","v":"no registra"}]
[352,2022,"NOVIEMBRE",{"$f":"+'[7]conmutador Nov'!B223","v":"2022-11-30"},{"$f":"+'[7]conmutador Nov'!C223","v":"10:40:00 A.M."},{"$f":"+'[7]conmutador Nov'!D223","v":"ALBEIRO ESCOBAR"},"TELEFÓNICO",{"$f":"+'[7]conmutador Nov'!E223","v":"CELULAR"},"Sin datos",{"$f":"+'[7]conmutador Nov'!J223","v":"Ciudadanía"},{"$f":"+'[7]conmutador Nov'!G223","v":"LUIS ALFONSO CARRILLO"},{"$f":"+[7]!Tabla1[[#This Row],[GRUPO DE VALOR]]","v":"Ciudadanía"},{"$f":"+[7]!Tabla1[[#This Row],[NOMBRE DEL GRUPO DE VALOR]]","v":"LUIS ALFONSO CARRILLO"},{"$f":"+'[7]conmutador Nov'!K223","v":"Masculino"},{"$f":"+'[7]conmutador Nov'!L223","v":"Hombre "},"Sin datos","Sin datos","Sin datos","Sin datos",{"$f":"+'[7]conmutador Nov'!N223","v":"Consulta"},{"$f":"+'[7]conmutador Nov'!O223","v":"Consulta general"},{"$f":"+'[7]conmutador Nov'!P223","v":"Consulta"},{"$f":"+'[7]conmutador Nov'!Q223","v":"CONSULTA CAMEP  VILLA DE LOS ALPES"},{"$f":"+'[7]conmutador Nov'!R223","v":"Atención al ciudadano"},{"$f":"+'[7]conmutador Nov'!S223","v":"Ciudadano"},"04 San Cristóbal"]
[353,2022,"NOVIEMBRE",{"$f":"+'[7]conmutador Nov'!B224","v":"2022-11-30"},{"$f":"+'[7]conmutador Nov'!C224","v":"11:27:00 A.M."},{"$f":"+'[7]conmutador Nov'!D224","v":"ALBEIRO ESCOBAR"},"TELEFÓNICO",{"$f":"+'[7]conmutador Nov'!E224","v":"CELULAR"},"Sin datos",{"$f":"+'[7]conmutador Nov'!J224","v":"Ciudadanía"},{"$f":"+'[7]conmutador Nov'!G224","v":"LIBIA DERLY BOHORQUEZ"},{"$f":"+[7]!Tabla1[[#This Row],[GRUPO DE VALOR]]","v":"Ciudadanía"},{"$f":"+[7]!Tabla1[[#This Row],[NOMBRE DEL GRUPO DE VALOR]]","v":"LIBIA DERLY BOHORQUEZ"},{"$f":"+'[7]conmutador Nov'!K224","v":"Femenino"},{"$f":"+'[7]conmutador Nov'!L224","v":"Mujer"},"Sin datos","Sin datos","Sin datos","Sin datos",{"$f":"+'[7]conmutador Nov'!N224","v":"Consulta"},{"$f":"+'[7]conmutador Nov'!O224","v":"Consulta general"},{"$f":"+'[7]conmutador Nov'!P224","v":"Consulta"},{"$f":"+'[7]conmutador Nov'!Q224","v":"SOLICITUD DE INFORMACION BACA"},{"$f":"+'[7]conmutador Nov'!R224","v":"Atención al ciudadano"},{"$f":"+'[7]conmutador Nov'!S224","v":"Ciudadano"},"14 Los Mártires"]
[354,2022,"NOVIEMBRE",{"$f":"+'[7]conmutador Nov'!B225","v":"2022-11-30"},{"$f":"+'[7]conmutador Nov'!C225","v":"8:49:00 A.M."},"OLGA LUCÍA MESA MORENO","TELEFÓNICO",{"$f":"+'[7]conmutador Nov'!E225","v":"Conmutador"},"Sin datos",{"$f":"+'[7]conmutador Nov'!J225","v":"Ciudadanía"},{"$f":"+'[7]conmutador Nov'!G225","v":"YOLANDA BAUTISTA"},{"$f":"+[7]!Tabla1[[#This Row],[GRUPO DE VALOR]]","v":"Ciudadanía"},{"$f":"+[7]!Tabla1[[#This Row],[NOMBRE DEL GRUPO DE VALOR]]","v":"YOLANDA BAUTISTA"},{"$f":"+'[7]conmutador Nov'!K225","v":"Femenino"},{"$f":"+'[7]conmutador Nov'!L225","v":"Mujer"},"Sin datos","Sin datos","Sin datos","Sin datos",{"$f":"+'[7]conmutador Nov'!N225","v":"Consulta"},{"$f":"+'[7]conmutador Nov'!O225","v":"Consulta general"},{"$f":"+'[7]conmutador Nov'!P225","v":"Transferencia de llamada"},{"$f":"+'[7]conmutador Nov'!Q225","v":"SOLICITA COMUNICARSE CON LA EXT 1049"},{"$f":"+'[7]conmutador Nov'!R225","v":"Atención al ciudadano"},{"$f":"+'[7]conmutador Nov'!S225","v":"Ciudadano"},{"$f":"+'[7]conmutador Nov'!T225","v":"no registra"}]
[355,2022,"NOVIEMBRE","2022-11-04","11:59:42","JANETH REDONDO","VIRTUAL","Chat","YOHANOTY@HOTMAIL.COM","Ciudadanía","FELICIANO AROS BELTRAN","Ciudadanía","FELICIANO AROS BELTRAN","Masculino","Hombre ","Sin datos","Sin datos","Sin datos","Sin datos","CONSULTA","Consulta general","Consulta","Consulta radicado de salud de la EPS de su ciudad Ibagué Tolima","Atención al ciudadano","Ciudadano","Fuera de Bogotá"]
[356,2022,"NOVIEMBRE","2022-11-21","09:10:42","PAULA ALEJANDRA MARTÍNEZ CALDERÓN ","VIRTUAL","Chat","Jhasson.alarcon619@gmail.com","Ciudadanía","JHASSON ALEJANDRO ALARCON","Ciudadanía","JHASSON ALEJANDRO ALARCON","Masculino","Hombre ","N/A","Sin datos","Sin datos","Sin datos","CONSULTA","Consulta general","Transferencia de llamada","Consulta radicado Doña Juana, en que estado se encuentra este radicado 20220009052446182","Atención al ciudadano","Ciudadano","05 Usme"]
[357,2022,"NOVIEMBRE","21/11/2022","15:11:40 PM","PAULA ALEJANDRA MARTÍNEZ CALDERÓN ","VIRTUAL","Chat","carcacho73@hotmail.com","Ciudadanía","CLAUDIA MARCELA VELASQUEZ","Ciudadanía","CLAUDIA MARCELA VELASQUEZ","Femenino","Mujer","N/A","Sin datos","Sin datos","Sin datos","CONSULTA","Consulta general","Transferencia de llamada","Buena tarde me informan por favor como puedo verificar si adjudicaron un contrato de la localidad de BOSA LA CAPILLA Calle 62 SUR 79B - 29","Atención al ciudadano","Ciudadano","07 Bosa"]
[358,2022,"NOVIEMBRE","22/11/2022","10:54:11","PAULA ALEJANDRA MARTÍNEZ CALDERÓN ","VIRTUAL","Chat","carcacho73@hotmail.com","Ciudadanía","CLAUDIA MARCELA VELASQUEZ","Ciudadanía","CLAUDIA MARCELA VELASQUEZ","Femenino","Mujer","N/A","Sin datos","Sin datos","Sin datos","CONSULTA","Consulta general","Consulta","Saber a quién le adjudicaron el contrato de parqueadero calle62 sur # 79B-29 de Bosa centro q colindan con el conjunto la capilla gracias","Atención al ciudadano","Ciudadano","07 Bosa"]
[359,2022,"NOVIEMBRE","22/11/2022","15:19:20 PM","PAULA ALEJANDRA MARTÍNEZ CALDERÓN ","VIRTUAL","Chat","gloria.blanco@transparenciacolombia.org.co","Ciudadanía","GLORIA BLANCO","Ciudadanía","GLORIA BLANCO","Femenino","Mujer","N/A","Sin datos","Sin datos","Sin datos","CONSULTA","Consulta general","Competencia otras entidades","Requisitos para fijar publicidad exterior en espacio publico","Atención al ciudadano","Ciudadano","13 Teusaquillo"]
[360,2022,"NOVIEMBRE","24/11/2022","13:25:14 PM","PAULA ALEJANDRA MARTÍNEZ CALDERÓN ","VIRTUAL","Chat","ingecadiz@gmail.com","Ciudadanía","CARLOS ARTURO ACOSTA\t","Ciudadanía","CARLOS ARTURO ACOSTA\t","Masculino","Hombre ","N/A","Sin datos","Sin datos","Sin datos","CONSULTA","Incorporación y entrega de las áreas de cesión a favor del municipio","Entrega de zonas de cesión","Es para saber el estado actual de una via, toda vez que en la manzana catastral aparece como lote pero en la realizada se ve una via publica, y necesito solicitar licencia de construccion para este predio carrera 3 A este 37 b 32 sur","Atención al ciudadano","Ciudadano","04 San Cristóbal"]
[361,2022,"NOVIEMBRE","24/11/2022","14:49:09","PAULA ALEJANDRA MARTÍNEZ CALDERÓN ","VIRTUAL","Chat","Maye0303@gmail.com","Ciudadanía","MAYERLY","Ciudadanía","MAYERLY","Femenino","Mujer","N/A","Sin datos","Sin datos","Sin datos","CONSULTA","Asesoría en administración y sostenibilidad del espacio público","Asesoría en temas de espacio público","CRA 80D 7B 83 en la urbanización Senderos de Castilla en la localidad de Kennedy","Atención al ciudadano","Ciudadano","04 San Cristóbal"]
[362,2022,"NOVIEMBRE","24/11/2022","15:48:30","PAULA ALEJANDRA MARTÍNEZ CALDERÓN ","VIRTUAL","Chat","luzmitareal@hotmail.com","Ciudadanía","LUZ MARINA REAL","Ciudadanía","LUZ MARINA REAL","Femenino","Mujer","N/A","Sin datos","Sin datos","Sin datos","CONSULTA","Asesoría en administración y sostenibilidad del espacio público","Asesoría en temas de espacio público","Como radicar una queja frente a ocupación CL 161 51 40","Atención al ciudadano","Ciudadano","11 Suba"]
[363,2022,"NOVIEMBRE","25/11/2022","08:50:43","PAULA ALEJANDRA MARTÍNEZ CALDERÓN ","VIRTUAL","Chat","centromafalda@gmail.com","Ciudadanía","YENNY CASTILLO AREVALO","Ciudadanía","YENNY CASTILLO AREVALO","Femenino","Mujer","N/A","Sin datos","Sin datos","Sin datos","CONSULTA","Asesoría en administración y sostenibilidad del espacio público","Asesoría en temas de espacio público","Autorización de uso - Necesitamos usar un espacio verde para una actividad de cierre de año escolar, en la calle 58 A con cra. 45 en Teusaquillo Nicolas de Federman, mandamos una carta a la alcaldia local pero ellos nos responden que es con ustedes, desconocemos el procedimiento y el evento es el 26 de noviembre, que podemos hacer?","Atención al ciudadano","Ciudadano","13 Teusaquillo"]
[364,2022,"NOVIEMBRE","28/11/2022","14:18:36","PAULA ALEJANDRA MARTÍNEZ CALDERÓN ","VIRTUAL","Chat","drodriguez@londonogomez.com","Empresas privadas","DIANA RODRIGUEZ","Empresas privadas","DIANA RODRIGUEZ","Femenino","Mujer","N/A","Sin datos","Sin datos","Sin datos","CONSULTA","Consulta general","Consulta radicado","Consulta radicado 20224000270162","Atención al ciudadano","Ciudadano","02 Chapinero"]
[365,2022,"NOVIEMBRE","29/11/2022","09:45:05","PAULA ALEJANDRA MARTÍNEZ CALDERÓN ","VIRTUAL","Chat","santiago.ossa96@gmail.com","Empresas privadas","SANTIAGO OSSA","Empresas privadas","SANTIAGO OSSA","Masculino","Hombre ","N/A","Sin datos","Sin datos","Sin datos","CONSULTA","Consulta general","Consulta radicado","Consulta radicado 20224000255932","Atención al ciudadano","Ciudadano","02 Chapinero"]
[366,2022,"NOVIEMBRE","2022-01-11","3:48.P.M.","OLGA LUCÍA MESA MORENO","VIRTUAL","Ventanilla de radicación Webservice","Sin datos","Ciudadanía","GERMAN VARGAS MALAGON","Ciudadanía","GERMAN VARGAS MALAGON","Masculino","Hombre ","Sin datos","Sin datos","Sin datos","Sin datos","DERECHO DE PETICIÓN DE INTERÉS GENERAL","Asesoría en administración y sostenibilidad del espacio público","Asesoría en temas de espacio público","SOLICITUD DE PROTECCION DE TERRENO UBICADO EN LA CL 67 SUR CON CR 47, POR ABANDONO Y DETERIORO DE PREDIO. ","Asignar","SAI","No Registra"]
[367,2022,"NOVIEMBRE","2022-04-11","3:14.P.M.","OLGA LUCÍA MESA MORENO","VIRTUAL","Ventanilla de radicación Webservice","Sin datos","Ciudadanía","YOHANA MIDRED BUITRAGO","Ciudadanía","YOHANA MIDRED BUITRAGO","Masculino","Hombre ","Sin datos","Sin datos","Sin datos","Sin datos","DERECHO DE PETICIÓN DE INTERÉS GENERAL","Asesoría en administración y sostenibilidad del espacio público","Denuncia basuras","TRASLADO-SOLICITUD DE INTERVENCION POR PROBLEMATICA DE BASURAS EN LA CR 7F 154-06","Radicar manualmente en SDQS","SAI","No Registra"]
[368,2022,"NOVIEMBRE","2022-10-11","1:24.P.M.","OLGA LUCÍA MESA MORENO","VIRTUAL","Ventanilla de radicación Webservice","Sin datos","Ciudadanía","RUPERTA CAPERA GUZMAN","Ciudadanía","RUPERTA CAPERA GUZMAN","Masculino","Hombre ","Sin datos","Sin datos","Sin datos","Sin datos","DERECHO DE PETICIÓN DE INTERÉS GENERAL","Asesoría en administración y sostenibilidad del espacio público","Asesoría en temas de espacio público","TRASLADO-SOLICITUD DE INTERVENCION POR PROBLEMATICA E INSEGURIDAD","Radicar manualmente en SDQS","SAI","No Registra"]
[369,2022,"NOVIEMBRE","2022-10-11","7:27.A.M.","OLGA LUCÍA MESA MORENO","VIRTUAL","Ventanilla de radicación Webservice","Sin datos","Ciudadanía","FELIPE ANDRES LOZANO","Ciudadanía","FELIPE ANDRES LOZANO","Masculino","Hombre ","Sin datos","Sin datos","Sin datos","Sin datos","DERECHO DE PETICIÓN DE INTERÉS GENERAL","Asesoría en administración y sostenibilidad del espacio público","Denuncia ventas informales","TRASLDO-SOLICITUD DE INTERVENCION POR VENTAS AMBULANTES CENTRO HISTORICO DE BOGOTA. ","Radicar manualmente en SDQS","SAI","No Registra"]
[370,2022,"NOVIEMBRE","2022-10-11","7:48.A.M.","OLGA LUCÍA MESA MORENO","VIRTUAL","Ventanilla de radicación Webservice","Sin datos","Ciudadanía","OLGA LUCIA ABRIL","Ciudadanía","OLGA LUCIA ABRIL","Masculino","Hombre ","Sin datos","Sin datos","Sin datos","Sin datos","DERECHO DE PETICIÓN DE INTERÉS GENERAL","Asesoría en administración y sostenibilidad del espacio público","Asesoría en temas de espacio público","TRASLDO-SOLICITUD DE PODA Y TALA DE ARBOLES","Radicar manualmente en SDQS","SAI","No Registra"]
[371,2022,"NOVIEMBRE","2022-10-11","8:00.A.M.","OLGA LUCÍA MESA MORENO","VIRTUAL","Ventanilla de radicación Webservice","Sin datos","Ciudadanía","MARIO CORDOBA CORDOBA","Ciudadanía","MARIO CORDOBA CORDOBA","Masculino","Hombre ","Sin datos","Sin datos","Sin datos","Sin datos","DERECHO DE PETICIÓN DE INTERÉS GENERAL","Asesoría en administración y sostenibilidad del espacio público","Recuperación de espacio público","SOLICITUD DE RECUPERACION DE ESPACIO PUBLICO","Asignar","SAI","No Registra"]
[372,2022,"NOVIEMBRE","2022-11-11","3:52.P.M.","OLGA LUCÍA MESA MORENO","VIRTUAL","Ventanilla de radicación Webservice","Sin datos","Ciudadanía","NESTOR HERRERA","Ciudadanía","NESTOR HERRERA","Masculino","Hombre ","Sin datos","Sin datos","Sin datos","Sin datos","DERECHO DE PETICIÓN DE INTERÉS GENERAL","Asesoría en administración y sostenibilidad del espacio público","Asesoría en temas de espacio público","TRASLADO-SOLICITUD DE COMPARENDO AMBIENTAL POR INADECUADA DISPOSICION DE RESIDUOS EN LA CR 77M 51 A-00 SUR. ","Radicar manualmente en SDQS","SAI","No Registra"]
[373,2022,"NOVIEMBRE","17/11/2022","9:08.A.M.","OLGA LUCÍA MESA MORENO","VIRTUAL","Ventanilla de radicación Webservice","Sin datos","Ciudadanía","EDGAR AREVALO","Ciudadanía","EDGAR AREVALO","Masculino","Hombre ","Sin datos","Sin datos","Sin datos","Sin datos","DERECHO DE PETICIÓN DE INTERÉS GENERAL","Asesoría en administración y sostenibilidad del espacio público","Asesoría en temas de espacio público","TRASLADO-SOLICITUD ELIMINACION SITIO DE DESECHOS DE BASURAS DIVERSAS CALLE 2 A CON CARRERA 3 BARRIO GIRARDOT.","Radicar manualmente en SDQS","SAI","No Registra"]
[374,2022,"NOVIEMBRE","17/11/2022","2:08.P.M.","OLGA LUCÍA MESA MORENO","VIRTUAL","Ventanilla de radicación Webservice","Sin datos","Ciudadanía","GLADYS RODRIGUEZ LINARES","Ciudadanía","GLADYS RODRIGUEZ LINARES","Masculino","Hombre ","Sin datos","Sin datos","Sin datos","Sin datos","DERECHO DE PETICIÓN DE INTERÉS GENERAL","Asesoría en administración y sostenibilidad del espacio público","Denuncia caseta","TRASLADO-SOLICITUD DE INTERVENCION POR CASETAS DE VENTA DE COMIDA EN EL PARQUE CASTILLA, OBSTACULIZANDO EL ESPACIO PUBLICO. ","Radicar manualmente en SDQS","SAI","No Registra"]
[375,2022,"NOVIEMBRE","17/11/2022","7:46.A.M.","OLGA LUCÍA MESA MORENO","VIRTUAL","Ventanilla de radicación Webservice","Sin datos","Ciudadanía","DIEGO ARMANDO ARIAS","Ciudadanía","DIEGO ARMANDO ARIAS","Masculino","Hombre ","Sin datos","Sin datos","Sin datos","Sin datos","DERECHO DE PETICIÓN DE INTERÉS GENERAL","Asesoría en administración y sostenibilidad del espacio público","Reporta habitantes de calle/recicladores","TRASLADO-SOLICITUD DE INTERVENCION POR PRESENCIA DE HABITANTES DE CALLE EN LA CR 82A ENTRE DG 38 BIS SUR Y DG 38 BIS B SUR, GENERANDO PROBLEMAS DE INSEGURIDAD EN PARQUE LLANO GRANDE. ","RADicar manualmente en SDQS","SAI","No Registra"]
[376,2022,"NOVIEMBRE","2022-11-01","15:51:00","CRISTHIAN CAMILO MONTAÑA HERNANDEZ","VIRTUAL","Correo electrónico","respuestas.bunidos@gobiernobogota.gov.co","Entidades y Organismos Distritales","Secretaría de Gobierno","Entidades y Organismos Distritales","Alcaldía Barrios Unidos","Masculino","Hombre ","Sin datos","Sin datos","Sin datos","Sin datos","PETICIONES ENTRE ENTIDADES","Consulta general","Peticiones entre entidades","20226220490941 - RADICADO No. 20226210061872 DADEP No. 20223050152521","Radicar en ORFEO","SAI","12 Barrios Unidos"]
[377,2022,"NOVIEMBRE","2022-11-01","15:56:00","CRISTHIAN CAMILO MONTAÑA HERNANDEZ","VIRTUAL","Correo electrónico","juridica@sibate-cundinamarca.gov.co","Entidades y Organismos Nacionales","Secretaría Jurídica Sibaté","Entidades y Orgamismos Nacionales","Sibaté","Femenino","Mujer","Sin datos","Sin datos","Sin datos","Sin datos","PETICIONES ENTRE ENTIDADES","Consulta general","Peticiones entre entidades","SOLICITUD ORIENTACIÓN ESPACIO PÚBLICO","Radicar en ORFEO","SAI","Fuera de Bogotá"]
[378,2022,"NOVIEMBRE","2022-11-01","15:59:00","CRISTHIAN CAMILO MONTAÑA HERNANDEZ","VIRTUAL","Correo electrónico","correspondencia.i.dadep378@interdisenos.com.co","Empresas privadas","interdisenos","Empresas Privadas","Correspondencia","Femenino","Mujer","Sin datos","Sin datos","Sin datos","Sin datos","NOTIFICACIONES","Estudio de la viabilidad de las solicitudes de administración de bienes públicos","CAMEP Contrato de administración y mantenimiento","GDADEP06-0528-22 REITERACIÓN REQUERIMIENTO INFORME FINAL TRATAMIENTOS SILVICULTURALES- RESOLUCIÓN SDA 624 DE 2022. SU HUB136-OBRA-CL-626-2022.","Radicar en ORFEO","SAI","No Registra"]
[379,2022,"NOVIEMBRE","2022-11-01","16:00:00","CRISTHIAN CAMILO MONTAÑA HERNANDEZ","VIRTUAL","Correo electrónico","correspondencia.i.dadep378@interdisenos.com.co","Empresas privadas","interdisenos","Empresas Privadas","Correspondencia","Femenino","Mujer","Sin datos","Sin datos","Sin datos","Sin datos","NOTIFICACIONES","Estudio de la viabilidad de las solicitudes de administración de bienes públicos","CAMEP Contrato de administración y mantenimiento","GDADEP06-0529-22 INFORME TRIMESTRAL AMBIENTAL N°3 V3 – SU OFICIO 20223080139871","Radicar en ORFEO","SAI","No Registra"]
[380,2022,"NOVIEMBRE","2022-11-01","16:02:00","CRISTHIAN CAMILO MONTAÑA HERNANDEZ","VIRTUAL","Correo electrónico","salidascdi.suba@gobiernobogota.gov.co","Entidades y Organismos Distritales","Secretaría de Gobierno","Entidades y Organismos Distritales","Alcaldía de Suba","Femenino","Mujer","Sin datos","Sin datos","Sin datos","Sin datos","PETICIONES ENTRE ENTIDADES","Consulta general","Peticiones entre entidades","RADICADO 20226141962321","Radicar en ORFEO","SAI","11 Suba"]
[381,2022,"NOVIEMBRE","2022-11-01","16:03:00","CRISTHIAN CAMILO MONTAÑA HERNANDEZ","VIRTUAL","Correo electrónico","correspondencia.i.dadep378@interdisenos.com.co","Empresas privadas","interdisenos","Empresas Privadas","Correspondencia","Femenino","Mujer","Sin datos","Sin datos","Sin datos","Sin datos","NOTIFICACIONES","Estudio de la viabilidad de las solicitudes de administración de bienes públicos","CAMEP Contrato de administración y mantenimiento","GDADEP06-0531-22 INFORME DE LÍNEAS DE PARAMENTO DE LOS RUPI DEL PROYECTO","Radicar en ORFEO","SAI","No Registra"]
[382,2022,"NOVIEMBRE","2022-11-01","16:45:00","CRISTHIAN CAMILO MONTAÑA HERNANDEZ","VIRTUAL","Correo electrónico","correspondencia.enviada1@idu.gov.co","Entidades y Organismos Distritales","Instituto de Desarrollo Urbano","Entidades y Organismos Distritales","Correspondencia","Masculino","Hombre ","Sin datos","Sin datos","Sin datos","Sin datos","PETICIONES ENTRE ENTIDADES","Consulta general","Peticiones entre entidades","RADICADO IDU N° 20223751725621 DEL 31 DE OCTUBRE 2022","Radicar en ORFEO","DIRECCIÓN","No Registra"]
[383,2022,"NOVIEMBRE","2022-11-01","17:58:00","CRISTHIAN CAMILO MONTAÑA HERNANDEZ","VIRTUAL","Correo electrónico","correspondenciaexternaenviada@participacionbogota.gov.co","Entidades y Organismos Distritales","participacion Bogota","Entidades y Organismos Distritales","participacion Bogota","Masculino","Hombre ","Sin datos","Sin datos","Sin datos","Sin datos","PETICIONES ENTRE ENTIDADES","Consulta general","Peticiones entre entidades",20222100000000,"Radicar en ORFEO","SAI","No Registra"]
[384,2022,"NOVIEMBRE","2022-11-01","18:42:00","CRISTHIAN CAMILO MONTAÑA HERNANDEZ","VIRTUAL","Correo electrónico","correspondencia.enviada1@idu.gov.co","Entidades y Organismos Distritales","Instituto de Desarrollo Urbano","Entidades y Organismos Distritales","Correspondencia","Masculino","Hombre ","Sin datos","Sin datos","Sin datos","Sin datos","PETICIONES ENTRE ENTIDADES","Consulta general","Peticiones entre entidades","RADICADO IDU N° 20221651685361 DEL 20 DE OCTUBRE 2022","Responder a correo electronico","AREA DE ATENCION A LA CIUDADANIA","No Registra"]
[385,2022,"NOVIEMBRE","2022-11-01","20:11:00","CRISTHIAN CAMILO MONTAÑA HERNANDEZ","VIRTUAL","Correo electrónico","correspondencia@concejobogota.gov.co","Entidades y Organismos Distritales","Concejo de Bogotá","Entidades y Organismos Distritales","Correspondencia","Masculino","Hombre ","Sin datos","Sin datos","Sin datos","Sin datos","PETICIONES ENTRE ENTIDADES","Consulta general","Peticiones entre entidades","Mesa de seguimiento a compromisos adquiridos en el mes de agosto.","Radicar en ORFEO","DIRECCIÓN","No Registra"]
[386,2022,"NOVIEMBRE","2022-11-01","21:09:00","CRISTHIAN CAMILO MONTAÑA HERNANDEZ","VIRTUAL","Correo electrónico","<mlaverdehenao@yahoo.com","Ciudadanía","Funcionario","Ciudadanía","Ciudadanía","Femenino","Mujer","Sin datos","Sin datos","Sin datos","Sin datos","ASESORÍA","Asesoría en administración y sostenibilidad del espacio público","Asesoría en temas de espacio público","DERECHO DE PETICION por Instalación de Estación TEMBICI en la Bahía de la CALLE 119 con Carrera 16","Radicar en ORFEO","SAI","01 Usaquén"]
[387,2022,"NOVIEMBRE","2022-11-01","06:52:00","CRISTHIAN CAMILO MONTAÑA HERNANDEZ","VIRTUAL","Correo electrónico","correspondenciaexternaenviada@participacionbogota.gov.co","Entidades y Organismos Distritales","participacion Bogota","Entidades y Organismos Distritales","Correspondencia","Masculino","Hombre ","Sin datos","Sin datos","Sin datos","Sin datos","PETICIONES ENTRE ENTIDADES","Consulta general","Peticiones entre entidades","RADICADO 20223000183871","Radicar en ORFEO","DIRECCIÓN","No Registra"]
[388,2022,"NOVIEMBRE","2022-11-01","07:31:00","CRISTHIAN CAMILO MONTAÑA HERNANDEZ","VIRTUAL","Correo electrónico","correspondencia@jbb.gov.co","Entidades y Organismos Distritales","Jardín Botánico de Bogotá","Entidades y Organismos Distritales","Correspondencia","Femenino","Mujer","Sin datos","Sin datos","Sin datos","Sin datos","PETICIONES ENTRE ENTIDADES","Consulta general","Peticiones entre entidades","Respuesta a su solicitud 2022JBB200068931 ","Radicar en ORFEO","SAI","No Registra"]
[389,2022,"NOVIEMBRE","2022-11-01","07:32:00","CRISTHIAN CAMILO MONTAÑA HERNANDEZ","VIRTUAL","Correo electrónico","correspondencia.enviada1@idu.gov.co","Entidades y Organismos Distritales","Instituto de Desarrollo Urbano","Entidades y Organismos Distritales","Correspondencia","Femenino","Mujer","Sin datos","Sin datos","Sin datos","Sin datos","PETICIONES ENTRE ENTIDADES","Consulta general","Peticiones entre entidades","RADICADO IDU N° 20223861730011 DEL 31 DE OCTUBRE 2022","Radicar en ORFEO","SAI","No Registra"]
[390,2022,"NOVIEMBRE","2022-11-01","07:49:00","CRISTHIAN CAMILO MONTAÑA HERNANDEZ","VIRTUAL","Correo electrónico","cdi.ruribe@gobiernobogota.gov.co","Entidades y Organismos Distritales","Secretaría de Gobierno","Entidades y Organismos Distritales","Alcaldía Rafael Uribe Uribe","Femenino","Mujer","Sin datos","Sin datos","Sin datos","Sin datos","PETICIONES ENTRE ENTIDADES","Consulta general","Peticiones entre entidades","Remito comunicado con radicado 20226841498351","Radicar en ORFEO","SAI","18 Rafael Uribe Uribe"]
[391,2022,"NOVIEMBRE","2022-11-01","08:00:00","CRISTHIAN CAMILO MONTAÑA HERNANDEZ","VIRTUAL","Correo electrónico","dtic@personeriabogota.gov.co","Entidades y Organismos Distritales","personeria de bogota","Entidades y Organismos Distritales","TIC´s","N/A","N/A","Sin datos","Sin datos","Sin datos","Sin datos","INVITACIONES","Consulta general","Gestión de comunicaciones, eventos e invitaciones","Invitación 1er FORO DE TRANSFORMACIÓN DIGITAL EN EL SECTOR PÚBLICO -​ PERSONERÍA DE BOGOTÁ 2022","Radicar en ORFEO","DIRECCIÓN","No Registra"]
[392,2022,"NOVIEMBRE","2022-11-01","08:01:00","CRISTHIAN CAMILO MONTAÑA HERNANDEZ","VIRTUAL","Correo electrónico","julianprieto@galias.com.co","Empresas privadas","Las Galias","Empresas Privadas","Ciudadanía","Masculino","Hombre ","Sin datos","Sin datos","Sin datos","Sin datos","ASESORÍA","Incorporación y entrega de las áreas de cesión a favor del municipio","Entrega de zonas de cesión","RESPUESTA CON LICENCIA 0115 RAD 20212010072561 ENTREGA PARQUES Y EQ COMUNAL VEGAS DE SANTA ANA DADE","Radicar en ORFEO","SRI","No Registra"]
[393,2022,"NOVIEMBRE","2022-11-01","08:10:00","CRISTHIAN CAMILO MONTAÑA HERNANDEZ","VIRTUAL","Correo electrónico","angelalopezferreira.juridica@hotmail.com","Ciudadanía","Funcionario","Ciudadanía","Ciudadanía","Femenino","Mujer","Sin datos","Sin datos","Sin datos","Sin datos","ASESORÍA","Asesoría en administración y sostenibilidad del espacio público","Asesoría en temas de espacio público","INSPECCIÓN DE POLICÍA 5C USME. - ASUNTO: Remisión pruebas documentales - impulso procesal. REF: Expediente 2020553490104683E","Radicar en ORFEO","SAI","05 Usme"]
[394,2022,"NOVIEMBRE","2022-11-01","08:10:00","CRISTHIAN CAMILO MONTAÑA HERNANDEZ","VIRTUAL","Correo electrónico","edwingualtero@hotmail.com","Ciudadanía","Funcionario","Ciudadanía","Ciudadanía","Masculino","Hombre ","Sin datos","Sin datos","Sin datos","Sin datos","ASESORÍA","Asesoría en administración y sostenibilidad del espacio público","Asesoría en temas de espacio público","me podrian ayudar con este caso por favor y decirnos que paso seguir.","Radicar en ORFEO","SAI","No Registra"]
[395,2022,"NOVIEMBRE","2022-11-01","08:15:00","CRISTHIAN CAMILO MONTAÑA HERNANDEZ","VIRTUAL","Correo electrónico","observatorio.ciudadano.16@gmail.com","Organizaciones Sociales","observatorio ciudadano 16","Organizaciones Sociales","observatorio ciudadano 16","N/A","N/A","Sin datos","Sin datos","Sin datos","Sin datos","INVITACIONES","Consulta general","Gestión de comunicaciones, eventos e invitaciones","Corrección y rectificación convocatoria Mesas de Trabajo OC16","Radicar en ORFEO","DIRECCIÓN","16 Puente Aranda"]
[396,2022,"NOVIEMBRE","2022-11-01","08:36:00","CRISTHIAN CAMILO MONTAÑA HERNANDEZ","VIRTUAL","Correo electrónico","hubscalle136@gmail.com","Empresas privadas","HUBS CALLE 136","Empresas Privadas","HUBS CALLE 136","N/A","N/A","Sin datos","Sin datos","Sin datos","Sin datos","NOTIFICACIONES","Estudio de la viabilidad de las solicitudes de administración de bienes públicos","CAMEP Contrato de administración y mantenimiento","HUB 136 - HUB136-OBRA-CL-659-2022 Respuesta a comunicación 20223080161941 - 01 DE NOVIEMBRE","Radicar en ORFEO","SAI","01 Usaquén"]
[397,2022,"NOVIEMBRE","2022-11-01","08:36:00","CRISTHIAN CAMILO MONTAÑA HERNANDEZ","VIRTUAL","Correo electrónico","bhernandez@educacionbogota.gov.co","Entidades y Organismos Distritales","Secretaría de Educación","Entidades y Organismos Distritales","Funcionario","Masculino","Hombre ","Sin datos","Sin datos","Sin datos","Sin datos","PETICIONES ENTRE ENTIDADES","Consulta general","Peticiones entre entidades","radicacion oficio S-2022-338324 respuesta a la solicitud 20222010160700","Radicar en ORFEO","SRI","No Registra"]
[398,2022,"NOVIEMBRE","2022-11-01","08:51:00","CRISTHIAN CAMILO MONTAÑA HERNANDEZ","VIRTUAL","Correo electrónico","intermediacion@desarrolloeconomico.gov.co","Entidades y Organismos Distritales","Instituto de Desarrollo Económico","Entidades y Organismos Distritales","Gestión documental","Femenino","Mujer","Sin datos","Sin datos","Sin datos","Sin datos","PETICIONES ENTRE ENTIDADES","Consulta general","Peticiones entre entidades","Remisión adjuntos Radicado 2022ER0007453 Sr. SANTIAGO MARTINEZ","Radicar en ORFEO","SAI","No Registra"]
[399,2022,"NOVIEMBRE","2022-11-01","09:05:00","CRISTHIAN CAMILO MONTAÑA HERNANDEZ","VIRTUAL","Correo electrónico","administradorsiga@alcaldiabogota.gov.co","Entidades y Organismos Distritales","Secretaria de Habitat","Entidades y Organismos Distritales","SIGA","Femenino","Mujer","Sin datos","Sin datos","Sin datos","Sin datos","PETICIONES ENTRE ENTIDADES","Consulta general","Peticiones entre entidades","Comunicación Oficial N° 2-2022-31544","Radicar en ORFEO","DIRECCIÓN","No Registra"]
[400,2022,"NOVIEMBRE","2022-11-01","09:43:00","CRISTHIAN CAMILO MONTAÑA HERNANDEZ","VIRTUAL","Correo electrónico","correspondenciaexternaenviada@participacionbogota.gov.co","Entidades y Organismos Distritales","participacion Bogota","Entidades y Organismos Distritales","Correspondencia","Masculino","Hombre ","Sin datos","Sin datos","Sin datos","Sin datos","PETICIONES ENTRE ENTIDADES","Consulta general","Peticiones entre entidades","RADICADO 20223000186441","Radicar en ORFEO","DIRECCIÓN","No Registra"]
[401,2022,"NOVIEMBRE","2022-11-01","09:43:00","CRISTHIAN CAMILO MONTAÑA HERNANDEZ","VIRTUAL","Correo electrónico","lacoloniafutbolypasion@gmail.com","Empresas privadas","la colonia futbol y pasion","Empresas Privadas","Ciudadanía","N/A","N/A","Sin datos","Sin datos","Sin datos","Sin datos","ASESORÍA","Asesoría en administración y sostenibilidad del espacio público","Asesoría en temas de espacio público","Derecho de petición de información","Radicar en ORFEO","SAI","No Registra"]
[402,2022,"NOVIEMBRE","2022-11-01","10:12:00","CRISTHIAN CAMILO MONTAÑA HERNANDEZ","VIRTUAL","Correo electrónico","sirius2@personeriabogota.gov.co","Entidades y Organismos Distritales","personeria de bogota","Entidades y Organismos Distritales","Sirius 2","Masculino","Hombre ","Sin datos","Sin datos","Sin datos","Sin datos","PETICIONES ENTRE ENTIDADES","Consulta general","Peticiones entre entidades","Respuesta 2022-EE-0563340 2022-11-01","Radicar en ORFEO","DIRECCIÓN","No Registra"]
[403,2022,"NOVIEMBRE","2022-11-01","10:17:00","CRISTHIAN CAMILO MONTAÑA HERNANDEZ","VIRTUAL","Correo electrónico","edificio.naturama@gmail.com","Empresas privadas","Edificio Naturama","Empresas Privadas","Ciudadanía","N/A","N/A","Sin datos","Sin datos","Sin datos","Sin datos","ASESORÍA","Asesoría en administración y sostenibilidad del espacio público","Asesoría en temas de espacio público","DERECHO DE PETICION","Radicar en ORFEO","SAI","01 Usaquén"]
[404,2022,"NOVIEMBRE","2022-11-01","10:18:00","CRISTHIAN CAMILO MONTAÑA HERNANDEZ","VIRTUAL","Correo electrónico","jadmin25bta@notificacionesrj.gov.co","Entidades y Organismos Nacionales","Ministerio de Justicia","Entidades y Orgamismos Nacionales","Juzgado 25 Administrativo Seccion Segunda - Bogotá - Bogotá D.C. ","N/A","N/A","Sin datos","Sin datos","Sin datos","Sin datos","NOTIFICACIONES","Consulta general","Asuntos Jurídicos","NOTIFICACIÓN ESTADO No. 062 ORALIDAD DEL 1 DE NOVIEMBRE DE 2022","Radicar en ORFEO","OAJ","No Registra"]
[405,2022,"NOVIEMBRE","2022-11-01","10:58:00","CRISTHIAN CAMILO MONTAÑA HERNANDEZ","VIRTUAL","Correo electrónico","correspondencia@concejobogota.gov.co","Entidades y Organismos Distritales","Concejo de Bogotá","Entidades y Organismos Distritales","Correspondencia","Masculino","Hombre ","Sin datos","Sin datos","Sin datos","Sin datos","PETICIONES ENTRE ENTIDADES","Consulta general","Peticiones entre entidades","Convocatoria a audiencia pública sobre modificación de planos urbanísticos y sustitución y compensación de espacio público. ","Radicar en ORFEO","DIRECCIÓN","No Registra"]
[406,2022,"NOVIEMBRE","2022-11-01","11:09:00","CRISTHIAN CAMILO MONTAÑA HERNANDEZ","VIRTUAL","Correo electrónico","correspondencia.cau@promoambientaldistrito.com","Entidades y Organismos Distritales","Promoambiental Distrito","Entidades y Organismos Distritales","Correspondencia","Femenino","Mujer","Sin datos","Sin datos","Sin datos","Sin datos","PETICIONES ENTRE ENTIDADES","Consulta general","Peticiones entre entidades","Traslado por competencia PQR-2022-2028","Radicar en ORFEO","SAI","No Registra"]
[407,2022,"NOVIEMBRE","2022-11-01","11:14:00","CRISTHIAN CAMILO MONTAÑA HERNANDEZ","VIRTUAL","Correo electrónico","correspondencia.i.dadep378@interdisenos.com.co","Empresas privadas","interdisenos","Empresas Privadas","Correspondencia","Femenino","Mujer","Sin datos","Sin datos","Sin datos","Sin datos","ASESORÍA","Asesoría en administración y sostenibilidad del espacio público","Asesoría en temas de espacio público","GDADEP06-0532-22 DADEP Remisión Informe Mensual No.9 v1","Radicar en ORFEO","SAI","No Registra"]
[408,2022,"NOVIEMBRE","2022-11-01","11:36:00","CRISTHIAN CAMILO MONTAÑA HERNANDEZ","VIRTUAL","Correo electrónico","jorgeh7210@gmail.com","Empresas privadas","ciudadanía","Empresas Privadas","Ciudadanía","N/A","N/A","Sin datos","Sin datos","Sin datos","Sin datos","NOTIFICACIONES","Estudio de la viabilidad de las solicitudes de administración de bienes públicos","CAMEP Contrato de administración y mantenimiento","Alcance Radicado 20224000237492","Radicar en ORFEO","SAI","11 Suba"]
[409,2022,"NOVIEMBRE","2022-11-01","11:39:00","CRISTHIAN CAMILO MONTAÑA HERNANDEZ","VIRTUAL","Correo electrónico","vcarrillo@Procuraduria.gov.co","Entidades y Organismos Nacionales","Procuraduría","Entidades y Orgamismos Nacionales","Funcionario","Femenino","Mujer","Sin datos","Sin datos","Sin datos","Sin datos","PETICIONES ENTRE ENTIDADES","Consulta general","Peticiones entre entidades","E- 2022-625900 - Solicitud en los términos del Derecho de Petición - E-2022- 625900- Parque de los Periodistas en abandono por parte del Distrito","Radicar en ORFEO","DIRECCIÓN","No Registra"]
[410,2022,"NOVIEMBRE","2022-11-01","11:38:00","CRISTHIAN CAMILO MONTAÑA HERNANDEZ","VIRTUAL","Correo electrónico","Gestion.Operaciones@lime.com.co","Empresas privadas","LIME","Empresas Privadas","Gestión de Operaciones","Masculino","Hombre ","Sin datos","Sin datos","Sin datos","Sin datos","PETICIONES ENTRE ENTIDADES","Consulta general","Peticiones entre entidades","Solicitud Corte de césped – KR 22H 58 SUR 06 Referencia: Radicados PQR No. 1189248","Radicar en ORFEO","SAI","19 Ciudad Bolívar"]
[411,2022,"NOVIEMBRE","2022-11-01","12:19:00","CRISTHIAN CAMILO MONTAÑA HERNANDEZ","VIRTUAL","Correo electrónico","cdi.chapinero@gobiernobogota.gov.co","Entidades y Organismos Distritales","Secretaría de Gobierno","Entidades y Organismos Distritales","Alcaldía de Chapinero","Masculino","Hombre ","Sin datos","Sin datos","Sin datos","Sin datos","PETICIONES ENTRE ENTIDADES","Consulta general","Peticiones entre entidades","20225220741901 - Traslado por competencia","Radicar en ORFEO","SAI","02 Chapinero"]
[412,2022,"NOVIEMBRE","2022-11-01","13:10:00","CRISTHIAN CAMILO MONTAÑA HERNANDEZ","VIRTUAL","Correo electrónico","germanvargasmalagon@gmail.com","Ciudadanía","Funcionario","Ciudadanía","Ciudadanía","Masculino","Hombre ","Sin datos","Sin datos","Sin datos","Sin datos","ASESORÍA","Asesoría en administración y sostenibilidad del espacio público","Asesoría en temas de espacio público","derecho de petición","Radicar en ORFEO","SAI","No Registra"]
[413,2022,"NOVIEMBRE","2022-11-01","13:21:00","CRISTHIAN CAMILO MONTAÑA HERNANDEZ","VIRTUAL","Correo electrónico","ALDOM27@hotmail.com","Ciudadanía","Funcionario","Ciudadanía","Ciudadanía","Masculino","Hombre ","Sin datos","Sin datos","Sin datos","Sin datos","ASESORÍA","Asesoría en administración y sostenibilidad del espacio público","Asesoría en temas de espacio público","DERECHO DE PETICIÓN DENUNCIA","Radicar en ORFEO","SAI","No Registra"]
[414,2022,"NOVIEMBRE","2022-11-01","13:37:00","CRISTHIAN CAMILO MONTAÑA HERNANDEZ","VIRTUAL","Correo electrónico","idrdcorrespondencia@idrd.gov.co","Entidades y Organismos Distritales","Instituto Distrital de Recreación y Deportes","Entidades y Organismos Distritales","idrd correspondencia","Masculino","Hombre ","Sin datos","Sin datos","Sin datos","Sin datos","PETICIONES ENTRE ENTIDADES","Consulta general","Peticiones entre entidades","20224200232401 - Solicitud recibo zona de Cesión Parque Público Urbanización “LARES DE FONTIBÓN”, con póliza de estabilidad vigente.","Radicar en ORFEO","DIRECCIÓN","09 Fontibón"]
[415,2022,"NOVIEMBRE","2022-11-01","14:08:00","CRISTHIAN CAMILO MONTAÑA HERNANDEZ","VIRTUAL","Correo electrónico","cdiusaquen.salidas@gobiernobogota.gov.co","Entidades y Organismos Distritales","Secretaría de Gobierno","Entidades y Organismos Distritales","Alcaldía de Usaquén","Masculino","Hombre ","Sin datos","Sin datos","Sin datos","Sin datos","PETICIONES ENTRE ENTIDADES","Consulta general","Peticiones entre entidades","20225121032231 - Respuesta a radicado 20225110173562","Radicar en ORFEO","SAI","01 Usaquén"]
[416,2022,"NOVIEMBRE","2022-11-01","14:18:00","CRISTHIAN CAMILO MONTAÑA HERNANDEZ","VIRTUAL","Correo electrónico","idrdcorrespondencia@idrd.gov.co","Entidades y Organismos Distritales","Instituto Distrital de Recreación y Deportes","Entidades y Organismos Distritales","idrd correspondencia","Masculino","Hombre ","Sin datos","Sin datos","Sin datos","Sin datos","PETICIONES ENTRE ENTIDADES","Consulta general","Peticiones entre entidades","20224100234601 - Zonas de Cesión para parque producto de la urbanización Colpatria Santa Helena Segundo Sector Etapa IV de la localidad de Suba. Expediente Virtual No. 2021410660300022E.","Radicar en ORFEO","SRI","09 Fontibón"]
[417,2022,"NOVIEMBRE","2022-11-01","14:27:00","CRISTHIAN CAMILO MONTAÑA HERNANDEZ","VIRTUAL","Correo electrónico","aiditaale@yahoo.es","Ciudadanía","Funcionario","Ciudadanía","Ciudadanía","Masculino","Hombre ","Sin datos","Sin datos","Sin datos","Sin datos","ASESORÍA","Certificación de la propiedad inmobiliaria distrital","Consulta predio","SOLICITUD DE INFORMACIÓN Y REGISTRO INMOBILIARIO DEL PREDIO DE LA CARRERA 123 64-41 ENGATIVA CENTRO(PUEBLO)","Radicar en ORFEO","SRI","10 Engativá"]
[418,2022,"NOVIEMBRE","2022-11-01","14:27:00","CRISTHIAN CAMILO MONTAÑA HERNANDEZ","VIRTUAL","Correo electrónico","gmarulanda@contraloriabogota.gov.co","Entidades y Organismos Distritales","Contraloría de Bogotá","Entidades y Organismos Distritales","Funcionario","Femenino","Mujer","Sin datos","Sin datos","Sin datos","Sin datos","PETICIONES ENTRE ENTIDADES","Consulta general","Peticiones entre entidades","2-2022-23266 - Requerimiento 004 -Solicitud relacionada con el Derecho de petición 1318-22 Visita Fiscal 505 DADEP.","Radicar en ORFEO","DIRECCIÓN","No Registra"]
[419,2022,"NOVIEMBRE","2022-11-01","14:30:00","CRISTHIAN CAMILO MONTAÑA HERNANDEZ","VIRTUAL","Correo electrónico","correspondencia.i.dadep378@interdisenos.com.co","Empresas privadas","interdisenos","Empresas Privadas","Correspondencia","Femenino","Mujer","Sin datos","Sin datos","Sin datos","Sin datos","NOTIFICACIONES","Estudio de la viabilidad de las solicitudes de administración de bienes públicos","CAMEP Contrato de administración y mantenimiento","GDADEP06-0533-22 DADEP RTA. RADICADO DADEP No. 20223080161941 del 25-10-2022. Solicitud de Publicidad.","Radicar en ORFEO","SAI","No Registra"]
[420,2022,"NOVIEMBRE","2022-11-01","14:43:00","CRISTHIAN CAMILO MONTAÑA HERNANDEZ","VIRTUAL","Correo electrónico","mesasgestionterritorial@gobiernobogota.gov.co","Entidades y Organismos Distritales","Secretaría de Gobierno","Entidades y Organismos Distritales","mesas gestion territorial","Femenino","Mujer","Sin datos","Sin datos","Sin datos","Sin datos","PETICIONES ENTRE ENTIDADES","Consulta general","Peticiones entre entidades","CONVOCATORIA Mesa de Gestión Territorial, inseguridad, invasión, basuras, población sin atención, HC Bastidas RADICADO 20224213566362","Radicar en ORFEO","DIRECCIÓN","No Registra"]
[421,2022,"NOVIEMBRE","2022-11-01","14:49:00","CRISTHIAN CAMILO MONTAÑA HERNANDEZ","VIRTUAL","Correo electrónico","idrdcorrespondencia@idrd.gov.co","Entidades y Organismos Distritales","Instituto Distrital de Recreación y Deportes","Entidades y Organismos Distritales","idrd correspondencia","Masculino","Hombre ","Sin datos","Sin datos","Sin datos","Sin datos","PETICIONES ENTRE ENTIDADES","Consulta general","Peticiones entre entidades","20224100236751 - Vocación, lineamientos y características recreo deportivas para el desarrollo de las zonas de cesión para parque producto de la urbanización “Praga” de la localidad de Kennedy. Expediente Virtual No. 2022410660300085E.","Radicar en ORFEO","SRI","08 Kennedy"]
[422,2022,"NOVIEMBRE","2022-11-01","15:03:00","CRISTHIAN CAMILO MONTAÑA HERNANDEZ","VIRTUAL","Correo electrónico","idrdcorrespondencia@idrd.gov.co","Entidades y Organismos Distritales","Instituto Distrital de Recreación y Deportes","Entidades y Organismos Distritales","idrd correspondencia","Masculino","Hombre ","Sin datos","Sin datos","Sin datos","Sin datos","PETICIONES ENTRE ENTIDADES","Consulta general","Peticiones entre entidades","20224100237391 - Aprobación Póliza de Cumplimiento No. 15-43-101006126 del 23-09-2022 Radicados: 20222100288622 - 20222100301992 – Expediente: 2022410660300057E","Radicar en ORFEO","SRI","08 Kennedy"]
[423,2022,"NOVIEMBRE","2022-11-01","15:09:00","CRISTHIAN CAMILO MONTAÑA HERNANDEZ","VIRTUAL","Correo electrónico","siga@habitatbogota.gov.co","Entidades y Organismos Distritales","Secretaria de Habitat","Entidades y Organismos Distritales","SIGA","Femenino","Mujer","Sin datos","Sin datos","Sin datos","Sin datos","PETICIONES ENTRE ENTIDADES","Consulta general","Peticiones entre entidades","Comunicación Oficial N° 2-2022-66415","Radicar en ORFEO","OAJ","No Registra"]
[424,2022,"NOVIEMBRE","2022-11-01","15:12:00","CRISTHIAN CAMILO MONTAÑA HERNANDEZ","VIRTUAL","Correo electrónico","nimbett@contraloriabogota.gov.co","Entidades y Organismos Distritales","Contraloría de Bogotá","Entidades y Organismos Distritales","Funcionario","Masculino","Hombre ","Sin datos","Sin datos","Sin datos","Sin datos","PETICIONES ENTRE ENTIDADES","Consulta general","Peticiones entre entidades","Invitación al Foro \"Control Social Una experiencia en beneficio de todos\"","Radicar en ORFEO","DIRECCIÓN","No Registra"]
[425,2022,"NOVIEMBRE","2022-11-01","15:22:00","CRISTHIAN CAMILO MONTAÑA HERNANDEZ","VIRTUAL","Correo electrónico","jeison.prada@gobiernobogota.gov.co","Entidades y Organismos Distritales","Secretaría de Gobierno","Entidades y Organismos Distritales","Funcionario","Masculino","Hombre ","Sin datos","Sin datos","Sin datos","Sin datos","PETICIONES ENTRE ENTIDADES","Consulta general","Peticiones entre entidades","Envió oficio 20225920760141 Asunto: Respuesta solicitud información sobre Informe de gestión contractual convenios interadministrativos de comodato, según radicado No. 20223050144401","Radicar en ORFEO","SAI","09 Fontibón"]
[426,2022,"NOVIEMBRE","2022-11-02","15:28:00","CRISTHIAN CAMILO MONTAÑA HERNANDEZ","VIRTUAL","Correo electrónico","idrdcorrespondencia@idrd.gov.c","Entidades y Organismos Distritales","Instituto Distrital de Recreación y Deportes","Entidades y Organismos Distritales","idrd correspondencia","Masculino","Hombre ","Sin datos","Sin datos","Sin datos","Sin datos","PETICIONES ENTRE ENTIDADES","Consulta general","Peticiones entre entidades","20224100236381 - Zonas de Cesión para parque producto del Plan Parcial Triangulo Bavaria de la localidad de Puente Aranda. Expediente Virtual No. 2022410660300083E.","Radicar en ORFEO","SRI","16 Puente Aranda"]
[427,2022,"NOVIEMBRE","2022-11-02","16:18:00","CRISTHIAN CAMILO MONTAÑA HERNANDEZ","VIRTUAL","Correo electrónico","pgamboa@contraloriabogota.gov.co","Entidades y Organismos Distritales","Contraloría de Bogotá","Entidades y Organismos Distritales","Funcionario","Femenino","Mujer","Sin datos","Sin datos","Sin datos","Sin datos","PETICIONES ENTRE ENTIDADES","Consulta general","Peticiones entre entidades","2-2022-23276 Solicitud de Información ante el DADEP","Radicar en ORFEO","DIRECCIÓN","No Registra"]
[428,2022,"NOVIEMBRE","2022-11-02","16:21:00","CRISTHIAN CAMILO MONTAÑA HERNANDEZ","VIRTUAL","Correo electrónico","secgobierno@cubarral-meta.gov.co","Entidades y Organismos Nacionales","Secretaría de Gobierno","Entidades y Orgamismos Nacionales","cubarral-meta","N/A","N/A","Sin datos","Sin datos","Sin datos","Sin datos","PETICIONES ENTRE ENTIDADES","Consulta general","Peticiones entre entidades","Solicitud de informacion","Radicar en ORFEO","DIRECCIÓN","Fuera de Bogotá"]
[429,2022,"NOVIEMBRE","2022-11-02","16:33:00","CRISTHIAN CAMILO MONTAÑA HERNANDEZ","VIRTUAL","Correo electrónico","notificaciones_catastro@catastrobogota.gov.co","Entidades y Organismos Distritales","Catastro de Bogotá","Entidades y Organismos Distritales","Notificaciones","Femenino","Mujer","Sin datos","Sin datos","Sin datos","Sin datos","PETICIONES ENTRE ENTIDADES","Consulta general","Peticiones entre entidades","UAECD 2022 EE 81472 (uaecd 2022 er 39319)","Radicar en ORFEO","SRI","No Registra"]
[430,2022,"NOVIEMBRE","2022-11-02","16:52:00","CRISTHIAN CAMILO MONTAÑA HERNANDEZ","VIRTUAL","Correo electrónico","ferperez6304@gmail.com","Ciudadanía","Funcionario","Ciudadanía","Ciudadanía","Masculino","Hombre ","Sin datos","Sin datos","Sin datos","Sin datos","ASESORÍA","Asesoría en administración y sostenibilidad del espacio público","Asesoría en temas de espacio público","queja que en la zona de Bosa Piamonte sé viene realizando una feria con dirección calle 69 A sur con trasv 78 L","Radicar en ORFEO","SAI","07 Bosa"]
[431,2022,"NOVIEMBRE","2022-11-02","16:53:00","CRISTHIAN CAMILO MONTAÑA HERNANDEZ","VIRTUAL","Correo electrónico","correspondenciaexternaenviada@participacionbogota.gov.co","Entidades y Organismos Distritales","participacion Bogota","Entidades y Organismos Distritales","Correspondencia","Masculino","Hombre ","Sin datos","Sin datos","Sin datos","Sin datos","PETICIONES ENTRE ENTIDADES","Consulta general","Peticiones entre entidades",20222100000000,"Radicar en ORFEO","SAI","No Registra"]
[432,2022,"NOVIEMBRE","2022-11-02","17:00:00","CRISTHIAN CAMILO MONTAÑA HERNANDEZ","VIRTUAL","Correo electrónico","gerenciahuerta@elementogr.com","Empresas privadas","Gerencia Huerta","Empresas Privadas","Gerencia Huerta","Femenino","Mujer","Sin datos","Sin datos","Sin datos","Sin datos","ASESORÍA","Estudio de la viabilidad de las solicitudes de administración de bienes públicos","Viabilidad Decreto 070 / 2022 BACA 2.0","USO DE ESPACIO PAGO URGENTE FACTURA - 22990093716  ","Radicar en ORFEO","SAI","No Registra"]
[433,2022,"NOVIEMBRE","2022-11-02","17:17:00","CRISTHIAN CAMILO MONTAÑA HERNANDEZ","VIRTUAL","Correo electrónico","roendara@gmail.com","Ciudadanía","Funcionario","Ciudadanía","Ciudadanía","Masculino","Hombre ","Sin datos","Sin datos","Sin datos","Sin datos","ASESORÍA","Estudio de la viabilidad de las solicitudes de administración de bienes públicos","Viabilidad Decreto 070 / 2022 BACA 2.0","Respuesta radicado DADEP","Radicar en ORFEO","SAI","No Registra"]
[434,2022,"NOVIEMBRE","2022-11-02","17:26:00","CRISTHIAN CAMILO MONTAÑA HERNANDEZ","VIRTUAL","Correo electrónico","notificaciones_catastro@catastrobogota.gov.co","Entidades y Organismos Distritales","Catastro de Bogotá","Entidades y Organismos Distritales","Notificaciones","Femenino","Mujer","Sin datos","Sin datos","Sin datos","Sin datos","PETICIONES ENTRE ENTIDADES","Consulta general","Peticiones entre entidades","UAECD 2022 EE 81560 (uaecd 2022 er 39320)","Radicar en ORFEO","SRI","No Registra"]
[435,2022,"NOVIEMBRE","2022-11-02","17:30:00","CRISTHIAN CAMILO MONTAÑA HERNANDEZ","VIRTUAL","Correo electrónico","Sonia.Alarcon@gobiernobogota.gov.co","Entidades y Organismos Distritales","Secretaría de Gobierno","Entidades y Organismos Distritales","Funcionario","Femenino","Mujer","Sin datos","Sin datos","Sin datos","Sin datos","PETICIONES ENTRE ENTIDADES","Consulta general","Peticiones entre entidades","ACOMPAÑAMIENTO","Radicar en ORFEO","SAI","19 Ciudad Bolívar"]
[436,2022,"NOVIEMBRE","2022-11-02","18:02:00","CRISTHIAN CAMILO MONTAÑA HERNANDEZ","VIRTUAL","Correo electrónico","correspondencia.enviada@idu.gov.co","Entidades y Organismos Distritales","Instituto de Desarrollo Urbano","Entidades y Organismos Distritales","Correspondencia","Femenino","Mujer","Sin datos","Sin datos","Sin datos","Sin datos","PETICIONES ENTRE ENTIDADES","Consulta general","Peticiones entre entidades","RADICADO IDU N° 20223251732021 DEL 01 DE NOVIEMBRE 2022","Radicar en ORFEO","SAI","02 Chapinero"]
[437,2022,"NOVIEMBRE","2022-11-02","18:14:00","CRISTHIAN CAMILO MONTAÑA HERNANDEZ","VIRTUAL","Correo electrónico","claudiazambrano@nuevosmedios.co","Empresas privadas","Nuevos medios","Empresas Privadas","Ciudadanía","Femenino","Mujer","Sin datos","Sin datos","Sin datos","Sin datos","ASESORÍA","Asesoría en administración y sostenibilidad del espacio público","Asesoría en temas de espacio público","Permiso para planta eléctrica","Radicar en ORFEO","SAI","No Registra"]
[438,2022,"NOVIEMBRE","2022-11-02","18:29:00","CRISTHIAN CAMILO MONTAÑA HERNANDEZ","VIRTUAL","Correo electrónico","jaccalabria1@gmail.com","Juntas de Acción Comunal (JAC)","Juntas de Acción Comunal (JAC)","Juntas de Acción Comunal (JAC)","JAC Calabria","N/A","N/A","Sin datos","Sin datos","Sin datos","Sin datos","NOTIFICACIONES","Estudio de la viabilidad de las solicitudes de administración de bienes públicos","CAMEP Contrato de administración y mantenimiento","SERVICIOS Y GASTOS NOVIEMBRE DICIEMBRE 2021 SALON","Radicar en ORFEO","SAI","No Registra"]
[439,2022,"NOVIEMBRE","2022-11-02","18:47:00","CRISTHIAN CAMILO MONTAÑA HERNANDEZ","VIRTUAL","Correo electrónico","bryjavaro@gmail.com","Ciudadanía","Funcionario","Ciudadanía","Ciudadanía","Masculino","Hombre ","Sin datos","Sin datos","Sin datos","Sin datos","ASESORÍA","Asesoría en administración y sostenibilidad del espacio público","Asesoría en temas de espacio público","Derecho de petición Secretaria de planeación y Daep","Radicar en ORFEO","SAI","No Registra"]
[440,2022,"NOVIEMBRE","2022-11-02","19:07:00","CRISTHIAN CAMILO MONTAÑA HERNANDEZ","VIRTUAL","Correo electrónico","ochoa.leonel31@gmail.com","Ciudadanía","Funcionario","Ciudadanía","Ciudadanía","Masculino","Hombre ","Sin datos","Sin datos","Sin datos","Sin datos","ASESORÍA","Asesoría en administración y sostenibilidad del espacio público","Asesoría en temas de espacio público","convenio enmarcado dentro del Contrato lnteradministrativo No. 110-00129359-0-2019","Radicar en ORFEO","SAI","No Registra"]
[441,2022,"NOVIEMBRE","2022-11-02","21:02:00","CRISTHIAN CAMILO MONTAÑA HERNANDEZ","VIRTUAL","Correo electrónico","crisanto1212@yahoo.es","Ciudadanía","Funcionario","Ciudadanía","Ciudadanía","Masculino","Hombre ","Sin datos","Sin datos","Sin datos","Sin datos","ASESORÍA","Asesoría en administración y sostenibilidad del espacio público","Asesoría en temas de espacio público","Derecho de Petición Subdirección Administrativa Inmobiliaria","Radicar en ORFEO","SAI","No Registra"]
[442,2022,"NOVIEMBRE","2022-11-02","07:17:00","CRISTHIAN CAMILO MONTAÑA HERNANDEZ","VIRTUAL","Correo electrónico","notificacionelectronica@movilidadbogota.gov.co","Entidades y Organismos Distritales","Secretaría de Movilidad","Entidades y Organismos Distritales","Notificaciones","Masculino","Hombre ","Sin datos","Sin datos","Sin datos","Sin datos","PETICIONES ENTRE ENTIDADES","Consulta general","Peticiones entre entidades","RADICADO SDM N°202222409595671","Responder a correo electronico","AREA DE ATENCION A LA CIUDADANIA","No Registra"]
[443,2022,"NOVIEMBRE","2022-11-02","07:52:00","CRISTHIAN CAMILO MONTAÑA HERNANDEZ","VIRTUAL","Correo electrónico","notificaciones_catastro@catastrobogota.gov.co","Entidades y Organismos Distritales","Catastro de Bogotá","Entidades y Organismos Distritales","Notificaciones","Masculino","Hombre ","Sin datos","Sin datos","Sin datos","Sin datos","PETICIONES ENTRE ENTIDADES","Consulta general","Peticiones entre entidades","RAD 2022-641446 OFICIO 2022-45511 NOTIFICACIÓN ELECTRÓNICA AUTORIZADA","Radicar en ORFEO","SRI","No Registra"]
[444,2022,"NOVIEMBRE","2022-11-02","07:53:00","CRISTHIAN CAMILO MONTAÑA HERNANDEZ","VIRTUAL","Correo electrónico","notificaciones_catastro@catastrobogota.gov.co","Entidades y Organismos Distritales","Catastro de Bogotá","Entidades y Organismos Distritales","Notificaciones","Masculino","Hombre ","Sin datos","Sin datos","Sin datos","Sin datos","PETICIONES ENTRE ENTIDADES","Consulta general","Peticiones entre entidades","RAD 2022-641477 OFICIO 2022-45512 NOTIFICACIÓN ELECTRÓNICA AUTORIZADA","Radicar en ORFEO","SRI","No Registra"]
[445,2022,"NOVIEMBRE","2022-11-02","07:54:00","CRISTHIAN CAMILO MONTAÑA HERNANDEZ","VIRTUAL","Correo electrónico","notificaciones_catastro@catastrobogota.gov.co","Entidades y Organismos Distritales","Catastro de Bogotá","Entidades y Organismos Distritales","Notificaciones","Masculino","Hombre ","Sin datos","Sin datos","Sin datos","Sin datos","PETICIONES ENTRE ENTIDADES","Consulta general","Peticiones entre entidades","RAD 2022-641527 OFICIO 2022-45513 NOTIFICACIÓN ELECTRÓNICA AUTORIZADA","Radicar en ORFEO","SRI","No Registra"]
[446,2022,"NOVIEMBRE","2022-11-02","07:55:00","CRISTHIAN CAMILO MONTAÑA HERNANDEZ","VIRTUAL","Correo electrónico","cvpgestiondocumental@cajaviviendapopular.gov.co","Entidades y Organismos Distritales","Caja de vivienda popular","Entidades y Organismos Distritales","gestión documental","Femenino","Mujer","Sin datos","Sin datos","Sin datos","Sin datos","PETICIONES ENTRE ENTIDADES","Consulta general","Peticiones entre entidades","RAD 202212000217381 Respuesta derecho de petición Rad - CVP No. 202217000240342","Radicar en ORFEO","SRI","No Registra"]
[447,2022,"NOVIEMBRE","2022-11-02","07:56:00","CRISTHIAN CAMILO MONTAÑA HERNANDEZ","VIRTUAL","Correo electrónico","notificaciones_catastro@catastrobogota.gov.co","Entidades y Organismos Distritales","Catastro de Bogotá","Entidades y Organismos Distritales","Notificaciones","Masculino","Hombre ","Sin datos","Sin datos","Sin datos","Sin datos","PETICIONES ENTRE ENTIDADES","Consulta general","Peticiones entre entidades","RAD 2022-641561 OFICIO 2022-45514 NOTIFICACIÓN ELECTRÓNICA AUTORIZADA ","Radicar en ORFEO","SRI","No Registra"]
[448,2022,"NOVIEMBRE","2022-11-02","07:57:00","CRISTHIAN CAMILO MONTAÑA HERNANDEZ","VIRTUAL","Correo electrónico","notificaciones_catastro@catastrobogota.gov.co","Entidades y Organismos Distritales","Catastro de Bogotá","Entidades y Organismos Distritales","Notificaciones","Masculino","Hombre ","Sin datos","Sin datos","Sin datos","Sin datos","PETICIONES ENTRE ENTIDADES","Consulta general","Peticiones entre entidades","RAD 2022-641583 OFICIO 2022-45515 NOTIFICACIÓN ELECTRÓNICA AUTORIZADA","Radicar en ORFEO","SRI","No Registra"]
[449,2022,"NOVIEMBRE","2022-11-02","07:58:00","CRISTHIAN CAMILO MONTAÑA HERNANDEZ","VIRTUAL","Correo electrónico","notificaciones_catastro@catastrobogota.gov.co","Entidades y Organismos Distritales","Catastro de Bogotá","Entidades y Organismos Distritales","Notificaciones","Masculino","Hombre ","Sin datos","Sin datos","Sin datos","Sin datos","PETICIONES ENTRE ENTIDADES","Consulta general","Peticiones entre entidades","RAD 2022-641638 OFICIO 2022-45516 NOTIFICACIÓN ELECTRÓNICA AUTORIZADA","Radicar en ORFEO","SRI","No Registra"]
[450,2022,"NOVIEMBRE","2022-11-02","08:00:00","CRISTHIAN CAMILO MONTAÑA HERNANDEZ","VIRTUAL","Correo electrónico","notificaciones_catastro@catastrobogota.gov.co","Entidades y Organismos Distritales","Catastro de Bogotá","Entidades y Organismos Distritales","Notificaciones","Masculino","Hombre ","Sin datos","Sin datos","Sin datos","Sin datos","PETICIONES ENTRE ENTIDADES","Consulta general","Peticiones entre entidades","RAD 2022-641688 OFICIO 2022-45518 NOTIFICACIÓN ELECTRÓNICA AUTORIZADA","Radicar en ORFEO","SRI","No Registra"]
[451,2022,"NOVIEMBRE","2022-11-02","08:01:00","CRISTHIAN CAMILO MONTAÑA HERNANDEZ","VIRTUAL","Correo electrónico","cmpl05bt@cendoj.ramajudicial.gov.co","Entidades y Organismos Nacionales","Ministerio de Justicia","Entidades y Orgamismos Nacionales","Juzgado 05 Civil Municipal - Bogotá - Bogotá D.C.","N/A","N/A","Sin datos","Sin datos","Sin datos","Sin datos","NOTIFICACIONES","Consulta general","Asuntos Jurídicos","REMISION OFICIO 22-3406 DENTRO DEL PROCESO 2022-0666","Radicar en ORFEO","OAJ","No Registra"]
[452,2022,"NOVIEMBRE","2022-11-02","08:01:00","CRISTHIAN CAMILO MONTAÑA HERNANDEZ","VIRTUAL","Correo electrónico","kvilla@dadep.gov.co","Empresas privadas","Funcionario","Empresas Privadas","Funcionario","N/A","N/A","Sin datos","Sin datos","Sin datos","Sin datos","NOTIFICACIONES","Estudio de la viabilidad de las solicitudes de administración de bienes públicos","CAMEP Contrato de administración y mantenimiento","CCG 16593 - SOLICITUD RADICACIÓN FACTURA ADMINISTRACIÓN RUPI 2-2094","Radicar en ORFEO","SAI","13 Teusaquillo"]
[453,2022,"NOVIEMBRE","2022-11-02","08:03:00","CRISTHIAN CAMILO MONTAÑA HERNANDEZ","VIRTUAL","Correo electrónico","notificacionelectronica@movilidadbogota.gov.co","Entidades y Organismos Distritales","Secretaría de Movilidad","Entidades y Organismos Distritales","Notificaciones","Femenino","Mujer","Sin datos","Sin datos","Sin datos","Sin datos","PETICIONES ENTRE ENTIDADES","Consulta general","Peticiones entre entidades","RADICADO SDM N° 202231209592831","Radicar en ORFEO","SAI","No Registra"]
[454,2022,"NOVIEMBRE","2022-11-02","08:04:00","CRISTHIAN CAMILO MONTAÑA HERNANDEZ","VIRTUAL","Correo electrónico","kvilla@dadep.gov.co","Empresas privadas","Funcionario","Empresas Privadas","Funcionario","N/A","N/A","Sin datos","Sin datos","Sin datos","Sin datos","NOTIFICACIONES","Estudio de la viabilidad de las solicitudes de administración de bienes públicos","CAMEP Contrato de administración y mantenimiento","SOLICITUD RADICACIÓN FACTURA ADMINISTRACIÓN RUPI 2-2159","Radicar en ORFEO","SAI","No Registra"]
[455,2022,"NOVIEMBRE","2022-11-02","08:05:00","CRISTHIAN CAMILO MONTAÑA HERNANDEZ","VIRTUAL","Correo electrónico","fernando.velasco@gobiernobogota.gov.co","Entidades y Organismos Distritales","Secretaría de Gobierno","Entidades y Organismos Distritales","Funcionario","Masculino","Hombre ","Sin datos","Sin datos","Sin datos","Sin datos","PETICIONES ENTRE ENTIDADES","Consulta general","Peticiones entre entidades","3288 EEE - 2021584490103339E","Radicar en ORFEO","SAI","08 Kennedy"]
[456,2022,"NOVIEMBRE","2022-11-02","08:05:00","CRISTHIAN CAMILO MONTAÑA HERNANDEZ","VIRTUAL","Correo electrónico","fernando.velasco@gobiernobogota.gov.co","Entidades y Organismos Distritales","Secretaría de Gobierno","Entidades y Organismos Distritales","Funcionario","Masculino","Hombre ","Sin datos","Sin datos","Sin datos","Sin datos","PETICIONES ENTRE ENTIDADES","Consulta general","Peticiones entre entidades","3288 EEE - 2021584490103288","Radicar en ORFEO","SAI","08 Kennedy"]
[457,2022,"NOVIEMBRE","2022-11-02","08:20:00","CRISTHIAN CAMILO MONTAÑA HERNANDEZ","VIRTUAL","Correo electrónico","buzonjudicial@sdp.gov.co","Entidades y Organismos Distritales","Secretaría Distrital de Planeación","Entidades y Organismos Distritales","buzon judicial","Femenino","Mujer","Sin datos","Sin datos","Sin datos","Sin datos","PETICIONES ENTRE ENTIDADES","Consulta general","Peticiones entre entidades","2-2022-157743","Radicar en ORFEO","OAJ","No Registra"]
[458,2022,"NOVIEMBRE","2022-11-02","08:20:00","CRISTHIAN CAMILO MONTAÑA HERNANDEZ","VIRTUAL","Correo electrónico","buzonjudicial@sdp.gov.co","Entidades y Organismos Distritales","Secretaría Distrital de Planeación","Entidades y Organismos Distritales","buzon judicial","Femenino","Mujer","Sin datos","Sin datos","Sin datos","Sin datos","PETICIONES ENTRE ENTIDADES","Consulta general","Peticiones entre entidades","2-2022-157748","Radicar en ORFEO","OAJ","No Registra"]
[459,2022,"NOVIEMBRE","2022-11-02","08:22:00","CRISTHIAN CAMILO MONTAÑA HERNANDEZ","VIRTUAL","Correo electrónico","cdi.chapinero@gobiernobogota.gov.co","Entidades y Organismos Distritales","Secretaría de Gobierno","Entidades y Organismos Distritales","CDI Chapinero","Masculino","Hombre ","Sin datos","Sin datos","Sin datos","Sin datos","PETICIONES ENTRE ENTIDADES","Consulta general","Peticiones entre entidades","20225230750731 - Solicitud apoyo operativo","Radicar en ORFEO","SAI","02 Chapinero"]
[460,2022,"NOVIEMBRE","2022-11-02","08:23:00","CRISTHIAN CAMILO MONTAÑA HERNANDEZ","VIRTUAL","Correo electrónico","buzonjudicial@sdp.gov.co","Entidades y Organismos Distritales","Secretaría Distrital de Planeación","Entidades y Organismos Distritales","buzon judicial","Femenino","Mujer","Sin datos","Sin datos","Sin datos","Sin datos","PETICIONES ENTRE ENTIDADES","Consulta general","Peticiones entre entidades","2-2022-157381","Responder a correo electronico","AREA DE ATENCION A LA CIUDADANIA","No Registra"]
[461,2022,"NOVIEMBRE","2022-11-02","08:24:00","CRISTHIAN CAMILO MONTAÑA HERNANDEZ","VIRTUAL","Correo electrónico","cliente.radicador@ant.gov.co","Entidades y Organismos Nacionales","Agencia Nacional de Tierras","Entidades y Orgamismos Nacionales","cliente radicador","N/A","N/A","Sin datos","Sin datos","Sin datos","Sin datos","PETICIONES ENTRE ENTIDADES","Consulta general","Peticiones entre entidades","Radicado correo: JUZGADO 5 QUINTO CIVIL MUNICIPAL ;NOTIFICACIONESJUDICIALES@SECRETARIAJURIDICA.GOV.CO;9;620;DTE ALVARO TOVAR OFI 2022 417 PERTENENCIA","Radicar en ORFEO","SRI","No Registra"]
[462,2022,"NOVIEMBRE","2022-11-02","08:25:00","CRISTHIAN CAMILO MONTAÑA HERNANDEZ","VIRTUAL","Correo electrónico","cmpl05bt@cendoj.ramajudicial.gov.co","Entidades y Organismos Nacionales","Ministerio de Justicia","Entidades y Orgamismos Nacionales","Centro de Documentación Judicial CENDOJ","N/A","N/A","Sin datos","Sin datos","Sin datos","Sin datos","PETICIONES ENTRE ENTIDADES","Consulta general","Peticiones entre entidades","REMISION OFICIO 22-3375 DENTRO DEL PROCESO 2022-0572","Radicar en ORFEO","SRI","No Registra"]
[463,2022,"NOVIEMBRE","2022-11-02","08:25:00","CRISTHIAN CAMILO MONTAÑA HERNANDEZ","VIRTUAL","Correo electrónico","buzonjudicial@sdp.gov.co","Entidades y Organismos Distritales","Secretaría Distrital de Planeación","Entidades y Organismos Distritales","buzon judicial","Femenino","Mujer","Sin datos","Sin datos","Sin datos","Sin datos","PETICIONES ENTRE ENTIDADES","Consulta general","Peticiones entre entidades","2-2022-156157","Radicar en ORFEO","OAJ","No Registra"]
[464,2022,"NOVIEMBRE","2022-11-02","08:25:00","CRISTHIAN CAMILO MONTAÑA HERNANDEZ","VIRTUAL","Correo electrónico","<yulizagabriela35@gmail.com","Ciudadanía","Funcionario","Ciudadanía","Ciudadanía","Masculino","Hombre ","Sin datos","Sin datos","Sin datos","Sin datos","ASESORÍA","Asesoría en administración y sostenibilidad del espacio público","Asesoría en temas de espacio público","No puedo ejercer mi derecho al trabajo","Radicar en ORFEO","SAI","No Registra"]
[465,2022,"NOVIEMBRE","2022-11-02","09:00:00","CRISTHIAN CAMILO MONTAÑA HERNANDEZ","VIRTUAL","Correo electrónico","siga@habitatbogota.gov.co","Entidades y Organismos Distritales","Secretaria de Habitat","Entidades y Organismos Distritales","SIGA","Masculino","Hombre ","Sin datos","Sin datos","Sin datos","Sin datos","PETICIONES ENTRE ENTIDADES","Consulta general","Peticiones entre entidades","Comunicación Oficial N° 2-2022-66361","Radicar en ORFEO","SAI","19 Ciudad Bolívar"]
[466,2022,"NOVIEMBRE","2022-11-02","09:02:00","CRISTHIAN CAMILO MONTAÑA HERNANDEZ","VIRTUAL","Correo electrónico","idrdcorrespondencia@idrd.gov.co","Entidades y Organismos Distritales","Instituto Distrital de Recreación y Deportes","Entidades y Organismos Distritales","idrd correspondencia","Masculino","Hombre ","Sin datos","Sin datos","Sin datos","Sin datos","PETICIONES ENTRE ENTIDADES","Consulta general","Peticiones entre entidades","20224100236501 - Vocación, lineamientos y características recreo deportivas para el desarrollo de las zonas de cesión para parque producto de la urbanización “Calle 13 No. 80-50” de la localidad de Fontibón. Expediente Virtual No. 2022410660300081E","Radicar en ORFEO","SRI","09 Fontibón"]
[467,2022,"NOVIEMBRE","2022-11-02","09:14:00","CRISTHIAN CAMILO MONTAÑA HERNANDEZ","VIRTUAL","Correo electrónico","asistente.idu009@gmail.com","Empresas privadas","Instituto de Desarrollo Urbano","Empresas Privadas","Asistente","Masculino","Hombre ","Sin datos","Sin datos","Sin datos","Sin datos","ASESORÍA","Asesoría en administración y sostenibilidad del espacio público","Asesoría en temas de espacio público","CS-INFRV-IDU009-6532-2018 Invitación a Comité IDU de Diálogo Ciudadano No. 29 de la obra AVENIDA GUAYACANES, GRUPO 3 DESDE LA CARRERA 82A HASTA LA TRANSVERSAL 71B","Radicar en ORFEO","SAI","No Registra"]
[468,2022,"NOVIEMBRE","2022-11-02","09:46:00","CRISTHIAN CAMILO MONTAÑA HERNANDEZ","VIRTUAL","Correo electrónico","siga@cisa.gov.c","Entidades y Organismos Nacionales","CISA","Entidades y Orgamismos Nacionales","SIGA","N/A","N/A","Sin datos","Sin datos","Sin datos","Sin datos","PETICIONES ENTRE ENTIDADES","Consulta general","Peticiones entre entidades","Último Aviso - SIGA 2022 - Reporte de inmuebles y participaciones accionarias (GG3-1)","Radicar en ORFEO","SRI","No Registra"]
[469,2022,"NOVIEMBRE","2022-11-02","09:50:00","CRISTHIAN CAMILO MONTAÑA HERNANDEZ","VIRTUAL","Correo electrónico","idrdcorrespondencia@idrd.gov.co","Entidades y Organismos Distritales","Instituto Distrital de Recreación y Deportes","Entidades y Organismos Distritales","idrd correspondencia","Masculino","Hombre ","Sin datos","Sin datos","Sin datos","Sin datos","PETICIONES ENTRE ENTIDADES","Consulta general","Peticiones entre entidades","20226100237721 - Respuesta radicado IDRD 20222100302222 del 06 de octubre de 2022","Radicar en ORFEO","SAI","No Registra"]
[470,2022,"NOVIEMBRE","2022-11-02","10:01:00","CRISTHIAN CAMILO MONTAÑA HERNANDEZ","VIRTUAL","Correo electrónico","correspondencia.i.dadep247@interdisenos.com.co","Empresas privadas","interdisenos","Empresas Privadas","Correspondencia","Femenino","Mujer","Sin datos","Sin datos","Sin datos","Sin datos","NOTIFICACIONES","Estudio de la viabilidad de las solicitudes de administración de bienes públicos","CAMEP Contrato de administración y mantenimiento","GDADEP-940-22 DADEP Rta oficio Derecho de Peticion 1318-22 Visita Fiscal 505 Dadep","Radicar en ORFEO","SAI","No Registra"]
[471,2022,"NOVIEMBRE","2022-11-02","10:02:00","CRISTHIAN CAMILO MONTAÑA HERNANDEZ","VIRTUAL","Correo electrónico","jessicagestiona@gmail.com","Ciudadanía","Funcionario","Ciudadanía","Ciudadanía","Femenino","Mujer","Sin datos","Sin datos","Sin datos","Sin datos","ASESORÍA","Asesoría en administración y sostenibilidad del espacio público","Asesoría en temas de espacio público","20224000184002 - DADEP - ACTA Y ASISTENCIA MESA DE TRABAJO 27 DE AGOSTO DE 2022","Radicar en ORFEO","SAI","No Registra"]
[472,2022,"NOVIEMBRE","2022-11-02","10:02:00","CRISTHIAN CAMILO MONTAÑA HERNANDEZ","VIRTUAL","Correo electrónico","buzon.areatecnica@idrd.gov.co","Entidades y Organismos Distritales","Instituto Distrital de Recreación y Deportes","Entidades y Organismos Distritales","buzon area tecnica","Masculino","Hombre ","Sin datos","Sin datos","Sin datos","Sin datos","PETICIONES ENTRE ENTIDADES","Consulta general","Peticiones entre entidades","20224100237411 - Respuesta radicado 20222100316882 - Petición No. 1955392022 SDQS – Calle 168 46 – 02","Radicar en ORFEO","SRI","11 Suba"]
[473,2022,"NOVIEMBRE","2022-11-02","09:56:00","CRISTHIAN CAMILO MONTAÑA HERNANDEZ","VIRTUAL","Correo electrónico","paola.lopez@gobiernobogota.gov.co","Entidades y Organismos Distritales","Secretaría de Gobierno","Entidades y Organismos Distritales","Funcionario","Masculino","Hombre ","Sin datos","Sin datos","Sin datos","Sin datos","PETICIONES ENTRE ENTIDADES","Consulta general","Peticiones entre entidades","20222239248121 - Solicitud de información Solicitud de información (Querella Rad. 20224211864372 – Arco 11753580) ASTRID MELGUIZO","Radicar en ORFEO","SAI","18 Rafael Uribe Uribe"]
[474,2022,"NOVIEMBRE","2022-11-02","10:01:00","CRISTHIAN CAMILO MONTAÑA HERNANDEZ","VIRTUAL","Correo electrónico","correspondencia.i.dadep247@interdisenos.com.co","Empresas privadas","interdisenos","Empresas Privadas","Correspondencia","Femenino","Mujer","Sin datos","Sin datos","Sin datos","Sin datos","NOTIFICACIONES","Estudio de la viabilidad de las solicitudes de administración de bienes públicos","CAMEP Contrato de administración y mantenimiento","GDADEP-940-22 DADEP Rta oficio Derecho de Peticion 1318-22 Visita Fiscal 505 Dadep","Radicar en ORFEO","SAI","No Registra"]
[475,2022,"NOVIEMBRE","2022-11-02","10:10:00","CRISTHIAN CAMILO MONTAÑA HERNANDEZ","VIRTUAL","Correo electrónico","buzon.areatecnica@idrd.gov.co","Entidades y Organismos Distritales","Instituto Distrital de Recreación y Deportes","Entidades y Organismos Distritales","buzon area tecnica","Masculino","Hombre ","Sin datos","Sin datos","Sin datos","Sin datos","PETICIONES ENTRE ENTIDADES","Consulta general","Peticiones entre entidades","20224100236541  - Radicado IDRD No. 20224000306532 del 11 de octubre de 2022.","Radicar en ORFEO","SRI","04 San Cristóbal"]
[476,2022,"NOVIEMBRE","2022-11-02","10:30:00","CRISTHIAN CAMILO MONTAÑA HERNANDEZ","VIRTUAL","Correo electrónico","cdi.chapinero@gobiernobogota.gov.co","Entidades y Organismos Distritales","Secretaría de Gobierno","Entidades y Organismos Distritales","CDI Chapinero","Masculino","Hombre ","Sin datos","Sin datos","Sin datos","Sin datos","PETICIONES ENTRE ENTIDADES","Consulta general","Peticiones entre entidades","20225220752721 - Traslado por competencia","Radicar en ORFEO","SAI","02 Chapinero"]
[477,2022,"NOVIEMBRE","2022-11-02","10:37:00","CRISTHIAN CAMILO MONTAÑA HERNANDEZ","VIRTUAL","Correo electrónico","mesasgestionterritorial@gobiernobogota.gov.co","Entidades y Organismos Distritales","Secretaría de Gobierno","Entidades y Organismos Distritales","mesas gestion territorial","Masculino","Hombre ","Sin datos","Sin datos","Sin datos","Sin datos","PETICIONES ENTRE ENTIDADES","Consulta general","Peticiones entre entidades","CONVOCATORIA Mesa de Gestión Territorial, Problematica Barrio Villa Amalia, HC Amin RADICADO 20224213560112","Radicar en ORFEO","DIRECCIÓN","No Registra"]
[478,2022,"NOVIEMBRE","2022-11-02","10:43:00","CRISTHIAN CAMILO MONTAÑA HERNANDEZ","VIRTUAL","Correo electrónico","Alcalde.Cbolivar@gobiernobogota.gov.co","Entidades y Organismos Distritales","Secretaría de Gobierno","Entidades y Organismos Distritales","Alcaldía de Ciudad Bolívar","Femenino","Mujer","Sin datos","Sin datos","Sin datos","Sin datos","PETICIONES ENTRE ENTIDADES","Consulta general","Peticiones entre entidades","20226930911731 - SOLICITUD DE ACOMPAÑAMIENTO","Responder a correo electronico","AREA DE ATENCION A LA CIUDADANIA","19 Ciudad Bolívar"]
[479,2022,"NOVIEMBRE","2022-11-02","10:52:00","CRISTHIAN CAMILO MONTAÑA HERNANDEZ","VIRTUAL","Correo electrónico","pablo.garcia@idrd.gov.co","Entidades y Organismos Distritales","Instituto Distrital de Recreación y Deportes","Entidades y Organismos Distritales","Funcionario","Masculino","Hombre ","Sin datos","Sin datos","Sin datos","Sin datos","PETICIONES ENTRE ENTIDADES","Consulta general","Peticiones entre entidades","20226100223631 - Respuesta de radicado 20222100284732","Radicar en ORFEO","SAI","No Registra"]
[480,2022,"NOVIEMBRE","2022-11-02","10:58:00","CRISTHIAN CAMILO MONTAÑA HERNANDEZ","VIRTUAL","Correo electrónico","cdi.engativa@gobiernobogota.gov.co","Entidades y Organismos Distritales","Secretaría de Gobierno","Entidades y Organismos Distritales","CDI Engativá","Femenino","Mujer","Sin datos","Sin datos","Sin datos","Sin datos","PETICIONES ENTRE ENTIDADES","Consulta general","Peticiones entre entidades","20226030903201 - SOLICITUD DE ACOMPAÑAMIENTO","Radicar en ORFEO","SAI","10 Engativá"]
[481,2022,"NOVIEMBRE","2022-11-02","11:00:00","CRISTHIAN CAMILO MONTAÑA HERNANDEZ","VIRTUAL","Correo electrónico","correspondencia@ambientebogota.gov.co","Entidades y Organismos Distritales","Secretaría de Ambiente","Entidades y Organismos Distritales","Correspondencia","Femenino","Mujer","Sin datos","Sin datos","Sin datos","Sin datos","PETICIONES ENTRE ENTIDADES","Consulta general","Peticiones entre entidades","Envió documento Secretaria distrital de ambiente Radicado No. 2022EE283968","Radicar en ORFEO","SAI","09 Fontibón"]
[482,2022,"NOVIEMBRE","2022-11-02","11:08:00","CRISTHIAN CAMILO MONTAÑA HERNANDEZ","VIRTUAL","Correo electrónico","Gestion.Operaciones@lime.com.co","Empresas privadas","LIME","Empresas Privadas","Gestión de Operaciones","Masculino","Hombre ","Sin datos","Sin datos","Sin datos","Sin datos","PETICIONES ENTRE ENTIDADES","Consulta general","Peticiones entre entidades","Solicitud Corte de césped – KR 18Q 71 SUR 21 Referencia: Radicados PQR No. 1190314","Radicar en ORFEO","SAI","19 Ciudad Bolívar"]
[483,2022,"NOVIEMBRE","2022-11-02","11:10:00","CRISTHIAN CAMILO MONTAÑA HERNANDEZ","VIRTUAL","Correo electrónico","sirius2@personeriabogota.gov.co","Empresas privadas","personeria de bogota","Empresas Privadas","Sirius 2","Masculino","Hombre ","Sin datos","Sin datos","Sin datos","Sin datos","PETICIONES ENTRE ENTIDADES","Consulta general","Peticiones entre entidades","Respuesta 2022-EE-0563940 2022-11-02","Radicar en ORFEO","DIRECCIÓN","No Registra"]
[484,2022,"NOVIEMBRE","2022-11-02","11:17:00","CRISTHIAN CAMILO MONTAÑA HERNANDEZ","VIRTUAL","Correo electrónico","almirante.colon@yahoo.com","Empresas privadas","Almirante Colon","Empresas Privadas","Almirante Colon","N/A","N/A","Sin datos","Sin datos","Sin datos","Sin datos","ASESORÍA","Asesoría en administración y sostenibilidad del espacio público","Asesoría en temas de espacio público","DERECHO DE PETICION","Radicar en ORFEO","SAI","02 Chapinero"]
[485,2022,"NOVIEMBRE","2022-11-02","11:38:00","CRISTHIAN CAMILO MONTAÑA HERNANDEZ","VIRTUAL","Correo electrónico","ivanovart82@hotmail.com","Ciudadanía","Funcionario","Ciudadanía","Ciudadanía","Masculino","Hombre ","Sin datos","Sin datos","Sin datos","Sin datos","ASESORÍA","Certificación de la propiedad inmobiliaria distrital","Consulta predio","solicitar información sobre una afectación por espacio publico (RUPI-2135) se solicita establecer e identificar restricciones","Radicar en ORFEO","SRI","No Registra"]
[486,2022,"NOVIEMBRE","2022-11-02","11:42:00","CRISTHIAN CAMILO MONTAÑA HERNANDEZ","VIRTUAL","Correo electrónico","idrdcorrespondencia@idrd.gov.co","Entidades y Organismos Distritales","Instituto Distrital de Recreación y Deportes","Entidades y Organismos Distritales","idrd correspondencia","Masculino","Hombre ","Sin datos","Sin datos","Sin datos","Sin datos","PETICIONES ENTRE ENTIDADES","Consulta general","Peticiones entre entidades","20221400232581 - Traslado por competencia del Radicado IDRD No 20222100314372 - CERRARON UN PARQUE DE BOLSILLO LOS RESIDENTES DEL CONJUNTO","Radicar en ORFEO","SAI","No Registra"]
[487,2022,"NOVIEMBRE","2022-11-02","12:24:00","CRISTHIAN CAMILO MONTAÑA HERNANDEZ","VIRTUAL","Correo electrónico","correspondencia@idiger.gov.co","Entidades y Organismos Distritales","instituto Distrital de Gestión de Riesgos y Cambio Climático","Entidades y Organismos Distritales","Correspondencia","Masculino","Hombre ","Sin datos","Sin datos","Sin datos","Sin datos","PETICIONES ENTRE ENTIDADES","Consulta general","Peticiones entre entidades","RESPUESTA RADICADO IDIGER 2022ER16207 - EE17709","Radicar en ORFEO","SAI","No Registra"]
[488,2022,"NOVIEMBRE","2022-11-02","12:30:00","CRISTHIAN CAMILO MONTAÑA HERNANDEZ","VIRTUAL","Correo electrónico","gesdoc@desarrolloeconomico.gov.co","Entidades y Organismos Distritales","Instituto de Desarrollo Económico","Entidades y Organismos Distritales","Gestión documental","Femenino","Mujer","Sin datos","Sin datos","Sin datos","Sin datos","PETICIONES ENTRE ENTIDADES","Consulta general","Peticiones entre entidades","2022EE0007567","Radicar en ORFEO","SAI","No Registra"]
[489,2022,"NOVIEMBRE","2022-11-02","12:34:00","CRISTHIAN CAMILO MONTAÑA HERNANDEZ","VIRTUAL","Correo electrónico","induarapedreros1592@outlook.es","Ciudadanía","Funcionario","Ciudadanía","Ciudadanía","Femenino","Mujer","Sin datos","Sin datos","Sin datos","Sin datos","ASESORÍA","Incorporación y entrega de las áreas de cesión a favor del municipio","Cabida y linderos","SOLICITUD DE REUNIÓN - radicado 20212030170571 concerniente al predio con dirección Kr 107C 63A 14 con el Chip AAA0071TFNN","Radicar en ORFEO","SRI","No Registra"]
[490,2022,"NOVIEMBRE","2022-11-02","13:18:00 p. m.","CRISTHIAN CAMILO MONTAÑA HERNANDEZ","VIRTUAL","Correo electrónico","notificaciones_catastro@catastrobogota.gov.co","Entidades y Organismos Distritales","Catastro de Bogotá","Entidades y Organismos Distritales","Notificaciones","Masculino","Hombre ","Sin datos","Sin datos","Sin datos","Sin datos","PETICIONES ENTRE ENTIDADES","Consulta general","Peticiones entre entidades","Notificación del tramite 2022 - 742059","Radicar en ORFEO","SRI","No Registra"]
[491,2022,"NOVIEMBRE","2022-11-02","13:19:00 p. m.","CRISTHIAN CAMILO MONTAÑA HERNANDEZ","VIRTUAL","Correo electrónico","notificaciones_catastro@catastrobogota.gov.co","Entidades y Organismos Distritales","Catastro de Bogotá","Entidades y Organismos Distritales","Notificaciones","Masculino","Hombre ","Sin datos","Sin datos","Sin datos","Sin datos","PETICIONES ENTRE ENTIDADES","Consulta general","Peticiones entre entidades","Notificación del tramite 2022 - 742236","Radicar en ORFEO","SRI","No Registra"]
[492,2022,"NOVIEMBRE","2022-11-02","13:19:00 p. m.","CRISTHIAN CAMILO MONTAÑA HERNANDEZ","VIRTUAL","Correo electrónico","notificaciones_catastro@catastrobogota.gov.co","Entidades y Organismos Distritales","Catastro de Bogotá","Entidades y Organismos Distritales","Notificaciones","Masculino","Hombre ","Sin datos","Sin datos","Sin datos","Sin datos","PETICIONES ENTRE ENTIDADES","Consulta general","Peticiones entre entidades","Notificación del tramite 2022 - 742282","Radicar en ORFEO","SRI","No Registra"]
[493,2022,"NOVIEMBRE","2022-11-02","13:20:00 p. m.","CRISTHIAN CAMILO MONTAÑA HERNANDEZ","VIRTUAL","Correo electrónico","notificaciones_catastro@catastrobogota.gov.co","Entidades y Organismos Distritales","Catastro de Bogotá","Entidades y Organismos Distritales","Notificaciones","Masculino","Hombre ","Sin datos","Sin datos","Sin datos","Sin datos","PETICIONES ENTRE ENTIDADES","Consulta general","Peticiones entre entidades","Notificación del tramite 2022 - 742323","Radicar en ORFEO","SRI","No Registra"]
[494,2022,"NOVIEMBRE","2022-11-02","13:40:00","CRISTHIAN CAMILO MONTAÑA HERNANDEZ","VIRTUAL","Correo electrónico","notificaciones_catastro@catastrobogota.gov.co","Entidades y Organismos Distritales","Catastro de Bogotá","Entidades y Organismos Distritales","Notificaciones","Masculino","Hombre ","Sin datos","Sin datos","Sin datos","Sin datos","PETICIONES ENTRE ENTIDADES","Consulta general","Peticiones entre entidades","Notificación del tramite 2022 - 866595","Radicar en ORFEO","SRI","No Registra"]
[495,2022,"NOVIEMBRE","2022-11-02","13:53:00","CRISTHIAN CAMILO MONTAÑA HERNANDEZ","VIRTUAL","Correo electrónico","correspondencia.i.dadep247@interdisenos.com.co","Empresas privadas","interdisenos","Empresas Privadas","Correspondencia","Femenino","Mujer","Sin datos","Sin datos","Sin datos","Sin datos","NOTIFICACIONES","Estudio de la viabilidad de las solicitudes de administración de bienes públicos","CAMEP Contrato de administración y mantenimiento","GDADEP-941-22 DADEP ALCANCE COMUNICADO GDADEP-940-22 RAD. DADEP (2/11/2022) RESPUESTA A REQUERIMIENTO 004 – SOLICITUD RELACIONADA CON EL DERECHO DE PETICIÓN 1318-22 VISITA FISCAL 505 DADEP","Radicar en ORFEO","SAI","No Registra"]
[496,2022,"NOVIEMBRE","2022-11-02","14:15:00","CRISTHIAN CAMILO MONTAÑA HERNANDEZ","VIRTUAL","Correo electrónico","idrdcorrespondencia@idrd.gov.co","Entidades y Organismos Distritales","Instituto Distrital de Recreación y Deportes","Entidades y Organismos Distritales","idrd correspondencia","Masculino","Hombre ","Sin datos","Sin datos","Sin datos","Sin datos","PETICIONES ENTRE ENTIDADES","Consulta general","Peticiones entre entidades","20224100236941 - Vocación, lineamientos y características recreo deportivas para el desarrollo del Parque Estructurante La Arboleda de la localidad de San Cristóbal. Expediente Virtual No. 2021410660300197","Radicar en ORFEO","SRI","04 San Cristóbal"]
[497,2022,"NOVIEMBRE","2022-11-02","14:25:00","CRISTHIAN CAMILO MONTAÑA HERNANDEZ","VIRTUAL","Correo electrónico","envionotificaciones@ipes.gov.co","Entidades y Organismos Distritales","Instituto para la Economía Social ","Entidades y Organismos Distritales","Notificaciones","Masculino","Hombre ","Sin datos","Sin datos","Sin datos","Sin datos","PETICIONES ENTRE ENTIDADES","Consulta general","Peticiones entre entidades","00110-816-028016 - Respuesta al Derecho de Petición Radicado IPES No. 00110-814-018559.","Radicar en ORFEO","DIRECCIÓN","No Registra"]
[498,2022,"NOVIEMBRE","2022-11-02","14:30:00","CRISTHIAN CAMILO MONTAÑA HERNANDEZ","VIRTUAL","Correo electrónico","cvillac@mincultura.gov.co","Entidades y Organismos Distritales","Ministerio de Cultura","Entidades y Organismos Distritales","Funcionario","Femenino","Mujer","Sin datos","Sin datos","Sin datos","Sin datos","PETICIONES ENTRE ENTIDADES","Consulta general","Peticiones entre entidades","MC37363S2022 - Respuesta MC37363S2022 y MC06254E2022","Radicar en ORFEO","DIRECCIÓN","No Registra"]
[499,2022,"NOVIEMBRE","2022-11-02","15:02:00","CRISTHIAN CAMILO MONTAÑA HERNANDEZ","VIRTUAL","Correo electrónico","sirius2@personeriabogota.gov.co","Entidades y Organismos Distritales","personeria de bogota","Entidades y Organismos Distritales","Sirius 2","Masculino","Hombre ","Sin datos","Sin datos","Sin datos","Sin datos","PETICIONES ENTRE ENTIDADES","Consulta general","Peticiones entre entidades","Respuesta 2022-EE-0564105 2022-11-02","Radicar en ORFEO","DIRECCIÓN","No Registra"]
[500,2022,"NOVIEMBRE","2022-11-02","15:05:00","CRISTHIAN CAMILO MONTAÑA HERNANDEZ","VIRTUAL","Correo electrónico","jaiver.echeverria4689@correo.policia.gov.co","Entidades y Organismos Nacionales","Policía Nacional","Entidades y Orgamismos Nacionales","Correspondencia","Masculino","Hombre ","Sin datos","Sin datos","Sin datos","Sin datos","INVITACIONES","Consulta general","Gestión de comunicaciones, eventos e invitaciones","Invitación de encuentros comunitarios de la Localidad de Santa Fe","Radicar en ORFEO","DIRECCIÓN","03 Santa fe"]
[501,2022,"NOVIEMBRE","2022-11-02","15:07:00","CRISTHIAN CAMILO MONTAÑA HERNANDEZ","VIRTUAL","Correo electrónico","buzoncomunicaciones@sdp.gov.co","Entidades y Organismos Distritales","Secretaría Distrital de Planeación","Entidades y Organismos Distritales","buzon comunicaciones","Femenino","Mujer","Sin datos","Sin datos","Sin datos","Sin datos","PETICIONES ENTRE ENTIDADES","Consulta general","Peticiones entre entidades","2-2022-158931","Responder a correo electronico","AREA DE ATENCION A LA CIUDADANIA","No Registra"]
[502,2022,"NOVIEMBRE","2022-11-02","15:09:00","CRISTHIAN CAMILO MONTAÑA HERNANDEZ","VIRTUAL","Correo electrónico","gerencia@javlawyers.com","Empresas privadas","JAV LAWYERS","Empresas Privadas","Ciudadanía","Masculino","Hombre ","Sin datos","Sin datos","Sin datos","Sin datos","ASESORÍA","Incorporación y entrega de las áreas de cesión a favor del municipio","Entrega de zonas de cesión","2022010155241 - Respuesta Cimpex SAs en liquidacion Judicial 860.033.925","Radicar en ORFEO","SRI","No Registra"]
[503,2022,"NOVIEMBRE","2022-11-02","15:09:00","CRISTHIAN CAMILO MONTAÑA HERNANDEZ","VIRTUAL","Correo electrónico","correspondenciaexternaenviada@participacionbogota.gov.co","Entidades y Organismos Distritales","participacion Bogota","Entidades y Organismos Distritales","Correspondencia","Masculino","Hombre ","Sin datos","Sin datos","Sin datos","Sin datos","PETICIONES ENTRE ENTIDADES","Consulta general","Peticiones entre entidades","RADICADO 20223000187911","Radicar en ORFEO","SAI","No Registra"]
[504,2022,"NOVIEMBRE","2022-11-02","15:17:00","CRISTHIAN CAMILO MONTAÑA HERNANDEZ","VIRTUAL","Correo electrónico","pedro.ardila@gobiernobogota.gov.co","Entidades y Organismos Distritales","Secretaría de Gobierno","Entidades y Organismos Distritales","Funcionario","Masculino","Hombre ","Sin datos","Sin datos","Sin datos","Sin datos","PETICIONES ENTRE ENTIDADES","Consulta general","Peticiones entre entidades","20221709237511 - Traslado a Derecho de Petición Radicados No. 20224603502902 – JAL MCC 023 de 2022","Radicar en ORFEO","DIRECCIÓN","No Registra"]
[505,2022,"NOVIEMBRE","2022-11-02","15:30:00","CRISTHIAN CAMILO MONTAÑA HERNANDEZ","VIRTUAL","Correo electrónico","gesdoc@desarrolloeconomico.gov.co","Entidades y Organismos Distritales","Instituto de Desarrollo Económico","Entidades y Organismos Distritales","Gestión documental","Femenino","Mujer","Sin datos","Sin datos","Sin datos","Sin datos","PETICIONES ENTRE ENTIDADES","Consulta general","Peticiones entre entidades","SECRETARIA DISTRITAL DE DESARROLLO ECONOMICO ha generado el documento 2022EE0007588","Radicar en ORFEO","DIRECCIÓN","No Registra"]
[506,2022,"NOVIEMBRE","2022-11-02","15:33:00","CRISTHIAN CAMILO MONTAÑA HERNANDEZ","VIRTUAL","Correo electrónico","jucardona@procuraduria.gov.co","Entidades y Organismos Nacionales","Procuraduría","Entidades y Orgamismos Nacionales","Funcionario","Femenino","Mujer","Sin datos","Sin datos","Sin datos","Sin datos","PETICIONES ENTRE ENTIDADES","Consulta general","Peticiones entre entidades","SIGDEA E-2022-608209 -Procuraduría Delegada con Funciones Mixtas 4: Asuntos Civiles – Petición realizada por Martha Landinez.","Radicar en ORFEO","DIRECCIÓN","No Registra"]
[507,2022,"NOVIEMBRE","2022-11-02","15:35:00","CRISTHIAN CAMILO MONTAÑA HERNANDEZ","VIRTUAL","Correo electrónico","salidascdi.suba@gobiernobogota.gov.co","Entidades y Organismos Distritales","Secretaría de Gobierno","Entidades y Organismos Distritales","Alcaldía de Suba","Femenino","Mujer","Sin datos","Sin datos","Sin datos","Sin datos","PETICIONES ENTRE ENTIDADES","Consulta general","Peticiones entre entidades",20226100000000,"Radicar en ORFEO","SAI","11 Suba"]
[508,2022,"NOVIEMBRE","2022-11-02","15:47:00","CRISTHIAN CAMILO MONTAÑA HERNANDEZ","VIRTUAL","Correo electrónico","kvilla@dadep.gov.co","Empresas privadas","CONSTRUCCIONES E INVERSIONES CORP","Empresas Privadas","CONSTRUCCIONES E INVERSIONES CORP","N/A","N/A","Sin datos","Sin datos","Sin datos","Sin datos","NOTIFICACIONES","Estudio de la viabilidad de las solicitudes de administración de bienes públicos","CAMEP Contrato de administración y mantenimiento","FC-2015049478 - 2022089683","Radicar en ORFEO","SAI","No Registra"]
[509,2022,"NOVIEMBRE","2022-11-02","15:47:00","CRISTHIAN CAMILO MONTAÑA HERNANDEZ","VIRTUAL","Correo electrónico","kvilla@dadep.gov.co","Empresas privadas","CONSTRUCCIONES E INVERSIONES CORP","Empresas Privadas","CONSTRUCCIONES E INVERSIONES CORP","N/A","N/A","Sin datos","Sin datos","Sin datos","Sin datos","NOTIFICACIONES","Estudio de la viabilidad de las solicitudes de administración de bienes públicos","CAMEP Contrato de administración y mantenimiento","FC-2015049478 - 2022089684","Radicar en ORFEO","SAI","No Registra"]
[510,2022,"NOVIEMBRE","2022-11-02","15:47:00","CRISTHIAN CAMILO MONTAÑA HERNANDEZ","VIRTUAL","Correo electrónico","kvilla@dadep.gov.co","Empresas privadas","CONSTRUCCIONES E INVERSIONES CORP","Empresas Privadas","CONSTRUCCIONES E INVERSIONES CORP","N/A","N/A","Sin datos","Sin datos","Sin datos","Sin datos","NOTIFICACIONES","Estudio de la viabilidad de las solicitudes de administración de bienes públicos","CAMEP Contrato de administración y mantenimiento","FC-2015049478 - 2022089685","Radicar en ORFEO","SAI","No Registra"]
[511,2022,"NOVIEMBRE","2022-11-02","15:47:00","CRISTHIAN CAMILO MONTAÑA HERNANDEZ","VIRTUAL","Correo electrónico","kvilla@dadep.gov.co","Empresas privadas","CONSTRUCCIONES E INVERSIONES CORP","Empresas Privadas","CONSTRUCCIONES E INVERSIONES CORP","N/A","N/A","Sin datos","Sin datos","Sin datos","Sin datos","NOTIFICACIONES","Estudio de la viabilidad de las solicitudes de administración de bienes públicos","CAMEP Contrato de administración y mantenimiento","FC-2015049478 - 2022089686","Radicar en ORFEO","SAI","No Registra"]
[512,2022,"NOVIEMBRE","2022-11-02","15:54:00","CRISTHIAN CAMILO MONTAÑA HERNANDEZ","VIRTUAL","Correo electrónico","Carmen.Castro@gobiernobogota.gov.co","Entidades y Organismos Distritales","Abogados Disciplinaristas","Entidades y Organismos Distritales","Funcionario","Masculino","Hombre ","Sin datos","Sin datos","Sin datos","Sin datos","PETICIONES ENTRE ENTIDADES","Consulta general","Peticiones entre entidades","RADICADO 20226630500671","Radicar en ORFEO","SAI","16 Puente Aranda"]
[513,2022,"NOVIEMBRE","2022-11-03","16:05:00","CRISTHIAN CAMILO MONTAÑA HERNANDEZ","VIRTUAL","Correo electrónico","correspondencia.enviada@idu.gov.co","Entidades y Organismos Distritales","Instituto de Desarrollo Urbano","Entidades y Organismos Distritales","Correspondencia","Masculino","Hombre ","Sin datos","Sin datos","Sin datos","Sin datos","PETICIONES ENTRE ENTIDADES","Consulta general","Peticiones entre entidades","RADICADO IDU N° 20223751738011 DEL 02DE NOVIEMBRE 2022","Radicar en ORFEO","SRI","No Registra"]
[514,2022,"NOVIEMBRE","2022-11-03","16:47:00","CRISTHIAN CAMILO MONTAÑA HERNANDEZ","VIRTUAL","Correo electrónico","salidascdi.suba@gobiernobogota.gov.co","Entidades y Organismos Distritales","Secretaría de Gobierno","Entidades y Organismos Distritales","Alcaldía de Suba","Femenino","Mujer","Sin datos","Sin datos","Sin datos","Sin datos","PETICIONES ENTRE ENTIDADES","Consulta general","Peticiones entre entidades",20226100000000,"Radicar en ORFEO","SAI","11 Suba"]
[515,2022,"NOVIEMBRE","2022-11-03","16:50:00","CRISTHIAN CAMILO MONTAÑA HERNANDEZ","VIRTUAL","Correo electrónico","info.peidd@gmail.com","Empresas privadas","Abogados Disciplinaristas","Empresas Privadas","Abogados Disciplinaristas","N/A","N/A","Sin datos","Sin datos","Sin datos","Sin datos","INVITACIONES","Consulta general","Gestión de comunicaciones, eventos e invitaciones","Invitación a participar en el “Primer Encuentro Internacional de Derecho Disciplinario\"","Radicar en ORFEO","OAJ","No Registra"]
[516,2022,"NOVIEMBRE","2022-11-03","17:00:00","CRISTHIAN CAMILO MONTAÑA HERNANDEZ","VIRTUAL","Correo electrónico","kvilla@dadep.gov.co","Empresas privadas","CENTRO COMERCIAL METROSUR P.H.","Empresas Privadas","CENTRO COMERCIAL METROSUR P.H.","N/A","N/A","Sin datos","Sin datos","Sin datos","Sin datos","NOTIFICACIONES","Estudio de la viabilidad de las solicitudes de administración de bienes públicos","CAMEP Contrato de administración y mantenimiento","FE1B18685","Radicar en ORFEO","SAI","Fuera de Bogotá"]
[517,2022,"NOVIEMBRE","2022-11-03","17:00:00","CRISTHIAN CAMILO MONTAÑA HERNANDEZ","VIRTUAL","Correo electrónico","kvilla@dadep.gov.co","Empresas privadas","CENTRO COMERCIAL METROSUR P.H.","Empresas Privadas","CENTRO COMERCIAL METROSUR P.H.","N/A","N/A","Sin datos","Sin datos","Sin datos","Sin datos","NOTIFICACIONES","Estudio de la viabilidad de las solicitudes de administración de bienes públicos","CAMEP Contrato de administración y mantenimiento","FE1B18689","Radicar en ORFEO","SAI","Fuera de Bogotá"]
[518,2022,"NOVIEMBRE","2022-11-03","17:00:00","CRISTHIAN CAMILO MONTAÑA HERNANDEZ","VIRTUAL","Correo electrónico","kvilla@dadep.gov.co","Empresas privadas","CENTRO COMERCIAL METROSUR P.H.","Empresas Privadas","CENTRO COMERCIAL METROSUR P.H.","N/A","N/A","Sin datos","Sin datos","Sin datos","Sin datos","NOTIFICACIONES","Estudio de la viabilidad de las solicitudes de administración de bienes públicos","CAMEP Contrato de administración y mantenimiento","FE1B18688","Radicar en ORFEO","SAI","Fuera de Bogotá"]
[519,2022,"NOVIEMBRE","2022-11-03","17:00:00","CRISTHIAN CAMILO MONTAÑA HERNANDEZ","VIRTUAL","Correo electrónico","kvilla@dadep.gov.co","Empresas privadas","CENTRO COMERCIAL METROSUR P.H.","Empresas Privadas","CENTRO COMERCIAL METROSUR P.H.","N/A","N/A","Sin datos","Sin datos","Sin datos","Sin datos","NOTIFICACIONES","Estudio de la viabilidad de las solicitudes de administración de bienes públicos","CAMEP Contrato de administración y mantenimiento","FE1B18686","Radicar en ORFEO","SAI","Fuera de Bogotá"]
[520,2022,"NOVIEMBRE","2022-11-03","17:00:00","CRISTHIAN CAMILO MONTAÑA HERNANDEZ","VIRTUAL","Correo electrónico","kvilla@dadep.gov.co","Empresas privadas","CENTRO COMERCIAL METROSUR P.H.","Empresas Privadas","CENTRO COMERCIAL METROSUR P.H.","N/A","N/A","Sin datos","Sin datos","Sin datos","Sin datos","NOTIFICACIONES","Estudio de la viabilidad de las solicitudes de administración de bienes públicos","CAMEP Contrato de administración y mantenimiento","FE1B18687","Radicar en ORFEO","SAI","Fuera de Bogotá"]
[521,2022,"NOVIEMBRE","2022-11-03","17:00:00","CRISTHIAN CAMILO MONTAÑA HERNANDEZ","VIRTUAL","Correo electrónico","kvilla@dadep.gov.co","Empresas privadas","CENTRO COMERCIAL METROSUR P.H.","Empresas Privadas","CENTRO COMERCIAL METROSUR P.H.","N/A","N/A","Sin datos","Sin datos","Sin datos","Sin datos","NOTIFICACIONES","Estudio de la viabilidad de las solicitudes de administración de bienes públicos","CAMEP Contrato de administración y mantenimiento","FE1B18684","Radicar en ORFEO","SAI","Fuera de Bogotá"]
[522,2022,"NOVIEMBRE","2022-11-03","17:00:00","CRISTHIAN CAMILO MONTAÑA HERNANDEZ","VIRTUAL","Correo electrónico","kvilla@dadep.gov.co","Empresas privadas","CENTRO COMERCIAL METROSUR P.H.","Empresas Privadas","CENTRO COMERCIAL METROSUR P.H.","N/A","N/A","Sin datos","Sin datos","Sin datos","Sin datos","NOTIFICACIONES","Estudio de la viabilidad de las solicitudes de administración de bienes públicos","CAMEP Contrato de administración y mantenimiento","FE1B18683","Radicar en ORFEO","SAI","Fuera de Bogotá"]
[523,2022,"NOVIEMBRE","2022-11-03","17:00:00","CRISTHIAN CAMILO MONTAÑA HERNANDEZ","VIRTUAL","Correo electrónico","kvilla@dadep.gov.co","Empresas privadas","CENTRO COMERCIAL METROSUR P.H.","Empresas Privadas","CENTRO COMERCIAL METROSUR P.H.","N/A","N/A","Sin datos","Sin datos","Sin datos","Sin datos","NOTIFICACIONES","Estudio de la viabilidad de las solicitudes de administración de bienes públicos","CAMEP Contrato de administración y mantenimiento","FE1B18682","Radicar en ORFEO","SAI","Fuera de Bogotá"]
[524,2022,"NOVIEMBRE","2022-11-03","17:07:00","CRISTHIAN CAMILO MONTAÑA HERNANDEZ","VIRTUAL","Correo electrónico","administradorsiga@alcaldiabogota.gov.co","Entidades y Organismos Distritales","Secretaria de Habitat","Entidades y Organismos Distritales","SIGA","Femenino","Mujer","Sin datos","Sin datos","Sin datos","Sin datos","PETICIONES ENTRE ENTIDADES","Consulta general","Peticiones entre entidades","Comunicación Oficial N° 2-2022-31869","Radicar en ORFEO","DIRECCIÓN","No Registra"]
[525,2022,"NOVIEMBRE","2022-11-03","17:08:00","CRISTHIAN CAMILO MONTAÑA HERNANDEZ","VIRTUAL","Correo electrónico","jbernal@cgconstructora.com","Empresas privadas","CG Constructora","Empresas Privadas","Ciudadanía","Femenino","Mujer","Sin datos","Sin datos","Sin datos","Sin datos","ASESORÍA","Incorporación y entrega de las áreas de cesión a favor del municipio","Entrega de zonas de cesión","Compromiso entrega de Áreas de Cesión – Granjas de Santa Sofia Cra 12 D #32 F 18 Sur Barrio la Resurrección, Localidad Rafael Uribe Uribe, Aclaración radicación No 20224000034712 del 23 de febrero 2022. ","Radicar en ORFEO","SRI","No Registra"]
[526,2022,"NOVIEMBRE","2022-11-03","18:15:00","CRISTHIAN CAMILO MONTAÑA HERNANDEZ","VIRTUAL","Correo electrónico","notificacionescec@domina.com.co","Entidades y Organismos Distritales","Domina Entrega Total S.A.S","Entidades y Organismos Distritales","Notificaciones","Femenino","Mujer","Sin datos","Sin datos","Sin datos","Sin datos","PETICIONES ENTRE ENTIDADES","Consulta general","Peticiones entre entidades",20223000000000,"Radicar en ORFEO","SRI","No Registra"]
[527,2022,"NOVIEMBRE","2022-11-03","20:04:00","CRISTHIAN CAMILO MONTAÑA HERNANDEZ","VIRTUAL","Correo electrónico","oscar.cardenas@uaesp.gov.co","Entidades y Organismos Distritales","Unidad Administrativa Especial de Servicios Públicos","Entidades y Organismos Distritales","Funcionario","Femenino","Mujer","Sin datos","Sin datos","Sin datos","Sin datos","PETICIONES ENTRE ENTIDADES","Consulta general","Peticiones entre entidades","Oficio UAESP 20224000 250261-Infraestructura del servicio de alumbrado publico en el sector de la Calle 79 Sur No. 10 - 81 Este - Puerta del Rey etapa 1 de San Cristobal.","Radicar en ORFEO","SRI","04 San Cristóbal"]
[528,2022,"NOVIEMBRE","2022-11-03","20:05:00","CRISTHIAN CAMILO MONTAÑA HERNANDEZ","VIRTUAL","Correo electrónico","correspondencia@jbb.gov.co","Entidades y Organismos Distritales","Jardín Botánico de Bogotá","Entidades y Organismos Distritales","Correspondencia","Femenino","Mujer","Sin datos","Sin datos","Sin datos","Sin datos","PETICIONES ENTRE ENTIDADES","Consulta general","Peticiones entre entidades","Copia de Respuesta a solicitud 2022JBB200068931","Responder a correo electronico","AREA DE ATENCION A LA CIUDADANIA","No Registra"]
[529,2022,"NOVIEMBRE","2022-11-03","20:07:00","CRISTHIAN CAMILO MONTAÑA HERNANDEZ","VIRTUAL","Correo electrónico","liquidadornotaria57@gmail.com","Entidades y Organismos Distritales","liquidación notarial","Entidades y Organismos Distritales","protocolo","N/A","N/A","Sin datos","Sin datos","Sin datos","Sin datos","PETICIONES ENTRE ENTIDADES","Consulta general","Peticiones entre entidades","SOLICITUD COPIA DE LA ESCRITURA PÚBLICA 1535 DEL 3 DE JULIO DE 1999","Radicar en ORFEO","SRI","No Registra"]
[530,2022,"NOVIEMBRE","2022-11-03","20:07:00","CRISTHIAN CAMILO MONTAÑA HERNANDEZ","VIRTUAL","Correo electrónico","envionotificaciones@ipes.gov.co","Entidades y Organismos Distritales","Instituto para la Economía Social ","Entidades y Organismos Distritales","Notificaciones","Masculino","Hombre ","Sin datos","Sin datos","Sin datos","Sin datos","PETICIONES ENTRE ENTIDADES","Consulta general","Peticiones entre entidades","00110-816-020106 - Respuesta radicado No 00110-812-020150 del 6 de octubre 2022, proceso de liquidación Convenio Interadministrativo de Entrega No14A-07, suscrito por el Departamento Administrativo de la Defensoría del Espacio Público (DADEP)","Responder a correo electronico","AREA DE ATENCION A LA CIUDADANIA","03 Santa fe"]
[531,2022,"NOVIEMBRE","2022-11-03","20:07:00","CRISTHIAN CAMILO MONTAÑA HERNANDEZ","VIRTUAL","Correo electrónico","respuestasrbl@uaesp.gov.co","Entidades y Organismos Distritales","Unidad Administrativa Especial de Servicios Públicos","Entidades y Organismos Distritales","Respuestas SDH","Masculino","Hombre ","Sin datos","Sin datos","Sin datos","Sin datos","PETICIONES ENTRE ENTIDADES","Consulta general","Peticiones entre entidades","Remito radicado UAESP 20222000248841","Radicar en ORFEO","SRI","11 Suba"]
[532,2022,"NOVIEMBRE","2022-11-03","20:08:00","CRISTHIAN CAMILO MONTAÑA HERNANDEZ","VIRTUAL","Correo electrónico","notificacionessuba@gobiernobogota.gov.co","Entidades y Organismos Distritales","Secretaría de Gobierno","Entidades y Organismos Distritales","Alcaldía de Suba","Masculino","Hombre ","Sin datos","Sin datos","Sin datos","Sin datos","PETICIONES ENTRE ENTIDADES","Consulta general","Peticiones entre entidades","RESPUESTA RADICADOS 20224603374082, 20226110203192, 20226110207722","Radicar en ORFEO","SAI","11 Suba"]
[533,2022,"NOVIEMBRE","2022-11-03","20:09:00","CRISTHIAN CAMILO MONTAÑA HERNANDEZ","VIRTUAL","Correo electrónico","cdiusaquen.salidas@gobiernobogota.gov.co","Entidades y Organismos Distritales","Secretaría de Gobierno","Entidades y Organismos Distritales","Alcaldía de Usaquén","Masculino","Hombre ","Sin datos","Sin datos","Sin datos","Sin datos","PETICIONES ENTRE ENTIDADES","Consulta general","Peticiones entre entidades","20225130999291 - Información sobre reparto de actuaciones policivas – Respuesta Radicado No.20225110165532","Radicar en ORFEO","SAI","01 Usaquén"]
[534,2022,"NOVIEMBRE","2022-11-03","20:09:00","CRISTHIAN CAMILO MONTAÑA HERNANDEZ","VIRTUAL","Correo electrónico","correspondencia.enviada@idu.gov.co","Entidades y Organismos Distritales","Instituto de Desarrollo Urbano","Entidades y Organismos Distritales","Correspondencia","Masculino","Hombre ","Sin datos","Sin datos","Sin datos","Sin datos","PETICIONES ENTRE ENTIDADES","Consulta general","Peticiones entre entidades","RADICADO IDU N° 20223751732381 DEL 01 DE NOVIEMBRE 2022","Responder a correo electronico","AREA DE ATENCION A LA CIUDADANIA","No Registra"]
[535,2022,"NOVIEMBRE","2022-11-03","20:09:00","CRISTHIAN CAMILO MONTAÑA HERNANDEZ","VIRTUAL","Correo electrónico","protocolon61@gmail.com","Entidades y Organismos Distritales","NOTARIA 61 ","Entidades y Organismos Distritales","protocolo","N/A","N/A","Sin datos","Sin datos","Sin datos","Sin datos","PETICIONES ENTRE ENTIDADES","Consulta general","Peticiones entre entidades","SOLICITUD COPIA DE ESCRITURA 671-1998","Radicar en ORFEO","SRI","No Registra"]
[536,2022,"NOVIEMBRE","2022-11-03","20:10:00","CRISTHIAN CAMILO MONTAÑA HERNANDEZ","VIRTUAL","Correo electrónico","correspondencia.enviada@idu.gov.co","Entidades y Organismos Distritales","Instituto de Desarrollo Urbano","Entidades y Organismos Distritales","Correspondencia","Femenino","Mujer","Sin datos","Sin datos","Sin datos","Sin datos","PETICIONES ENTRE ENTIDADES","Consulta general","Peticiones entre entidades","RADICADO IDU N° 20222261731351 DEL 01 DE NOVIEMBRE 2022","Radicar en ORFEO","SAI","No Registra"]
[537,2022,"NOVIEMBRE","2022-11-03","20:10:00","CRISTHIAN CAMILO MONTAÑA HERNANDEZ","VIRTUAL","Correo electrónico","correspondencia.enviada@idu.gov.co","Entidades y Organismos Distritales","Instituto de Desarrollo Urbano","Entidades y Organismos Distritales","Correspondencia","Femenino","Mujer","Sin datos","Sin datos","Sin datos","Sin datos","PETICIONES ENTRE ENTIDADES","Consulta general","Peticiones entre entidades","RADICADO IDU N° 20223251732021 DEL 01 DE NOVIEMBRE 2022","Radicar en ORFEO","SAI","02 Chapinero"]
[538,2022,"NOVIEMBRE","2022-11-03","20:10:00","CRISTHIAN CAMILO MONTAÑA HERNANDEZ","VIRTUAL","Correo electrónico","edificioceltaadmon@gmail.com","Empresas privadas","EDIFICIO CELTA PH","Empresas Privadas","EDIFICIO CELTA PH","N/A","N/A","Sin datos","Sin datos","Sin datos","Sin datos","NOTIFICACIONES","Estudio de la viabilidad de las solicitudes de administración de bienes públicos","CAMEP Contrato de administración y mantenimiento","Cuenta de Cobro No. 2,455 - Inmueble: 20222 Cuenta de Cobro Noviembre 1 de 2022","Radicar en ORFEO","SAI","No Registra"]
[539,2022,"NOVIEMBRE","2022-11-03","20:11:00","CRISTHIAN CAMILO MONTAÑA HERNANDEZ","VIRTUAL","Correo electrónico","edificioceltaadmon@gmail.com","Empresas privadas","EDIFICIO CELTA PH","Empresas Privadas","EDIFICIO CELTA PH","N/A","N/A","Sin datos","Sin datos","Sin datos","Sin datos","NOTIFICACIONES","Estudio de la viabilidad de las solicitudes de administración de bienes públicos","CAMEP Contrato de administración y mantenimiento","Cuenta de Cobro No. 2,460 - Inmueble: 20232 Cuenta de Cobro Noviembre 1 de 2022","Radicar en ORFEO","SAI","No Registra"]
[540,2022,"NOVIEMBRE","2022-11-03","20:11:00","CRISTHIAN CAMILO MONTAÑA HERNANDEZ","VIRTUAL","Correo electrónico","edificioceltaadmon@gmail.com","Empresas privadas","EDIFICIO CELTA PH","Empresas Privadas","EDIFICIO CELTA PH","N/A","N/A","Sin datos","Sin datos","Sin datos","Sin datos","NOTIFICACIONES","Estudio de la viabilidad de las solicitudes de administración de bienes públicos","CAMEP Contrato de administración y mantenimiento","Cuenta de Cobro No. 2,469 - Inmueble: 202111 Cuenta de Cobro Noviembre 1 de 2022","Radicar en ORFEO","SAI","No Registra"]
[541,2022,"NOVIEMBRE","2022-11-03","20:11:00","CRISTHIAN CAMILO MONTAÑA HERNANDEZ","VIRTUAL","Correo electrónico","pherrera@catastrobogota.gov.co","Entidades y Organismos Distritales","Catastro de Bogotá","Entidades y Organismos Distritales","Funcionario","Masculino","Hombre ","Sin datos","Sin datos","Sin datos","Sin datos","PETICIONES ENTRE ENTIDADES","Consulta general","Peticiones entre entidades","COMUNICACION ELECTRONICA RADICACION: 2021ER34999, 2022EE81860","Radicar en ORFEO","SRI","No Registra"]
[542,2022,"NOVIEMBRE","2022-11-03","20:13:00","CRISTHIAN CAMILO MONTAÑA HERNANDEZ","VIRTUAL","Correo electrónico","notaria54bogota@ucnc.com.co","Entidades y Organismos Distritales","NOTARIA 54","Entidades y Organismos Distritales","\"U.C.N.C.\" - Unión Colegiada del Notariado Colombiano","N/A","N/A","Sin datos","Sin datos","Sin datos","Sin datos","PETICIONES ENTRE ENTIDADES","Consulta general","Peticiones entre entidades","SOLICITUD COPIAS DE LAS ESCRITURAS PÚBLICAS - 431-2017","Radicar en ORFEO","SRI","No Registra"]
[543,2022,"NOVIEMBRE","2022-11-03","20:14:00","CRISTHIAN CAMILO MONTAÑA HERNANDEZ","VIRTUAL","Correo electrónico","Carlos.Granada@gobiernobogota.gov.co","Entidades y Organismos Distritales","Secretaría de Gobierno","Entidades y Organismos Distritales","Funcionario","Masculino","Hombre ","Sin datos","Sin datos","Sin datos","Sin datos","PETICIONES ENTRE ENTIDADES","Consulta general","Peticiones entre entidades","20225141037391 - VERIFICACION DE ESPACIO PUBLICO","Radicar en ORFEO","SAI","01 Usaquén"]
[544,2022,"NOVIEMBRE","2022-11-03","20:14:00","CRISTHIAN CAMILO MONTAÑA HERNANDEZ","VIRTUAL","Correo electrónico","buzoncomunicaciones@sdp.gov.co","Entidades y Organismos Distritales","Secretaría Distrital de Planeación","Entidades y Organismos Distritales","buzon comunicaciones","Femenino","Mujer","Sin datos","Sin datos","Sin datos","Sin datos","PETICIONES ENTRE ENTIDADES","Consulta general","Peticiones entre entidades","2-2022-159008","Radicar en ORFEO","DIRECCIÓN","No Registra"]
[545,2022,"NOVIEMBRE","2022-11-03","20:15:00","CRISTHIAN CAMILO MONTAÑA HERNANDEZ","VIRTUAL","Correo electrónico","correspondencia.enviada@idu.gov.co","Entidades y Organismos Distritales","Instituto de Desarrollo Urbano","Entidades y Organismos Distritales","Correspondencia","Masculino","Hombre ","Sin datos","Sin datos","Sin datos","Sin datos","PETICIONES ENTRE ENTIDADES","Consulta general","Peticiones entre entidades","RADICADO IDU N° 20223751738021 DEL 02 DE NOVIEMBRE 2022","Radicar en ORFEO","SAI","No Registra"]
[546,2022,"NOVIEMBRE","2022-11-03","20:29:00","CRISTHIAN CAMILO MONTAÑA HERNANDEZ","VIRTUAL","Correo electrónico","zmlozada@concejobogota.gov.co","Entidades y Organismos Distritales","Concejo de Bogotá","Entidades y Organismos Distritales","Funcionario","Masculino","Hombre ","Sin datos","Sin datos","Sin datos","Sin datos","PETICIONES ENTRE ENTIDADES","Consulta general","Peticiones entre entidades","ENVIO CUESTIONARIO PROPOSICION 634 DW 2022","Radicar en ORFEO","DIRECCIÓN","No Registra"]
[547,2022,"NOVIEMBRE","2022-11-03","20:32:00","CRISTHIAN CAMILO MONTAÑA HERNANDEZ","VIRTUAL","Correo electrónico","correspondencia@jbb.gov.co","Entidades y Organismos Distritales","Jardín Botánico de Bogotá","Entidades y Organismos Distritales","Correspondencia","Masculino","Hombre ","Sin datos","Sin datos","Sin datos","Sin datos","PETICIONES ENTRE ENTIDADES","Consulta general","Peticiones entre entidades","2022JBB400062522 - Remisión Solicitud de Autorización Actividad de Agricultura Urbana en Espacio Público-Tahuasuca Amaru Sua","Radicar en ORFEO","SAI","No Registra"]
[548,2022,"NOVIEMBRE","2022-11-03","20:32:00","CRISTHIAN CAMILO MONTAÑA HERNANDEZ","VIRTUAL","Correo electrónico","buzoncomunicaciones@sdp.gov.co","Entidades y Organismos Distritales","Secretaría Distrital de Planeación","Entidades y Organismos Distritales","buzon comunicaciones","Femenino","Mujer","Sin datos","Sin datos","Sin datos","Sin datos","PETICIONES ENTRE ENTIDADES","Consulta general","Peticiones entre entidades","2-2022-159056 ","Radicar en ORFEO","DIRECCIÓN","No Registra"]
[549,2022,"NOVIEMBRE","2022-11-03","20:32:00","CRISTHIAN CAMILO MONTAÑA HERNANDEZ","VIRTUAL","Correo electrónico","secplaneacion@cubarral-meta.gov.co","Entidades y Organismos Nacionales","Secretaría de Planeación","Entidades y Orgamismos Nacionales","Cubarral Meta","N/A","N/A","Sin datos","Sin datos","Sin datos","Sin datos","ASESORÍA","Incorporación y entrega de las áreas de cesión a favor del municipio","Entrega de zonas de cesión","RADICADO DADEP No.20222030156771","Radicar en ORFEO","SRI","No Registra"]
[550,2022,"NOVIEMBRE","2022-11-03","21:01:00","CRISTHIAN CAMILO MONTAÑA HERNANDEZ","VIRTUAL","Correo electrónico","ssordebog@gmail.com","Organizaciones Sociales","SOCIEDAD DE SORDOS DE BOGOTA SORDEBOG","Organizaciones Sociales","organización social","N/A","N/A","Sin datos","Sin datos","Sin datos","Sin datos","ASESORÍA","Asesoría en administración y sostenibilidad del espacio público","Asesoría en temas de espacio público","Respuesta DADEP","Radicar en ORFEO","SAI","No Registra"]
[551,2022,"NOVIEMBRE","2022-11-03","21:10:00","CRISTHIAN CAMILO MONTAÑA HERNANDEZ","VIRTUAL","Correo electrónico","notificacion@inci.gov.co","Entidades y Organismos Nacionales","Instituto Nacional para Ciegos -INCI","Entidades y Orgamismos Nacionales","organización social","Femenino","Mujer","Sin datos","Sin datos","Sin datos","Sin datos","PETICIONES ENTRE ENTIDADES","Consulta general","Peticiones entre entidades","20221200027421 - Respuesta a radicado No. 20221140027442","Radicar en ORFEO","SAI","No Registra"]
[552,2022,"NOVIEMBRE","2022-11-03","21:13:00","CRISTHIAN CAMILO MONTAÑA HERNANDEZ","VIRTUAL","Correo electrónico","JALSUMAPAZ20@hotmail.com","Juntas Administradoras Locales (JAL)","Juntas Administradoras Locales (JAL)","Juntas Administradoras Locales (JAL)","JAL Sumapaz","N/A","N/A","Sin datos","Sin datos","Sin datos","Sin datos","PETICIONES ENTRE ENTIDADES","Consulta general","Peticiones entre entidades","JALS-303-22 - Mesa interinstitucional y comunitaria de salud - Noviembre","Radicar en ORFEO","DIRECCIÓN","20 Sumapaz"]
[553,2022,"NOVIEMBRE","2022-11-03","21:22:00","CRISTHIAN CAMILO MONTAÑA HERNANDEZ","VIRTUAL","Correo electrónico","respuestasrbl@uaesp.gov.co","Entidades y Organismos Distritales","Unidad Administrativa Especial de Servicios Públicos","Entidades y Organismos Distritales","Respuestas RBL","Masculino","Hombre ","Sin datos","Sin datos","Sin datos","Sin datos","PETICIONES ENTRE ENTIDADES","Consulta general","Peticiones entre entidades","Remito radicado UAESP 20222000250561","Radicar en ORFEO","SRI","19 Ciudad Bolívar"]
[554,2022,"NOVIEMBRE","2022-11-03","21:52:00","CRISTHIAN CAMILO MONTAÑA HERNANDEZ","VIRTUAL","Correo electrónico","andrescortesedil@gmail.com","Juntas Administradoras Locales (JAL)","Juntas Administradoras Locales (JAL)","Juntas Administradoras Locales (JAL)","Edil","Masculino","Hombre ","Sin datos","Sin datos","Sin datos","Sin datos","PETICIONES ENTRE ENTIDADES","Consulta general","Peticiones entre entidades","Derecho de petición","Radicar en ORFEO","DIRECCIÓN","11 Suba"]
[555,2022,"NOVIEMBRE","2022-11-03","07:22:00","CRISTHIAN CAMILO MONTAÑA HERNANDEZ","VIRTUAL","Correo electrónico","cabildo.muisca.suba@subamuisca.com","Organizaciones Sociales","Cabildo Muisca","Organizaciones Sociales","Cabildo Muisca Suba","N/A","N/A","Sin datos","Sin datos","Sin datos","Sin datos","ASESORÍA","Asesoría en administración y sostenibilidad del espacio público","Asesoría en temas de espacio público","Solicitud Interinstitucional para uso de espacio en comodato.","Radicar en ORFEO","SAI","11 Suba"]
[556,2022,"NOVIEMBRE","2022-11-03","07:59:00","CRISTHIAN CAMILO MONTAÑA HERNANDEZ","VIRTUAL","Correo electrónico","Externa_Enviada_Virtual@shd.gov.co","Entidades y Organismos Distritales","Secretaría de Hacienda Distrital","Entidades y Organismos Distritales","Correspondencia","Femenino","Mujer","Sin datos","Sin datos","Sin datos","Sin datos","PETICIONES ENTRE ENTIDADES","Consulta general","Peticiones entre entidades","(R2022EE510676O1) 2022EE510676O1 HR","Radicar en ORFEO","DIRECCIÓN","No Registra"]
[557,2022,"NOVIEMBRE","2022-11-03","08:09:00","CRISTHIAN CAMILO MONTAÑA HERNANDEZ","VIRTUAL","Correo electrónico","notificaciones_catastro@catastrobogota.gov.co","Entidades y Organismos Distritales","Catastro de Bogotá","Entidades y Organismos Distritales","Notificaciones","Femenino","Mujer","Sin datos","Sin datos","Sin datos","Sin datos","PETICIONES ENTRE ENTIDADES","Consulta general","Peticiones entre entidades","Notificación del tramite 2022 - 96810 ","Radicar en ORFEO","SRI","No Registra"]
[558,2022,"NOVIEMBRE","2022-11-03","08:21:00","CRISTHIAN CAMILO MONTAÑA HERNANDEZ","VIRTUAL","Correo electrónico","servicioalpublico@archivogeneral.gov.co","Entidades y Organismos Nacionales","Archivo General de la Nación","Entidades y Orgamismos Nacionales","servicio al publico","Masculino","Hombre ","Sin datos","Sin datos","Sin datos","Sin datos","PETICIONES ENTRE ENTIDADES","Consulta general","Peticiones entre entidades","2-2022-11297  - Respuesta Radicado DADEP No. 20222030161661","Radicar en ORFEO","SRI","No Registra"]
[559,2022,"NOVIEMBRE","2022-11-03","08:31:00","CRISTHIAN CAMILO MONTAÑA HERNANDEZ","VIRTUAL","Correo electrónico","trodloscolombia21@gmail.com","Empresas privadas","trodlos colombia ","Empresas Privadas","trodlos colombia ","N/A","N/A","Sin datos","Sin datos","Sin datos","Sin datos","ASESORÍA","Estudio de la viabilidad de las solicitudes de administración de bienes públicos","Viabilidad Decreto 070 / 2022 BACA 2.0","DUCUMENTOS DE A CIELO ABIERTO","Responder a correo electronico","AREA DE ATENCION A LA CIUDADANIA","No Registra"]
[560,2022,"NOVIEMBRE","2022-11-03","08:33:00","CRISTHIAN CAMILO MONTAÑA HERNANDEZ","VIRTUAL","Correo electrónico","servicioalpublico@archivogeneral.gov.co","Entidades y Organismos Nacionales","Archivo General de la Nación","Entidades y Orgamismos Nacionales","servicio al publico","Masculino","Hombre ","Sin datos","Sin datos","Sin datos","Sin datos","PETICIONES ENTRE ENTIDADES","Consulta general","Peticiones entre entidades","2-2022-11298 - Respuesta Radicado DADEP No. 20222030161711","Radicar en ORFEO","SRI","No Registra"]
[561,2022,"NOVIEMBRE","2022-11-03","08:59:00","CRISTHIAN CAMILO MONTAÑA HERNANDEZ","VIRTUAL","Correo electrónico","externa_enviada_virtual@shd.gov.co","Entidades y Organismos Distritales","Secretaría de Hacienda Distrital","Entidades y Organismos Distritales","Correspondencia","Masculino","Hombre ","Sin datos","Sin datos","Sin datos","Sin datos","PETICIONES ENTRE ENTIDADES","Consulta general","Peticiones entre entidades","(R2022EE511304O1) 2022EE511304O1 YC","Radicar en ORFEO","DIRECCIÓN","No Registra"]
[562,2022,"NOVIEMBRE","2022-11-03","09:06:00","CRISTHIAN CAMILO MONTAÑA HERNANDEZ","VIRTUAL","Correo electrónico","cdiusaquen.salidas@gobiernobogota.gov.co","Entidades y Organismos Distritales","Secretaría de Gobierno","Entidades y Organismos Distritales","Alcaldía de Usaquén","Masculino","Hombre ","Sin datos","Sin datos","Sin datos","Sin datos","PETICIONES ENTRE ENTIDADES","Consulta general","Peticiones entre entidades","20225131023401 - Respuesta Derecho de Petición","Radicar en ORFEO","SAI","01 Usaquén"]
[563,2022,"NOVIEMBRE","2022-11-03","09:10:00","CRISTHIAN CAMILO MONTAÑA HERNANDEZ","VIRTUAL","Correo electrónico","contabilidad@centrointernacional.co","Empresas privadas","centro internacional","Empresas Privadas","Ciudadanía","Masculino","Hombre ","Sin datos","Sin datos","Sin datos","Sin datos","NOTIFICACIONES","Estudio de la viabilidad de las solicitudes de administración de bienes públicos","CAMEP Contrato de administración y mantenimiento","INFORME DEMOS CENTRO INTERNACIONAL - SEPTIEMBRE 2022","Radicar en ORFEO","SAI","03 Santa fe"]
[564,2022,"NOVIEMBRE","2022-11-03","09:15:00","CRISTHIAN CAMILO MONTAÑA HERNANDEZ","VIRTUAL","Correo electrónico","mesasgestionterritorial@gobiernobogota.gov.co","Entidades y Organismos Distritales","Secretaría de Gobierno","Entidades y Organismos Distritales","mesas gestion territorial","N/A","N/A","Sin datos","Sin datos","Sin datos","Sin datos","PETICIONES ENTRE ENTIDADES","Consulta general","Peticiones entre entidades","MGT 20224213564342 HC LUCÍA BASTIDAS UBATÉ - OCUPACIÓN INDEBIDA DEL ESPACIO PÚBLICO EN EL LA PEATONAL DE LA SÉPTIMA- CENTRO”","Radicar en ORFEO","DIRECCIÓN","No Registra"]
[565,2022,"NOVIEMBRE","2022-11-03","09:27:00","CRISTHIAN CAMILO MONTAÑA HERNANDEZ","VIRTUAL","Correo electrónico","norma.barreto@gobiernobogota.gov.co","Entidades y Organismos Distritales","Secretaría de Gobierno","Entidades y Organismos Distritales","Funcionario","Femenino","Mujer","Sin datos","Sin datos","Sin datos","Sin datos","PETICIONES ENTRE ENTIDADES","Consulta general","Peticiones entre entidades","20221009246741 - traslado advertencia sobre un grave peligro en construcción que amenaza derrumbe, radicado SDG 20224213526172","Radicar en ORFEO","DIRECCIÓN","No Registra"]
[566,2022,"NOVIEMBRE","2022-11-03","09:27:00","CRISTHIAN CAMILO MONTAÑA HERNANDEZ","VIRTUAL","Correo electrónico","externa_enviada_virtual@shd.gov.co","Entidades y Organismos Distritales","Secretaría de Hacienda Distrital","Entidades y Organismos Distritales","Correspondencia","Masculino","Hombre ","Sin datos","Sin datos","Sin datos","Sin datos","PETICIONES ENTRE ENTIDADES","Consulta general","Peticiones entre entidades","(R2022EE511443O1) 2022EE511443O1 YC","Radicar en ORFEO","DIRECCIÓN","No Registra"]
[567,2022,"NOVIEMBRE","2022-11-03","09:37:00","CRISTHIAN CAMILO MONTAÑA HERNANDEZ","VIRTUAL","Correo electrónico","martha.hernandeza@gobiernobogota.gov.co","Entidades y Organismos Distritales","Secretaría de Gobierno","Entidades y Organismos Distritales","Funcionario","Masculino","Hombre ","Sin datos","Sin datos","Sin datos","Sin datos","PETICIONES ENTRE ENTIDADES","Consulta general","Peticiones entre entidades","RADICADO 20226620635671","Radicar en ORFEO","SAI","16 Puente Aranda"]
[568,2022,"NOVIEMBRE","2022-11-03","09:40:00","CRISTHIAN CAMILO MONTAÑA HERNANDEZ","VIRTUAL","Correo electrónico","norma.barreto@gobiernobogota.gov.co","Entidades y Organismos Distritales","Secretaría de Gobierno","Entidades y Organismos Distritales","Funcionario","Femenino","Mujer","Sin datos","Sin datos","Sin datos","Sin datos","PETICIONES ENTRE ENTIDADES","Consulta general","Peticiones entre entidades","20221009246321 - traslado estrategia probada en espacio publico, adicado SDG 20224213532382","Radicar en ORFEO","DIRECCIÓN","No Registra"]
[569,2022,"NOVIEMBRE","2022-11-03","09:51:00","CRISTHIAN CAMILO MONTAÑA HERNANDEZ","VIRTUAL","Correo electrónico","correspondencia@jbb.gov.co","Entidades y Organismos Distritales","Jardín Botánico de Bogotá","Entidades y Organismos Distritales","Correspondencia","Masculino","Hombre ","Sin datos","Sin datos","Sin datos","Sin datos","PETICIONES ENTRE ENTIDADES","Consulta general","Peticiones entre entidades","2022JBB400062542 - Remisión Solicitud de Autorización Actividad de Agricultura Urbana en Espacio Público - “Organizacion Ambiental Econciencia Terrestre - Mhuyso","Radicar en ORFEO","SAI","No Registra"]
[570,2022,"NOVIEMBRE","2022-11-03","09:55:00","CRISTHIAN CAMILO MONTAÑA HERNANDEZ","VIRTUAL","Correo electrónico","notificaciones_catastro@catastrobogota.gov.co","Entidades y Organismos Distritales","Catastro de Bogotá","Entidades y Organismos Distritales","Notificaciones","Masculino","Hombre ","Sin datos","Sin datos","Sin datos","Sin datos","PETICIONES ENTRE ENTIDADES","Consulta general","Peticiones entre entidades","RAD 2022-866544 OFICIO 2022EE81403 Y ANEXOS 2022-44862 DEL 25-10-2022 NOTIFICACIÓN ELECTRÓNICA AUTORIZADA ","Radicar en ORFEO","SRI","No Registra"]
[571,2022,"NOVIEMBRE","2022-11-03","10:00:00","CRISTHIAN CAMILO MONTAÑA HERNANDEZ","VIRTUAL","Correo electrónico","correspondenciaexternaenviada@participacionbogota.gov.co","Entidades y Organismos Distritales","participacion Bogota","Entidades y Organismos Distritales","Correspondencia","Masculino","Hombre ","Sin datos","Sin datos","Sin datos","Sin datos","PETICIONES ENTRE ENTIDADES","Consulta general","Peticiones entre entidades","RADICADO 20223000187391","Radicar en ORFEO","DIRECCIÓN","No Registra"]
[572,2022,"NOVIEMBRE","2022-11-03","10:05:00","CRISTHIAN CAMILO MONTAÑA HERNANDEZ","VIRTUAL","Correo electrónico","administradorsiga@alcaldiabogota.gov.co","Entidades y Organismos Distritales","Secretaria de Habitat","Entidades y Organismos Distritales","SIGA","Masculino","Hombre ","Sin datos","Sin datos","Sin datos","Sin datos","PETICIONES ENTRE ENTIDADES","Consulta general","Peticiones entre entidades","Comunicación Oficial N° 2-2022-31916","Radicar en ORFEO","SAF","No Registra"]
[573,2022,"NOVIEMBRE","2022-11-03","10:11:00","CRISTHIAN CAMILO MONTAÑA HERNANDEZ","VIRTUAL","Correo electrónico","correspondenciabogotanorte@Supernotariado.gov.co","Entidades y Organismos Nacionales","Supernotariado","Entidades y Orgamismos Nacionales","Correspondencia","Masculino","Hombre ","Sin datos","Sin datos","Sin datos","Sin datos","PETICIONES ENTRE ENTIDADES","Consulta general","Peticiones entre entidades","2022EE25865 ","Radicar en ORFEO","SRI","No Registra"]
[574,2022,"NOVIEMBRE","2022-11-03","10:25:00","CRISTHIAN CAMILO MONTAÑA HERNANDEZ","VIRTUAL","Correo electrónico","correspondencia.i.dadep378@interdisenos.com.co","Empresas privadas","interdisenos","Empresas Privadas","Correspondencia","Femenino","Mujer","Sin datos","Sin datos","Sin datos","Sin datos","NOTIFICACIONES","Estudio de la viabilidad de las solicitudes de administración de bienes públicos","CAMEP Contrato de administración y mantenimiento","GDADEP06-0534-22. Alcance GDADEP06-0533-22. Rta Petición. Recomendación Aprobación Plan v2","Radicar en ORFEO","SAI","No Registra"]
[575,2022,"NOVIEMBRE","2022-11-03","10:31:00","CRISTHIAN CAMILO MONTAÑA HERNANDEZ","VIRTUAL","Correo electrónico","andrescortesedil@gmail.com","Juntas Administradoras Locales (JAL)","Juntas Administradoras Locales (JAL)","Juntas Administradoras Locales (JAL)","Edil","Masculino","Hombre ","Sin datos","Sin datos","Sin datos","Sin datos","PETICIONES ENTRE ENTIDADES","Consulta general","Peticiones entre entidades","Oficio JAL: 405 - Derecho de petición","Radicar en ORFEO","DIRECCIÓN","11 Suba"]
[576,2022,"NOVIEMBRE","2022-11-03","10:46:00","CRISTHIAN CAMILO MONTAÑA HERNANDEZ","VIRTUAL","Correo electrónico","correspondencia@idiger.gov.co","Entidades y Organismos Distritales","instituto Distrital de Gestión de Riesgos y Cambio Climático","Entidades y Organismos Distritales","Correspondencia","Femenino","Mujer","Sin datos","Sin datos","Sin datos","Sin datos","PETICIONES ENTRE ENTIDADES","Consulta general","Peticiones entre entidades","RESPUESTA RADICADO IDIGER 2022ER16835 - EE18109","Radicar en ORFEO","SRI","No Registra"]
[577,2022,"NOVIEMBRE","2022-11-03","10:54:00","CRISTHIAN CAMILO MONTAÑA HERNANDEZ","VIRTUAL","Correo electrónico","fabian.torres@promoambientaldistrito.com","Entidades y Organismos Distritales","Promoambiental Distrito","Entidades y Organismos Distritales","Correspondencia","Masculino","Hombre ","Sin datos","Sin datos","Sin datos","Sin datos","NOTIFICACIONES","Estudio de la viabilidad de las solicitudes de administración de bienes públicos","CAMEP Contrato de administración y mantenimiento","SU CUENTA CON PROMOAMBIENTAL DISTRITO S.A.S. E.S.P. INGRESO A COBRO JURIDICO","Radicar en ORFEO","SAI","No Registra"]
[578,2022,"NOVIEMBRE","2022-11-03","11:14:00","CRISTHIAN CAMILO MONTAÑA HERNANDEZ","VIRTUAL","Correo electrónico","inspeccion3Asantafe@gobiernobogota.gov.co","Entidades y Organismos Distritales","Secretaría de Gobierno","Entidades y Organismos Distritales","inspeccion3 A santafe","Masculino","Hombre ","Sin datos","Sin datos","Sin datos","Sin datos","PETICIONES ENTRE ENTIDADES","Consulta general","Peticiones entre entidades","20225340749361 - Solicitud de acompañamiento diligencia de audiencia pública Expediente No. 2022533490101613E","Radicar en ORFEO","SAI","03 Santa fe"]
[579,2022,"NOVIEMBRE","2022-11-03","11:21:00","CRISTHIAN CAMILO MONTAÑA HERNANDEZ","VIRTUAL","Correo electrónico","cdi.ruribe@gobiernobogota.gov.co","Entidades y Organismos Distritales","Secretaría de Gobierno","Entidades y Organismos Distritales","CDI Rafael Uribe Uribe","Femenino","Mujer","Sin datos","Sin datos","Sin datos","Sin datos","PETICIONES ENTRE ENTIDADES","Consulta general","Peticiones entre entidades","Remito comunicado con radicado 20226841510301","Radicar en ORFEO","SAI","18 Rafael Uribe Uribe"]
[580,2022,"NOVIEMBRE","2022-11-03","11:22:00","CRISTHIAN CAMILO MONTAÑA HERNANDEZ","VIRTUAL","Correo electrónico","ctorres@sdp.gov.co","Entidades y Organismos Distritales","Secretaría Distrital de Planeación","Entidades y Organismos Distritales","Funcionario","Femenino","Mujer","Sin datos","Sin datos","Sin datos","Sin datos","PETICIONES ENTRE ENTIDADES","Consulta general","Peticiones entre entidades","Sobre el producto \"piezas elaboradas y difundidas, de manera digital e impresa, de acuerdo con los lineamientos de la Estrategia de Cambio Cultural LGBTI","Radicar en ORFEO","SAF","No Registra"]
[581,2022,"NOVIEMBRE","2022-11-03","11:30:00","CRISTHIAN CAMILO MONTAÑA HERNANDEZ","VIRTUAL","Correo electrónico","notificacionessuba@gobiernobogota.gov.co","Entidades y Organismos Distritales","Secretaría de Gobierno","Entidades y Organismos Distritales","Alcaldía de Suba","Femenino","Mujer","Sin datos","Sin datos","Sin datos","Sin datos","PETICIONES ENTRE ENTIDADES","Consulta general","Peticiones entre entidades","20226141997571 - CITACIÓN A.P. DADEP 2019614490118575E DIA 29/11/22 A LAS 10:00AM","Radicar en ORFEO","SAI","11 Suba"]
[582,2022,"NOVIEMBRE","2022-11-03","11:35:00","CRISTHIAN CAMILO MONTAÑA HERNANDEZ","VIRTUAL","Correo electrónico","cdi.ruribe@gobiernobogota.gov.co","Entidades y Organismos Distritales","Secretaría de Gobierno","Entidades y Organismos Distritales","CDI Rafael Uribe Uribe","Femenino","Mujer","Sin datos","Sin datos","Sin datos","Sin datos","PETICIONES ENTRE ENTIDADES","Consulta general","Peticiones entre entidades","Remito comunicado con radicado 20226841510321","Radicar en ORFEO","SAI","18 Rafael Uribe Uribe"]
[583,2022,"NOVIEMBRE","2022-11-03","11:56:00","CRISTHIAN CAMILO MONTAÑA HERNANDEZ","VIRTUAL","Correo electrónico","cdi.ruribe@gobiernobogota.gov.co","Entidades y Organismos Distritales","Secretaría de Gobierno","Entidades y Organismos Distritales","CDI Rafael Uribe Uribe","Femenino","Mujer","Sin datos","Sin datos","Sin datos","Sin datos","PETICIONES ENTRE ENTIDADES","Consulta general","Peticiones entre entidades","Remito comunicado con radicado 20226841510341","Radicar en ORFEO","SAI","18 Rafael Uribe Uribe"]
[584,2022,"NOVIEMBRE","2022-11-03","12:02:00","CRISTHIAN CAMILO MONTAÑA HERNANDEZ","VIRTUAL","Correo electrónico","servicioalciudadanogel@sdp.gov.co","Entidades y Organismos Distritales","Secretaría Distrital de Planeación","Entidades y Organismos Distritales","Sercicio al cliente","Femenino","Mujer","Sin datos","Sin datos","Sin datos","Sin datos","PETICIONES ENTRE ENTIDADES","Consulta general","Peticiones entre entidades","2-2022-157381","Radicar en ORFEO","OAJ","No Registra"]
[585,2022,"NOVIEMBRE","2022-11-03","12:03:00","CRISTHIAN CAMILO MONTAÑA HERNANDEZ","VIRTUAL","Correo electrónico","cdi.ruribe@gobiernobogota.gov.co","Entidades y Organismos Distritales","Secretaría de Gobierno","Entidades y Organismos Distritales","CDI Rafael Uribe Uribe","Femenino","Mujer","Sin datos","Sin datos","Sin datos","Sin datos","PETICIONES ENTRE ENTIDADES","Consulta general","Peticiones entre entidades","Remito comunicado con radicado 20226841510361","Radicar en ORFEO","SAI","18 Rafael Uribe Uribe"]
[586,2022,"NOVIEMBRE","2022-11-03","12:05:00","CRISTHIAN CAMILO MONTAÑA HERNANDEZ","VIRTUAL","Correo electrónico","cdi.ruribe@gobiernobogota.gov.co","Entidades y Organismos Distritales","Secretaría de Gobierno","Entidades y Organismos Distritales","CDI Rafael Uribe Uribe","Femenino","Mujer","Sin datos","Sin datos","Sin datos","Sin datos","PETICIONES ENTRE ENTIDADES","Consulta general","Peticiones entre entidades","Remito comunicado con radicado 20226841510381","Radicar en ORFEO","SAI","18 Rafael Uribe Uribe"]
[587,2022,"NOVIEMBRE","2022-11-03","12:07:00","CRISTHIAN CAMILO MONTAÑA HERNANDEZ","VIRTUAL","Correo electrónico","cdi.ruribe@gobiernobogota.gov.co","Entidades y Organismos Distritales","Secretaría de Gobierno","Entidades y Organismos Distritales","CDI Rafael Uribe Uribe","Femenino","Mujer","Sin datos","Sin datos","Sin datos","Sin datos","PETICIONES ENTRE ENTIDADES","Consulta general","Peticiones entre entidades","Remito comunicado con radicado 20226841510401","Radicar en ORFEO","SAI","18 Rafael Uribe Uribe"]
[588,2022,"NOVIEMBRE","2022-11-03","12:09:00","CRISTHIAN CAMILO MONTAÑA HERNANDEZ","VIRTUAL","Correo electrónico","cdi.ruribe@gobiernobogota.gov.co","Entidades y Organismos Distritales","Secretaría de Gobierno","Entidades y Organismos Distritales","CDI Rafael Uribe Uribe","Femenino","Mujer","Sin datos","Sin datos","Sin datos","Sin datos","PETICIONES ENTRE ENTIDADES","Consulta general","Peticiones entre entidades","Remito comunicado con radicado 20226841510421","Radicar en ORFEO","SAI","18 Rafael Uribe Uribe"]
[589,2022,"NOVIEMBRE","2022-11-03","12:11:00","CRISTHIAN CAMILO MONTAÑA HERNANDEZ","VIRTUAL","Correo electrónico","cdi.ruribe@gobiernobogota.gov.co","Entidades y Organismos Distritales","Secretaría de Gobierno","Entidades y Organismos Distritales","CDI Rafael Uribe Uribe","Femenino","Mujer","Sin datos","Sin datos","Sin datos","Sin datos","PETICIONES ENTRE ENTIDADES","Consulta general","Peticiones entre entidades","Remito comunicado con radicado 20226841510781","Radicar en ORFEO","SAI","18 Rafael Uribe Uribe"]
[590,2022,"NOVIEMBRE","2022-11-03","12:11:00","CRISTHIAN CAMILO MONTAÑA HERNANDEZ","VIRTUAL","Correo electrónico","javier.mendez@gobiernobogota.gov.co","Entidades y Organismos Distritales","Secretaría de Gobierno","Entidades y Organismos Distritales","Funcionario","Masculino","Hombre ","Sin datos","Sin datos","Sin datos","Sin datos","PETICIONES ENTRE ENTIDADES","Consulta general","Peticiones entre entidades","20225540762471 - DEPARTAMENTO ADMINISTRATIVO DE LA DEFENSORÍA DEL ESPACIO PÚBLICO DADEP CARRERA 30 NO. 25 ??? 90 PISO 15 BOGOTÁ D.C ASUNTO: SOLICITUD DE ACOMPAÑAMIENTO A AUDIENCIA PÚBLICA. REFERENCIA: QUERELLA 2021554490100100 (AL CONTESTAR FAVOR CITAR ESTE NÚMERO)","Radicar en ORFEO","SAI","05 Usme"]
[591,2022,"NOVIEMBRE","2022-11-03","12:19:00","CRISTHIAN CAMILO MONTAÑA HERNANDEZ","VIRTUAL","Correo electrónico","cdi.ruribe@gobiernobogota.gov.co","Entidades y Organismos Distritales","Secretaría de Gobierno","Entidades y Organismos Distritales","CDI Rafael Uribe Uribe","Femenino","Mujer","Sin datos","Sin datos","Sin datos","Sin datos","PETICIONES ENTRE ENTIDADES","Consulta general","Peticiones entre entidades","Remito comunicado con radicado 20226841510801","Radicar en ORFEO","SAI","18 Rafael Uribe Uribe"]
[592,2022,"NOVIEMBRE","2022-11-03","12:58:00","CRISTHIAN CAMILO MONTAÑA HERNANDEZ","VIRTUAL","Correo electrónico","cdi.ruribe@gobiernobogota.gov.co","Entidades y Organismos Distritales","Secretaría de Gobierno","Entidades y Organismos Distritales","CDI Rafael Uribe Uribe","Femenino","Mujer","Sin datos","Sin datos","Sin datos","Sin datos","PETICIONES ENTRE ENTIDADES","Consulta general","Peticiones entre entidades","Remito comunicado con radicado 20226841510951","Radicar en ORFEO","SAI","18 Rafael Uribe Uribe"]
[593,2022,"NOVIEMBRE","2022-11-03","12:59:00","CRISTHIAN CAMILO MONTAÑA HERNANDEZ","VIRTUAL","Correo electrónico","cdi.ruribe@gobiernobogota.gov.co","Entidades y Organismos Distritales","Secretaría de Gobierno","Entidades y Organismos Distritales","CDI Rafael Uribe Uribe","Femenino","Mujer","Sin datos","Sin datos","Sin datos","Sin datos","PETICIONES ENTRE ENTIDADES","Consulta general","Peticiones entre entidades","Remito comunicado con radicado 20226841510871","Radicar en ORFEO","SAI","18 Rafael Uribe Uribe"]
[594,2022,"NOVIEMBRE","2022-11-03","12:59:00","CRISTHIAN CAMILO MONTAÑA HERNANDEZ","VIRTUAL","Correo electrónico","cdi.ruribe@gobiernobogota.gov.co","Entidades y Organismos Distritales","Secretaría de Gobierno","Entidades y Organismos Distritales","CDI Rafael Uribe Uribe","Femenino","Mujer","Sin datos","Sin datos","Sin datos","Sin datos","PETICIONES ENTRE ENTIDADES","Consulta general","Peticiones entre entidades","Remito comunicado con radicado 20226841510861","Radicar en ORFEO","SAI","18 Rafael Uribe Uribe"]
[595,2022,"NOVIEMBRE","2022-11-03","13:00:00","CRISTHIAN CAMILO MONTAÑA HERNANDEZ","VIRTUAL","Correo electrónico","cvpgestiondocumental@cajaviviendapopular.gov.co","Entidades y Organismos Distritales","Caja de vivienda popular","Entidades y Organismos Distritales","gestión documental","Masculino","Hombre ","Sin datos","Sin datos","Sin datos","Sin datos","PETICIONES ENTRE ENTIDADES","Consulta general","Peticiones entre entidades","RAD 202214000222281 Solicitud de Concepto Técnico de aclaración de superposición del predio AAA0145DLUZ identificado con la KR 10 ESTE 82 50 SUR con la zona de uso público identificada con RUPI 1571-2.","Radicar en ORFEO","sri","No Registra"]
[596,2022,"NOVIEMBRE","2022-11-03","13:00:00","CRISTHIAN CAMILO MONTAÑA HERNANDEZ","VIRTUAL","Correo electrónico","cdi.ruribe@gobiernobogota.gov.co","Entidades y Organismos Distritales","Secretaría de Gobierno","Entidades y Organismos Distritales","CDI Rafael Uribe Uribe","Femenino","Mujer","Sin datos","Sin datos","Sin datos","Sin datos","PETICIONES ENTRE ENTIDADES","Consulta general","Peticiones entre entidades","Remito comunicado con radicado 20226841510841","Radicar en ORFEO","SAI","18 Rafael Uribe Uribe"]
[597,2022,"NOVIEMBRE","2022-11-03","13:01:00","CRISTHIAN CAMILO MONTAÑA HERNANDEZ","VIRTUAL","Correo electrónico","cdi.ruribe@gobiernobogota.gov.co","Entidades y Organismos Distritales","Secretaría de Gobierno","Entidades y Organismos Distritales","CDI Rafael Uribe Uribe","Femenino","Mujer","Sin datos","Sin datos","Sin datos","Sin datos","PETICIONES ENTRE ENTIDADES","Consulta general","Peticiones entre entidades","Remito comunicado con radicado 20226841510821","Radicar en ORFEO","SAI","18 Rafael Uribe Uribe"]
[598,2022,"NOVIEMBRE","2022-11-03","13:01:00","CRISTHIAN CAMILO MONTAÑA HERNANDEZ","VIRTUAL","Correo electrónico","notificacionesSAC1@mineducacion.gov.co","Entidades y Organismos Nacionales","Ministerio de Educación","Entidades y Orgamismos Nacionales","Notificaciones","Femenino","Mujer","Sin datos","Sin datos","Sin datos","Sin datos","PETICIONES ENTRE ENTIDADES","Consulta general","Peticiones entre entidades","AMQ2022ER016645 - SAC - ALCALDIA DE MOSQUERA","Radicar en ORFEO","SRI","Fuera de Bogotá"]
[599,2022,"NOVIEMBRE","2022-11-03","13:02:00","CRISTHIAN CAMILO MONTAÑA HERNANDEZ","VIRTUAL","Correo electrónico","correspondencia.enviada@idu.gov.co","Entidades y Organismos Distritales","Instituto de Desarrollo Urbano","Entidades y Organismos Distritales","Correspondencia","Masculino","Hombre ","Sin datos","Sin datos","Sin datos","Sin datos","PETICIONES ENTRE ENTIDADES","Consulta general","Peticiones entre entidades","RADICADO IDU N° 20223461741741 DEL 03 DE NOVIEMBRE 2022","Radicar en ORFEO","SAI","No Registra"]
[600,2022,"NOVIEMBRE","2022-11-03","13:02:00","CRISTHIAN CAMILO MONTAÑA HERNANDEZ","VIRTUAL","Correo electrónico","correspondencia.enviada@idu.gov.co","Entidades y Organismos Distritales","Instituto de Desarrollo Urbano","Entidades y Organismos Distritales","Correspondencia","Masculino","Hombre ","Sin datos","Sin datos","Sin datos","Sin datos","PETICIONES ENTRE ENTIDADES","Consulta general","Peticiones entre entidades","RADICADO IDU N° 20223461741761 DEL 02 DE NOVIEMBRE 2022","Radicar en ORFEO","SAI","No Registra"]
[601,2022,"NOVIEMBRE","2022-11-03","13:04:00","CRISTHIAN CAMILO MONTAÑA HERNANDEZ","VIRTUAL","Correo electrónico","cdi.ruribe@gobiernobogota.gov.co","Entidades y Organismos Distritales","Secretaría de Gobierno","Entidades y Organismos Distritales","CDI Rafael Uribe Uribe","Femenino","Mujer","Sin datos","Sin datos","Sin datos","Sin datos","PETICIONES ENTRE ENTIDADES","Consulta general","Peticiones entre entidades","Remito comunicado con radicado 20226841510981","Radicar en ORFEO","SAI","18 Rafael Uribe Uribe"]
[602,2022,"NOVIEMBRE","2022-11-03","13:05:00","CRISTHIAN CAMILO MONTAÑA HERNANDEZ","VIRTUAL","Correo electrónico","cdi.ruribe@gobiernobogota.gov.co","Entidades y Organismos Distritales","Secretaría de Gobierno","Entidades y Organismos Distritales","CDI Rafael Uribe Uribe","Femenino","Mujer","Sin datos","Sin datos","Sin datos","Sin datos","PETICIONES ENTRE ENTIDADES","Consulta general","Peticiones entre entidades","Remito comunicado con radicado 20226841510991","Radicar en ORFEO","SAI","18 Rafael Uribe Uribe"]
[603,2022,"NOVIEMBRE","2022-11-03","13:06:00","CRISTHIAN CAMILO MONTAÑA HERNANDEZ","VIRTUAL","Correo electrónico","cdi.ruribe@gobiernobogota.gov.co","Entidades y Organismos Distritales","Secretaría de Gobierno","Entidades y Organismos Distritales","CDI Rafael Uribe Uribe","Femenino","Mujer","Sin datos","Sin datos","Sin datos","Sin datos","PETICIONES ENTRE ENTIDADES","Consulta general","Peticiones entre entidades","Remito comunicado con radicado 20226841511021","Radicar en ORFEO","SAI","18 Rafael Uribe Uribe"]
[604,2022,"NOVIEMBRE","2022-11-03","13:08:00","CRISTHIAN CAMILO MONTAÑA HERNANDEZ","VIRTUAL","Correo electrónico","cdi.ruribe@gobiernobogota.gov.co","Entidades y Organismos Distritales","Secretaría de Gobierno","Entidades y Organismos Distritales","CDI Rafael Uribe Uribe","Femenino","Mujer","Sin datos","Sin datos","Sin datos","Sin datos","PETICIONES ENTRE ENTIDADES","Consulta general","Peticiones entre entidades","Remito comunicado con radicado 20226841511041","Radicar en ORFEO","SAI","18 Rafael Uribe Uribe"]
[605,2022,"NOVIEMBRE","2022-11-03","13:08:00","CRISTHIAN CAMILO MONTAÑA HERNANDEZ","VIRTUAL","Correo electrónico","cdi.ruribe@gobiernobogota.gov.co","Entidades y Organismos Distritales","Secretaría de Gobierno","Entidades y Organismos Distritales","CDI Rafael Uribe Uribe","Femenino","Mujer","Sin datos","Sin datos","Sin datos","Sin datos","PETICIONES ENTRE ENTIDADES","Consulta general","Peticiones entre entidades","Remito comunicado con radicado 20226841511051","Radicar en ORFEO","SAI","18 Rafael Uribe Uribe"]
[606,2022,"NOVIEMBRE","2022-11-03","13:28:00","CRISTHIAN CAMILO MONTAÑA HERNANDEZ","VIRTUAL","Correo electrónico","Carmen.Castro@gobiernobogota.gov.co","Entidades y Organismos Distritales","Secretaría de Gobierno","Entidades y Organismos Distritales","Funcionario","Masculino","Hombre ","Sin datos","Sin datos","Sin datos","Sin datos","PETICIONES ENTRE ENTIDADES","Consulta general","Peticiones entre entidades","RADICADO 20226630464381","Radicar en ORFEO","SAI","16 Puente Aranda"]
[607,2022,"NOVIEMBRE","2022-11-03","13:39:00","CRISTHIAN CAMILO MONTAÑA HERNANDEZ","VIRTUAL","Correo electrónico","cdi.ruribe@gobiernobogota.gov.co","Entidades y Organismos Distritales","Secretaría de Gobierno","Entidades y Organismos Distritales","CDI Rafael Uribe Uribe","Femenino","Mujer","Sin datos","Sin datos","Sin datos","Sin datos","PETICIONES ENTRE ENTIDADES","Consulta general","Peticiones entre entidades","Remito comunicado con radicado 20226841511081","Radicar en ORFEO","SAI","18 Rafael Uribe Uribe"]
[608,2022,"NOVIEMBRE","2022-11-03","13:42:00","CRISTHIAN CAMILO MONTAÑA HERNANDEZ","VIRTUAL","Correo electrónico","cdi.ruribe@gobiernobogota.gov.co","Entidades y Organismos Distritales","Secretaría de Gobierno","Entidades y Organismos Distritales","CDI Rafael Uribe Uribe","Femenino","Mujer","Sin datos","Sin datos","Sin datos","Sin datos","PETICIONES ENTRE ENTIDADES","Consulta general","Peticiones entre entidades","Remito comunicado con radicado 20226841511121","Radicar en ORFEO","SAI","18 Rafael Uribe Uribe"]
[609,2022,"NOVIEMBRE","2022-11-03","13:44:00","CRISTHIAN CAMILO MONTAÑA HERNANDEZ","VIRTUAL","Correo electrónico","cdi.ruribe@gobiernobogota.gov.co","Entidades y Organismos Distritales","Secretaría de Gobierno","Entidades y Organismos Distritales","CDI Rafael Uribe Uribe","Femenino","Mujer","Sin datos","Sin datos","Sin datos","Sin datos","PETICIONES ENTRE ENTIDADES","Consulta general","Peticiones entre entidades","Remito comunicado con radicado 20226841511141","Radicar en ORFEO","SAI","18 Rafael Uribe Uribe"]
[610,2022,"NOVIEMBRE","2022-11-03","13:46:00","CRISTHIAN CAMILO MONTAÑA HERNANDEZ","VIRTUAL","Correo electrónico","cdi.ruribe@gobiernobogota.gov.co","Entidades y Organismos Distritales","Secretaría de Gobierno","Entidades y Organismos Distritales","CDI Rafael Uribe Uribe","Femenino","Mujer","Sin datos","Sin datos","Sin datos","Sin datos","PETICIONES ENTRE ENTIDADES","Consulta general","Peticiones entre entidades","Remito comunicado con radicado 20226841511161","Radicar en ORFEO","SAI","18 Rafael Uribe Uribe"]
[611,2022,"NOVIEMBRE","2022-11-03","13:48:00","CRISTHIAN CAMILO MONTAÑA HERNANDEZ","VIRTUAL","Correo electrónico","cdi.ruribe@gobiernobogota.gov.co","Entidades y Organismos Distritales","Secretaría de Gobierno","Entidades y Organismos Distritales","CDI Rafael Uribe Uribe","Femenino","Mujer","Sin datos","Sin datos","Sin datos","Sin datos","PETICIONES ENTRE ENTIDADES","Consulta general","Peticiones entre entidades","Remito comunicado con radicado 20226841511181","Radicar en ORFEO","SAI","18 Rafael Uribe Uribe"]
[612,2022,"NOVIEMBRE","2022-11-03","13:50:00","CRISTHIAN CAMILO MONTAÑA HERNANDEZ","VIRTUAL","Correo electrónico","cdi.ruribe@gobiernobogota.gov.co","Entidades y Organismos Distritales","Secretaría de Gobierno","Entidades y Organismos Distritales","CDI Rafael Uribe Uribe","Femenino","Mujer","Sin datos","Sin datos","Sin datos","Sin datos","PETICIONES ENTRE ENTIDADES","Consulta general","Peticiones entre entidades","Remito comunicado con radicado 20226841511201","Radicar en ORFEO","SAI","18 Rafael Uribe Uribe"]
[613,2022,"NOVIEMBRE","2022-11-03","13:52:00","CRISTHIAN CAMILO MONTAÑA HERNANDEZ","VIRTUAL","Correo electrónico","cdi.ruribe@gobiernobogota.gov.co","Entidades y Organismos Distritales","Secretaría de Gobierno","Entidades y Organismos Distritales","CDI Rafael Uribe Uribe","Femenino","Mujer","Sin datos","Sin datos","Sin datos","Sin datos","PETICIONES ENTRE ENTIDADES","Consulta general","Peticiones entre entidades","Remito comunicado con radicado 20226841511211","Radicar en ORFEO","SAI","18 Rafael Uribe Uribe"]
[614,2022,"NOVIEMBRE","2022-11-03","14:28:00","CRISTHIAN CAMILO MONTAÑA HERNANDEZ","VIRTUAL","Correo electrónico","correspondenciaoficial@dadep.gov.co","Entidades y Organismos Distritales","DADEP","Entidades y Organismos Distritales","Correspondencia oficial","Femenino","Mujer","Sin datos","Sin datos","Sin datos","Sin datos","PETICIONES ENTRE ENTIDADES","Consulta general","Peticiones entre entidades","RADICADO IDU N° 20223251740181 DEL 02 DE NOVIEMBRE 2022","Radicar en ORFEO","SAI","No Registra"]
[615,2022,"NOVIEMBRE","2022-11-04","15:00:00","CRISTHIAN CAMILO MONTAÑA HERNANDEZ","VIRTUAL","Correo electrónico","cdi.ruribe@gobiernobogota.gov.co","Entidades y Organismos Distritales","Secretaría de Gobierno","Entidades y Organismos Distritales","CDI Rafael Uribe Uribe","Femenino","Mujer","Sin datos","Sin datos","Sin datos","Sin datos","PETICIONES ENTRE ENTIDADES","Consulta general","Peticiones entre entidades","Remito comunicado con radicado 20226831496111","Radicar en ORFEO","SAI","18 Rafael Uribe Uribe"]
[616,2022,"NOVIEMBRE","2022-11-04","15:34:00","CRISTHIAN CAMILO MONTAÑA HERNANDEZ","VIRTUAL","Correo electrónico","RespuestasDSH@minvivienda.gov.co","Entidades y Organismos Nacionales","Ministerio de Vivienda","Entidades y Orgamismos Nacionales","Respuestas SDH","Masculino","Hombre ","Sin datos","Sin datos","Sin datos","Sin datos","PETICIONES ENTRE ENTIDADES","Consulta general","Peticiones entre entidades","2022EE0111089 - Minvivienda - Respuesta a solicitud No. 2022ER0123971 - ANGELA ROCÍO DÍAZ PINZÓN","Radicar en ORFEO","SRI","No Registra"]
[617,2022,"NOVIEMBRE","2022-11-04","15:36:00","CRISTHIAN CAMILO MONTAÑA HERNANDEZ","VIRTUAL","Correo electrónico","buzoncomunicaciones@sdp.gov.co","Entidades y Organismos Distritales","Secretaría Distrital de Planeación","Entidades y Organismos Distritales","buzon comunicaciones","Masculino","Hombre ","Sin datos","Sin datos","Sin datos","Sin datos","PETICIONES ENTRE ENTIDADES","Consulta general","Peticiones entre entidades","2-2022-159923","Radicar en ORFEO","SAI","No Registra"]
[618,2022,"NOVIEMBRE","2022-11-04","15:37:00","CRISTHIAN CAMILO MONTAÑA HERNANDEZ","VIRTUAL","Correo electrónico","buzoncomunicaciones@sdp.gov.co","Entidades y Organismos Distritales","Secretaría Distrital de Planeación","Entidades y Organismos Distritales","buzon comunicaciones","Masculino","Hombre ","Sin datos","Sin datos","Sin datos","Sin datos","PETICIONES ENTRE ENTIDADES","Consulta general","Peticiones entre entidades","2-2022-160086","Radicar en ORFEO","SAI","No Registra"]
[619,2022,"NOVIEMBRE","2022-11-04","15:50:00","CRISTHIAN CAMILO MONTAÑA HERNANDEZ","VIRTUAL","Correo electrónico","RespuestasDSH@minvivienda.gov.co","Entidades y Organismos Nacionales","Ministerio de Vivienda","Entidades y Orgamismos Nacionales","Respuestas SDH","Masculino","Hombre ","Sin datos","Sin datos","Sin datos","Sin datos","PETICIONES ENTRE ENTIDADES","Consulta general","Peticiones entre entidades","2022EE0111096 - Minvivienda - Respuesta a solicitud No. 2022ER0126158 - ANGELA ROCÍO DÍAZ PINZÓN","Radicar en ORFEO","SRI","No Registra"]
[620,2022,"NOVIEMBRE","2022-11-04","15:59:00","CRISTHIAN CAMILO MONTAÑA HERNANDEZ","VIRTUAL","Correo electrónico","Externa_Enviada_Virtual@shd.gov.co","Entidades y Organismos Distritales","Secretaría de Hacienda Distrital","Entidades y Organismos Distritales","Correspondencia","Femenino","Mujer","Sin datos","Sin datos","Sin datos","Sin datos","PETICIONES ENTRE ENTIDADES","Consulta general","Peticiones entre entidades","(R2022EE510872O1) 2022EE510872O1 ","Radicar en ORFEO","SAI","No Registra"]
[621,2022,"NOVIEMBRE","2022-11-04","16:20:00","CRISTHIAN CAMILO MONTAÑA HERNANDEZ","VIRTUAL","Correo electrónico","correspondencia.i.dadep378@interdisenos.com.co","Empresas privadas","interdisenos","Empresas Privadas","Correspondencia","Femenino","Mujer","Sin datos","Sin datos","Sin datos","Sin datos","NOTIFICACIONES","Estudio de la viabilidad de las solicitudes de administración de bienes públicos","CAMEP Contrato de administración y mantenimiento","GDADEP06-0536-22 RECORDATORIO INFORME TRIMESTRAL 5 A&SST V0.","Radicar en ORFEO","SAI","No Registra"]
[622,2022,"NOVIEMBRE","2022-11-04","16:36:00","CRISTHIAN CAMILO MONTAÑA HERNANDEZ","VIRTUAL","Correo electrónico","correspondencia.i.dadep378@interdisenos.com.co","Empresas privadas","interdisenos","Empresas Privadas","Correspondencia","Femenino","Mujer","Sin datos","Sin datos","Sin datos","Sin datos","NOTIFICACIONES","Estudio de la viabilidad de las solicitudes de administración de bienes públicos","CAMEP Contrato de administración y mantenimiento","GDADEP06-0537-22 RTA. SU 20223080150761.MANEJO AMBIENTAL DE OBRA – MAO V6.","Radicar en ORFEO","SAI","No Registra"]
[623,2022,"NOVIEMBRE","2022-11-04","16:56:00","CRISTHIAN CAMILO MONTAÑA HERNANDEZ","VIRTUAL","Correo electrónico","info@parque93.com","Empresas privadas","Parque 93","Empresas Privadas","Ciudadanía","Femenino","Mujer","Sin datos","Sin datos","Sin datos","Sin datos","NOTIFICACIONES","Estudio de la viabilidad de las solicitudes de administración de bienes públicos","CAMEP Contrato de administración y mantenimiento","Respuesta comunicado No. 20223090153001 de octubre 25/2022.","Radicar en ORFEO","SAI","02 Chapinero"]
[624,2022,"NOVIEMBRE","2022-11-04","17:22:00","CRISTHIAN CAMILO MONTAÑA HERNANDEZ","VIRTUAL","Correo electrónico","gloriainesagudo@gmail.com","Ciudadanía","Funcionario","Ciudadanía","Ciudadanía","Femenino","Mujer","Sin datos","Sin datos","Sin datos","Sin datos","NOTIFICACIONES","Estudio de la viabilidad de las solicitudes de administración de bienes públicos","CAMEP Contrato de administración y mantenimiento","Entrega primer trimestre contrato 400-00129-356-0-2022","Radicar en ORFEO","SAI","No Registra"]
[625,2022,"NOVIEMBRE","2022-11-04","17:37:00","CRISTHIAN CAMILO MONTAÑA HERNANDEZ","VIRTUAL","Correo electrónico","quintasdelcerroph@gmail.com","Empresas privadas","Quintas del Cerro","Empresas Privadas","Quintas del Cerro","N/A","N/A","Sin datos","Sin datos","Sin datos","Sin datos","NOTIFICACIONES","Estudio de la viabilidad de las solicitudes de administración de bienes públicos","CAMEP Contrato de administración y mantenimiento","RESPUESTA RADICADO No. 20223010131761 SOLICITUD PACEP","Radicar en ORFEO","SAI","No Registra"]
[626,2022,"NOVIEMBRE","2022-11-04","17:55:00","CRISTHIAN CAMILO MONTAÑA HERNANDEZ","VIRTUAL","Correo electrónico","administradorsiga@alcaldiabogota.gov.co","Entidades y Organismos Distritales","Secretaria de Habitat","Entidades y Organismos Distritales","SIGA","Femenino","Mujer","Sin datos","Sin datos","Sin datos","Sin datos","PETICIONES ENTRE ENTIDADES","Consulta general","Peticiones entre entidades","Comunicación Oficial N° 2-2022-31989","Radicar en ORFEO","DIRECCIÓN","No Registra"]
[627,2022,"NOVIEMBRE","2022-11-04","18:10:00","CRISTHIAN CAMILO MONTAÑA HERNANDEZ","VIRTUAL","Correo electrónico","gesdoc@desarrolloeconomico.gov.co","Entidades y Organismos Distritales","Instituto de Desarrollo Económico","Entidades y Organismos Distritales","Gestión documental","Femenino","Mujer","Sin datos","Sin datos","Sin datos","Sin datos","PETICIONES ENTRE ENTIDADES","Consulta general","Peticiones entre entidades","SECRETARIA DISTRITAL DE DESARROLLO ECONOMICO ha generado el documento 2022EE0007712","Radicar en ORFEO","SAI","No Registra"]
[628,2022,"NOVIEMBRE","2022-11-04","20:07:00","CRISTHIAN CAMILO MONTAÑA HERNANDEZ","VIRTUAL","Correo electrónico","control.scristobal@gobiernobogota.gov.co","Entidades y Organismos Distritales","Secretaría de Gobierno","Entidades y Organismos Distritales","control San Cristobal","Masculino","Hombre ","Sin datos","Sin datos","Sin datos","Sin datos","PETICIONES ENTRE ENTIDADES","Consulta general","Peticiones entre entidades","20225420844861 - Respuesta invitacion acuerdos sobre el espacio publico Referencia: Radicados DADEP No 20223020172771","Radicar en ORFEO","SAI","04 San Cristóbal"]
[629,2022,"NOVIEMBRE","2022-11-04","20:45:00","CRISTHIAN CAMILO MONTAÑA HERNANDEZ","VIRTUAL","Correo electrónico","notificaciones@notificacionescol.enel.com","Entidades y Organismos Distritales","ENEL","Entidades y Organismos Distritales","Notificaciones","Masculino","Hombre ","Sin datos","Sin datos","Sin datos","Sin datos","PETICIONES ENTRE ENTIDADES","Consulta general","Peticiones entre entidades","Respuesta 0000397792 del 03 de Noviembre de 2022","Radicar en ORFEO","SRI","No Registra"]
[630,2022,"NOVIEMBRE","2022-11-04","21:32:00","CRISTHIAN CAMILO MONTAÑA HERNANDEZ","VIRTUAL","Correo electrónico","bdminmuebles@gmail.com","Empresas privadas","BDM Inmuebles","Empresas Privadas","Ciudadanía","Masculino","Hombre ","Sin datos","Sin datos","Sin datos","Sin datos","ASESORÍA","Asesoría en administración y sostenibilidad del espacio público","Asesoría en temas de espacio público","MANIFESTACION DE INTERES EN PARTICIPAR CONVOCATORIA CONVENIO SOLIDARIO EN ZONAS DE PARQUEO URBANIACION ACIP","Radicar en ORFEO","SAI","No Registra"]
[631,2022,"NOVIEMBRE","2022-11-04","22:17:00","CRISTHIAN CAMILO MONTAÑA HERNANDEZ","VIRTUAL","Correo electrónico","jesusch555@hotmail.com","Ciudadanía","Funcionario","Ciudadanía","Ciudadanía","Masculino","Hombre ","Sin datos","Sin datos","Sin datos","Sin datos","ASESORÍA","Certificación de la propiedad inmobiliaria distrital","Consulta predio","necesito averiguar sobre el estado de predio por afectación de la vía en la dirección Kra 4 100 68 sur, el barrio la esmeralda","Radicar en ORFEO","SRI","No Registra"]
[632,2022,"NOVIEMBRE","2022-11-04","07:28:00","CRISTHIAN CAMILO MONTAÑA HERNANDEZ","VIRTUAL","Correo electrónico","correspondencia.i.dadep247@interdisenos.com.co","Empresas privadas","interdisenos","Empresas Privadas","Correspondencia","Femenino","Mujer","Sin datos","Sin datos","Sin datos","Sin datos","NOTIFICACIONES","Estudio de la viabilidad de las solicitudes de administración de bienes públicos","CAMEP Contrato de administración y mantenimiento","GDADEP-943-22 Aprobación Presupuesto Acciones para el lanzamiento del Prototipo en el Programa de Cultura Ciudadana","Radicar en ORFEO","SAI","No Registra"]
[633,2022,"NOVIEMBRE","2022-11-04","07:37:00","CRISTHIAN CAMILO MONTAÑA HERNANDEZ","VIRTUAL","Correo electrónico","contabilidad@iserra100.com","Empresas privadas","Iserra 100","Empresas Privadas","Correspondencia","N/A","N/A","Sin datos","Sin datos","Sin datos","Sin datos","NOTIFICACIONES","Estudio de la viabilidad de las solicitudes de administración de bienes públicos","CAMEP Contrato de administración y mantenimiento","CUOTA EXTRAORDINARIA ISERRA 100","Radicar en ORFEO","SAI","No Registra"]
[634,2022,"NOVIEMBRE","2022-11-04","07:51:00","CRISTHIAN CAMILO MONTAÑA HERNANDEZ","VIRTUAL","Correo electrónico","msolera@acueducto.com.co","Entidades y Organismos Distritales","Acueducto","Entidades y Organismos Distritales","Funcionario","Masculino","Hombre ","Sin datos","Sin datos","Sin datos","Sin datos","PETICIONES ENTRE ENTIDADES","Consulta general","Peticiones entre entidades","Respuesta a Secretaría Distrital de Ambiente-SDA 2022EE271373 radicado EAAB-ESP E-2022-089937 “Respuesta al radicado 2022ER262894 - Oficio procuraduría” / Departamento Administrativo De La Defensoría Del Espacio Público 20223010164841","Radicar en ORFEO","SAI","No Registra"]
[635,2022,"NOVIEMBRE","2022-11-04","07:53:00","CRISTHIAN CAMILO MONTAÑA HERNANDEZ","VIRTUAL","Correo electrónico","servicioalcliente.empresarial@enel.com","Empresas privadas","ENEL","Empresas Privadas","Sercicio al cliente","N/A","N/A","Sin datos","Sin datos","Sin datos","Sin datos","PETICIONES ENTRE ENTIDADES","Consulta general","Peticiones entre entidades","ARCHIVO PLANO ENEL CODENSA CUENTA N°7425437 NOVIEMBRE 2022","Radicar en ORFEO","SAI","No Registra"]
[636,2022,"NOVIEMBRE","2022-11-04","07:56:00","CRISTHIAN CAMILO MONTAÑA HERNANDEZ","VIRTUAL","Correo electrónico","sednotificaciones@educacionbogota.edu.co","Entidades y Organismos Distritales","Secretaría de Educación","Entidades y Organismos Distritales","Notificaciones","Masculino","Hombre ","Sin datos","Sin datos","Sin datos","Sin datos","PETICIONES ENTRE ENTIDADES","Consulta general","Peticiones entre entidades","S-2022-338324","Responder a correo electronico","AREA DE ATENCION A LA CIUDADANIA","No Registra"]
[637,2022,"NOVIEMBRE","2022-11-04","08:30:00","CRISTHIAN CAMILO MONTAÑA HERNANDEZ","VIRTUAL","Correo electrónico","kraken3398@gmail.com","Ciudadanía","Funcionario","Ciudadanía","Ciudadanía","Masculino","Hombre ","Sin datos","Sin datos","Sin datos","Sin datos","ASESORÍA","Estudio de la viabilidad de las solicitudes de administración de bienes públicos","CAMEP Contrato de administración y mantenimiento","solicitud información","Radicar en ORFEO","SAI","19 Ciudad Bolívar"]
[638,2022,"NOVIEMBRE","2022-11-02","15:07:00","CRISTHIAN CAMILO MONTAÑA HERNANDEZ","VIRTUAL","Correo electrónico","buzoncomunicaciones@sdp.gov.co","Entidades y Organismos Distritales","Secretaría Distrital de Planeación","Entidades y Organismos Distritales","buzon comunicaciones","Femenino","Mujer","Sin datos","Sin datos","Sin datos","Sin datos","PETICIONES ENTRE ENTIDADES","Consulta general","Peticiones entre entidades","2-2022-158931","Radicar en ORFEO","SRI","No Registra"]
[639,2022,"NOVIEMBRE","2022-11-04","08:48:00","CRISTHIAN CAMILO MONTAÑA HERNANDEZ","VIRTUAL","Correo electrónico","buzonjudicial@sdp.gov.co","Entidades y Organismos Distritales","Secretaría Distrital de Planeación","Entidades y Organismos Distritales","buzon judicial","Femenino","Mujer","Sin datos","Sin datos","Sin datos","Sin datos","PETICIONES ENTRE ENTIDADES","Consulta general","Peticiones entre entidades","2-2022-158923","Radicar en ORFEO","OAJ","No Registra"]
[640,2022,"NOVIEMBRE","2022-11-04","08:48:00","CRISTHIAN CAMILO MONTAÑA HERNANDEZ","VIRTUAL","Correo electrónico","buzonjudicial@sdp.gov.co","Entidades y Organismos Distritales","Secretaría Distrital de Planeación","Entidades y Organismos Distritales","buzon judicial","Femenino","Mujer","Sin datos","Sin datos","Sin datos","Sin datos","PETICIONES ENTRE ENTIDADES","Consulta general","Peticiones entre entidades","2-2022-159652","Radicar en ORFEO","OAJ","No Registra"]
[641,2022,"NOVIEMBRE","2022-11-04","09:47:00","CRISTHIAN CAMILO MONTAÑA HERNANDEZ","VIRTUAL","Correo electrónico","salidascdi.suba@gobiernobogota.gov.co","Entidades y Organismos Distritales","Secretaría de Gobierno","Entidades y Organismos Distritales","Alcaldía de Suba","Masculino","Hombre ","Sin datos","Sin datos","Sin datos","Sin datos","PETICIONES ENTRE ENTIDADES","Consulta general","Peticiones entre entidades","RADICADO 20226121890581","Radicar en ORFEO","SAI","11 Suba"]
[642,2022,"NOVIEMBRE","2022-11-04","09:57:00","CRISTHIAN CAMILO MONTAÑA HERNANDEZ","VIRTUAL","Correo electrónico","salidascdi.suba@gobiernobogota.gov.co","Entidades y Organismos Distritales","Secretaría de Gobierno","Entidades y Organismos Distritales","Alcaldía de Suba","Masculino","Hombre ","Sin datos","Sin datos","Sin datos","Sin datos","PETICIONES ENTRE ENTIDADES","Consulta general","Peticiones entre entidades","20226121898361 - Estabilidad de obras sobre las intervenciones Salón Comunal Villa María II.","Radicar en ORFEO","SAI","11 Suba"]
[643,2022,"NOVIEMBRE","2022-11-04","10:15:00","CRISTHIAN CAMILO MONTAÑA HERNANDEZ","VIRTUAL","Correo electrónico","cdi.engativa@gobiernobogota.gov.co","Entidades y Organismos Distritales","Secretaría de Gobierno","Entidades y Organismos Distritales","CDI Engativá","Femenino","Mujer","Sin datos","Sin datos","Sin datos","Sin datos","PETICIONES ENTRE ENTIDADES","Consulta general","Peticiones entre entidades","20226020900451 - Traslado por competencia – Solicitud confirmación certificación Parque 10-792","Radicar en ORFEO","SAI","10 Engativá"]
[644,2022,"NOVIEMBRE","2022-11-04","10:27:00","CRISTHIAN CAMILO MONTAÑA HERNANDEZ","VIRTUAL","Correo electrónico","juliocss8080@hotmail.com","Ciudadanía","Funcionario","Ciudadanía","Ciudadanía","Masculino","Hombre ","Sin datos","Sin datos","Sin datos","Sin datos","ASESORÍA","Asesoría en administración y sostenibilidad del espacio público","Asesoría en temas de espacio público","espacio publico ubicado en el barrio ZARAZOTA PROVIDENCIA ALTA localidad rafael uribe uribe","Radicar en ORFEO","SAI","18 Rafael Uribe Uribe"]
[645,2022,"NOVIEMBRE","2022-11-04","10:31:00","CRISTHIAN CAMILO MONTAÑA HERNANDEZ","VIRTUAL","Correo electrónico","dilmer.nunez@gobiernobogota.gov.co","Juntas Administradoras Locales (JAL)","Secretaría de Gobierno","Juntas Administradoras Locales (JAL)","Funcionario","Masculino","Hombre ","Sin datos","Sin datos","Sin datos","Sin datos","PETICIONES ENTRE ENTIDADES","Consulta general","Peticiones entre entidades","DERECHO DE PETICION","Radicar en ORFEO","DIRECCIÓN","19 Ciudad Bolívar"]
[646,2022,"NOVIEMBRE","2022-11-04","10:40:00","CRISTHIAN CAMILO MONTAÑA HERNANDEZ","VIRTUAL","Correo electrónico","cdi.santafe@gobiernobogota.gov.co","Entidades y Organismos Distritales","Secretaría de Gobierno","Entidades y Organismos Distritales","CDI Santa fe","Masculino","Hombre ","Sin datos","Sin datos","Sin datos","Sin datos","PETICIONES ENTRE ENTIDADES","Consulta general","Peticiones entre entidades",20225300000000,"Responder a correo electronico","AREA DE ATENCION A LA CIUDADANIA","03 Santa fe"]
[647,2022,"NOVIEMBRE","2022-11-04","10:59:00","CRISTHIAN CAMILO MONTAÑA HERNANDEZ","VIRTUAL","Correo electrónico","correspondencia@ani.gov.co","Entidades y Organismos Nacionales","Agencia Nacional de Infraestructura","Entidades y Orgamismos Nacionales","Correspondencia","Femenino","Mujer","Sin datos","Sin datos","Sin datos","Sin datos","PETICIONES ENTRE ENTIDADES","Consulta general","Peticiones entre entidades","20226040350901 RESPUESTA ANI","Radicar en ORFEO","DIRECCIÓN","No Registra"]
[648,2022,"NOVIEMBRE","2022-11-04","11:11:00","CRISTHIAN CAMILO MONTAÑA HERNANDEZ","VIRTUAL","Correo electrónico","buzoncomunicaciones@sdp.gov.co","Entidades y Organismos Distritales","Secretaría Distrital de Planeación","Entidades y Organismos Distritales","buzon comunicaciones","Masculino","Hombre ","Sin datos","Sin datos","Sin datos","Sin datos","PETICIONES ENTRE ENTIDADES","Consulta general","Peticiones entre entidades","2-2022-160357","Radicar en ORFEO","DIRECCIÓN","No Registra"]
[649,2022,"NOVIEMBRE","2022-11-04","11:13:00","CRISTHIAN CAMILO MONTAÑA HERNANDEZ","VIRTUAL","Correo electrónico","reinaldo.suarez@gobiernobogota.gov.co","Entidades y Organismos Distritales","Secretaría de Gobierno","Entidades y Organismos Distritales","Funcionario","Femenino","Mujer","Sin datos","Sin datos","Sin datos","Sin datos","PETICIONES ENTRE ENTIDADES","Consulta general","Peticiones entre entidades","20226841503531 - Solicitud visita a predio e informe","Radicar en ORFEO","SAI","18 Rafael Uribe Uribe"]
[650,2022,"NOVIEMBRE","2022-11-04","11:20:00","CRISTHIAN CAMILO MONTAÑA HERNANDEZ","VIRTUAL","Correo electrónico","ediljuancarlosrealpe@hotmail.com","Juntas Administradoras Locales (JAL)","Juntas Administradoras Locales (JAL)","Juntas Administradoras Locales (JAL)","Edil","Masculino","Hombre ","Sin datos","Sin datos","Sin datos","Sin datos","PETICIONES ENTRE ENTIDADES","Consulta general","Peticiones entre entidades","solicitud información predio","Radicar en ORFEO","DIRECCIÓN","08 Kennedy"]
[651,2022,"NOVIEMBRE","2022-11-04","11:24:00","CRISTHIAN CAMILO MONTAÑA HERNANDEZ","VIRTUAL","Correo electrónico","correspondencia.cau@promoambientaldistrito.com","Entidades y Organismos Distritales","Promoambiental Distrito","Entidades y Organismos Distritales","Correspondencia","Femenino","Mujer","Sin datos","Sin datos","Sin datos","Sin datos","PETICIONES ENTRE ENTIDADES","Consulta general","Peticiones entre entidades","Traslado por competencia PQR-2022-2038","Radicar en ORFEO","SAI","No Registra"]
[652,2022,"NOVIEMBRE","2022-11-04","11:29:00","CRISTHIAN CAMILO MONTAÑA HERNANDEZ","VIRTUAL","Correo electrónico","sergio-derecho@hotmail.com","Ciudadanía","Funcionario","Ciudadanía","Ciudadanía","Masculino","Hombre ","Sin datos","Sin datos","Sin datos","Sin datos","ASESORÍA","Estudio de la viabilidad de las solicitudes de administración de bienes públicos","Viabilidad Decreto 070 / 2022 BACA 2.0","DERECHO DE PETICION","Radicar en ORFEO","SAI","10 Engativá"]
[653,2022,"NOVIEMBRE","2022-11-04","11:59:00","CRISTHIAN CAMILO MONTAÑA HERNANDEZ","VIRTUAL","Correo electrónico","cdi.kennedy@gobiernobogota.gov.co","Entidades y Organismos Distritales","Secretaría de Gobierno","Entidades y Organismos Distritales","cdi Kennedy","Femenino","Mujer","Sin datos","Sin datos","Sin datos","Sin datos","PETICIONES ENTRE ENTIDADES","Consulta general","Peticiones entre entidades","Remito oficio No 20225832971691","Radicar en ORFEO","SAI","08 Kennedy"]
[654,2022,"NOVIEMBRE","2022-11-04","12:05:00","CRISTHIAN CAMILO MONTAÑA HERNANDEZ","VIRTUAL","Correo electrónico","administradorsiga@alcaldiabogota.gov.co","Entidades y Organismos Distritales","Secretaria de Habitat","Entidades y Organismos Distritales","SIGA","Femenino","Mujer","Sin datos","Sin datos","Sin datos","Sin datos","PETICIONES ENTRE ENTIDADES","Consulta general","Peticiones entre entidades","Comunicación Oficial N° 2-2022-32053","Radicar en ORFEO","DIRECCIÓN","No Registra"]
[655,2022,"NOVIEMBRE","2022-11-04","12:23:00","CRISTHIAN CAMILO MONTAÑA HERNANDEZ","VIRTUAL","Correo electrónico","correspondencia.i.dadep247@interdisenos.com.co","Empresas privadas","interdisenos","Empresas Privadas","Correspondencia","Femenino","Mujer","Sin datos","Sin datos","Sin datos","Sin datos","NOTIFICACIONES","Estudio de la viabilidad de las solicitudes de administración de bienes públicos","CAMEP Contrato de administración y mantenimiento","GDADEP-946-22 ALCANCE PAGOS APROB eventolanz","Radicar en ORFEO","SAI","No Registra"]
[656,2022,"NOVIEMBRE","2022-11-04","12:26:00","CRISTHIAN CAMILO MONTAÑA HERNANDEZ","VIRTUAL","Correo electrónico","correspondencia.cau@promoambientaldistrito.com","Entidades y Organismos Distritales","Promoambiental Distrito","Entidades y Organismos Distritales","Correspondencia","Femenino","Mujer","Sin datos","Sin datos","Sin datos","Sin datos","ASESORÍA","Asesoría en administración y sostenibilidad del espacio público","Asesoría en temas de espacio público","Traslado por competencia PQR-2022-2041","Radicar en ORFEO","SAI","No Registra"]
[657,2022,"NOVIEMBRE","2022-11-04","12:36:00","CRISTHIAN CAMILO MONTAÑA HERNANDEZ","VIRTUAL","Correo electrónico","fapuentes@concejobogota.gov.co","Entidades y Organismos Distritales","Concejo de Bogotá","Entidades y Organismos Distritales","Funcionario","Masculino","Hombre ","Sin datos","Sin datos","Sin datos","Sin datos","PETICIONES ENTRE ENTIDADES","Consulta general","Peticiones entre entidades","20221579 - Traslado derecho de petición la colina","Radicar en ORFEO","DIRECCIÓN","No Registra"]
[658,2022,"NOVIEMBRE","2022-11-04","12:42:00","CRISTHIAN CAMILO MONTAÑA HERNANDEZ","VIRTUAL","Correo electrónico","correspondencia@concejobogota.gov.co","Entidades y Organismos Distritales","Concejo de Bogotá","Entidades y Organismos Distritales","Correspondencia","Masculino","Hombre ","Sin datos","Sin datos","Sin datos","Sin datos","PETICIONES ENTRE ENTIDADES","Consulta general","Peticiones entre entidades","SOLICITUD - Mesa Técnica – Localidad Santa Fe","Radicar en ORFEO","DIRECCIÓN","No Registra"]
[659,2022,"NOVIEMBRE","2022-11-04","13:35:00","CRISTHIAN CAMILO MONTAÑA HERNANDEZ","VIRTUAL","Correo electrónico","correspondencia@veeduriadistrital.gov.co","Entidades y Organismos Distritales","veeduría distrital","Entidades y Organismos Distritales","Correspondencia","Femenino","Mujer","Sin datos","Sin datos","Sin datos","Sin datos","PETICIONES ENTRE ENTIDADES","Consulta general","Peticiones entre entidades",20224000000000,"Radicar en ORFEO","DIRECCIÓN","No Registra"]
[660,2022,"NOVIEMBRE","2022-11-04","10:20:00","CRISTHIAN CAMILO MONTAÑA HERNANDEZ","VIRTUAL","Correo electrónico","aizquierdo@dadep.gov.co","Ciudadanía","Funcionario","Ciudadanía","Ciudadanía","N/A","N/A","Sin datos","Sin datos","Sin datos","Sin datos","ASESORÍA","Asesoría en administración y sostenibilidad del espacio público","Asesoría en temas de espacio público","Derecho de peticion - Redes Sociales - Twitter @cardenas_tatto - denuncia por instalación de caseta e invasión de espacio público en la localidad de Kennedy.","Radicar en ORFEO","SAI","08 Kennedy"]
[661,2022,"NOVIEMBRE","2022-11-08","07:15:00","CRISTHIAN CAMILO MONTAÑA HERNANDEZ","VIRTUAL","Correo electrónico","correspondencia@jbb.gov.co","Entidades y Organismos Distritales","Jardín Botánico de Bogotá","Entidades y Organismos Distritales","Correspondencia","Masculino","Hombre ","Sin datos","Sin datos","Sin datos","Sin datos","PETICIONES ENTRE ENTIDADES","Consulta general","Peticiones entre entidades","Respuesta al radicado 2022JBB410071181. Radicado DADEP- 20224000231802 de fecha 30/09/2022 Radicado Alcaldía Local de Ciudad Bolívar No. 20226940688001de fecha 2/08/2022. Traslado de derecho de petición ","Radicar en ORFEO","SGI","19 Ciudad Bolívar"]
[662,2022,"NOVIEMBRE","2022-11-08","12:58:00","CRISTHIAN CAMILO MONTAÑA HERNANDEZ","VIRTUAL","Correo electrónico","Alcalde.Cbolivar@gobiernobogota.gov.co","Entidades y Organismos Distritales","Secretaría de Gobierno","Entidades y Organismos Distritales","Alcaldía de Ciudad Bolívar","Femenino","Mujer","Sin datos","Sin datos","Sin datos","Sin datos","PETICIONES ENTRE ENTIDADES","Consulta general","Peticiones entre entidades","Solicitud de acompañamiento operativo IVC- ESPACIO PUBLICO","Radicar en ORFEO","DIRECCIÓN","19 Ciudad Bolívar"]
[663,2022,"NOVIEMBRE","2022-11-08","13:27:00","CRISTHIAN CAMILO MONTAÑA HERNANDEZ","VIRTUAL","Correo electrónico","asuntosnormativosdrp@gobiernobogota.gov.co","Entidades y Organismos Distritales","Secretaría de Gobierno","Entidades y Organismos Distritales","asuntos normativos drp","Masculino","Hombre ","Sin datos","Sin datos","Sin datos","Sin datos","PETICIONES ENTRE ENTIDADES","Consulta general","Peticiones entre entidades","20221709249971 - Solicitudes de comentarios para 1er debate PA 591 de 2022.","Radicar en ORFEO","DIRECCIÓN","No Registra"]
[664,2022,"NOVIEMBRE","2022-11-08","15:06:00","CRISTHIAN CAMILO MONTAÑA HERNANDEZ","VIRTUAL","Correo electrónico","idrdcorrespondencia@idrd.gov.co","Entidades y Organismos Distritales","Instituto Distrital de Recreación y Deportes","Entidades y Organismos Distritales","idrd correspondencia","Masculino","Hombre ","Sin datos","Sin datos","Sin datos","Sin datos","PETICIONES ENTRE ENTIDADES","Consulta general","Peticiones entre entidades","20226000240831 - Respuesta Radicado IDRD 20222100317212 del 20 de octubre de 2022 / solicitud Parque IDRD-COD.01-407.","Radicar en ORFEO","SGI","01 Usaquén"]
[665,2022,"NOVIEMBRE","2022-11-08","15:11:00","CRISTHIAN CAMILO MONTAÑA HERNANDEZ","VIRTUAL","Correo electrónico","lverdugo@acueducto.com.co","Entidades y Organismos Distritales","Acueducto","Entidades y Organismos Distritales","Funcionario","Femenino","Mujer","Sin datos","Sin datos","Sin datos","Sin datos","PETICIONES ENTRE ENTIDADES","Consulta general","Peticiones entre entidades","PROGRAMACIÓN - CORTES DE LA SEMANA DEL MARTES 08 AL SÁBADO 12 DE NOVIEMBRE DEL 2022","Radicar en ORFEO","SGI","No Registra"]
[666,2022,"NOVIEMBRE","2022-11-08","15:26:00","CRISTHIAN CAMILO MONTAÑA HERNANDEZ","VIRTUAL","Correo electrónico","correspondencia@secretariajuridica.gov.co","Entidades y Organismos Distritales","Secretaría juridica","Entidades y Organismos Distritales","Correspondencia","Masculino","Hombre ","Sin datos","Sin datos","Sin datos","Sin datos","PETICIONES ENTRE ENTIDADES","Consulta general","Peticiones entre entidades","2-2022-23079 - Circular # 053 del 04-11-2022 - Cumplimiento del Decreto Distrital 474 de 2022 y plazo de remisión de los actos administrativos para firma de la Alcaldesa Mayor","Radicar en ORFEO","DIRECCIÓN","No Registra"]
[667,2022,"NOVIEMBRE","2022-11-08","15:42:00","CRISTHIAN CAMILO MONTAÑA HERNANDEZ","VIRTUAL","Correo electrónico","notificado.certimail2020.1@acueducto.com.co","Entidades y Organismos Distritales","Acueducto","Entidades y Organismos Distritales","Notificaciones","Masculino","Hombre ","Sin datos","Sin datos","Sin datos","Sin datos","PETICIONES ENTRE ENTIDADES","Consulta general","Peticiones entre entidades","CERTIFICADO S-2022-292565","Radicar en ORFEO","SRI","No Registra"]
[668,2022,"NOVIEMBRE","2022-11-08","15:43:00","CRISTHIAN CAMILO MONTAÑA HERNANDEZ","VIRTUAL","Correo electrónico","secretariageneral@concejobogota.gov.co","Entidades y Organismos Distritales","Concejo de Bogotá","Entidades y Organismos Distritales","Correspondencia","Masculino","Hombre ","Sin datos","Sin datos","Sin datos","Sin datos","PETICIONES ENTRE ENTIDADES","Consulta general","Peticiones entre entidades","CITACION SESION PLENARIA ORDINARIA 11 DE NOVIEMBRE DE 2022","Radicar en ORFEO","DIRECCIÓN","No Registra"]
[669,2022,"NOVIEMBRE","2022-11-08","15:46:00","CRISTHIAN CAMILO MONTAÑA HERNANDEZ","VIRTUAL","Correo electrónico","oscar.cardenas@uaesp.gov.co","Entidades y Organismos Distritales","Unidad Administrativa Especial de Servicios Públicos","Entidades y Organismos Distritales","Funcionario","Femenino","Mujer","Sin datos","Sin datos","Sin datos","Sin datos","PETICIONES ENTRE ENTIDADES","Consulta general","Peticiones entre entidades","Oficio UAESP 20224000 251031-Infraestructura alumbrado publico - Calles 72 F a 74 A y Carrera 116 B a Transversal 119 A - alrededores - Conjunto Residencial Montecarlo I - Gran Granada - Engativa.","Radicar en ORFEO","SRI","10 Engativá"]
[670,2022,"NOVIEMBRE","2022-11-08","16:05:00","CRISTHIAN CAMILO MONTAÑA HERNANDEZ","VIRTUAL","Correo electrónico","Arquitecto.Urbanismo@constructoracolpatria.com","Empresas privadas","Constructora Colpatria","Empresas Privadas","Arquitecto Urbanismo","Femenino","Mujer","Sin datos","Sin datos","Sin datos","Sin datos","ASESORÍA","Incorporación y entrega de las áreas de cesión a favor del municipio","Entrega de zonas de cesión","Solicitud entrega simplificada, etapa 1B La Margarita.","Radicar en ORFEO","SRI","08 Kennedy"]
[671,2022,"NOVIEMBRE","2022-11-08","16:15:00","CRISTHIAN CAMILO MONTAÑA HERNANDEZ","VIRTUAL","Correo electrónico","notificaciones_catastro@catastrobogota.gov.co","Entidades y Organismos Distritales","Catastro de Bogotá","Entidades y Organismos Distritales","Notificaciones","Femenino","Mujer","Sin datos","Sin datos","Sin datos","Sin datos","PETICIONES ENTRE ENTIDADES","Consulta general","Peticiones entre entidades","UAECD 2022 EE 81941 (uaecd 2022 er 39897) ","Radicar en ORFEO","SRI","No Registra"]
[672,2022,"NOVIEMBRE","2022-11-08","16:21:00","CRISTHIAN CAMILO MONTAÑA HERNANDEZ","VIRTUAL","Correo electrónico","proyectos@jpdisenos.com","Empresas privadas","JP Diseños","Empresas Privadas","proyectos","N/A","N/A","Sin datos","Sin datos","Sin datos","Sin datos","ASESORÍA","Asesoría en administración y sostenibilidad del espacio público","Asesoría en temas de espacio público","Solicitud de concepto del DADEP - (Vertimiento 5)","Radicar en ORFEO","SGI","No Registra"]
[673,2022,"NOVIEMBRE","2022-11-08","16:22:00","CRISTHIAN CAMILO MONTAÑA HERNANDEZ","VIRTUAL","Correo electrónico","correspondencia.i.dadep378@interdisenos.com.co","Empresas privadas","interdisenos","Empresas Privadas","Correspondencia","Femenino","Mujer","Sin datos","Sin datos","Sin datos","Sin datos","NOTIFICACIONES","Estudio de la viabilidad de las solicitudes de administración de bienes públicos","CAMEP Contrato de administración y mantenimiento","GDADEP06-0538-22 DADEP Solicitud encuesta Satisfacción","Radicar en ORFEO","SGI","No Registra"]
[674,2022,"NOVIEMBRE","2022-11-08","16:30:00","CRISTHIAN CAMILO MONTAÑA HERNANDEZ","VIRTUAL","Correo electrónico","control.scristobal@gobiernobogota.gov.co","Entidades y Organismos Distritales","Secretaría de Gobierno","Entidades y Organismos Distritales","control San Cristobal","Masculino","Hombre ","Sin datos","Sin datos","Sin datos","Sin datos","PETICIONES ENTRE ENTIDADES","Consulta general","Peticiones entre entidades","Radicado 20223120143701 OfertaBien De Uso Publico con RUPI 4486-1","Radicar en ORFEO","SGI","04 San Cristóbal"]
[675,2022,"NOVIEMBRE","2022-11-08","16:32:00","CRISTHIAN CAMILO MONTAÑA HERNANDEZ","VIRTUAL","Correo electrónico","control.scristobal@gobiernobogota.gov.co","Entidades y Organismos Distritales","Secretaría de Gobierno","Entidades y Organismos Distritales","control San Cristobal","Masculino","Hombre ","Sin datos","Sin datos","Sin datos","Sin datos","PETICIONES ENTRE ENTIDADES","Consulta general","Peticiones entre entidades","Radicado 20223120135081 Oferta Bienes De Uso Publico con RUPI 2-1279, 2-1328, 2-2037, 2-2041, 2-2054,2-2333 y 2-2042.","Radicar en ORFEO","SGI","04 San Cristóbal"]
[676,2022,"NOVIEMBRE","2022-11-08","17:30:00","CRISTHIAN CAMILO MONTAÑA HERNANDEZ","VIRTUAL","Correo electrónico","envionotificaciones@ipes.gov.co","Entidades y Organismos Distritales","Instituto para la Economía Social ","Entidades y Organismos Distritales","Notificaciones","Masculino","Hombre ","Sin datos","Sin datos","Sin datos","Sin datos","PETICIONES ENTRE ENTIDADES","Consulta general","Peticiones entre entidades","00110-816-030801 - Respuesta radicado No 00110-812-020151 del 6 de octubre 2022, proceso de liquidación Convenio Interadministrativo de Comodato No 110-00129-366-0-2017 , suscrito por el Departamento Administrativo de la Defensoría del Espacio Público (DADEP)","Radicar en ORFEO","SGI","No Registra"]
[677,2022,"NOVIEMBRE","2022-11-08","17:33:00","CRISTHIAN CAMILO MONTAÑA HERNANDEZ","VIRTUAL","Correo electrónico","jeison.prada@gobiernobogota.gov.co","Entidades y Organismos Distritales","Secretaría de Gobierno","Entidades y Organismos Distritales","Funcionario","Masculino","Hombre ","Sin datos","Sin datos","Sin datos","Sin datos","PETICIONES ENTRE ENTIDADES","Consulta general","Peticiones entre entidades","Envió oficio 20225930764181 Asunto: Respuesta al radicado No. 20225910077992-Radicado DADEP 20223010123441","Radicar en ORFEO","SGI","09 Fontibón"]
[678,2022,"NOVIEMBRE","2022-11-08","17:53:00","CRISTHIAN CAMILO MONTAÑA HERNANDEZ","VIRTUAL","Correo electrónico","valentinabejarano@usantotomas.edu.co","Universidades / Estudiantes","Universidad Autonoma","Universidades / Estudiantes","Ciudadanía","Masculino","Hombre ","Sin datos","Sin datos","Sin datos","Sin datos","ASESORÍA","Estudio de la viabilidad de las solicitudes de administración de bienes públicos","Viabilidad Decreto 070 / 2022 BACA 2.0","SOLICITUD DE RESPUESTA DE LA PROPUESTA DE BOGOTÁ CIELO ABIERTO 2.0 EN EL GATO GRIS","Radicar en ORFEO","SGI","No Registra"]
[679,2022,"NOVIEMBRE","2022-11-08","19:59:00","CRISTHIAN CAMILO MONTAÑA HERNANDEZ","VIRTUAL","Correo electrónico","romesa_ba@hotmail.com","Juntas de Acción Comunal (JAC)","Juntas de Acción Comunal (JAC)","Juntas de Acción Comunal (JAC)","Ciudadanía","Femenino","Mujer","Sin datos","Sin datos","Sin datos","Sin datos","ASESORÍA","Asesoría en administración y sostenibilidad del espacio público","Asesoría en temas de espacio público","Solicitud de contrato de administración o convenio solidario para bahia o parqueadero ubicado en la localidad de Usaquen urbanizacion parajes de Balmoral RUPI N 246 8- Anexamos reconocimiento juridico por parte de IDEPAC . CEL 3017263879","Radicar en ORFEO","SGI","No Registra"]
[680,2022,"NOVIEMBRE","2022-11-08","21:46:00","CRISTHIAN CAMILO MONTAÑA HERNANDEZ","VIRTUAL","Correo electrónico","buzoncomunicaciones@sdp.gov.co","Entidades y Organismos Distritales","Secretaría Distrital de Planeación","Entidades y Organismos Distritales","buzon comunicaciones","Femenino","Mujer","Sin datos","Sin datos","Sin datos","Sin datos","PETICIONES ENTRE ENTIDADES","Consulta general","Peticiones entre entidades","2-2022-161101","Radicar en ORFEO","SRI","No Registra"]
[681,2022,"NOVIEMBRE","2022-11-08","22:02:00","CRISTHIAN CAMILO MONTAÑA HERNANDEZ","VIRTUAL","Correo electrónico","buzoncomunicaciones@sdp.gov.co","Entidades y Organismos Distritales","Secretaría Distrital de Planeación","Entidades y Organismos Distritales","buzon comunicaciones","Femenino","Mujer","Sin datos","Sin datos","Sin datos","Sin datos","PETICIONES ENTRE ENTIDADES","Consulta general","Peticiones entre entidades","2-2022-161112","Radicar en ORFEO","SRI","No Registra"]
[682,2022,"NOVIEMBRE","2022-11-08","22:31:00","CRISTHIAN CAMILO MONTAÑA HERNANDEZ","VIRTUAL","Correo electrónico","recodounido@gmail.com","Ciudadanía","Funcionario","Ciudadanía","Ciudadanía","Femenino","Mujer","Sin datos","Sin datos","Sin datos","Sin datos","ASESORÍA","Asesoría en administración y sostenibilidad del espacio público","Asesoría en temas de espacio público","DERECHO DE PETICIÓN DADEP: Corresponsabilidad Siniestro vial con víctima fatal en la Kr 123 con Calle 14 Barrio El Recodo – Fontibón por negligencia institucional","Radicar en ORFEO","SGI","09 Fontibón"]
[683,2022,"NOVIEMBRE","2022-11-08","08:07:00","CRISTHIAN CAMILO MONTAÑA HERNANDEZ","VIRTUAL","Correo electrónico","angie.pinilla@idrd.gov.co","Entidades y Organismos Distritales","Instituto Distrital de Recreación y Deportes","Entidades y Organismos Distritales","Funcionario","Femenino","Mujer","Sin datos","Sin datos","Sin datos","Sin datos","PETICIONES ENTRE ENTIDADES","Consulta general","Peticiones entre entidades","Respuesta solicitud de mantenimiento, adecuación de parques y zonas verdes en la localidad de Usme, radicado IDRD 20222100319122","Radicar en ORFEO","SGI","05 Usme"]
[684,2022,"NOVIEMBRE","2022-11-08","12:18:00","CRISTHIAN CAMILO MONTAÑA HERNANDEZ","VIRTUAL","Correo electrónico","alba.roxxio@gmail.com","Juntas de Acción Comunal (JAC)","Juntas de Acción Comunal (JAC)","Juntas de Acción Comunal (JAC)","Ciudadanía","N/A","N/A","Sin datos","Sin datos","Sin datos","Sin datos","ASESORÍA","Asesoría en administración y sostenibilidad del espacio público","Asesoría en temas de espacio público","Solicitud información Espacio de Uso Comunal","Radicar en ORFEO","SGI","08 Kennedy"]
[685,2022,"NOVIEMBRE","2022-11-08","14:41:00","CRISTHIAN CAMILO MONTAÑA HERNANDEZ","VIRTUAL","Correo electrónico","lusanvimar@hotmail.com","Ciudadanía","Funcionario","Ciudadanía","Ciudadanía","Masculino","Hombre ","Sin datos","Sin datos","Sin datos","Sin datos","ASESORÍA","Asesoría en administración y sostenibilidad del espacio público","Asesoría en temas de espacio público","Peticion Radicado DADEP 20223060167231","Radicar en ORFEO","SGI","No Registra"]
[686,2022,"NOVIEMBRE","2022-11-08","15:22:00","CRISTHIAN CAMILO MONTAÑA HERNANDEZ","VIRTUAL","Correo electrónico","juansebastia.gonza04@urosario.edu.co","Ciudadanía","Funcionario","Ciudadanía","Ciudadanía","Masculino","Hombre ","Sin datos","Sin datos","Sin datos","Sin datos","ASESORÍA","Asesoría en administración y sostenibilidad del espacio público","Asesoría en temas de espacio público","Insistencia Derecho de Petición -urgencia por deslizamiento-","Radicar en ORFEO","SGI","No Registra"]
[687,2022,"NOVIEMBRE","2022-11-08","16:39:00","CRISTHIAN CAMILO MONTAÑA HERNANDEZ","VIRTUAL","Correo electrónico","trodloscolombia21@gmail.com","Empresas privadas","trodlos colombia","Empresas Privadas","trodlos colombia21","N/A","N/A","Sin datos","Sin datos","Sin datos","Sin datos","ASESORÍA","Estudio de la viabilidad de las solicitudes de administración de bienes públicos","Viabilidad Decreto 070 / 2022 BACA 2.0","REENVIO DE DOCUMENTOS BOGOTA CIELOS A BIERTOS 2.0","Radicar en ORFEO","SGI","No Registra"]
[688,2022,"NOVIEMBRE","2022-11-08","17:51:00","CRISTHIAN CAMILO MONTAÑA HERNANDEZ","VIRTUAL","Correo electrónico","jacnormandia@hotmail.com","Juntas de Acción Comunal (JAC)","Juntas de Acción Comunal (JAC)","Juntas de Acción Comunal (JAC)","JAC Normandía","N/A","N/A","Sin datos","Sin datos","Sin datos","Sin datos","ASESORÍA","Asesoría en administración y sostenibilidad del espacio público","Asesoría en temas de espacio público","CEDADEP-010511-2022 - Derecho de Petición Exoneración de pago de impuesto","Radicar en ORFEO","SGI","09 Fontibón"]
[689,2022,"NOVIEMBRE","2022-11-08","20:33:00","CRISTHIAN CAMILO MONTAÑA HERNANDEZ","VIRTUAL","Correo electrónico","contrato.2931@gruponogaall.com","Entidades y Organismos Distritales","Grupo Nogal","Entidades y Organismos Distritales","contrato 2931","N/A","N/A","Sin datos","Sin datos","Sin datos","Sin datos","INVITACIONES","Consulta general","Gestión de comunicaciones, eventos e invitaciones","Socialización manual señalización turística","Radicar en ORFEO","DIRECCIÓN","No Registra"]
[690,2022,"NOVIEMBRE","2022-11-08","21:41:00","CRISTHIAN CAMILO MONTAÑA HERNANDEZ","VIRTUAL","Correo electrónico","javier.mendez@gobiernobogota.gov.co","Entidades y Organismos Distritales","Secretaría de Gobierno","Entidades y Organismos Distritales","Funcionario","Masculino","Hombre ","Sin datos","Sin datos","Sin datos","Sin datos","PETICIONES ENTRE ENTIDADES","Consulta general","Peticiones entre entidades","20225530784761 - CITACIÓN AUDIENCIA PÚBLICA EXPEDIENTE 2017554490100473E","Radicar en ORFEO","SGI","05 Usme"]
[691,2022,"NOVIEMBRE","2022-11-08","07:31:00","CRISTHIAN CAMILO MONTAÑA HERNANDEZ","VIRTUAL","Correo electrónico","contabilidadtorresdevalencia@gmail.com","Empresas privadas","corredores valencia","Empresas Privadas","contabilidad","N/A","N/A","Sin datos","Sin datos","Sin datos","Sin datos","NOTIFICACIONES","Estudio de la viabilidad de las solicitudes de administración de bienes públicos","CAMEP Contrato de administración y mantenimiento","Cuenta de Cobro No. 14,379 - Inmueble: 10 Cuenta de Cobro Noviembre 1 de 2022","Radicar en ORFEO","SGI","No Registra"]
[692,2022,"NOVIEMBRE","2022-11-08","07:13:00","CRISTHIAN CAMILO MONTAÑA HERNANDEZ","VIRTUAL","Correo electrónico","isagr802@hotmail.es","Juntas de Acción Comunal (JAC)","Juntas de Acción Comunal (JAC)","Juntas de Acción Comunal (JAC)","Ciudadanía","N/A","N/A","Sin datos","Sin datos","Sin datos","Sin datos","NOTIFICACIONES","Estudio de la viabilidad de las solicitudes de administración de bienes públicos","CAMEP Contrato de administración y mantenimiento","INFORME DE GESTION SEPTIEMBRE 2022 JAC LAS LUCES","Radicar en ORFEO","SGI","No Registra"]
[693,2022,"NOVIEMBRE","2022-11-08","11:10:00","CRISTHIAN CAMILO MONTAÑA HERNANDEZ","VIRTUAL","Correo electrónico","correspondencia@concejobogota.gov.co","Entidades y Organismos Distritales","Concejo de Bogotá","Entidades y Organismos Distritales","Correspondencia","Femenino","Mujer","Sin datos","Sin datos","Sin datos","Sin datos","PETICIONES ENTRE ENTIDADES","Consulta general","Peticiones entre entidades","DERECHO DE PETICIÓN - camino peatonal ubicado en la Carrera 4 este y carrera 3 que conecta los barrios de Cartagena, Gran Colombia y Mirador Centro, sea intervenido ","Radicar en ORFEO","DIRECCIÓN","No Registra"]
[694,2022,"NOVIEMBRE","2022-11-08","17:08:00","CRISTHIAN CAMILO MONTAÑA HERNANDEZ","VIRTUAL","Correo electrónico","correspondencia@concejobogota.gov.co","Entidades y Organismos Distritales","Concejo de Bogotá","Entidades y Organismos Distritales","Correspondencia","Femenino","Mujer","Sin datos","Sin datos","Sin datos","Sin datos","PETICIONES ENTRE ENTIDADES","Consulta general","Peticiones entre entidades","DERECHO DE PETICIÓN - final del callejón de la Carrera 12ª Este con calle 2 B","Radicar en ORFEO","DIRECCIÓN","No Registra"]
[695,2022,"NOVIEMBRE","2022-11-08","18:18:00","CRISTHIAN CAMILO MONTAÑA HERNANDEZ","VIRTUAL","Correo electrónico","nuevoconsejo2018@gmail.com","Empresas privadas","Urbanizacion Molinos de la Caracas ","Empresas Privadas","nueevo consejo","N/A","N/A","Sin datos","Sin datos","Sin datos","Sin datos","ASESORÍA","Asesoría en administración y sostenibilidad del espacio público","Asesoría en temas de espacio público","DERECHO DE PETICION","Radicar en ORFEO","SGI","18 Rafael Uribe Uribe"]
[696,2022,"NOVIEMBRE","2022-11-08","18:48:00","CRISTHIAN CAMILO MONTAÑA HERNANDEZ","VIRTUAL","Correo electrónico","correspondencia@concejobogota.gov.co","Entidades y Organismos Distritales","Concejo de Bogotá","Entidades y Organismos Distritales","Correspondencia","Masculino","Hombre ","Sin datos","Sin datos","Sin datos","Sin datos","PETICIONES ENTRE ENTIDADES","Consulta general","Peticiones entre entidades","Mesa de Trabajo – Localidad Ciudad Bolívar","Radicar en ORFEO","DIRECCIÓN","No Registra"]
[697,2022,"NOVIEMBRE","2022-11-08","19:48:00","CRISTHIAN CAMILO MONTAÑA HERNANDEZ","VIRTUAL","Correo electrónico","fundacioncristiana.a.j@gmail.com","Empresas privadas","Fundación cristiana Angeles de Jehova ","Empresas Privadas","organización social","N/A","N/A","Sin datos","Sin datos","Sin datos","Sin datos","ASESORÍA","Asesoría en administración y sostenibilidad del espacio público","Asesoría en temas de espacio público","FUNDACION PROYECTO DE REHABILITACIÓN DE FARMACOS, DROGADICCION Y ALCOHOLISMO","Radicar en ORFEO","SGI","No Registra"]
[698,2022,"NOVIEMBRE","2022-11-08","05:55:00","CRISTHIAN CAMILO MONTAÑA HERNANDEZ","VIRTUAL","Correo electrónico","cdi.ruribe@gobiernobogota.gov.co","Entidades y Organismos Distritales","Secretaría de Gobierno","Entidades y Organismos Distritales","CDI Rafael Uribe Uribe","Masculino","Hombre ","Sin datos","Sin datos","Sin datos","Sin datos","PETICIONES ENTRE ENTIDADES","Consulta general","Peticiones entre entidades","Remito comunicado con radicado 20226831497821","Radicar en ORFEO","SGI","18 Rafael Uribe Uribe"]
[699,2022,"NOVIEMBRE","2022-11-08","05:55:00","CRISTHIAN CAMILO MONTAÑA HERNANDEZ","VIRTUAL","Correo electrónico","cdi.ruribe@gobiernobogota.gov.co","Entidades y Organismos Distritales","Secretaría de Gobierno","Entidades y Organismos Distritales","CDI Rafael Uribe Uribe","Masculino","Hombre ","Sin datos","Sin datos","Sin datos","Sin datos","PETICIONES ENTRE ENTIDADES","Consulta general","Peticiones entre entidades","Remito comunicado con radicado 20226841495201","Radicar en ORFEO","SGI","18 Rafael Uribe Uribe"]
[700,2022,"NOVIEMBRE","2022-11-08","05:56:00","CRISTHIAN CAMILO MONTAÑA HERNANDEZ","VIRTUAL","Correo electrónico","cdi.ruribe@gobiernobogota.gov.co","Entidades y Organismos Distritales","Secretaría de Gobierno","Entidades y Organismos Distritales","CDI Rafael Uribe Uribe","Masculino","Hombre ","Sin datos","Sin datos","Sin datos","Sin datos","PETICIONES ENTRE ENTIDADES","Consulta general","Peticiones entre entidades","Remito comunicado con radicado 20226831513611","Radicar en ORFEO","SGI","18 Rafael Uribe Uribe"]
[701,2022,"NOVIEMBRE","2022-11-08","05:57:00","CRISTHIAN CAMILO MONTAÑA HERNANDEZ","VIRTUAL","Correo electrónico","cdi.ruribe@gobiernobogota.gov.co","Entidades y Organismos Distritales","Secretaría de Gobierno","Entidades y Organismos Distritales","CDI Rafael Uribe Uribe","Masculino","Hombre ","Sin datos","Sin datos","Sin datos","Sin datos","PETICIONES ENTRE ENTIDADES","Consulta general","Peticiones entre entidades","Remito comunicado con radicado 20226821502611","Radicar en ORFEO","SGI","18 Rafael Uribe Uribe"]
[702,2022,"NOVIEMBRE","2022-11-08","06:00:00","CRISTHIAN CAMILO MONTAÑA HERNANDEZ","VIRTUAL","Correo electrónico","pmartinez@dadep.gov.co","Servidores públicos (funcionarios y contratistas)","Funcionario","Servidores públicos (funcionarios y contratistas)","Servidor público","Femenino","Mujer","Sin datos","Sin datos","Sin datos","Sin datos","NOTIFICACIONES","Consulta general","Talento humano","Reporte de Incapacidad 08/11/2022-09/11/2022","Radicar en ORFEO","SGC","No Registra"]
[703,2022,"NOVIEMBRE","2022-11-08","06:53:00","CRISTHIAN CAMILO MONTAÑA HERNANDEZ","VIRTUAL","Correo electrónico","correspondencia@secretariajuridica.gov.co","Entidades y Organismos Distritales","Secretaría juruidica Distrital","Entidades y Organismos Distritales","Correspondencia","Femenino","Mujer","Sin datos","Sin datos","Sin datos","Sin datos","PETICIONES ENTRE ENTIDADES","Consulta general","Peticiones entre entidades","Comunicación Oficial N° 2-2022-23138","Radicar en ORFEO","OJ","No Registra"]
[704,2022,"NOVIEMBRE","2022-11-08","07:02:00","CRISTHIAN CAMILO MONTAÑA HERNANDEZ","VIRTUAL","Correo electrónico","ccto36bt@cendoj.ramajudicial.gov.co","Entidades y Organismos Nacionales","Ministerio de Justicia","Entidades y Orgamismos Nacionales","Centro de Documentación Judicial (CENDOJ)","N/A","N/A","Sin datos","Sin datos","Sin datos","Sin datos","NOTIFICACIONES","Consulta general","Asuntos Jurídicos","OFICIO 1380 PROCESO 2022-00414","Radicar en ORFEO","OJ","No Registra"]
[705,2022,"NOVIEMBRE","2022-11-08","07:02:00","CRISTHIAN CAMILO MONTAÑA HERNANDEZ","VIRTUAL","Correo electrónico","ccto36bt@cendoj.ramajudicial.gov.co","Entidades y Organismos Nacionales","Ministerio de Justicia","Entidades y Orgamismos Nacionales","Centro de Documentación Judicial (CENDOJ)","N/A","N/A","Sin datos","Sin datos","Sin datos","Sin datos","NOTIFICACIONES","Consulta general","Asuntos Jurídicos","OFICIO 1383 PROCESO 2022-00411","Radicar en ORFEO","OJ","No Registra"]
[706,2022,"NOVIEMBRE","2022-11-08","07:44:00","CRISTHIAN CAMILO MONTAÑA HERNANDEZ","VIRTUAL","Correo electrónico","buzoncomunicaciones@sdp.gov.co","Entidades y Organismos Distritales","Secretaría Distrital de Planeación","Entidades y Organismos Distritales","buzon comunicaciones","Femenino","Mujer","Sin datos","Sin datos","Sin datos","Sin datos","PETICIONES ENTRE ENTIDADES","Consulta general","Peticiones entre entidades","2-2022-161227","Radicar en ORFEO","SRI","No Registra"]
[707,2022,"NOVIEMBRE","2022-11-08","08:23:00","CRISTHIAN CAMILO MONTAÑA HERNANDEZ","VIRTUAL","Correo electrónico","cdi.chapinero@gobiernobogota.gov.co","Entidades y Organismos Distritales","Secretaría de Gobierno","Entidades y Organismos Distritales","CDI Chapinero","Masculino","Hombre ","Sin datos","Sin datos","Sin datos","Sin datos","PETICIONES ENTRE ENTIDADES","Consulta general","Peticiones entre entidades","20225230749341 - Notificación resolución","Radicar en ORFEO","SGI","02 Chapinero"]
[708,2022,"NOVIEMBRE","2022-11-08","08:24:00","CRISTHIAN CAMILO MONTAÑA HERNANDEZ","VIRTUAL","Correo electrónico","cdi.chapinero@gobiernobogota.gov.co","Entidades y Organismos Distritales","Secretaría de Gobierno","Entidades y Organismos Distritales","CDI Chapinero","Masculino","Hombre ","Sin datos","Sin datos","Sin datos","Sin datos","PETICIONES ENTRE ENTIDADES","Consulta general","Peticiones entre entidades","20225230749351 - Notificación resolución","Radicar en ORFEO","SGI","02 Chapinero"]
[709,2022,"NOVIEMBRE","2022-11-08","08:39:00","CRISTHIAN CAMILO MONTAÑA HERNANDEZ","VIRTUAL","Correo electrónico","siga@habitatbogota.gov.co","Entidades y Organismos Distritales","Secretaria de Habitat","Entidades y Organismos Distritales","SIGA","Femenino","Mujer","Sin datos","Sin datos","Sin datos","Sin datos","PETICIONES ENTRE ENTIDADES","Consulta general","Peticiones entre entidades","Comunicación Oficial N° 2-2022-66888","Radicar en ORFEO","SRI","No Registra"]
[710,2022,"NOVIEMBRE","2022-11-08","08:51:00","CRISTHIAN CAMILO MONTAÑA HERNANDEZ","VIRTUAL","Correo electrónico","correspondenciaexternaenviada@participacionbogota.gov.co","Entidades y Organismos Distritales","participacion Bogota","Entidades y Organismos Distritales","Correspondencia","Masculino","Hombre ","Sin datos","Sin datos","Sin datos","Sin datos","PETICIONES ENTRE ENTIDADES","Consulta general","Peticiones entre entidades","RADICADO 20223000193591","Radicar en ORFEO","OJ","No Registra"]
[711,2022,"NOVIEMBRE","2022-11-08","08:52:00","CRISTHIAN CAMILO MONTAÑA HERNANDEZ","VIRTUAL","Correo electrónico","cdi.engativa@gobiernobogota.gov.co","Entidades y Organismos Distritales","Secretaría de Gobierno","Entidades y Organismos Distritales","CDI Engativá","Masculino","Hombre ","Sin datos","Sin datos","Sin datos","Sin datos","PETICIONES ENTRE ENTIDADES","Consulta general","Peticiones entre entidades","20226020904671 - Respuesta aclaración oferta bienes fiscales a enajenar.","Radicar en ORFEO","SGI","10 Engativá"]
[712,2022,"NOVIEMBRE","2022-11-08","08:57:00","CRISTHIAN CAMILO MONTAÑA HERNANDEZ","VIRTUAL","Correo electrónico","notificaciones.anarino@gobiernobogota.gov.co","Entidades y Organismos Distritales","Secretaría de Gobierno","Entidades y Organismos Distritales","Alcaldía Antonio Nariño","Femenino","Mujer","Sin datos","Sin datos","Sin datos","Sin datos","PETICIONES ENTRE ENTIDADES","Consulta general","Peticiones entre entidades","Respuesta 20226530400011 a Traslado del Radicado DADEP No. 20223010115781 del Radicado DADEP No. 20224000171802 del 29/07/2022","Radicar en ORFEO","SGI","15 Antonio Nariño"]
[713,2022,"NOVIEMBRE","2022-11-08","09:05:00","CRISTHIAN CAMILO MONTAÑA HERNANDEZ","VIRTUAL","Correo electrónico","cdi.engativa@gobiernobogota.gov.co","Entidades y Organismos Distritales","Secretaría de Gobierno","Entidades y Organismos Distritales","CDI Engativá","Masculino","Hombre ","Sin datos","Sin datos","Sin datos","Sin datos","PETICIONES ENTRE ENTIDADES","Consulta general","Peticiones entre entidades","20226020909411 - Solicitud certificación parque 10-146.","Radicar en ORFEO","SGI","10 Engativá"]
[714,2022,"NOVIEMBRE","2022-11-08","09:08:00","CRISTHIAN CAMILO MONTAÑA HERNANDEZ","VIRTUAL","Correo electrónico","cdi.chapinero@gobiernobogota.gov.co","Entidades y Organismos Distritales","Secretaría de Gobierno","Entidades y Organismos Distritales","CDI Chapinero","Masculino","Hombre ","Sin datos","Sin datos","Sin datos","Sin datos","PETICIONES ENTRE ENTIDADES","Consulta general","Peticiones entre entidades","20225230749361 - Notificación resolución","Radicar en ORFEO","SGI","02 Chapinero"]
[715,2022,"NOVIEMBRE","2022-11-08","09:21:00","CRISTHIAN CAMILO MONTAÑA HERNANDEZ","VIRTUAL","Correo electrónico","andrescortesedil@gmail.com","Juntas Administradoras Locales (JAL)","Juntas Administradoras Locales (JAL)","Juntas Administradoras Locales (JAL)","Edil","Masculino","Hombre ","Sin datos","Sin datos","Sin datos","Sin datos","PETICIONES ENTRE ENTIDADES","Consulta general","Peticiones entre entidades","Oficio JAL: 408 - Derecho de petición","Radicar en ORFEO","DIRECCIÓN","11 Suba"]
[716,2022,"NOVIEMBRE","2022-11-08","09:22:00","CRISTHIAN CAMILO MONTAÑA HERNANDEZ","VIRTUAL","Correo electrónico","Lemuskarina@hotmail.com","Ciudadanía","Funcionario","Ciudadanía","Ciudadanía","Femenino","Mujer","Sin datos","Sin datos","Sin datos","Sin datos","ASESORÍA","Incorporación y entrega de las áreas de cesión a favor del municipio","Entrega de zonas de cesión","Envío minuta de Cesión corregida para continuar trámite escritura BSB","Radicar en ORFEO","SRI","No Registra"]
[717,2022,"NOVIEMBRE","2022-11-08","09:52:00","CRISTHIAN CAMILO MONTAÑA HERNANDEZ","VIRTUAL","Correo electrónico","admon3031@gmail.com","Empresas privadas","CASA BLANCA ","Empresas Privadas","Administración","N/A","N/A","Sin datos","Sin datos","Sin datos","Sin datos","NOTIFICACIONES","Estudio de la viabilidad de las solicitudes de administración de bienes públicos","CAMEP Contrato de administración y mantenimiento","DERECHO DE PETICION SOLICTUD","Radicar en ORFEO","SGI","No Registra"]
[718,2022,"NOVIEMBRE","2022-11-08","10:47:00","CRISTHIAN CAMILO MONTAÑA HERNANDEZ","VIRTUAL","Correo electrónico","contratos@icanh.gov.co","Entidades y Organismos Nacionales","ICANH - Instituto Colombiano de Antropología e Historia.","Entidades y Orgamismos Nacionales","contratos","Femenino","Mujer","Sin datos","Sin datos","Sin datos","Sin datos","PETICIONES ENTRE ENTIDADES","Consulta general","Peticiones entre entidades","SOLICITUD DISPONIBILIDAD DE INMUEBLE PARA EL ICANH","Radicar en ORFEO","DIRECCIÓN","No Registra"]
[719,2022,"NOVIEMBRE","2022-11-08","10:55:00","CRISTHIAN CAMILO MONTAÑA HERNANDEZ","VIRTUAL","Correo electrónico","ladyandrade83@gmail.com","Ciudadanía","Funcionario","Ciudadanía","Ciudadanía","Masculino","Hombre ","Sin datos","Sin datos","Sin datos","Sin datos","ASESORÍA","Asesoría en administración y sostenibilidad del espacio público","Asesoría en temas de espacio público","DERECHO DE PETICIÓN: Corresponsabilidad Siniestro vial con víctima fatal","Radicar en ORFEO","SGI","09 Fontibón"]
[720,2022,"NOVIEMBRE","2022-11-08","11:07:00","CRISTHIAN CAMILO MONTAÑA HERNANDEZ","VIRTUAL","Correo electrónico","lmartinez@curaduria5bogota.com.co","Entidades y Organismos Distritales","Curaduria 5","Entidades y Organismos Distritales","Funcionario","Masculino","Hombre ","Sin datos","Sin datos","Sin datos","Sin datos","PETICIONES ENTRE ENTIDADES","Consulta general","Peticiones entre entidades","11001-5-22-3105 - Reporte de Información de las Curadurías en relación con las licencias de urbanización y/o construcción. OCT 2022","Radicar en ORFEO","DIRECCIÓN","No Registra"]
[721,2022,"NOVIEMBRE","2022-11-08","11:13:00","CRISTHIAN CAMILO MONTAÑA HERNANDEZ","VIRTUAL","Correo electrónico","siga@serviciocivil.gov.co","Entidades y Organismos Distritales","Servicio civil","Entidades y Organismos Distritales","SIGA","Femenino","Mujer","Sin datos","Sin datos","Sin datos","Sin datos","PETICIONES ENTRE ENTIDADES","Consulta general","Peticiones entre entidades","Comunicación Oficial N° 2-2022-9445","Radicar en ORFEO","DIRECCIÓN","No Registra"]
[722,2022,"NOVIEMBRE","2022-11-08","11:18:00","CRISTHIAN CAMILO MONTAÑA HERNANDEZ","VIRTUAL","Correo electrónico","juan_parra68@hotmail.com","Empresas privadas","Urbanización Virrey","Empresas Privadas","Empresa privada","N/A","N/A","Sin datos","Sin datos","Sin datos","Sin datos","NOTIFICACIONES","Estudio de la viabilidad de las solicitudes de administración de bienes públicos","CAMEP Contrato de administración y mantenimiento","informes 2015 y 2016 convenio solidario urbanizacion el virrey","Radicar en ORFEO","SGI","No Registra"]
[723,2022,"NOVIEMBRE","2022-11-08","11:29:00","CRISTHIAN CAMILO MONTAÑA HERNANDEZ","VIRTUAL","Correo electrónico","idrdcorrespondencia@idrd.gov.co","Entidades y Organismos Distritales","Instituto Distrital de Recreación y Deportes","Entidades y Organismos Distritales","idrd correspondencia","Masculino","Hombre ","Sin datos","Sin datos","Sin datos","Sin datos","PETICIONES ENTRE ENTIDADES","Consulta general","Peticiones entre entidades","20224100240201 - Decisión judicial - A.P. 2017-00185 Parque Metropolitano Simón Bolívar.","Radicar en ORFEO","SRI","10 Engativá"]
[724,2022,"NOVIEMBRE","2022-11-08","11:40:00","CRISTHIAN CAMILO MONTAÑA HERNANDEZ","VIRTUAL","Correo electrónico","sonia.santos@gobiernobogota.gov.co","Entidades y Organismos Distritales","Secretaría de Gobierno","Entidades y Organismos Distritales","Funcionario","Masculino","Hombre ","Sin datos","Sin datos","Sin datos","Sin datos","PETICIONES ENTRE ENTIDADES","Consulta general","Peticiones entre entidades","Envío oficio No 20225930773581 TRASLADO PETICIÓN PARA LO DE SU COMPETENCIA","Radicar en ORFEO","SGI","09 Fontibón"]
[725,2022,"NOVIEMBRE","2022-11-08","11:48:00","CRISTHIAN CAMILO MONTAÑA HERNANDEZ","VIRTUAL","Correo electrónico","correspondencia.i.dadep247@interdisenos.com.co","Empresas privadas","interdisenos","Empresas Privadas","Correspondencia","Femenino","Mujer","Sin datos","Sin datos","Sin datos","Sin datos","NOTIFICACIONES","Estudio de la viabilidad de las solicitudes de administración de bienes públicos","CAMEP Contrato de administración y mantenimiento","GDADEP-947-22 EUCOL Sexto Fondeo Interventoría","Radicar en ORFEO","SGI","No Registra"]
[726,2022,"NOVIEMBRE","2022-11-08","12:31:00","CRISTHIAN CAMILO MONTAÑA HERNANDEZ","VIRTUAL","Correo electrónico","radicacion@transmilenio.gov.co","Entidades y Organismos Distritales","Transmilenio","Entidades y Organismos Distritales","Radicación","Femenino","Mujer","Sin datos","Sin datos","Sin datos","Sin datos","PETICIONES ENTRE ENTIDADES","Consulta general","Peticiones entre entidades","Traslado Caso PQRS No. 3936892022 TM 2022-EE-27885","Radicar en ORFEO","SGI","No Registra"]
[727,2022,"NOVIEMBRE","2022-11-08","12:36:00","CRISTHIAN CAMILO MONTAÑA HERNANDEZ","VIRTUAL","Correo electrónico","sirius2@personeriabogota.gov.co","Entidades y Organismos Distritales","personeria de bogota","Entidades y Organismos Distritales","Sirius 2","Masculino","Hombre ","Sin datos","Sin datos","Sin datos","Sin datos","PETICIONES ENTRE ENTIDADES","Consulta general","Peticiones entre entidades","Respuesta 2022-EE-0565685 2022-11-08","Radicar en ORFEO","DIRECCIÓN","No Registra"]
[728,2022,"NOVIEMBRE","2022-11-08","12:48:00","CRISTHIAN CAMILO MONTAÑA HERNANDEZ","VIRTUAL","Correo electrónico","cvpgestiondocumental@cajaviviendapopular.gov.co","Entidades y Organismos Distritales","Caja de vivienda popular","Entidades y Organismos Distritales","gestión documental","Femenino","Mujer","Sin datos","Sin datos","Sin datos","Sin datos","PETICIONES ENTRE ENTIDADES","Consulta general","Peticiones entre entidades","RAD 202213000221031 Traslado por Competencia Radicado CVP No. 202217000246592","Responder a correo electronico","AREA DE ATENCION A LA CIUDADANIA","No Registra"]
[729,2022,"NOVIEMBRE","2022-11-08","13:10:00","CRISTHIAN CAMILO MONTAÑA HERNANDEZ","VIRTUAL","Correo electrónico","idrdcorrespondencia@idrd.gov.co","Entidades y Organismos Distritales","Instituto Distrital de Recreación y Deportes","Entidades y Organismos Distritales","idrd correspondencia","Masculino","Hombre ","Sin datos","Sin datos","Sin datos","Sin datos","PETICIONES ENTRE ENTIDADES","Consulta general","Peticiones entre entidades","20224100241801 - Traslado por competencia, respuesta a la solicitud “RECUPERACIÓN DE ZONA VERDE E INSTALACIÓN DE GIMNASIO BIOSALUDABLE”. Barrio JUAN JOSÉ RONDÓN SECTOR EL PLAN. CRA 21 CON CALLE 68 B SUR.","Radicar en ORFEO","SGI","No Registra"]
[730,2022,"NOVIEMBRE","2022-11-08","13:30:00","CRISTHIAN CAMILO MONTAÑA HERNANDEZ","VIRTUAL","Correo electrónico","idrdcorrespondencia@idrd.gov.co","Entidades y Organismos Distritales","Instituto Distrital de Recreación y Deportes","Entidades y Organismos Distritales","idrd correspondencia","Masculino","Hombre ","Sin datos","Sin datos","Sin datos","Sin datos","PETICIONES ENTRE ENTIDADES","Consulta general","Peticiones entre entidades","20224100241401 - Entrega Simplificada de las zonas de cesión para parque pro ducto de la Urbanización Compostela Casas Sectores 1 y 2 de la localidad de Fontibón. Expediente Virtual No. 2021410660300034E","Radicar en ORFEO","SRI","09 Fontibón"]
[731,2022,"NOVIEMBRE","2022-11-08","14:09:00","CRISTHIAN CAMILO MONTAÑA HERNANDEZ","VIRTUAL","Correo electrónico","correspondencia@concejobogota.gov.co","Entidades y Organismos Distritales","Concejo de Bogotá","Entidades y Organismos Distritales","Correspondencia","Masculino","Hombre ","Sin datos","Sin datos","Sin datos","Sin datos","PETICIONES ENTRE ENTIDADES","Consulta general","Peticiones entre entidades","Cronograma de reuniones Comisión Accidental de “Seguimiento a la reglamentación e implementación del Decreto 555 - 2022 – Plan de Ordenamiento Territorial Bogotá Reverdece 2022 - 2035”.","Radicar en ORFEO","DIRECCIÓN","No Registra"]
[732,2022,"NOVIEMBRE","2022-11-08","14:48:00","CRISTHIAN CAMILO MONTAÑA HERNANDEZ","VIRTUAL","Correo electrónico","camila.diaz@crepesywaffles.com","Empresas privadas","Crepes y Waffles","Empresas Privadas","Ciudadanía","Femenino","Mujer","Sin datos","Sin datos","Sin datos","Sin datos","ASESORÍA","Estudio de la viabilidad de las solicitudes de administración de bienes públicos","Viabilidad Decreto 070 / 2022 BACA 2.0","Inscripción Bogotá a Cielo Abierto Baca 2.0 Establecimiento de Comercio Calle 83 CYW","Radicar en ORFEO","SGI","No Registra"]
[733,2022,"NOVIEMBRE","2022-11-08","14:53:00","CRISTHIAN CAMILO MONTAÑA HERNANDEZ","VIRTUAL","Correo electrónico","aengativarubiano@yahoo.es","Ciudadanía","Funcionario","Ciudadanía","Ciudadanía","Masculino","Hombre ","Sin datos","Sin datos","Sin datos","Sin datos","ASESORÍA","Estudio de la viabilidad de las solicitudes de administración de bienes públicos","CAMEP Contrato de administración y mantenimiento","Convenio solidario Parqueadero Rupi 765-3","Radicar en ORFEO","SGI","No Registra"]
[734,2022,"NOVIEMBRE","2022-11-08","15:19:00","CRISTHIAN CAMILO MONTAÑA HERNANDEZ","VIRTUAL","Correo electrónico","edwin.valencia@gobiernobogota.gov.co","Entidades y Organismos Distritales","Secretaría de Gobierno","Entidades y Organismos Distritales","Funcionario","Femenino","Mujer","Sin datos","Sin datos","Sin datos","Sin datos","PETICIONES ENTRE ENTIDADES","Consulta general","Peticiones entre entidades","RADICADO 20226821515581","Radicar en ORFEO","SGI","18 Rafael Uribe Uribe"]
[735,2022,"NOVIEMBRE","2022-11-09","15:32:00","CRISTHIAN CAMILO MONTAÑA HERNANDEZ","VIRTUAL","Correo electrónico","mc.cortes@metalgraf.com","Ciudadanía","Funcionario","Ciudadanía","Ciudadanía","Masculino","Hombre ","Sin datos","Sin datos","Sin datos","Sin datos","ASESORÍA","Asesoría en administración y sostenibilidad del espacio público","Asesoría en temas de espacio público","Derecho de petición espacio publico cra 27 # 68 - 95","Radicar en ORFEO","SGI","12 Barrios Unidos"]
[736,2022,"NOVIEMBRE","2022-11-09","15:36:00","CRISTHIAN CAMILO MONTAÑA HERNANDEZ","VIRTUAL","Correo electrónico","envionotificaciones@ipes.gov.co","Entidades y Organismos Distritales","Instituto para la Economía Social ","Entidades y Organismos Distritales","Notificaciones","Masculino","Hombre ","Sin datos","Sin datos","Sin datos","Sin datos","PETICIONES ENTRE ENTIDADES","Consulta general","Peticiones entre entidades","00110-816-028106 - Respuesta radicado No 00110-812-020150 del 6 de octubre 2022, proceso de liquidación Convenio Interadministrativo de Entrega No14A-07, suscrito por el Departamento Administrativo de la Defensoría del Espacio Público (DADEP) ","Radicar en ORFEO","SGI","No Registra"]
[737,2022,"NOVIEMBRE","2022-11-09","15:45:00","CRISTHIAN CAMILO MONTAÑA HERNANDEZ","VIRTUAL","Correo electrónico","notificaciones_catastro@catastrobogota.gov.co","Entidades y Organismos Distritales","Catastro de Bogotá","Entidades y Organismos Distritales","Notificaciones","Femenino","Mujer","Sin datos","Sin datos","Sin datos","Sin datos","PETICIONES ENTRE ENTIDADES","Consulta general","Peticiones entre entidades","UAECD 2022 EE 82516 (uaecd 2022 er 36183)","Radicar en ORFEO","SRI","No Registra"]
[738,2022,"NOVIEMBRE","2022-11-09","15:48:00","CRISTHIAN CAMILO MONTAÑA HERNANDEZ","VIRTUAL","Correo electrónico","cdi.engativa@gobiernobogota.gov.co","Entidades y Organismos Distritales","Secretaría de Gobierno","Entidades y Organismos Distritales","CDI Engativá","Femenino","Mujer","Sin datos","Sin datos","Sin datos","Sin datos","PETICIONES ENTRE ENTIDADES","Consulta general","Peticiones entre entidades","20226040920871 - Solicitud de información","Radicar en ORFEO","SGI","10 Engativá"]
[739,2022,"NOVIEMBRE","2022-11-09","15:51:00","CRISTHIAN CAMILO MONTAÑA HERNANDEZ","VIRTUAL","Correo electrónico","proteccionanimal@animalesbog.gov.co","Entidades y Organismos Distritales","Protección animal","Entidades y Organismos Distritales","Funcionario","Femenino","Mujer","Sin datos","Sin datos","Sin datos","Sin datos","PETICIONES ENTRE ENTIDADES","Consulta general","Peticiones entre entidades","2022EE0012462 - Invitación Mesa de articulación intersectorial - Parque los Pescados","Radicar en ORFEO","DIRECCIÓN","No Registra"]
[740,2022,"NOVIEMBRE","2022-11-09","16:07:00","CRISTHIAN CAMILO MONTAÑA HERNANDEZ","VIRTUAL","Correo electrónico","cdi.ruribe@gobiernobogota.gov.co","Entidades y Organismos Distritales","Secretaría de Gobierno","Entidades y Organismos Distritales","CDI Rafael Uribe Uribe","Femenino","Mujer","Sin datos","Sin datos","Sin datos","Sin datos","PETICIONES ENTRE ENTIDADES","Consulta general","Peticiones entre entidades","Remito comunicado con radicado 20226841520761","Radicar en ORFEO","SGI","18 Rafael Uribe Uribe"]
[741,2022,"NOVIEMBRE","2022-11-09","16:07:00","CRISTHIAN CAMILO MONTAÑA HERNANDEZ","VIRTUAL","Correo electrónico","cdi.ruribe@gobiernobogota.gov.co","Entidades y Organismos Distritales","Secretaría de Gobierno","Entidades y Organismos Distritales","CDI Rafael Uribe Uribe","Femenino","Mujer","Sin datos","Sin datos","Sin datos","Sin datos","PETICIONES ENTRE ENTIDADES","Consulta general","Peticiones entre entidades","Remito comunicado con radicado 20226841521151","Radicar en ORFEO","SGI","18 Rafael Uribe Uribe"]
[742,2022,"NOVIEMBRE","2022-11-09","16:07:00","CRISTHIAN CAMILO MONTAÑA HERNANDEZ","VIRTUAL","Correo electrónico","cdi.ruribe@gobiernobogota.gov.co","Entidades y Organismos Distritales","Secretaría de Gobierno","Entidades y Organismos Distritales","CDI Rafael Uribe Uribe","Femenino","Mujer","Sin datos","Sin datos","Sin datos","Sin datos","PETICIONES ENTRE ENTIDADES","Consulta general","Peticiones entre entidades","Remito comunicado con radicado 20226841521141","Radicar en ORFEO","SGI","18 Rafael Uribe Uribe"]
[743,2022,"NOVIEMBRE","2022-11-09","16:07:00","CRISTHIAN CAMILO MONTAÑA HERNANDEZ","VIRTUAL","Correo electrónico","cdi.ruribe@gobiernobogota.gov.co","Entidades y Organismos Distritales","Secretaría de Gobierno","Entidades y Organismos Distritales","CDI Rafael Uribe Uribe","Femenino","Mujer","Sin datos","Sin datos","Sin datos","Sin datos","PETICIONES ENTRE ENTIDADES","Consulta general","Peticiones entre entidades","Remito comunicado con radicado 20226841521121","Radicar en ORFEO","SGI","18 Rafael Uribe Uribe"]
[744,2022,"NOVIEMBRE","2022-11-09","16:07:00","CRISTHIAN CAMILO MONTAÑA HERNANDEZ","VIRTUAL","Correo electrónico","cdi.ruribe@gobiernobogota.gov.co","Entidades y Organismos Distritales","Secretaría de Gobierno","Entidades y Organismos Distritales","CDI Rafael Uribe Uribe","Femenino","Mujer","Sin datos","Sin datos","Sin datos","Sin datos","PETICIONES ENTRE ENTIDADES","Consulta general","Peticiones entre entidades","Remito comunicado con radicado 20226841521081","Radicar en ORFEO","SGI","18 Rafael Uribe Uribe"]
[745,2022,"NOVIEMBRE","2022-11-09","16:07:00","CRISTHIAN CAMILO MONTAÑA HERNANDEZ","VIRTUAL","Correo electrónico","cdi.ruribe@gobiernobogota.gov.co","Entidades y Organismos Distritales","Secretaría de Gobierno","Entidades y Organismos Distritales","CDI Rafael Uribe Uribe","Femenino","Mujer","Sin datos","Sin datos","Sin datos","Sin datos","PETICIONES ENTRE ENTIDADES","Consulta general","Peticiones entre entidades","Remito comunicado con radicado 20226841521101","Radicar en ORFEO","SGI","18 Rafael Uribe Uribe"]
[746,2022,"NOVIEMBRE","2022-11-09","16:07:00","CRISTHIAN CAMILO MONTAÑA HERNANDEZ","VIRTUAL","Correo electrónico","cdi.ruribe@gobiernobogota.gov.co","Entidades y Organismos Distritales","Secretaría de Gobierno","Entidades y Organismos Distritales","CDI Rafael Uribe Uribe","Femenino","Mujer","Sin datos","Sin datos","Sin datos","Sin datos","PETICIONES ENTRE ENTIDADES","Consulta general","Peticiones entre entidades","Remito comunicado con radicado 20226841521071","Radicar en ORFEO","SGI","18 Rafael Uribe Uribe"]
[747,2022,"NOVIEMBRE","2022-11-09","16:08:00","CRISTHIAN CAMILO MONTAÑA HERNANDEZ","VIRTUAL","Correo electrónico","cdi.ruribe@gobiernobogota.gov.co","Entidades y Organismos Distritales","Secretaría de Gobierno","Entidades y Organismos Distritales","CDI Rafael Uribe Uribe","Femenino","Mujer","Sin datos","Sin datos","Sin datos","Sin datos","PETICIONES ENTRE ENTIDADES","Consulta general","Peticiones entre entidades","Remito comunicado con radicado 20226841521041","Radicar en ORFEO","SGI","18 Rafael Uribe Uribe"]
[748,2022,"NOVIEMBRE","2022-11-09","16:08:00","CRISTHIAN CAMILO MONTAÑA HERNANDEZ","VIRTUAL","Correo electrónico","cdi.ruribe@gobiernobogota.gov.co","Entidades y Organismos Distritales","Secretaría de Gobierno","Entidades y Organismos Distritales","CDI Rafael Uribe Uribe","Femenino","Mujer","Sin datos","Sin datos","Sin datos","Sin datos","PETICIONES ENTRE ENTIDADES","Consulta general","Peticiones entre entidades","Remito comunicado con radicado 20226841521031","Radicar en ORFEO","SGI","18 Rafael Uribe Uribe"]
[749,2022,"NOVIEMBRE","2022-11-09","16:08:00","CRISTHIAN CAMILO MONTAÑA HERNANDEZ","VIRTUAL","Correo electrónico","cdi.ruribe@gobiernobogota.gov.co","Entidades y Organismos Distritales","Secretaría de Gobierno","Entidades y Organismos Distritales","CDI Rafael Uribe Uribe","Femenino","Mujer","Sin datos","Sin datos","Sin datos","Sin datos","PETICIONES ENTRE ENTIDADES","Consulta general","Peticiones entre entidades","Remito comunicado con radicado 20226841521001","Radicar en ORFEO","SGI","18 Rafael Uribe Uribe"]
[750,2022,"NOVIEMBRE","2022-11-09","16:08:00","CRISTHIAN CAMILO MONTAÑA HERNANDEZ","VIRTUAL","Correo electrónico","cdi.ruribe@gobiernobogota.gov.co","Entidades y Organismos Distritales","Secretaría de Gobierno","Entidades y Organismos Distritales","CDI Rafael Uribe Uribe","Femenino","Mujer","Sin datos","Sin datos","Sin datos","Sin datos","PETICIONES ENTRE ENTIDADES","Consulta general","Peticiones entre entidades","Remito comunicado con radicado 20226841520991","Radicar en ORFEO","SGI","18 Rafael Uribe Uribe"]
[751,2022,"NOVIEMBRE","2022-11-09","16:08:00","CRISTHIAN CAMILO MONTAÑA HERNANDEZ","VIRTUAL","Correo electrónico","cdi.ruribe@gobiernobogota.gov.co","Entidades y Organismos Distritales","Secretaría de Gobierno","Entidades y Organismos Distritales","CDI Rafael Uribe Uribe","Femenino","Mujer","Sin datos","Sin datos","Sin datos","Sin datos","PETICIONES ENTRE ENTIDADES","Consulta general","Peticiones entre entidades","Remito comunicado con radicado 20226841520961","Radicar en ORFEO","SGI","18 Rafael Uribe Uribe"]
[752,2022,"NOVIEMBRE","2022-11-09","16:08:00","CRISTHIAN CAMILO MONTAÑA HERNANDEZ","VIRTUAL","Correo electrónico","cdi.ruribe@gobiernobogota.gov.co","Entidades y Organismos Distritales","Secretaría de Gobierno","Entidades y Organismos Distritales","CDI Rafael Uribe Uribe","Femenino","Mujer","Sin datos","Sin datos","Sin datos","Sin datos","PETICIONES ENTRE ENTIDADES","Consulta general","Peticiones entre entidades","Remito comunicado con radicado 20226841520951","Radicar en ORFEO","SGI","18 Rafael Uribe Uribe"]
[753,2022,"NOVIEMBRE","2022-11-09","16:08:00","CRISTHIAN CAMILO MONTAÑA HERNANDEZ","VIRTUAL","Correo electrónico","cdi.ruribe@gobiernobogota.gov.co","Entidades y Organismos Distritales","Secretaría de Gobierno","Entidades y Organismos Distritales","CDI Rafael Uribe Uribe","Femenino","Mujer","Sin datos","Sin datos","Sin datos","Sin datos","PETICIONES ENTRE ENTIDADES","Consulta general","Peticiones entre entidades","Remito comunicado con radicado 20226841520921","Radicar en ORFEO","SGI","18 Rafael Uribe Uribe"]
[754,2022,"NOVIEMBRE","2022-11-09","16:08:00","CRISTHIAN CAMILO MONTAÑA HERNANDEZ","VIRTUAL","Correo electrónico","cdi.ruribe@gobiernobogota.gov.co","Entidades y Organismos Distritales","Secretaría de Gobierno","Entidades y Organismos Distritales","CDI Rafael Uribe Uribe","Femenino","Mujer","Sin datos","Sin datos","Sin datos","Sin datos","PETICIONES ENTRE ENTIDADES","Consulta general","Peticiones entre entidades","Remito comunicado con radicado 20226841520911","Radicar en ORFEO","SGI","18 Rafael Uribe Uribe"]
[755,2022,"NOVIEMBRE","2022-11-09","16:08:00","CRISTHIAN CAMILO MONTAÑA HERNANDEZ","VIRTUAL","Correo electrónico","cdi.ruribe@gobiernobogota.gov.co","Entidades y Organismos Distritales","Secretaría de Gobierno","Entidades y Organismos Distritales","CDI Rafael Uribe Uribe","Femenino","Mujer","Sin datos","Sin datos","Sin datos","Sin datos","PETICIONES ENTRE ENTIDADES","Consulta general","Peticiones entre entidades","Remito comunicado con radicado 20226841520881","Radicar en ORFEO","SGI","18 Rafael Uribe Uribe"]
[756,2022,"NOVIEMBRE","2022-11-09","16:08:00","CRISTHIAN CAMILO MONTAÑA HERNANDEZ","VIRTUAL","Correo electrónico","cdi.ruribe@gobiernobogota.gov.co","Entidades y Organismos Distritales","Secretaría de Gobierno","Entidades y Organismos Distritales","CDI Rafael Uribe Uribe","Femenino","Mujer","Sin datos","Sin datos","Sin datos","Sin datos","PETICIONES ENTRE ENTIDADES","Consulta general","Peticiones entre entidades","Remito comunicado con radicado 20226841520861","Radicar en ORFEO","SGI","18 Rafael Uribe Uribe"]
[757,2022,"NOVIEMBRE","2022-11-09","16:08:00","CRISTHIAN CAMILO MONTAÑA HERNANDEZ","VIRTUAL","Correo electrónico","cdi.ruribe@gobiernobogota.gov.co","Entidades y Organismos Distritales","Secretaría de Gobierno","Entidades y Organismos Distritales","CDI Rafael Uribe Uribe","Femenino","Mujer","Sin datos","Sin datos","Sin datos","Sin datos","PETICIONES ENTRE ENTIDADES","Consulta general","Peticiones entre entidades","Remito comunicado con radicado 20226841520841","Radicar en ORFEO","SGI","18 Rafael Uribe Uribe"]
[758,2022,"NOVIEMBRE","2022-11-09","16:08:00","CRISTHIAN CAMILO MONTAÑA HERNANDEZ","VIRTUAL","Correo electrónico","cdi.ruribe@gobiernobogota.gov.co","Entidades y Organismos Distritales","Secretaría de Gobierno","Entidades y Organismos Distritales","CDI Rafael Uribe Uribe","Femenino","Mujer","Sin datos","Sin datos","Sin datos","Sin datos","PETICIONES ENTRE ENTIDADES","Consulta general","Peticiones entre entidades","Remito comunicado con radicado 20226841520821","Radicar en ORFEO","SGI","18 Rafael Uribe Uribe"]
[759,2022,"NOVIEMBRE","2022-11-09","16:08:00","CRISTHIAN CAMILO MONTAÑA HERNANDEZ","VIRTUAL","Correo electrónico","cdi.ruribe@gobiernobogota.gov.co","Entidades y Organismos Distritales","Secretaría de Gobierno","Entidades y Organismos Distritales","CDI Rafael Uribe Uribe","Femenino","Mujer","Sin datos","Sin datos","Sin datos","Sin datos","PETICIONES ENTRE ENTIDADES","Consulta general","Peticiones entre entidades","Remito comunicado con radicado 20226841520811","Radicar en ORFEO","SGI","18 Rafael Uribe Uribe"]
[760,2022,"NOVIEMBRE","2022-11-09","16:08:00","CRISTHIAN CAMILO MONTAÑA HERNANDEZ","VIRTUAL","Correo electrónico","cdi.ruribe@gobiernobogota.gov.co","Entidades y Organismos Distritales","Secretaría de Gobierno","Entidades y Organismos Distritales","CDI Rafael Uribe Uribe","Femenino","Mujer","Sin datos","Sin datos","Sin datos","Sin datos","PETICIONES ENTRE ENTIDADES","Consulta general","Peticiones entre entidades","Remito comunicado con radicado 20226841520781","Radicar en ORFEO","SGI","18 Rafael Uribe Uribe"]
[761,2022,"NOVIEMBRE","2022-11-09","16:09:00","CRISTHIAN CAMILO MONTAÑA HERNANDEZ","VIRTUAL","Correo electrónico","correspondencia.i.dadep378@interdisenos.com.co","Empresas privadas","interdisenos","Empresas Privadas","Correspondencia","Femenino","Mujer","Sin datos","Sin datos","Sin datos","Sin datos","NOTIFICACIONES","Estudio de la viabilidad de las solicitudes de administración de bienes públicos","CAMEP Contrato de administración y mantenimiento","GDADEP06-0541-22 DADEP Rta a su oficio 20223080140271 Actualización formato 1","Radicar en ORFEO","SGI","No Registra"]
[762,2022,"NOVIEMBRE","2022-11-09","16:10:00","CRISTHIAN CAMILO MONTAÑA HERNANDEZ","VIRTUAL","Correo electrónico","cdi.kennedy@gobiernobogota.gov.co","Entidades y Organismos Distritales","Secretaría de Gobierno","Entidades y Organismos Distritales","cdi Kennedy","Femenino","Mujer","Sin datos","Sin datos","Sin datos","Sin datos","PETICIONES ENTRE ENTIDADES","Consulta general","Peticiones entre entidades","Radicado 20225803306971","Radicar en ORFEO","SGI","08 Kennedy"]
[763,2022,"NOVIEMBRE","2022-11-09","16:20:00","CRISTHIAN CAMILO MONTAÑA HERNANDEZ","VIRTUAL","Correo electrónico","cdi.despacho@gobiernobogota.gov.co","Entidades y Organismos Distritales","Secretaría de Gobierno","Entidades y Organismos Distritales","CDI Despacho","Masculino","Hombre ","Sin datos","Sin datos","Sin datos","Sin datos","PETICIONES ENTRE ENTIDADES","Consulta general","Peticiones entre entidades","20225320748101 - SOLICITUD INFORMACIÓN OBRAS QUE SE LLEVEN A CABO QUE PUEDAN AFECTAR EL MOBILIARIO PÚBLICO A CARGO DEL CONTRATO DE CONCESIÓN 110-00129-186-0-2020","Radicar en ORFEO","SGI","03 Santa fe"]
[764,2022,"NOVIEMBRE","2022-11-09","16:21:00","CRISTHIAN CAMILO MONTAÑA HERNANDEZ","VIRTUAL","Correo electrónico","correspondencia.i.dadep378@interdisenos.com.co","Empresas privadas","interdisenos","Empresas Privadas","Correspondencia","Femenino","Mujer","Sin datos","Sin datos","Sin datos","Sin datos","NOTIFICACIONES","Estudio de la viabilidad de las solicitudes de administración de bienes públicos","CAMEP Contrato de administración y mantenimiento","GDADEP06-0543-22 INFORME FINAL TRATAMIENTOS SILVICULTURALES RESOLUCIÓN SDA 624 DE 2022. SUS HUB136-OBRA-CL-657-2022 Y HUB136-OBRA-CL-669-2022.","Radicar en ORFEO","SGI","No Registra"]
[765,2022,"NOVIEMBRE","2022-11-09","16:23:00","CRISTHIAN CAMILO MONTAÑA HERNANDEZ","VIRTUAL","Correo electrónico","idrdcorrespondencia@idrd.gov.co","Entidades y Organismos Distritales","Instituto Distrital de Recreación y Deportes","Entidades y Organismos Distritales","idrd correspondencia","Masculino","Hombre ","Sin datos","Sin datos","Sin datos","Sin datos","PETICIONES ENTRE ENTIDADES","Consulta general","Peticiones entre entidades","20224100242711 - Radicado 20222100322302 – Información Parque Cayetano Cañizares","Radicar en ORFEO","SRI","No Registra"]
[766,2022,"NOVIEMBRE","2022-11-09","16:25:00","CRISTHIAN CAMILO MONTAÑA HERNANDEZ","VIRTUAL","Correo electrónico","correspondencia.i.dadep378@interdisenos.com.co","Empresas privadas","interdisenos","Empresas Privadas","Correspondencia","Femenino","Mujer","Sin datos","Sin datos","Sin datos","Sin datos","NOTIFICACIONES","Estudio de la viabilidad de las solicitudes de administración de bienes públicos","CAMEP Contrato de administración y mantenimiento","GDADEP06-0544-22 HUB Rta HUB136-OBRA-CL-667-2022 auditorias integrales apéndice técnico 6. (757)","Radicar en ORFEO","SGI","01 Usaquén"]
[767,2022,"NOVIEMBRE","2022-11-09","16:26:00","CRISTHIAN CAMILO MONTAÑA HERNANDEZ","VIRTUAL","Correo electrónico","idrdcorrespondencia@idrd.gov.co","Entidades y Organismos Distritales","Instituto Distrital de Recreación y Deportes","Entidades y Organismos Distritales","idrd correspondencia","Masculino","Hombre ","Sin datos","Sin datos","Sin datos","Sin datos","PETICIONES ENTRE ENTIDADES","Consulta general","Peticiones entre entidades","20224100241071 - Entrega Simplificada de las zonas de cesión de la Urbanización Stahl de la localidad de Ciudad Bolívar. Expediente Virtual No. 2022410660300087E","Radicar en ORFEO","SRI","19 Ciudad Bolívar"]
[768,2022,"NOVIEMBRE","2022-11-09","16:29:00","CRISTHIAN CAMILO MONTAÑA HERNANDEZ","VIRTUAL","Correo electrónico","envionotificaciones@ipes.gov.co","Entidades y Organismos Distritales","Instituto para la Economía Social ","Entidades y Organismos Distritales","Notificaciones","Masculino","Hombre ","Sin datos","Sin datos","Sin datos","Sin datos","PETICIONES ENTRE ENTIDADES","Consulta general","Peticiones entre entidades","00110-816-030828 - Respuesta a radicado IPES No. 00110-812-020068. Solicitud Anuencia para trámite de licencia de reforzamiento estructural para la Plaza Distrital de Mercado 7 de Agosto.","Radicar en ORFEO","DIRECCIÓN","No Registra"]
[769,2022,"NOVIEMBRE","2022-11-09","16:30:00","CRISTHIAN CAMILO MONTAÑA HERNANDEZ","VIRTUAL","Correo electrónico","salidascdi.suba@gobiernobogota.gov.co","Entidades y Organismos Distritales","Secretaría de Gobierno","Entidades y Organismos Distritales","Alcaldía de Suba","Femenino","Mujer","Sin datos","Sin datos","Sin datos","Sin datos","PETICIONES ENTRE ENTIDADES","Consulta general","Peticiones entre entidades","RADICADO 20226142006221","Radicar en ORFEO","SGI","11 Suba"]
[770,2022,"NOVIEMBRE","2022-11-09","16:34:00","CRISTHIAN CAMILO MONTAÑA HERNANDEZ","VIRTUAL","Correo electrónico","eulimelgu-57@hotmail.com","Ciudadanía","Funcionario","Ciudadanía","Ciudadanía","Femenino","Mujer","Sin datos","Sin datos","Sin datos","Sin datos","ASESORÍA","Asesoría en administración y sostenibilidad del espacio público","Denuncia otros elementos","DERECHO DE PETICIÓN: Corresponsabilidad Siniestro vial","Radicar en ORFEO","SGI","09 Fontibón"]
[771,2022,"NOVIEMBRE","2022-11-09","17:11:00","CRISTHIAN CAMILO MONTAÑA HERNANDEZ","VIRTUAL","Correo electrónico","cangarita@corparques.co","Empresas privadas","Corparques","Empresas Privadas","Ciudadanía","Masculino","Hombre ","Sin datos","Sin datos","Sin datos","Sin datos","CONSULTA","Consulta general","Oferta de servicios","PROPUESTA COMERCIAL PARQUE MUNDO AVENTURA","Radicar en ORFEO","SGC","No Registra"]
[772,2022,"NOVIEMBRE","2022-11-09","18:03:00","CRISTHIAN CAMILO MONTAÑA HERNANDEZ","VIRTUAL","Correo electrónico","notificaciones_gd@defensoria.gov.co","Entidades y Organismos Nacionales","Defensoría del Pueblo","Entidades y Orgamismos Nacionales","Funcionario","Femenino","Mujer","Sin datos","Sin datos","Sin datos","Sin datos","PETICIONES ENTRE ENTIDADES","Consulta general","Peticiones entre entidades","Remision de comunicacion numero 20220060054371811","Radicar en ORFEO","DIRECCIÓN","No Registra"]
[773,2022,"NOVIEMBRE","2022-11-09","18:24:00","CRISTHIAN CAMILO MONTAÑA HERNANDEZ","VIRTUAL","Correo electrónico","notificacionescec@domina.com.co","Entidades y Organismos Distritales","Domina Entrega Total S.A.S","Entidades y Organismos Distritales","Notificaciones","Femenino","Mujer","Sin datos","Sin datos","Sin datos","Sin datos","PETICIONES ENTRE ENTIDADES","Consulta general","Peticiones entre entidades","Radicado Instituto de Patrimonio 20223010055081","Radicar en ORFEO","SGI","No Registra"]
[774,2022,"NOVIEMBRE","2022-11-09","19:22:00","CRISTHIAN CAMILO MONTAÑA HERNANDEZ","VIRTUAL","Correo electrónico","buzoncomunicaciones@sdp.gov.co","Entidades y Organismos Distritales","Secretaría Distrital de Planeación","Entidades y Organismos Distritales","buzon comunicaciones","Femenino","Mujer","Sin datos","Sin datos","Sin datos","Sin datos","PETICIONES ENTRE ENTIDADES","Consulta general","Peticiones entre entidades","2-2022-161904","Radicar en ORFEO","SRI","No Registra"]
[775,2022,"NOVIEMBRE","2022-11-09","20:16:00","CRISTHIAN CAMILO MONTAÑA HERNANDEZ","VIRTUAL","Correo electrónico","notificaciones_catastro@catastrobogota.gov.co","Entidades y Organismos Distritales","Catastro de Bogotá","Entidades y Organismos Distritales","Notificaciones","Masculino","Hombre ","Sin datos","Sin datos","Sin datos","Sin datos","PETICIONES ENTRE ENTIDADES","Consulta general","Peticiones entre entidades","RAD 2022-111401 OFICIO 2022EE82150 02/11/2022 RES. 2022- 45527 del 28/10/2022, y 2022-45918, 45916, 45917, 45919 del 01/11/2022 NOTIFICACIÓN ELECTRÓNICA AUTORIZADA","Radicar en ORFEO","SRI","No Registra"]
[776,2022,"NOVIEMBRE","2022-11-09","20:30:00","CRISTHIAN CAMILO MONTAÑA HERNANDEZ","VIRTUAL","Correo electrónico","cdi.ruribe@gobiernobogota.gov.co","Entidades y Organismos Distritales","Secretaría de Gobierno","Entidades y Organismos Distritales","CDI Rafael Uribe Uribe","Masculino","Hombre ","Sin datos","Sin datos","Sin datos","Sin datos","PETICIONES ENTRE ENTIDADES","Consulta general","Peticiones entre entidades","Remito comunicado con radicado 20226841495131","Radicar en ORFEO","SGI","18 Rafael Uribe Uribe"]
[777,2022,"NOVIEMBRE","2022-11-09","23:16:00","CRISTHIAN CAMILO MONTAÑA HERNANDEZ","VIRTUAL","Correo electrónico","correspondencia.enviada@idu.gov.co","Entidades y Organismos Distritales","Instituto de Desarrollo Urbano","Entidades y Organismos Distritales","Correspondencia","Masculino","Hombre ","Sin datos","Sin datos","Sin datos","Sin datos","PETICIONES ENTRE ENTIDADES","Consulta general","Peticiones entre entidades","RADICADO IDU N° 20223751755711 DEL 08 DE NOVIEMBRE 2022","Radicar en ORFEO","SRI","No Registra"]
[778,2022,"NOVIEMBRE","2022-11-09","06:27:00","CRISTHIAN CAMILO MONTAÑA HERNANDEZ","VIRTUAL","Correo electrónico","pmartinez@dadep.gov.co","Servidores públicos (funcionarios y contratistas)","Funcionario","Servidores públicos (funcionarios y contratistas)","Servidor público","Femenino","Mujer","Sin datos","Sin datos","Sin datos","Sin datos","NOTIFICACIONES","Consulta general","Talento humano","Reporte Incapacidad 08/11/2022 - 10/11/2022","Radicar en ORFEO","SGC","No Registra"]
[779,2022,"NOVIEMBRE","2022-11-09","06:54:00","CRISTHIAN CAMILO MONTAÑA HERNANDEZ","VIRTUAL","Correo electrónico","mallavialusme453@gmail.com","Empresas privadas","CONSULTORIA HOSPITAL USME ","Empresas Privadas","Hospital de Usme","N/A","N/A","Sin datos","Sin datos","Sin datos","Sin datos","ASESORÍA","Asesoría en administración y sostenibilidad del espacio público","Asesoría en temas de espacio público","Contrato No 453 de 2022 Realizar la Consultoría de Estudios y Diseños de Malla Vial y de Espacio Público, contiguas al Nuevo Hospital De La Localidad De Usme. Solicitud de información en el área de intervención y áreas aferentes del proyecto.","Radicar en ORFEO","SGI","05 Usme"]
[780,2022,"NOVIEMBRE","2022-11-09","08:14:00","CRISTHIAN CAMILO MONTAÑA HERNANDEZ","VIRTUAL","Correo electrónico","cdi.teusaquillo@gobiernobogota.gov.co","Entidades y Organismos Distritales","Secretaría de Gobierno","Entidades y Organismos Distritales","CDI Teusaquillo","Femenino","Mujer","Sin datos","Sin datos","Sin datos","Sin datos","PETICIONES ENTRE ENTIDADES","Consulta general","Peticiones entre entidades","20226330631131 - Recuperación espacio público zona verde en retorno desde Av. 68 al Norte. Referencia: Respuesta al radicado Alcaldía Local No. 20224603452082","Radicar en ORFEO","SGI","13 Teusaquillo"]
[781,2022,"NOVIEMBRE","2022-11-09","08:26:00","CRISTHIAN CAMILO MONTAÑA HERNANDEZ","VIRTUAL","Correo electrónico","angie.triana@gobiernobogota.gov.co","Entidades y Organismos Distritales","Secretaría de Gobierno","Entidades y Organismos Distritales","Funcionario","Femenino","Mujer","Sin datos","Sin datos","Sin datos","Sin datos","PETICIONES ENTRE ENTIDADES","Consulta general","Peticiones entre entidades","20222209259611 - Remisión de expediente para resolver Recurso de Apelación","Radicar en ORFEO","SGI","09 Fontibón"]
[782,2022,"NOVIEMBRE","2022-11-09","09:28:00","CRISTHIAN CAMILO MONTAÑA HERNANDEZ","VIRTUAL","Correo electrónico","radicacion@transmilenio.gov.co","Entidades y Organismos Distritales","Transmilenio","Entidades y Organismos Distritales","Radicación","Masculino","Hombre ","Sin datos","Sin datos","Sin datos","Sin datos","PETICIONES ENTRE ENTIDADES","Consulta general","Peticiones entre entidades","Contrato de Concesión No. 186 de 2020. Solicitud Ajuste 23 Paraderos Nuevos y Reutilización Inoperativos octubre. TM 2022-EE-27973","Radicar en ORFEO","SGI","No Registra"]
[783,2022,"NOVIEMBRE","2022-11-09","09:40:00","CRISTHIAN CAMILO MONTAÑA HERNANDEZ","VIRTUAL","Correo electrónico","jmartinez.cto@alcaldiasoacha.gov.co","Entidades y Organismos Nacionales","Alcandia de Soacha","Entidades y Orgamismos Nacionales","Funcionario","Masculino","Hombre ","Sin datos","Sin datos","Sin datos","Sin datos","PETICIONES ENTRE ENTIDADES","Consulta general","Peticiones entre entidades","CERTIFICADO USO DEL SUELO RADICADO DADEP No. 20222010162681 - RAD 6718","Radicar en ORFEO","SRI","Fuera de Bogotá"]
[784,2022,"NOVIEMBRE","2022-11-09","09:42:00","CRISTHIAN CAMILO MONTAÑA HERNANDEZ","VIRTUAL","Correo electrónico","idrdcorrespondencia@idrd.gov.co","Entidades y Organismos Distritales","Instituto Distrital de Recreación y Deportes","Entidades y Organismos Distritales","idrd correspondencia","Masculino","Hombre ","Sin datos","Sin datos","Sin datos","Sin datos","PETICIONES ENTRE ENTIDADES","Consulta general","Peticiones entre entidades","20221010241851 - RESPUESTA SOLICITUD DE MANTENIMIENTO, ADECUACIÓN DE PARQUES Y ZONAS VERDES EN LA LOCALIDAD DE USME, RADICADO IDRD 20222100319122 / 20222100313182","Radicar en ORFEO","SGI","05 Usme"]
[785,2022,"NOVIEMBRE","2022-11-09","09:58:00","CRISTHIAN CAMILO MONTAÑA HERNANDEZ","VIRTUAL","Correo electrónico","jcastro@icconstructora.com","Empresas privadas","IC Constructora ","Empresas Privadas","Ciudadanía","Masculino","Hombre ","Sin datos","Sin datos","Sin datos","Sin datos","ASESORÍA","Incorporación y entrega de las áreas de cesión a favor del municipio","Entrega de zonas de cesión","INICIO PARA LA ENTREGA Y TRANSFERENCIA DEL ESPACIO PUBLICO URBANIZACIÓN EL ARBORAL (PREDIO LA TORTUGA)","Radicar en ORFEO","SRI","No Registra"]
[786,2022,"NOVIEMBRE","2022-11-09","10:01:00","CRISTHIAN CAMILO MONTAÑA HERNANDEZ","VIRTUAL","Correo electrónico","info@notaria50.co","Entidades y Organismos Nacionales","Notaría 50","Entidades y Orgamismos Nacionales","Información","Masculino","Hombre ","Sin datos","Sin datos","Sin datos","Sin datos","PETICIONES ENTRE ENTIDADES","Consulta general","Peticiones entre entidades","SOLICITUD COPIA DE LA ESCRITURA PÚBLICA No. 141 DEL 8 DE FEBRERO DE 2001, 405 DEL 3 DE MARZO DE 2005","Radicar en ORFEO","OJ","No Registra"]
[787,2022,"NOVIEMBRE","2022-11-09","10:12:00","CRISTHIAN CAMILO MONTAÑA HERNANDEZ","VIRTUAL","Correo electrónico","siga@habitatbogota.gov.co","Entidades y Organismos Distritales","Secretaria de Habitat","Entidades y Organismos Distritales","SIGA","Femenino","Mujer","Sin datos","Sin datos","Sin datos","Sin datos","PETICIONES ENTRE ENTIDADES","Consulta general","Peticiones entre entidades","Comunicación Oficial N° 2-2022-67537","Radicar en ORFEO","SGI","No Registra"]
[788,2022,"NOVIEMBRE","2022-11-09","10:14:00","CRISTHIAN CAMILO MONTAÑA HERNANDEZ","VIRTUAL","Correo electrónico","notaria53bogota@ucnc.com.co","Entidades y Organismos Nacionales","NOTARIA 53","Entidades y Orgamismos Nacionales","Notaria 53","N/A","N/A","Sin datos","Sin datos","Sin datos","Sin datos","PETICIONES ENTRE ENTIDADES","Consulta general","Peticiones entre entidades","SOLICITUD COPIA DE LA ESCRITURA PÚBLICA","Radicar en ORFEO","SRI","No Registra"]
[789,2022,"NOVIEMBRE","2022-11-09","10:21:00","CRISTHIAN CAMILO MONTAÑA HERNANDEZ","VIRTUAL","Correo electrónico","correspondencia.enviada@idu.gov.co","Entidades y Organismos Distritales","Instituto de Desarrollo Urbano","Entidades y Organismos Distritales","Correspondencia","Masculino","Hombre ","Sin datos","Sin datos","Sin datos","Sin datos","PETICIONES ENTRE ENTIDADES","Consulta general","Peticiones entre entidades","RADICADO IDU N° 20223751755871 DEL 08 DE NOVIEMBRE 2022","Radicar en ORFEO","SRI","09 Fontibón"]
[790,2022,"NOVIEMBRE","2022-11-09","10:25:00","CRISTHIAN CAMILO MONTAÑA HERNANDEZ","VIRTUAL","Correo electrónico","correspondencia.enviada@idu.gov.co","Entidades y Organismos Distritales","Instituto de Desarrollo Urbano","Entidades y Organismos Distritales","Correspondencia","Masculino","Hombre ","Sin datos","Sin datos","Sin datos","Sin datos","PETICIONES ENTRE ENTIDADES","Consulta general","Peticiones entre entidades","RADICADO IDU N° 20223461753261 DEL 08 DE NOVIEMBRE 2022","Radicar en ORFEO","SGI","No Registra"]
[791,2022,"NOVIEMBRE","2022-11-09","10:27:00","CRISTHIAN CAMILO MONTAÑA HERNANDEZ","VIRTUAL","Correo electrónico","cdi.engativa@gobiernobogota.gov.co","Entidades y Organismos Distritales","Secretaría de Gobierno","Entidades y Organismos Distritales","CDI Engativá","Masculino","Hombre ","Sin datos","Sin datos","Sin datos","Sin datos","PETICIONES ENTRE ENTIDADES","Consulta general","Peticiones entre entidades","20226040912931 - Respuesta querella policiva.","Radicar en ORFEO","SGI","10 Engativá"]
[792,2022,"NOVIEMBRE","2022-11-09","10:27:00","CRISTHIAN CAMILO MONTAÑA HERNANDEZ","VIRTUAL","Correo electrónico","respuestasrbl@uaesp.gov.co","Entidades y Organismos Distritales","Unidad Administrativa Especial de Servicios Públicos","Entidades y Organismos Distritales","Respuestas RBL","Masculino","Hombre ","Sin datos","Sin datos","Sin datos","Sin datos","PETICIONES ENTRE ENTIDADES","Consulta general","Peticiones entre entidades","Remito radicado UAESP 20222000254001","Radicar en ORFEO","SGI","No Registra"]
[793,2022,"NOVIEMBRE","2022-11-09","10:27:00","CRISTHIAN CAMILO MONTAÑA HERNANDEZ","VIRTUAL","Correo electrónico","cdi.engativa@gobiernobogota.gov.co","Entidades y Organismos Distritales","Secretaría de Gobierno","Entidades y Organismos Distritales","CDI Engativá","Femenino","Mujer","Sin datos","Sin datos","Sin datos","Sin datos","PETICIONES ENTRE ENTIDADES","Consulta general","Peticiones entre entidades","20226030909801 - SINPROC 29253 – Traslado por competencia","Radicar en ORFEO","SGI","10 Engativá"]
[794,2022,"NOVIEMBRE","2022-11-09","10:31:00","CRISTHIAN CAMILO MONTAÑA HERNANDEZ","VIRTUAL","Correo electrónico","respuestasrbl@uaesp.gov.co","Entidades y Organismos Distritales","Unidad Administrativa Especial de Servicios Públicos","Entidades y Organismos Distritales","Respuestas RBL","Masculino","Hombre ","Sin datos","Sin datos","Sin datos","Sin datos","PETICIONES ENTRE ENTIDADES","Consulta general","Peticiones entre entidades","Remito radicado UAESP 20222000255281","Responder a correo electronico","AREA DE ATENCION A LA CIUDADANIA","18 Rafael Uribe Uribe"]
[795,2022,"NOVIEMBRE","2022-11-09","11:02:00","CRISTHIAN CAMILO MONTAÑA HERNANDEZ","VIRTUAL","Correo electrónico","buzoncomunicaciones@sdp.gov.co","Entidades y Organismos Distritales","Secretaría Distrital de Planeación","Entidades y Organismos Distritales","buzon comunicaciones","Femenino","Mujer","Sin datos","Sin datos","Sin datos","Sin datos","PETICIONES ENTRE ENTIDADES","Consulta general","Peticiones entre entidades","2-2022-162157","Radicar en ORFEO","SRI","No Registra"]
[796,2022,"NOVIEMBRE","2022-11-09","11:18:00","CRISTHIAN CAMILO MONTAÑA HERNANDEZ","VIRTUAL","Correo electrónico","protocolo.nta49@gmail.com","Entidades y Organismos Distritales","Secretaría Distrital de Planeación","Entidades y Organismos Distritales","Protocolos","Masculino","Hombre ","Sin datos","Sin datos","Sin datos","Sin datos","PETICIONES ENTRE ENTIDADES","Consulta general","Peticiones entre entidades","SOLICITUD COPIA DE LA ESCRITURA PÚBLICA NO. 3121 DEL 2 DE SEPTIEMBRE DE 1998","Radicar en ORFEO","SRI","No Registra"]
[797,2022,"NOVIEMBRE","2022-11-09","11:19:00","CRISTHIAN CAMILO MONTAÑA HERNANDEZ","VIRTUAL","Correo electrónico","notificado.certimail2020.1@acueducto.com.co","Entidades y Organismos Distritales","Acueducto","Entidades y Organismos Distritales","Funcionario","Masculino","Hombre ","Sin datos","Sin datos","Sin datos","Sin datos","PETICIONES ENTRE ENTIDADES","Consulta general","Peticiones entre entidades","CERTIFICADO S-2022-294850","Radicar en ORFEO","SRI","No Registra"]
[798,2022,"NOVIEMBRE","2022-11-09","11:48:00","CRISTHIAN CAMILO MONTAÑA HERNANDEZ","VIRTUAL","Correo electrónico","jpovedac@procuraduria.gov.co","Ciudadanía","Funcionario","Ciudadanía","Ciudadanía","Masculino","Hombre ","Sin datos","Sin datos","Sin datos","Sin datos","ASESORÍA","Asesoría en administración y sostenibilidad del espacio público","Denuncia vehículos","Derecho de peticion. ","Radicar en ORFEO","SGI","08 Kennedy"]
[799,2022,"NOVIEMBRE","2022-11-09","12:19:00","CRISTHIAN CAMILO MONTAÑA HERNANDEZ","VIRTUAL","Correo electrónico","siga@habitatbogota.gov.co","Entidades y Organismos Distritales","Secretaria de Habitat","Entidades y Organismos Distritales","SIGA","Femenino","Mujer","Sin datos","Sin datos","Sin datos","Sin datos","PETICIONES ENTRE ENTIDADES","Consulta general","Peticiones entre entidades","Comunicación Oficial N° 2-2022-67306","Radicar en ORFEO","SRI","No Registra"]
[800,2022,"NOVIEMBRE","2022-11-09","12:48:00","CRISTHIAN CAMILO MONTAÑA HERNANDEZ","VIRTUAL","Correo electrónico","buzoncomunicaciones@sdp.gov.co","Entidades y Organismos Distritales","Secretaría Distrital de Planeación","Entidades y Organismos Distritales","buzon comunicaciones","Femenino","Mujer","Sin datos","Sin datos","Sin datos","Sin datos","PETICIONES ENTRE ENTIDADES","Consulta general","Peticiones entre entidades","2-2022-162418","Responder a correo electronico","AREA DE ATENCION A LA CIUDADANIA","No Registra"]
[801,2022,"NOVIEMBRE","2022-11-09","12:57:00","CRISTHIAN CAMILO MONTAÑA HERNANDEZ","VIRTUAL","Correo electrónico","buzoncomunicaciones@sdp.gov.co","Entidades y Organismos Distritales","Secretaría Distrital de Planeación","Entidades y Organismos Distritales","buzon comunicaciones","Femenino","Mujer","Sin datos","Sin datos","Sin datos","Sin datos","PETICIONES ENTRE ENTIDADES","Consulta general","Peticiones entre entidades","2-2022-162420","Radicar en ORFEO","DIRECCIÓN","No Registra"]
[802,2022,"NOVIEMBRE","2022-11-09","13:44:00","CRISTHIAN CAMILO MONTAÑA HERNANDEZ","VIRTUAL","Correo electrónico","socratesanvi@gmail.com","Ciudadanía","Funcionario","Ciudadanía","Ciudadanía","Masculino","Hombre ","Sin datos","Sin datos","Sin datos","Sin datos","ASESORÍA","Asesoría en administración y sostenibilidad del espacio público","Denuncia caseta","Petición espacio público","Radicar en ORFEO","SGI","08 Kennedy"]
[803,2022,"NOVIEMBRE","2022-11-09","13:50:00","CRISTHIAN CAMILO MONTAÑA HERNANDEZ","VIRTUAL","Correo electrónico","correspondencia@jbb.gov.co","Entidades y Organismos Distritales","Jardín Botánico de Bogotá","Entidades y Organismos Distritales","Correspondencia","Masculino","Hombre ","Sin datos","Sin datos","Sin datos","Sin datos","PETICIONES ENTRE ENTIDADES","Consulta general","Peticiones entre entidades","2022JBB400063932 - Remisión Solicitud de Autorización Actividad de Agricultura Urbana en Espacio Público","Radicar en ORFEO","SGI","No Registra"]
[804,2022,"NOVIEMBRE","2022-11-09","13:52:00","CRISTHIAN CAMILO MONTAÑA HERNANDEZ","VIRTUAL","Correo electrónico","doctoradiana.lopez@hotmail.com","Ciudadanía","Funcionario","Ciudadanía","Ciudadanía","Femenino","Mujer","Sin datos","Sin datos","Sin datos","Sin datos","ASESORÍA","Estudio de la viabilidad de las solicitudes de administración de bienes públicos","Viabilidad Decreto 070 / 2022 BACA 2.0","Solicitud de autorización de implementación de afectación y/o cierre vial, para el desarrollo de actividades gastronómicas en el Marco del Decreto 070 de 2022 en Usaquén","Radicar en ORFEO","SGI","01 Usaquén"]
[805,2022,"NOVIEMBRE","2022-11-09","13:58:00","CRISTHIAN CAMILO MONTAÑA HERNANDEZ","VIRTUAL","Correo electrónico","correspondencia.i.dadep247@interdisenos.com.co","Empresas privadas","interdisenos","Empresas Privadas","Correspondencia","Femenino","Mujer","Sin datos","Sin datos","Sin datos","Sin datos","NOTIFICACIONES","Estudio de la viabilidad de las solicitudes de administración de bienes públicos","CAMEP Contrato de administración y mantenimiento","GDADEP-948-22 DADEP Reposicion de señales Paquete N° 27","Radicar en ORFEO","SGI","No Registra"]
[806,2022,"NOVIEMBRE","2022-11-09","14:10:00","CRISTHIAN CAMILO MONTAÑA HERNANDEZ","VIRTUAL","Correo electrónico","amanda.gomez@uaesp.gov.co","Entidades y Organismos Distritales","Unidad Administrativa Especial de Servicios Públicos","Entidades y Organismos Distritales","Funcionario","Femenino","Mujer","Sin datos","Sin datos","Sin datos","Sin datos","PETICIONES ENTRE ENTIDADES","Consulta general","Peticiones entre entidades","Alcance a radicado No. 20225000243761; radicado DADEP No. 20224000254152","Radicar en ORFEO","DIRECCIÓN","No Registra"]
[807,2022,"NOVIEMBRE","2022-11-09","14:11:00","CRISTHIAN CAMILO MONTAÑA HERNANDEZ","VIRTUAL","Correo electrónico","lotalora@londonogomez.com","Empresas privadas","Londoño Gómez: Proyectos inmobiliarios","Empresas Privadas","Ciudadanía","Femenino","Mujer","Sin datos","Sin datos","Sin datos","Sin datos","ASESORÍA","Incorporación y entrega de las áreas de cesión a favor del municipio","Entrega de zonas de cesión","Solicitud de los Oficios correspondientes a los RUPI 833-6 (1.125,23 m²) y RUPI 833-2 (2.450,76 m²) localizados en la “Urbanización Alsacia”","Radicar en ORFEO","SRI","No Registra"]
[808,2022,"NOVIEMBRE","2022-11-09","14:13:00","CRISTHIAN CAMILO MONTAÑA HERNANDEZ","VIRTUAL","Correo electrónico","Stella.Diaz@gobiernobogota.gov.co","Juntas Administradoras Locales (JAL)","Secretaría de Gobierno","Juntas Administradoras Locales (JAL)","Funcionario","Femenino","Mujer","Sin datos","Sin datos","Sin datos","Sin datos","PETICIONES ENTRE ENTIDADES","Consulta general","Peticiones entre entidades","Convocatoria mesa de trabajo presencial con ciudadanía y recorrido en el sector por invasión del espacio público","Radicar en ORFEO","DIRECCIÓN","08 Kennedy"]
[809,2022,"NOVIEMBRE","2022-11-09","14:15:00","CRISTHIAN CAMILO MONTAÑA HERNANDEZ","VIRTUAL","Correo electrónico","mofajardo@alianza.com.co","Empresas privadas","Alianza Fiduciaria","Empresas Privadas","Ciudadanía","Femenino","Mujer","Sin datos","Sin datos","Sin datos","Sin datos","NOTIFICACIONES","Estudio de la viabilidad de las solicitudes de administración de bienes públicos","CAMEP Contrato de administración y mantenimiento","Notificación ingreso de Giros Equity – Cuenta Proyecto FIDEICOMISO HUB MOVILIDAD CALLE 136 ALIANZA FIDUCIARIA S.A","Radicar en ORFEO","SGI","01 Usaquén"]
[810,2022,"NOVIEMBRE","2022-11-09","14:53:00","CRISTHIAN CAMILO MONTAÑA HERNANDEZ","VIRTUAL","Correo electrónico","tonoli2ph@gmail.com","Ciudadanía","Funcionario","Ciudadanía","Ciudadanía","Masculino","Hombre ","Sin datos","Sin datos","Sin datos","Sin datos","ASESORÍA","Asesoría en administración y sostenibilidad del espacio público","Asesoría en temas de espacio público","COMUNICACION BAHIA - Asignación de Bahia según RUPI 2136-7","Radicar en ORFEO","SGI","No Registra"]
[811,2022,"NOVIEMBRE","2022-11-09","15:01:00","CRISTHIAN CAMILO MONTAÑA HERNANDEZ","VIRTUAL","Correo electrónico","dianamarcelapradacadavid@hotmail.com","Ciudadanía","Funcionario","Ciudadanía","Ciudadanía","Femenino","Mujer","Sin datos","Sin datos","Sin datos","Sin datos","ASESORÍA","Asesoría en administración y sostenibilidad del espacio público","Asesoría en temas de espacio público","CONSULTA SOBRE ESPACIO PÚBLICO ","Radicar en ORFEO","SGI","No Registra"]
[812,2022,"NOVIEMBRE","2022-11-09","15:12:00","CRISTHIAN CAMILO MONTAÑA HERNANDEZ","VIRTUAL","Correo electrónico","otto.cortes@constructorabolivar.com","Empresas privadas","Constructora Bolivar","Empresas Privadas","Ciudadanía","Masculino","Hombre ","Sin datos","Sin datos","Sin datos","Sin datos","ASESORÍA","Incorporación y entrega de las áreas de cesión a favor del municipio","Entrega de zonas de cesión","Entrega Simplificada de Cesiones Urbanización Hacienda el Pinar","Radicar en ORFEO","SRI","No Registra"]
[813,2022,"NOVIEMBRE","2022-11-09","15:15:00","CRISTHIAN CAMILO MONTAÑA HERNANDEZ","VIRTUAL","Correo electrónico","idrdcorrespondencia@idrd.gov.co","Entidades y Organismos Distritales","Instituto Distrital de Recreación y Deportes","Entidades y Organismos Distritales","idrd correspondencia","Femenino","Mujer","Sin datos","Sin datos","Sin datos","Sin datos","PETICIONES ENTRE ENTIDADES","Consulta general","Peticiones entre entidades","20226200226021 - Se solicita retirar mobiliario del espacio público en zonas verdes y duras del Parque El Virrey en el marco del Proyecto de Reactivación Económica del Sector Gastronómico “Bogotá A Cielo Abierto”","Radicar en ORFEO","SGI","No Registra"]
[814,2022,"NOVIEMBRE","2022-11-09","15:18:00","CRISTHIAN CAMILO MONTAÑA HERNANDEZ","VIRTUAL","Correo electrónico","correspondencia@idiger.gov.co","Entidades y Organismos Distritales","instituto Distrital de Gestión de Riesgos y Cambio Climático","Entidades y Organismos Distritales","Correspondencia","Femenino","Mujer","Sin datos","Sin datos","Sin datos","Sin datos","PETICIONES ENTRE ENTIDADES","Consulta general","Peticiones entre entidades","Solicitud incorporación predios propiedad del Idiger en el RUPI/2022EE18642","Radicar en ORFEO","SRI","No Registra"]
[815,2022,"NOVIEMBRE","2022-11-10","15:22:00","CRISTHIAN CAMILO MONTAÑA HERNANDEZ","VIRTUAL","Correo electrónico","notariatabio@hotmail.com","Entidades y Organismos Nacionales","NOTARIA UNICA DE TABIO CUNDINAMARCA ","Entidades y Orgamismos Nacionales","Notaria de Tabio","N/A","N/A","Sin datos","Sin datos","Sin datos","Sin datos","PETICIONES ENTRE ENTIDADES","Consulta general","Peticiones entre entidades","Memorando 20222030045853 del 11 de julio del 2022 ASUNTO: Derecho de Petición Ley 1755 del 2015 Solicitud de Copias de Escritura Públicas,","Radicar en ORFEO","SRI","Fuera de Bogotá"]
[816,2022,"NOVIEMBRE","2022-11-10","15:35:00","CRISTHIAN CAMILO MONTAÑA HERNANDEZ","VIRTUAL","Correo electrónico","scruzg@ucentral.edu.co","Ciudadanía","Funcionario","Ciudadanía","Ciudadanía","Masculino","Hombre ","Sin datos","Sin datos","Sin datos","Sin datos","ASESORÍA","Estudio de la viabilidad de las solicitudes de administración de bienes públicos","Viabilidad Decreto 070 / 2022 BACA 2.0","DERECHO DE PETICIÓN EN INTERES PARTICULAR, USO DE ESPACIO PÚBLICO","Radicar en ORFEO","SGI","No Registra"]
[817,2022,"NOVIEMBRE","2022-11-10","15:41:00","CRISTHIAN CAMILO MONTAÑA HERNANDEZ","VIRTUAL","Correo electrónico","cdi.kennedy@gobiernobogota.gov.co","Entidades y Organismos Distritales","Secretaría de Gobierno","Entidades y Organismos Distritales","cdi Kennedy","Masculino","Hombre ","Sin datos","Sin datos","Sin datos","Sin datos","PETICIONES ENTRE ENTIDADES","Consulta general","Peticiones entre entidades","Remito oficio No 2022583301131","Radicar en ORFEO","SGI","08 Kennedy"]
[818,2022,"NOVIEMBRE","2022-11-10","15:42:00","CRISTHIAN CAMILO MONTAÑA HERNANDEZ","VIRTUAL","Correo electrónico","milroman@hotmail.com","Organizaciones Sociales","Comité Cívico Zona Verde # 5 Bosa Piamonte Primer Sector ","Organizaciones Sociales","comite cívico #5 Bosa","N/A","N/A","Sin datos","Sin datos","Sin datos","Sin datos","NOTIFICACIONES","Estudio de la viabilidad de las solicitudes de administración de bienes públicos","CAMEP Contrato de administración y mantenimiento","CAMEP 288-2017 - Informe de gestión 2022 ajustado - Libros contables","Radicar en ORFEO","SGI","07 Bosa"]
[819,2022,"NOVIEMBRE","2022-11-10","15:43:00","CRISTHIAN CAMILO MONTAÑA HERNANDEZ","VIRTUAL","Correo electrónico","controlciudadano@contraloriabogota.gov.co","Entidades y Organismos Distritales","Contraloría de Bogotá","Entidades y Organismos Distritales","Control Ciudadano","Masculino","Hombre ","Sin datos","Sin datos","Sin datos","Sin datos","PETICIONES ENTRE ENTIDADES","Consulta general","Peticiones entre entidades","2-2022-23744 - Traslado por competencia el oficio radicado en este Ente de Control con No. 1-2022-26657 el 4 de noviembre de 2022. DPC-1899-22.","Radicar en ORFEO","DIRECCIÓN","No Registra"]
[820,2022,"NOVIEMBRE","2022-11-10","15:54:00","CRISTHIAN CAMILO MONTAÑA HERNANDEZ","VIRTUAL","Correo electrónico","correspondencia.enviada1@idu.gov.co","Entidades y Organismos Distritales","Instituto de Desarrollo Urbano","Entidades y Organismos Distritales","Correspondencia","Femenino","Mujer","Sin datos","Sin datos","Sin datos","Sin datos","PETICIONES ENTRE ENTIDADES","Consulta general","Peticiones entre entidades","RADICADO IDU N° 20222351759671 DEL 09 DE NOVIEMBRE 2022","Radicar en ORFEO","DIRECCIÓN","No Registra"]
[821,2022,"NOVIEMBRE","2022-11-10","15:57:00","CRISTHIAN CAMILO MONTAÑA HERNANDEZ","VIRTUAL","Correo electrónico","correocertificado@sic.gov.co","Entidades y Organismos Nacionales","Superintendencia de Industria y Comercio","Entidades y Orgamismos Nacionales","Correo certificado","Masculino","Hombre ","Sin datos","Sin datos","Sin datos","Sin datos","PETICIONES ENTRE ENTIDADES","Consulta general","Peticiones entre entidades","COMUNICACION:Radicado No. 22-289348- -5|1484587","Radicar en ORFEO","DIRECCIÓN","No Registra"]
[822,2022,"NOVIEMBRE","2022-11-10","16:01:00","CRISTHIAN CAMILO MONTAÑA HERNANDEZ","VIRTUAL","Correo electrónico","correspondencia.i.dadep378@interdisenos.com.co","Empresas privadas","interdisenos","Empresas Privadas","Correspondencia","Femenino","Mujer","Sin datos","Sin datos","Sin datos","Sin datos","NOTIFICACIONES","Estudio de la viabilidad de las solicitudes de administración de bienes públicos","CAMEP Contrato de administración y mantenimiento","GDADEP06-0548-22 SOLICITUD DE NO OBJECIÓN DE PLAZO DE CURA. PRESUNTO INCUMPLIMIENTO GASTOS SUBCUENTA AMBIENTAL Y SOCIAL","Radicar en ORFEO","SGI","No Registra"]
[823,2022,"NOVIEMBRE","2022-11-10","16:12:00","CRISTHIAN CAMILO MONTAÑA HERNANDEZ","VIRTUAL","Correo electrónico","ralarcon@acueducto.com.co","Entidades y Organismos Distritales","Acueducto","Entidades y Organismos Distritales","Funcionario","Masculino","Hombre ","Sin datos","Sin datos","Sin datos","Sin datos","PETICIONES ENTRE ENTIDADES","Consulta general","Peticiones entre entidades","Facturación cuenta contrato 10048129","Radicar en ORFEO","SGI","No Registra"]
[824,2022,"NOVIEMBRE","2022-11-10","16:13:00","CRISTHIAN CAMILO MONTAÑA HERNANDEZ","VIRTUAL","Correo electrónico","ccsorpresas@hotmail.com","Empresas privadas","Centro Comercial Sorpresas","Empresas Privadas","Centro Comercial Sorpresas","N/A","N/A","Sin datos","Sin datos","Sin datos","Sin datos","NOTIFICACIONES","Estudio de la viabilidad de las solicitudes de administración de bienes públicos","CAMEP Contrato de administración y mantenimiento","DERECHO DE PETICION","Radicar en ORFEO","SGI","03 Santa fe"]
[825,2022,"NOVIEMBRE","2022-11-10","16:15:00","CRISTHIAN CAMILO MONTAÑA HERNANDEZ","VIRTUAL","Correo electrónico","respuestasrbl@uaesp.gov.co","Entidades y Organismos Distritales","Unidad Administrativa Especial de Servicios Públicos","Entidades y Organismos Distritales","Respuestas RBL","Masculino","Hombre ","Sin datos","Sin datos","Sin datos","Sin datos","PETICIONES ENTRE ENTIDADES","Consulta general","Peticiones entre entidades","Remito radicado UAESP 20222000256961","Radicar en ORFEO","SGI","No Registra"]
[826,2022,"NOVIEMBRE","2022-11-10","16:44:00","CRISTHIAN CAMILO MONTAÑA HERNANDEZ","VIRTUAL","Correo electrónico","ytrodriguez@dadep.gov.co","Servidores públicos (funcionarios y contratistas)","Funcionario","Servidores públicos (funcionarios y contratistas)","Servidor público","Femenino","Mujer","Sin datos","Sin datos","Sin datos","Sin datos","NOTIFICACIONES","Consulta general","Contratos jurídica","Solicitud suspensión del contrato No. 110-00128-243-0-2022","Radicar en ORFEO","OJ","No Registra"]
[827,2022,"NOVIEMBRE","2022-11-10","16:54:00","CRISTHIAN CAMILO MONTAÑA HERNANDEZ","VIRTUAL","Correo electrónico","cdi.despacho@gobiernobogota.gov.co","Entidades y Organismos Distritales","Secretaría de Gobierno","Entidades y Organismos Distritales","CDI Despacho","Masculino","Hombre ","Sin datos","Sin datos","Sin datos","Sin datos","PETICIONES ENTRE ENTIDADES","Consulta general","Peticiones entre entidades","20225320759821 - INVITACION MESA DE TRABAJO","Radicar en ORFEO","DIRECCIÓN","03 Santa fe"]
[828,2022,"NOVIEMBRE","2022-11-10","17:05:00","CRISTHIAN CAMILO MONTAÑA HERNANDEZ","VIRTUAL","Correo electrónico","correspondencia.enviada@idu.gov.co","Entidades y Organismos Distritales","Instituto de Desarrollo Urbano","Entidades y Organismos Distritales","Correspondencia","Masculino","Hombre ","Sin datos","Sin datos","Sin datos","Sin datos","PETICIONES ENTRE ENTIDADES","Consulta general","Peticiones entre entidades","RADICADO IDU N° 20222051759381 DEL 09 DE NOVIEMBRE 2022","Radicar en ORFEO","SRI","No Registra"]
[829,2022,"NOVIEMBRE","2022-11-10","17:13:00","CRISTHIAN CAMILO MONTAÑA HERNANDEZ","VIRTUAL","Correo electrónico","consorciodpa@gmail.com","Empresas privadas","Consorcio Diseño Puente Aranda","Empresas Privadas","Consorcio Diseño Puente Aranda","N/A","N/A","Sin datos","Sin datos","Sin datos","Sin datos","CONSULTA","Certificación de la propiedad inmobiliaria distrital","Certificación de la propiedad inmobiliaria","Certificación de la propiedad inmobiliaria distrital vigente del predio con código RUPI 470-13","Radicar en ORFEO","SRI","No Registra"]
[830,2022,"NOVIEMBRE","2022-11-10","17:29:00","CRISTHIAN CAMILO MONTAÑA HERNANDEZ","VIRTUAL","Correo electrónico","correspondencia@veeduriadistrital.gov.co","Entidades y Organismos Distritales","veeduría distrital","Entidades y Organismos Distritales","Correspondencia","Femenino","Mujer","Sin datos","Sin datos","Sin datos","Sin datos","PETICIONES ENTRE ENTIDADES","Consulta general","Peticiones entre entidades",20226000000000,"Responder a correo electronico","AREA DE ATENCION A LA CIUDADANIA","No Registra"]
[831,2022,"NOVIEMBRE","2022-11-10","17:34:00","CRISTHIAN CAMILO MONTAÑA HERNANDEZ","VIRTUAL","Correo electrónico","javier.mendez@gobiernobogota.gov.co","Entidades y Organismos Distritales","Secretaría de Gobierno","Entidades y Organismos Distritales","Funcionario","Masculino","Hombre ","Sin datos","Sin datos","Sin datos","Sin datos","PETICIONES ENTRE ENTIDADES","Consulta general","Peticiones entre entidades","20225540781171 - SOLICITUD CERTIFICACION DE CALIDAD Y NATURALEZA JURIDICA LA QUERELLA","Radicar en ORFEO","SGI","05 Usme"]
[832,2022,"NOVIEMBRE","2022-11-10","18:05:00","CRISTHIAN CAMILO MONTAÑA HERNANDEZ","VIRTUAL","Correo electrónico","salidascdi.suba@gobiernobogota.gov.co","Entidades y Organismos Distritales","Secretaría de Gobierno","Entidades y Organismos Distritales","Alcaldía de Suba","Femenino","Mujer","Sin datos","Sin datos","Sin datos","Sin datos","PETICIONES ENTRE ENTIDADES","Consulta general","Peticiones entre entidades","20226142015401 - Comunicación de Reparto.","Radicar en ORFEO","SGI","11 Suba"]
[833,2022,"NOVIEMBRE","2022-11-10","18:10:00","CRISTHIAN CAMILO MONTAÑA HERNANDEZ","VIRTUAL","Correo electrónico","florsilvestre_957@hotmail.com","Ciudadanía","Funcionario","Ciudadanía","Ciudadanía","Femenino","Mujer","Sin datos","Sin datos","Sin datos","Sin datos","ASESORÍA","Incorporación y entrega de las áreas de cesión a favor del municipio","Entrega de zonas de cesión","imcorporacion - calle 143 52 45","Radicar en ORFEO","SRI","No Registra"]
[834,2022,"NOVIEMBRE","2022-11-10","18:15:00","CRISTHIAN CAMILO MONTAÑA HERNANDEZ","VIRTUAL","Correo electrónico","actosadministrativos@sdp.gov.co","Entidades y Organismos Distritales","Secretaría Distrital de Planeación","Entidades y Organismos Distritales","Actos administrativos","N/A","N/A","Sin datos","Sin datos","Sin datos","Sin datos","PETICIONES ENTRE ENTIDADES","Consulta general","Peticiones entre entidades","2-2022-162936","Radicar en ORFEO","DIRECCIÓN","No Registra"]
[835,2022,"NOVIEMBRE","2022-11-10","18:29:00","CRISTHIAN CAMILO MONTAÑA HERNANDEZ","VIRTUAL","Correo electrónico","mofajardo@alianza.com.co","Empresas privadas","Alianza Fiduciaria","Empresas Privadas","Ciudadanía","Femenino","Mujer","Sin datos","Sin datos","Sin datos","Sin datos","NOTIFICACIONES","Estudio de la viabilidad de las solicitudes de administración de bienes públicos","CAMEP Contrato de administración y mantenimiento","Notificación ingreso de Giros Equity – Cuenta Proyecto FIDEICOMISO HUB MOVILIDAD CALLE 136 ALIANZA FIDUCIARIA S.A","Radicar en ORFEO","SGI","01 Usaquén"]
[836,2022,"NOVIEMBRE","2022-11-10","18:44:00","CRISTHIAN CAMILO MONTAÑA HERNANDEZ","VIRTUAL","Correo electrónico","salidascdi.suba@gobiernobogota.gov.co","Entidades y Organismos Distritales","Secretaría de Gobierno","Entidades y Organismos Distritales","Alcaldía de Suba","Femenino","Mujer","Sin datos","Sin datos","Sin datos","Sin datos","PETICIONES ENTRE ENTIDADES","Consulta general","Peticiones entre entidades",20226100000000,"Radicar en ORFEO","SGI","11 Suba"]
[837,2022,"NOVIEMBRE","2022-11-10","19:14:00","CRISTHIAN CAMILO MONTAÑA HERNANDEZ","VIRTUAL","Correo electrónico","oscar.cardenas@uaesp.gov.co","Entidades y Organismos Distritales","Unidad Administrativa Especial de Servicios Públicos","Entidades y Organismos Distritales","Funcionario","Femenino","Mujer","Sin datos","Sin datos","Sin datos","Sin datos","PETICIONES ENTRE ENTIDADES","Consulta general","Peticiones entre entidades","Oficio UAESP 20224000 254571-Solicitud informacion - estado de infraestructura alumbrado publico - paso peatonal entre Calle 160 - Carrera 62 - Colina Campestre - Suba.","Radicar en ORFEO","SGI","11 Suba"]
[838,2022,"NOVIEMBRE","2022-11-10","19:15:00","CRISTHIAN CAMILO MONTAÑA HERNANDEZ","VIRTUAL","Correo electrónico","oscar.cardenas@uaesp.gov.co","Entidades y Organismos Distritales","Unidad Administrativa Especial de Servicios Públicos","Entidades y Organismos Distritales","Funcionario","Femenino","Mujer","Sin datos","Sin datos","Sin datos","Sin datos","PETICIONES ENTRE ENTIDADES","Consulta general","Peticiones entre entidades","Oficio UAESP 20224000 256141-Recuperacion de espacio publico designado para parques vecinales y de bolsillo.","Radicar en ORFEO","SGI","No Registra"]
[839,2022,"NOVIEMBRE","2022-11-10","19:16:00","CRISTHIAN CAMILO MONTAÑA HERNANDEZ","VIRTUAL","Correo electrónico","oscar.cardenas@uaesp.gov.co","Entidades y Organismos Distritales","Unidad Administrativa Especial de Servicios Públicos","Entidades y Organismos Distritales","Funcionario","Femenino","Mujer","Sin datos","Sin datos","Sin datos","Sin datos","PETICIONES ENTRE ENTIDADES","Consulta general","Peticiones entre entidades","Oficio UAESP 20224000 258781-Alumbrado publico parque San Rafael Norte 1 - Carrera 54 D No. 134 - 50 - Suba.","Radicar en ORFEO","SGI","11 Suba"]
[840,2022,"NOVIEMBRE","2022-11-10","22:33:00","CRISTHIAN CAMILO MONTAÑA HERNANDEZ","VIRTUAL","Correo electrónico","buzoncomunicaciones@sdp.gov.co","Entidades y Organismos Distritales","Secretaría Distrital de Planeación","Entidades y Organismos Distritales","buzon comunicaciones","Femenino","Mujer","Sin datos","Sin datos","Sin datos","Sin datos","PETICIONES ENTRE ENTIDADES","Consulta general","Peticiones entre entidades","2-2022-163131","Radicar en ORFEO","SRI","No Registra"]
[841,2022,"NOVIEMBRE","2022-11-10","00:23:00","CRISTHIAN CAMILO MONTAÑA HERNANDEZ","VIRTUAL","Correo electrónico","jorge8ae@gmail.com","Ciudadanía","Funcionario","Ciudadanía","Ciudadanía","Masculino","Hombre ","Sin datos","Sin datos","Sin datos","Sin datos","ASESORÍA","Estudio de la viabilidad de las solicitudes de administración de bienes públicos","Convenio solidario","manejo y administración de un parqueadero propiedad del Distrito, existe en la cláusula 7","Radicar en ORFEO","SGI","No Registra"]
[842,2022,"NOVIEMBRE","2022-11-10","06:46:00","CRISTHIAN CAMILO MONTAÑA HERNANDEZ","VIRTUAL","Correo electrónico","correspondencia.enviada1@idu.gov.co","Entidades y Organismos Distritales","Instituto de Desarrollo Urbano","Entidades y Organismos Distritales","Correspondencia","Masculino","Hombre ","Sin datos","Sin datos","Sin datos","Sin datos","PETICIONES ENTRE ENTIDADES","Consulta general","Peticiones entre entidades","RADICADO IDU N° 20223461760221 DEL 09 DE NOVIEMBRE 2022","Radicar en ORFEO","SGI","No Registra"]
[843,2022,"NOVIEMBRE","2022-11-10","07:33:00","CRISTHIAN CAMILO MONTAÑA HERNANDEZ","VIRTUAL","Correo electrónico","siga@habitatbogota.gov.co","Entidades y Organismos Distritales","Secretaria de Habitat","Entidades y Organismos Distritales","SIGA","Femenino","Mujer","Sin datos","Sin datos","Sin datos","Sin datos","PETICIONES ENTRE ENTIDADES","Consulta general","Peticiones entre entidades","Comunicación Oficial N° 2-2022-68076","Radicar en ORFEO","SRI","No Registra"]
[844,2022,"NOVIEMBRE","2022-11-10","08:00:00","CRISTHIAN CAMILO MONTAÑA HERNANDEZ","VIRTUAL","Correo electrónico","siga@habitatbogota.gov.co","Entidades y Organismos Distritales","Secretaria de Habitat","Entidades y Organismos Distritales","SIGA","Femenino","Mujer","Sin datos","Sin datos","Sin datos","Sin datos","PETICIONES ENTRE ENTIDADES","Consulta general","Peticiones entre entidades","Comunicación Oficial N° 2-2022-68100","Radicar en ORFEO","SRI","No Registra"]
[845,2022,"NOVIEMBRE","2022-11-10","08:54:00","CRISTHIAN CAMILO MONTAÑA HERNANDEZ","VIRTUAL","Correo electrónico","cdi.engativa@gobiernobogota.gov.co","Entidades y Organismos Distritales","Secretaría de Gobierno","Entidades y Organismos Distritales","CDI Engativá","Femenino","Mujer","Sin datos","Sin datos","Sin datos","Sin datos","PETICIONES ENTRE ENTIDADES","Consulta general","Peticiones entre entidades",20226000000000,"Radicar en ORFEO","SGI","10 Engativá"]
[846,2022,"NOVIEMBRE","2022-11-10","09:45:00","CRISTHIAN CAMILO MONTAÑA HERNANDEZ","VIRTUAL","Correo electrónico","socialconsorciociclorutas.ss@gmail.com","Empresas privadas","Consorcio Ciclorutas","Empresas Privadas","Ciudadanía","Masculino","Hombre ","Sin datos","Sin datos","Sin datos","Sin datos","ASESORÍA","Incorporación y entrega de las áreas de cesión a favor del municipio","Entrega de zonas de cesión","DERECHO DE PETICIÓN SOLICITUD INFORMACIÓN ZONAS DE ESPACIO PÚBLICO.","Radicar en ORFEO","SRI","No Registra"]
[847,2022,"NOVIEMBRE","2022-11-10","10:06:00","CRISTHIAN CAMILO MONTAÑA HERNANDEZ","VIRTUAL","Correo electrónico","consorciodpa@gmail.com","Empresas privadas","Consorcio Diseño Puente Aranda","Empresas Privadas","Consorcio Diseño Puente Aranda","N/A","N/A","Sin datos","Sin datos","Sin datos","Sin datos","ASESORÍA","Certificación de la propiedad inmobiliaria distrital","Certificación de la propiedad inmobiliaria","Solicitud de Certificación de Propiedad Inmobiliaria Distrital para el RUPI 470-13","Radicar en ORFEO","SRI","No Registra"]
[848,2022,"NOVIEMBRE","2022-11-10","10:23:00","CRISTHIAN CAMILO MONTAÑA HERNANDEZ","VIRTUAL","Correo electrónico","idrdcorrespondencia@idrd.gov.co","Entidades y Organismos Distritales","Instituto Distrital de Recreación y Deportes","Entidades y Organismos Distritales","idrd correspondencia","Masculino","Hombre ","Sin datos","Sin datos","Sin datos","Sin datos","PETICIONES ENTRE ENTIDADES","Consulta general","Peticiones entre entidades","20225200239931 - Información Ciclovía Nocturna “LUCE BOGOTÁ” del 15 de diciembre de 2022","Radicar en ORFEO","DIRECCIÓN","No Registra"]
[849,2022,"NOVIEMBRE","2022-11-10","10:34:00","CRISTHIAN CAMILO MONTAÑA HERNANDEZ","VIRTUAL","Correo electrónico","correspondencia.i.dadep378@interdisenos.com.co","Empresas privadas","interdisenos","Empresas Privadas","Correspondencia","Femenino","Mujer","Sin datos","Sin datos","Sin datos","Sin datos","NOTIFICACIONES","Estudio de la viabilidad de las solicitudes de administración de bienes públicos","CAMEP Contrato de administración y mantenimiento","GDADEP06-0550-22 RTA. OFICIOS 20223080146201 Y 20223080147541. ESTADO INDIVIDUO ARBÓREO CON AFECTACIÓN","Radicar en ORFEO","SGI","No Registra"]
[850,2022,"NOVIEMBRE","2022-11-10","10:49:00","CRISTHIAN CAMILO MONTAÑA HERNANDEZ","VIRTUAL","Correo electrónico","correspondencia@ani.gov.co","Entidades y Organismos Nacionales","Agencia Nacional de Infraestructura","Entidades y Orgamismos Nacionales","Correspondencia","Masculino","Hombre ","Sin datos","Sin datos","Sin datos","Sin datos","PETICIONES ENTRE ENTIDADES","Consulta general","Peticiones entre entidades","20222000353191 RESPUESTA ANI","Radicar en ORFEO","DIRECCIÓN","No Registra"]
[851,2022,"NOVIEMBRE","2022-11-10","11:14:00","CRISTHIAN CAMILO MONTAÑA HERNANDEZ","VIRTUAL","Correo electrónico","hlsanchez@concejobogota.gov.co","Entidades y Organismos Distritales","Concejo de Bogotá","Entidades y Organismos Distritales","Funcionario","Femenino","Mujer","Sin datos","Sin datos","Sin datos","Sin datos","PETICIONES ENTRE ENTIDADES","Consulta general","Peticiones entre entidades","ACTA REUNION PARQUE LAS FLORES - H.C HEIDY SANCHEZ","Radicar en ORFEO","DIRECCIÓN","No Registra"]
[852,2022,"NOVIEMBRE","2022-11-10","11:17:00","CRISTHIAN CAMILO MONTAÑA HERNANDEZ","VIRTUAL","Correo electrónico","buzoncomunicaciones@sdp.gov.co","Entidades y Organismos Distritales","Secretaría Distrital de Planeación","Entidades y Organismos Distritales","buzon comunicaciones","Femenino","Mujer","Sin datos","Sin datos","Sin datos","Sin datos","PETICIONES ENTRE ENTIDADES","Consulta general","Peticiones entre entidades","2-2022-163388","Radicar en ORFEO","SRI","No Registra"]
[853,2022,"NOVIEMBRE","2022-11-10","11:49:00","CRISTHIAN CAMILO MONTAÑA HERNANDEZ","VIRTUAL","Correo electrónico","correspondencia.cau@promoambientaldistrito.com","Entidades y Organismos Distritales","Promoambiental Distrito","Entidades y Organismos Distritales","Correspondencia","Femenino","Mujer","Sin datos","Sin datos","Sin datos","Sin datos","PETICIONES ENTRE ENTIDADES","Consulta general","Peticiones entre entidades","Traslado por competencia PQR-2022-2049","Radicar en ORFEO","SGI","No Registra"]
[854,2022,"NOVIEMBRE","2022-11-10","11:52:00","CRISTHIAN CAMILO MONTAÑA HERNANDEZ","VIRTUAL","Correo electrónico","acmelog@unal.edu.co","Ciudadanía","Funcionario","Ciudadanía","Ciudadanía","Femenino","Mujer","Sin datos","Sin datos","Sin datos","Sin datos","ASESORÍA","Consulta general","Contratos jurídica","DERECHO DE PETICIÓN ARTICULO 23 CONSTITUCION","Radicar en ORFEO","OJ","No Registra"]
[855,2022,"NOVIEMBRE","2022-11-10","12:03:00","CRISTHIAN CAMILO MONTAÑA HERNANDEZ","VIRTUAL","Correo electrónico","correspondencia.cau@promoambientaldistrito.com","Entidades y Organismos Distritales","Promoambiental Distrito","Entidades y Organismos Distritales","Correspondencia","Femenino","Mujer","Sin datos","Sin datos","Sin datos","Sin datos","PETICIONES ENTRE ENTIDADES","Consulta general","Peticiones entre entidades","Traslado por competencia PQR-2022-2050","Radicar en ORFEO","SGI","No Registra"]
[856,2022,"NOVIEMBRE","2022-11-10","12:21:00","CRISTHIAN CAMILO MONTAÑA HERNANDEZ","VIRTUAL","Correo electrónico","planeacion@desarrolloeconomico.gov.co","Entidades y Organismos Distritales","Instituto de Desarrollo Económico","Entidades y Organismos Distritales","Planeación","Femenino","Mujer","Sin datos","Sin datos","Sin datos","Sin datos","PETICIONES ENTRE ENTIDADES","Consulta general","Peticiones entre entidades","Respuesta Solicitud Rad. 20222050176861 - Reporte de Seguimiento productos aprobados en CONPES 06 de 2019 – Política Pública Distrital de Espacio Público año 2022 - III Trimestre","Radicar en ORFEO","DIRECCIÓN","No Registra"]
[857,2022,"NOVIEMBRE","2022-11-10","12:22:00","CRISTHIAN CAMILO MONTAÑA HERNANDEZ","VIRTUAL","Correo electrónico","sirius2@personeriabogota.gov.co","Entidades y Organismos Distritales","personeria de bogota","Entidades y Organismos Distritales","Sirius 2","Masculino","Hombre ","Sin datos","Sin datos","Sin datos","Sin datos","PETICIONES ENTRE ENTIDADES","Consulta general","Peticiones entre entidades","Respuesta 2022-EE-0566749 2022-11-10","Radicar en ORFEO","DIRECCIÓN","No Registra"]
[858,2022,"NOVIEMBRE","2022-11-10","13:32:00","CRISTHIAN CAMILO MONTAÑA HERNANDEZ","VIRTUAL","Correo electrónico","sjabisambra@concejobogota.gov.co","Entidades y Organismos Distritales","Concejo de Bogotá","Entidades y Organismos Distritales","Funcionario","Masculino","Hombre ","Sin datos","Sin datos","Sin datos","Sin datos","PETICIONES ENTRE ENTIDADES","Consulta general","Peticiones entre entidades","EJERCICIO DE CONTROL POLÍTICO A LA DEVOLUCIÓN DE PREDIOS CON RUPI 2605-23 Y 2605-22 DE LA SED AL DADEP, PAGO DE SERVICIOS PÚBLICOS PENDIENTES, MESA DE TRABAJO 18 DE OCTUBRE 5:00 PM. SOLICITUD DE ENTREGA POSTERIOR A LA JAC PARA EL APROVECHAMIENTO SOCIAL.","Radicar en ORFEO","DIRECCIÓN","No Registra"]
[859,2022,"NOVIEMBRE","2022-11-10","13:37:00","CRISTHIAN CAMILO MONTAÑA HERNANDEZ","VIRTUAL","Correo electrónico","amanda.munevar@mendebal.com","Empresas privadas","Constructora Mendebal","Empresas Privadas","Ciudadanía","Femenino","Mujer","Sin datos","Sin datos","Sin datos","Sin datos","ASESORÍA","Incorporación y entrega de las áreas de cesión a favor del municipio","Entrega de zonas de cesión","Entrega de las zonas de cesión de la Urbanización SAN MIGUEL de la Localidad de Fontibón (09). Radicado 20222010141471 de 12-09-2022","Radicar en ORFEO","SRI","09 Fontibón"]
[860,2022,"NOVIEMBRE","2022-11-10","13:43:00","CRISTHIAN CAMILO MONTAÑA HERNANDEZ","VIRTUAL","Correo electrónico","correspondencia.cau@promoambientaldistrito.com","Entidades y Organismos Distritales","Promoambiental Distrito","Entidades y Organismos Distritales","Correspondencia","Femenino","Mujer","Sin datos","Sin datos","Sin datos","Sin datos","PETICIONES ENTRE ENTIDADES","Consulta general","Peticiones entre entidades","Traslado por competencia PQR-2022-2053","Radicar en ORFEO","SGI","No Registra"]
[861,2022,"NOVIEMBRE","2022-11-10","13:58:00","CRISTHIAN CAMILO MONTAÑA HERNANDEZ","VIRTUAL","Correo electrónico","correspondencia.cau@promoambientaldistrito.com","Entidades y Organismos Distritales","Promoambiental Distrito","Entidades y Organismos Distritales","Correspondencia","Femenino","Mujer","Sin datos","Sin datos","Sin datos","Sin datos","PETICIONES ENTRE ENTIDADES","Consulta general","Peticiones entre entidades","Traslado por competencia PQR-2022-PQR-2022-2054","Radicar en ORFEO","SGI","No Registra"]
[862,2022,"NOVIEMBRE","2022-11-10","14:16:00","CRISTHIAN CAMILO MONTAÑA HERNANDEZ","VIRTUAL","Correo electrónico","notificaciones_catastro@catastrobogota.gov.co","Entidades y Organismos Distritales","Catastro de Bogotá","Entidades y Organismos Distritales","Notificaciones","Femenino","Mujer","Sin datos","Sin datos","Sin datos","Sin datos","PETICIONES ENTRE ENTIDADES","Consulta general","Peticiones entre entidades","UAECD 2022 EE 82607 (uaecd 2022 er 39208) ","Radicar en ORFEO","SRI","No Registra"]
[863,2022,"NOVIEMBRE","2022-11-10","14:39:00","CRISTHIAN CAMILO MONTAÑA HERNANDEZ","VIRTUAL","Correo electrónico","mofajardo@alianza.com.co","Empresas privadas","Alianza Fiduciaria","Empresas Privadas","Ciudadanía","Femenino","Mujer","Sin datos","Sin datos","Sin datos","Sin datos","NOTIFICACIONES","Estudio de la viabilidad de las solicitudes de administración de bienes públicos","CAMEP Contrato de administración y mantenimiento","Notificación ingreso de Giros Equity – Cuenta Proyecto FIDEICOMISO HUB MOVILIDAD CALLE 136 ALIANZA FIDUCIARIA S.A","Radicar en ORFEO","SGI","01 Usaquén"]
[864,2022,"NOVIEMBRE","2022-11-10","14:49:00","CRISTHIAN CAMILO MONTAÑA HERNANDEZ","VIRTUAL","Correo electrónico","mofajardo@alianza.com.co","Empresas privadas","Alianza Fiduciaria","Empresas Privadas","Ciudadanía","Femenino","Mujer","Sin datos","Sin datos","Sin datos","Sin datos","NOTIFICACIONES","Estudio de la viabilidad de las solicitudes de administración de bienes públicos","CAMEP Contrato de administración y mantenimiento","Notificación ingreso de Recursos de Deuda-FIDEICOMISO HUB MOVILIDAD CALLE 136 ALIANZA FIDUCIARIA S.A","Radicar en ORFEO","SGI","01 Usaquén"]
[865,2022,"NOVIEMBRE","2022-11-10","14:51:00","CRISTHIAN CAMILO MONTAÑA HERNANDEZ","VIRTUAL","Correo electrónico","buzonjudicial@sdp.gov.co","Entidades y Organismos Distritales","Secretaría Distrital de Planeación","Entidades y Organismos Distritales","buzon judicial","Femenino","Mujer","Sin datos","Sin datos","Sin datos","Sin datos","PETICIONES ENTRE ENTIDADES","Consulta general","Peticiones entre entidades","2-2022-162349","Radicar en ORFEO","OJ","No Registra"]
[866,2022,"NOVIEMBRE","2022-11-10","14:52:00","CRISTHIAN CAMILO MONTAÑA HERNANDEZ","VIRTUAL","Correo electrónico","siga@habitatbogota.gov.co","Entidades y Organismos Distritales","Secretaria de Habitat","Entidades y Organismos Distritales","SIGA","Masculino","Hombre ","Sin datos","Sin datos","Sin datos","Sin datos","PETICIONES ENTRE ENTIDADES","Consulta general","Peticiones entre entidades","Comunicación Oficial N° 2-2022-67582","Radicar en ORFEO","DIRECCIÓN","No Registra"]
[867,2022,"NOVIEMBRE","2022-11-10","14:54:00","CRISTHIAN CAMILO MONTAÑA HERNANDEZ","VIRTUAL","Correo electrónico","buzonjudicial@sdp.gov.co","Entidades y Organismos Distritales","Secretaría Distrital de Planeación","Entidades y Organismos Distritales","buzon judicial","Femenino","Mujer","Sin datos","Sin datos","Sin datos","Sin datos","PETICIONES ENTRE ENTIDADES","Consulta general","Peticiones entre entidades","2-2022-161837","Radicar en ORFEO","OJ","No Registra"]
[868,2022,"NOVIEMBRE","2022-11-10","14:54:00","CRISTHIAN CAMILO MONTAÑA HERNANDEZ","VIRTUAL","Correo electrónico","buzonjudicial@sdp.gov.co","Entidades y Organismos Distritales","Secretaría Distrital de Planeación","Entidades y Organismos Distritales","buzon judicial","Femenino","Mujer","Sin datos","Sin datos","Sin datos","Sin datos","PETICIONES ENTRE ENTIDADES","Consulta general","Peticiones entre entidades","2-2022-161539","Radicar en ORFEO","OJ","No Registra"]
[869,2022,"NOVIEMBRE","2022-11-10","14:54:00","CRISTHIAN CAMILO MONTAÑA HERNANDEZ","VIRTUAL","Correo electrónico","buzonjudicial@sdp.gov.co","Entidades y Organismos Distritales","Secretaría Distrital de Planeación","Entidades y Organismos Distritales","buzon judicial","Femenino","Mujer","Sin datos","Sin datos","Sin datos","Sin datos","PETICIONES ENTRE ENTIDADES","Consulta general","Peticiones entre entidades","2-2022-161521","Radicar en ORFEO","OJ","No Registra"]
[870,2022,"NOVIEMBRE","2022-11-10","14:55:00","CRISTHIAN CAMILO MONTAÑA HERNANDEZ","VIRTUAL","Correo electrónico","buzonjudicial@sdp.gov.co","Entidades y Organismos Distritales","Secretaría Distrital de Planeación","Entidades y Organismos Distritales","buzon judicial","Femenino","Mujer","Sin datos","Sin datos","Sin datos","Sin datos","PETICIONES ENTRE ENTIDADES","Consulta general","Peticiones entre entidades","2-2022-161050","Radicar en ORFEO","OJ","No Registra"]
[871,2022,"NOVIEMBRE","2022-11-10","15:00:00","CRISTHIAN CAMILO MONTAÑA HERNANDEZ","VIRTUAL","Correo electrónico","sirius2@personeriabogota.gov.co","Entidades y Organismos Distritales","personeria de bogota","Entidades y Organismos Distritales","Sirius 2","Masculino","Hombre ","Sin datos","Sin datos","Sin datos","Sin datos","PETICIONES ENTRE ENTIDADES","Consulta general","Peticiones entre entidades","Respuesta 2022-EE-0566806 2022-11-10","Radicar en ORFEO","DIRECCIÓN","No Registra"]
[872,2022,"NOVIEMBRE","2022-11-10","15:00:00","CRISTHIAN CAMILO MONTAÑA HERNANDEZ","VIRTUAL","Correo electrónico","sonialorenabogada@gmail.com","Ciudadanía","Funcionario","Ciudadanía","Ciudadanía","Femenino","Mujer","Sin datos","Sin datos","Sin datos","Sin datos","NOTIFICACIONES","Consulta general","Asuntos Jurídicos","OFICIOS PROCESO 2018-434","Radicar en ORFEO","OJ","No Registra"]
[873,2022,"NOVIEMBRE","2022-11-10","15:01:00","CRISTHIAN CAMILO MONTAÑA HERNANDEZ","VIRTUAL","Correo electrónico","correspondencia@secretariajuridica.gov.co","Entidades y Organismos Distritales","Secretaría Jurídica Distrital","Entidades y Organismos Distritales","Correspondencia","Femenino","Mujer","Sin datos","Sin datos","Sin datos","Sin datos","PETICIONES ENTRE ENTIDADES","Consulta general","Peticiones entre entidades","Comunicación Oficial N° 2-2022-23303","Radicar en ORFEO","OJ","No Registra"]
[874,2022,"NOVIEMBRE","2022-11-10","15:33:00","CRISTHIAN CAMILO MONTAÑA HERNANDEZ","VIRTUAL","Correo electrónico","mariocordoba1a@gmail.com","Ciudadanía","Funcionario","Ciudadanía","Ciudadanía","Masculino","Hombre ","Sin datos","Sin datos","Sin datos","Sin datos","ASESORÍA","Asesoría en administración y sostenibilidad del espacio público","Asesoría en temas de espacio público","Recuperación espacio público (anden) indebidamente ocupado por establecimiento de comercio. ","Radicar en ORFEO","SGI","No Registra"]
[875,2022,"NOVIEMBRE","2022-11-10","15:36:00","CRISTHIAN CAMILO MONTAÑA HERNANDEZ","VIRTUAL","Correo electrónico","correspondencia@concejobogota.gov.co","Entidades y Organismos Distritales","Concejo de Bogotá","Entidades y Organismos Distritales","Correspondencia","Femenino","Mujer","Sin datos","Sin datos","Sin datos","Sin datos","PETICIONES ENTRE ENTIDADES","Consulta general","Peticiones entre entidades","Seguimiento MT caso acceso a servicios de acueducto y alcantarillado barrio La Florida, Localidad de Engativá","Radicar en ORFEO","DIRECCIÓN","10 Engativá"]
[876,2022,"NOVIEMBRE","2022-11-10","15:40:00","CRISTHIAN CAMILO MONTAÑA HERNANDEZ","VIRTUAL","Correo electrónico","secretariageneral@concejobogota.gov.co","Entidades y Organismos Distritales","Concejo de Bogotá","Entidades y Organismos Distritales","Secretaría General","N/A","N/A","Sin datos","Sin datos","Sin datos","Sin datos","PETICIONES ENTRE ENTIDADES","Consulta general","Peticiones entre entidades","Cuestionario Proposición No 644, aprobada en Sesión de la Plenaria el 10 de noviembre de 2022","Radicar en ORFEO","DIRECCIÓN","No Registra"]
[877,2022,"NOVIEMBRE","2022-11-10","15:56:00","CRISTHIAN CAMILO MONTAÑA HERNANDEZ","VIRTUAL","Correo electrónico","asozonarosa@gmail.com","Empresas privadas","Asociación Zona Rosa ","Empresas Privadas","Asociación Zona Rosa ","N/A","N/A","Sin datos","Sin datos","Sin datos","Sin datos","NOTIFICACIONES","Estudio de la viabilidad de las solicitudes de administración de bienes públicos","CAMEP Contrato de administración y mantenimiento","NEGOCIOS PENDIENTES 2022","Radicar en ORFEO","SGI","02 Chapinero"]
[878,2022,"NOVIEMBRE","2022-11-11","16:06:00","CRISTHIAN CAMILO MONTAÑA HERNANDEZ","VIRTUAL","Correo electrónico","correspondencia@secretariajuridica.gov.co","Entidades y Organismos Distritales","Secretaría Jurídica Distrital","Entidades y Organismos Distritales","Correspondencia","Femenino","Mujer","Sin datos","Sin datos","Sin datos","Sin datos","PETICIONES ENTRE ENTIDADES","Consulta general","Peticiones entre entidades","Comunicación Oficial N° 2-2022-23457","Radicar en ORFEO","OJ","No Registra"]
[879,2022,"NOVIEMBRE","2022-11-11","16:07:00","CRISTHIAN CAMILO MONTAÑA HERNANDEZ","VIRTUAL","Correo electrónico","ccto38bt@cendoj.ramajudicial.gov.co","Entidades y Organismos Nacionales","Juzgado 38 Civil Circuito - Bogota - Bogota D.C. ","Entidades y Orgamismos Nacionales","Juzgado 38 Civil Circuito - Bogota - Bogota D.C. ","N/A","N/A","Sin datos","Sin datos","Sin datos","Sin datos","NOTIFICACIONES","Consulta general","Asuntos Jurídicos","NOTIFICACIÓN OFICIO 1608 PROCESO No. 110013103038-2015-01081-00","Radicar en ORFEO","OJ","No Registra"]
[880,2022,"NOVIEMBRE","2022-11-11","16:08:00","CRISTHIAN CAMILO MONTAÑA HERNANDEZ","VIRTUAL","Correo electrónico","correspondencia@secretariajuridica.gov.co","Entidades y Organismos Distritales","Secretaría Jurídica Distrital","Entidades y Organismos Distritales","Correspondencia","Femenino","Mujer","Sin datos","Sin datos","Sin datos","Sin datos","PETICIONES ENTRE ENTIDADES","Consulta general","Peticiones entre entidades","Comunicación Oficial N° 2-2022-23506","Radicar en ORFEO","OJ","No Registra"]
[881,2022,"NOVIEMBRE","2022-11-11","16:13:00","CRISTHIAN CAMILO MONTAÑA HERNANDEZ","VIRTUAL","Correo electrónico","idrdcorrespondencia@idrd.gov.co","Entidades y Organismos Distritales","Instituto Distrital de Recreación y Deportes","Entidades y Organismos Distritales","idrd correspondencia","Masculino","Hombre ","Sin datos","Sin datos","Sin datos","Sin datos","PETICIONES ENTRE ENTIDADES","Consulta general","Peticiones entre entidades","20224200243331 - Solicitud recibo zona de Cesión Urbanización BONAVISTA, con póliza de estabilidad vigente.","Radicar en ORFEO","SRI","19 Ciudad Bolívar"]
[882,2022,"NOVIEMBRE","2022-11-11","16:14:00","CRISTHIAN CAMILO MONTAÑA HERNANDEZ","VIRTUAL","Correo electrónico","correspondencia.enviada@idu.gov.co","Entidades y Organismos Distritales","Instituto de Desarrollo Urbano","Entidades y Organismos Distritales","Correspondencia","Masculino","Hombre ","Sin datos","Sin datos","Sin datos","Sin datos","PETICIONES ENTRE ENTIDADES","Consulta general","Peticiones entre entidades","RADICADO IDU N° 20223751764171 DEL 10 DE NOVIEMBRE 2022","Radicar en ORFEO","SRI","11 Suba"]
[883,2022,"NOVIEMBRE","2022-11-11","16:27:00","CRISTHIAN CAMILO MONTAÑA HERNANDEZ","VIRTUAL","Correo electrónico","correspondencia.enviada@idu.gov.co","Entidades y Organismos Distritales","Instituto de Desarrollo Urbano","Entidades y Organismos Distritales","Correspondencia","Masculino","Hombre ","Sin datos","Sin datos","Sin datos","Sin datos","PETICIONES ENTRE ENTIDADES","Consulta general","Peticiones entre entidades","RADICADO IDU N° 20221651685361 DEL 20 DE OCTUBRE 2022","Responder a correo electronico","AREA DE ATENCION A LA CIUDADANIA","No Registra"]
[884,2022,"NOVIEMBRE","2022-11-11","16:39:00","CRISTHIAN CAMILO MONTAÑA HERNANDEZ","VIRTUAL","Correo electrónico","Carmen.Castro@gobiernobogota.gov.co","Entidades y Organismos Distritales","Secretaría de Gobierno","Entidades y Organismos Distritales","Funcionario","Masculino","Hombre ","Sin datos","Sin datos","Sin datos","Sin datos","PETICIONES ENTRE ENTIDADES","Consulta general","Peticiones entre entidades","RADICADO 20226630615511","Radicar en ORFEO","SGI","16 Puente Aranda"]
[885,2022,"NOVIEMBRE","2022-11-11","16:52:00","CRISTHIAN CAMILO MONTAÑA HERNANDEZ","VIRTUAL","Correo electrónico","correspondencia.i.dadep247@interdisenos.com.co","Empresas privadas","interdisenos","Empresas Privadas","Correspondencia","Femenino","Mujer","Sin datos","Sin datos","Sin datos","Sin datos","NOTIFICACIONES","Estudio de la viabilidad de las solicitudes de administración de bienes públicos","CAMEP Contrato de administración y mantenimiento","GDADEP-950-22 DADEP Recomendación Aprobación Presupuesto Evento Lanzamiento Prototipos PCC","Radicar en ORFEO","SGI","No Registra"]
[886,2022,"NOVIEMBRE","2022-11-11","16:55:00","CRISTHIAN CAMILO MONTAÑA HERNANDEZ","VIRTUAL","Correo electrónico","correspondencia.i.dadep247@interdisenos.com.co","Empresas privadas","interdisenos","Empresas Privadas","Correspondencia","Femenino","Mujer","Sin datos","Sin datos","Sin datos","Sin datos","NOTIFICACIONES","Estudio de la viabilidad de las solicitudes de administración de bienes públicos","CAMEP Contrato de administración y mantenimiento","GDADEP-951-22 DADEP Rta a su oficio 20223080151471-Plan de contingencia señales sitp","Radicar en ORFEO","SGI","No Registra"]
[887,2022,"NOVIEMBRE","2022-11-11","17:05:00","CRISTHIAN CAMILO MONTAÑA HERNANDEZ","VIRTUAL","Correo electrónico","sednotificaciones@educacionbogota.edu.co","Entidades y Organismos Distritales","Secretaría de Educación","Entidades y Organismos Distritales","Notificaciones","Masculino","Hombre ","Sin datos","Sin datos","Sin datos","Sin datos","PETICIONES ENTRE ENTIDADES","Consulta general","Peticiones entre entidades","S-2022-345291","Radicar en ORFEO","DIRECCIÓN","No Registra"]
[888,2022,"NOVIEMBRE","2022-11-11","17:27:00","CRISTHIAN CAMILO MONTAÑA HERNANDEZ","VIRTUAL","Correo electrónico","rafael.vaquero@hotmail.com","Ciudadanía","Funcionario","Ciudadanía","Ciudadanía","Masculino","Hombre ","Sin datos","Sin datos","Sin datos","Sin datos","ASESORÍA","Asesoría en administración y sostenibilidad del espacio público","Asesoría en temas de espacio público","DERECHO DE PETICION DE RECUPERACION DE ESPACIO PUBLICO.","Radicar en ORFEO","SGI","18 Rafael Uribe Uribe"]
[889,2022,"NOVIEMBRE","2022-11-11","18:43:00","CRISTHIAN CAMILO MONTAÑA HERNANDEZ","VIRTUAL","Correo electrónico","andreacarolinagonza@hotmail.com","Ciudadanía","Funcionario","Ciudadanía","Ciudadanía","Masculino","Hombre ","Sin datos","Sin datos","Sin datos","Sin datos","ASESORÍA","Asesoría en administración y sostenibilidad del espacio público","Asesoría en temas de espacio público","Solicitud de Petición","Radicar en ORFEO","SGI","No Registra"]
[890,2022,"NOVIEMBRE","2022-11-11","19:45:00","CRISTHIAN CAMILO MONTAÑA HERNANDEZ","VIRTUAL","Correo electrónico","siga@habitatbogota.gov.co","Entidades y Organismos Distritales","Secretaria de Habitat","Entidades y Organismos Distritales","SIGA","Masculino","Hombre ","Sin datos","Sin datos","Sin datos","Sin datos","PETICIONES ENTRE ENTIDADES","Consulta general","Peticiones entre entidades","Comunicación Oficial N° 2-2022-67610","Radicar en ORFEO","SGI","11 Suba"]
[891,2022,"NOVIEMBRE","2022-11-11","19:46:00","CRISTHIAN CAMILO MONTAÑA HERNANDEZ","VIRTUAL","Correo electrónico","oscar.cardenas@uaesp.gov.co","Entidades y Organismos Distritales","Unidad Administrativa Especial de Servicios Públicos","Entidades y Organismos Distritales","Funcionario","Femenino","Mujer","Sin datos","Sin datos","Sin datos","Sin datos","PETICIONES ENTRE ENTIDADES","Consulta general","Peticiones entre entidades","Oficio UAESP 20224000 257251-Infraestructura de alumbrado publico - Calle 77 y 78 B - Carrera 120 A y 129, barrio Gran Granada de Engativa.","Radicar en ORFEO","SRI","10 Engativá"]
[892,2022,"NOVIEMBRE","2022-11-11","19:46:00","CRISTHIAN CAMILO MONTAÑA HERNANDEZ","VIRTUAL","Correo electrónico","oscar.cardenas@uaesp.gov.co","Entidades y Organismos Distritales","Unidad Administrativa Especial de Servicios Públicos","Entidades y Organismos Distritales","Funcionario","Femenino","Mujer","Sin datos","Sin datos","Sin datos","Sin datos","PETICIONES ENTRE ENTIDADES","Consulta general","Peticiones entre entidades","Oficio UAESP 20224000 257241-Infraestructura servicio Alumbrado público - Calles 77 y 78 B - Carreras 120 A y 129 - Gran Granada - Engativá.","Radicar en ORFEO","SRI","10 Engativá"]
[893,2022,"NOVIEMBRE","2022-11-11","19:47:00","CRISTHIAN CAMILO MONTAÑA HERNANDEZ","VIRTUAL","Correo electrónico","buzoncomunicaciones@sdp.gov.co","Entidades y Organismos Distritales","Secretaría Distrital de Planeación","Entidades y Organismos Distritales","buzon comunicaciones","Femenino","Mujer","Sin datos","Sin datos","Sin datos","Sin datos","PETICIONES ENTRE ENTIDADES","Consulta general","Peticiones entre entidades","2-2022-163707","Radicar en ORFEO","DIRECCIÓN","No Registra"]
[894,2022,"NOVIEMBRE","2022-11-11","19:55:00","CRISTHIAN CAMILO MONTAÑA HERNANDEZ","VIRTUAL","Correo electrónico","gesdoc@desarrolloeconomico.gov.co","Entidades y Organismos Distritales","Instituto de Desarrollo Económico","Entidades y Organismos Distritales","Gestión documental","Femenino","Mujer","Sin datos","Sin datos","Sin datos","Sin datos","PETICIONES ENTRE ENTIDADES","Consulta general","Peticiones entre entidades","SECRETARIA DISTRITAL DE DESARROLLO ECONOMICO ha generado el documento 2022EE0008015","Radicar en ORFEO","SGI","No Registra"]
[895,2022,"NOVIEMBRE","2022-11-11","20:09:00","CRISTHIAN CAMILO MONTAÑA HERNANDEZ","VIRTUAL","Correo electrónico","marina-m1962@hotmail.com","Juntas de Acción Comunal (JAC)","Juntas de Acción Comunal (JAC)","Juntas de Acción Comunal (JAC)","Ciudadanía","Femenino","Mujer","Sin datos","Sin datos","Sin datos","Sin datos","ASESORÍA","Asesoría en administración y sostenibilidad del espacio público","Asesoría en temas de espacio público","parqueaderos puerta del sol 1","Radicar en ORFEO","SGI","11 Suba"]
[896,2022,"NOVIEMBRE","2022-11-11","20:22:00","CRISTHIAN CAMILO MONTAÑA HERNANDEZ","VIRTUAL","Correo electrónico","correspondencia@concejobogota.gov.co","Entidades y Organismos Distritales","Concejo de Bogotá","Entidades y Organismos Distritales","Correspondencia","Masculino","Hombre ","Sin datos","Sin datos","Sin datos","Sin datos","PETICIONES ENTRE ENTIDADES","Consulta general","Peticiones entre entidades","Invitación a mesa de trabajo -  Martes 15 de Noviembre de 2022 a las 3:00 pm, en el auditorio principal de la Secretaría Distrital de Salud ubicada en la carrera 32 Nro. 12-81","Radicar en ORFEO","DIRECCIÓN","No Registra"]
[897,2022,"NOVIEMBRE","2022-11-11","20:24:00","CRISTHIAN CAMILO MONTAÑA HERNANDEZ","VIRTUAL","Correo electrónico","oscar.cardenas@uaesp.gov.co","Entidades y Organismos Distritales","Unidad Administrativa Especial de Servicios Públicos","Entidades y Organismos Distritales","Funcionario","Femenino","Mujer","Sin datos","Sin datos","Sin datos","Sin datos","PETICIONES ENTRE ENTIDADES","Consulta general","Peticiones entre entidades","Oficio UAESP 20224000 257291-Respuesta a solicitud revision alumbrado publico conjunto residencial Modelia Real P.H - Transversal 88 B No. 23 D - 81 - Fontibon.","Radicar en ORFEO","SGI","09 Fontibón"]
[898,2022,"NOVIEMBRE","2022-11-11","20:27:00","CRISTHIAN CAMILO MONTAÑA HERNANDEZ","VIRTUAL","Correo electrónico","cdi.engativa@gobiernobogota.gov.co","Entidades y Organismos Distritales","Secretaría de Gobierno","Entidades y Organismos Distritales","CDI Engativá","Femenino","Mujer","Sin datos","Sin datos","Sin datos","Sin datos","PETICIONES ENTRE ENTIDADES","Consulta general","Peticiones entre entidades","20226030903031 - TRASLADO DE CONCEPTO TECNICO","Radicar en ORFEO","SGI","10 Engativá"]
[899,2022,"NOVIEMBRE","2022-11-11","20:47:00","CRISTHIAN CAMILO MONTAÑA HERNANDEZ","VIRTUAL","Correo electrónico","zmlozada@concejobogota.gov.co","Entidades y Organismos Distritales","Concejo de Bogotá","Entidades y Organismos Distritales","Funcionario","N/A","N/A","Sin datos","Sin datos","Sin datos","Sin datos","PETICIONES ENTRE ENTIDADES","Consulta general","Peticiones entre entidades","Cuestionario Proposición No 644, aprobada en Sesión de la Plenaria el 10 de noviembre de 2022","Radicar en ORFEO","DIRECCIÓN","No Registra"]
[900,2022,"NOVIEMBRE","2022-11-11","20:52:00","CRISTHIAN CAMILO MONTAÑA HERNANDEZ","VIRTUAL","Correo electrónico","vmorato@desarrolloeconomico.gov.co","Entidades y Organismos Distritales","Instituto de Desarrollo Económico","Entidades y Organismos Distritales","Gestión documental","Femenino","Mujer","Sin datos","Sin datos","Sin datos","Sin datos","PETICIONES ENTRE ENTIDADES","Consulta general","Peticiones entre entidades","2022EE0008015 - Radicado Gesdoc, 2022ER007934","Radicar en ORFEO","SGI","No Registra"]
[901,2022,"NOVIEMBRE","2022-11-11","21:59:00","CRISTHIAN CAMILO MONTAÑA HERNANDEZ","VIRTUAL","Correo electrónico","operacionesreciprocas@acueducto.com.co","Entidades y Organismos Distritales","Acueducto","Entidades y Organismos Distritales","Funcionario","Femenino","Mujer","Sin datos","Sin datos","Sin datos","Sin datos","PETICIONES ENTRE ENTIDADES","Consulta general","Peticiones entre entidades","S-2022- 293442 - Conciliación de operaciones reciprocas tercer trimestre de 2022","Radicar en ORFEO","SRI","No Registra"]
[902,2022,"NOVIEMBRE","2022-11-11","22:22:00","CRISTHIAN CAMILO MONTAÑA HERNANDEZ","VIRTUAL","Correo electrónico","contabilidad@centrointernacional.co","Empresas privadas","Centro Internacional","Empresas Privadas","contabilidad","Masculino","Hombre ","Sin datos","Sin datos","Sin datos","Sin datos","NOTIFICACIONES","Estudio de la viabilidad de las solicitudes de administración de bienes públicos","CAMEP Contrato de administración y mantenimiento","RESPUESTA REQUERIMIENTO No. 20223090124041","Radicar en ORFEO","SGI","03 Santa fe"]
[903,2022,"NOVIEMBRE","2022-11-11","07:19:00","CRISTHIAN CAMILO MONTAÑA HERNANDEZ","VIRTUAL","Correo electrónico","administradorsiga@alcaldiabogota.gov.co","Entidades y Organismos Distritales","Secretaria de Habitat","Entidades y Organismos Distritales","SIGA","Femenino","Mujer","Sin datos","Sin datos","Sin datos","Sin datos","PETICIONES ENTRE ENTIDADES","Consulta general","Peticiones entre entidades","Comunicación Oficial N° 2-2022-32511","Radicar en ORFEO","SGI","No Registra"]
[904,2022,"NOVIEMBRE","2022-11-11","07:50:00","CRISTHIAN CAMILO MONTAÑA HERNANDEZ","VIRTUAL","Correo electrónico","julian.aristizabal@idrd.gov.co","Entidades y Organismos Distritales","Instituto Distrital de Recreación y Deportes","Entidades y Organismos Distritales","Funcionario","Masculino","Hombre ","Sin datos","Sin datos","Sin datos","Sin datos","PETICIONES ENTRE ENTIDADES","Consulta general","Peticiones entre entidades","20224000245021 - Solicitud certificación parque 10-146 “Minuto de Dios”","Responder a correo electronico","AREA DE ATENCION A LA CIUDADANIA","10 Engativá"]
[905,2022,"NOVIEMBRE","2022-11-11","08:00:00","CRISTHIAN CAMILO MONTAÑA HERNANDEZ","VIRTUAL","Correo electrónico","buzoncomunicaciones@sdp.gov.co","Entidades y Organismos Distritales","Secretaría Distrital de Planeación","Entidades y Organismos Distritales","buzon comunicaciones","Femenino","Mujer","Sin datos","Sin datos","Sin datos","Sin datos","PETICIONES ENTRE ENTIDADES","Consulta general","Peticiones entre entidades","2-2022-164003","Radicar en ORFEO","SGI","08 Kennedy"]
[906,2022,"NOVIEMBRE","2022-11-11","09:00:00","CRISTHIAN CAMILO MONTAÑA HERNANDEZ","VIRTUAL","Correo electrónico","christianpinzonsa@hotmail.com","Ciudadanía","Funcionario","Ciudadanía","Ciudadanía","Masculino","Hombre ","Sin datos","Sin datos","Sin datos","Sin datos","ASESORÍA","Asesoría en administración y sostenibilidad del espacio público","Asesoría en temas de espacio público","CONSULTA JURIDICA Y TECNICA / CDA MOVILIDAD BOGOTA","Radicar en ORFEO","SGI","No Registra"]
[907,2022,"NOVIEMBRE","2022-11-11","09:07:00","CRISTHIAN CAMILO MONTAÑA HERNANDEZ","VIRTUAL","Correo electrónico","kpineros103@gmail.com","Ciudadanía","Funcionario","Ciudadanía","Ciudadanía","Femenino","Mujer","Sin datos","Sin datos","Sin datos","Sin datos","ASESORÍA","Estudio de la viabilidad de las solicitudes de administración de bienes públicos","Viabilidad Decreto 070 / 2022 BACA 2.0","SOLICITO PERMISO DE ESPACIO PUBLICO PARA EJERCER ACTIVIDAD ECONOMICA, SE ADJUNTA DOCUMENTO DONDE SE ENCUENTRA EL DERECHO DE PETICION.","Radicar en ORFEO","SGI","No Registra"]
[908,2022,"NOVIEMBRE","2022-11-11","09:53:00","CRISTHIAN CAMILO MONTAÑA HERNANDEZ","VIRTUAL","Correo electrónico","radila50@outlook.com","Ciudadanía","Funcionario","Ciudadanía","Ciudadanía","Femenino","Mujer","Sin datos","Sin datos","Sin datos","Sin datos","ASESORÍA","Asesoría en administración y sostenibilidad del espacio público","Asesoría en temas de espacio público","COMPRA BIENES INMUEBLES compra de apartamento mas parqueadero","Radicar en ORFEO","SGI","No Registra"]
[909,2022,"NOVIEMBRE","2022-11-11","09:59:00","CRISTHIAN CAMILO MONTAÑA HERNANDEZ","VIRTUAL","Correo electrónico","notificacionelectronica@movilidadbogota.gov.co","Entidades y Organismos Distritales","Secretaría de Movilidad","Entidades y Organismos Distritales","Notificaciones","Masculino","Hombre ","Sin datos","Sin datos","Sin datos","Sin datos","PETICIONES ENTRE ENTIDADES","Consulta general","Peticiones entre entidades","RADICADO SDM N°202222409761701","Responder a correo electronico","AREA DE ATENCION A LA CIUDADANIA","No Registra"]
[910,2022,"NOVIEMBRE","2022-11-11","10:23:00","CRISTHIAN CAMILO MONTAÑA HERNANDEZ","VIRTUAL","Correo electrónico","hrodriguez@dadep.gov.co","Entidades y Organismos Distritales","DADEP","Entidades y Organismos Distritales","Comunicaciones Oficiales","Masculino","Hombre ","Sin datos","Sin datos","Sin datos","Sin datos","PETICIONES ENTRE ENTIDADES","Consulta general","Peticiones entre entidades","Derecho de petición","Radicar en ORFEO","DIRECCIÓN","No Registra"]
[911,2022,"NOVIEMBRE","2022-11-11","10:24:00","CRISTHIAN CAMILO MONTAÑA HERNANDEZ","VIRTUAL","Correo electrónico","salidascdi.suba@gobiernobogota.gov.co","Entidades y Organismos Distritales","Secretaría de Gobierno","Entidades y Organismos Distritales","Alcaldía de Suba","Femenino","Mujer","Sin datos","Sin datos","Sin datos","Sin datos","PETICIONES ENTRE ENTIDADES","Consulta general","Peticiones entre entidades","RADICADO 20226142045931","Radicar en ORFEO","SGI","11 Suba"]
[912,2022,"NOVIEMBRE","2022-11-11","10:55:00","CRISTHIAN CAMILO MONTAÑA HERNANDEZ","VIRTUAL","Correo electrónico","jeison.prada@gobiernobogota.gov.co","Entidades y Organismos Distritales","Secretaría de Gobierno","Entidades y Organismos Distritales","Funcionario","Masculino","Hombre ","Sin datos","Sin datos","Sin datos","Sin datos","PETICIONES ENTRE ENTIDADES","Consulta general","Peticiones entre entidades","Envió oficio 20225930791851 Asunto: Respuesta al radicado No. 20226010214832","Radicar en ORFEO","SGI","09 Fontibón"]
[913,2022,"NOVIEMBRE","2022-11-11","10:58:00","CRISTHIAN CAMILO MONTAÑA HERNANDEZ","VIRTUAL","Correo electrónico","correspondenciaexternaenviada@participacionbogota.gov.co","Entidades y Organismos Distritales","participacion Bogota","Entidades y Organismos Distritales","Correspondencia","Masculino","Hombre ","Sin datos","Sin datos","Sin datos","Sin datos","PETICIONES ENTRE ENTIDADES","Consulta general","Peticiones entre entidades","RADICADO 20223000124231","Radicar en ORFEO","SGI","No Registra"]
[914,2022,"NOVIEMBRE","2022-11-11","11:07:00","CRISTHIAN CAMILO MONTAÑA HERNANDEZ","VIRTUAL","Correo electrónico","siga@habitatbogota.gov.co","Entidades y Organismos Distritales","Secretaria de Habitat","Entidades y Organismos Distritales","SIGA","Femenino","Mujer","Sin datos","Sin datos","Sin datos","Sin datos","PETICIONES ENTRE ENTIDADES","Consulta general","Peticiones entre entidades","Comunicación Oficial N° 2-2022-68668","Radicar en ORFEO","SRI","No Registra"]
[915,2022,"NOVIEMBRE","2022-11-11","11:20:00","CRISTHIAN CAMILO MONTAÑA HERNANDEZ","VIRTUAL","Correo electrónico","correspondencia.i.dadep378@interdisenos.com.co","Empresas privadas","interdisenos","Empresas Privadas","Correspondencia","Femenino","Mujer","Sin datos","Sin datos","Sin datos","Sin datos","NOTIFICACIONES","Estudio de la viabilidad de las solicitudes de administración de bienes públicos","CAMEP Contrato de administración y mantenimiento","GDADEP06-0546-22 - Reemplazo Especialista Hidraulica","Radicar en ORFEO","SGI","No Registra"]
[916,2022,"NOVIEMBRE","2022-11-11","11:22:00","CRISTHIAN CAMILO MONTAÑA HERNANDEZ","VIRTUAL","Correo electrónico","amcocinfuentes77@gmail.com","Juntas de Acción Comunal (JAC)","Juntas de Acción Comunal (JAC)","Juntas de Acción Comunal (JAC)","Ciudadanía","N/A","N/A","Sin datos","Sin datos","Sin datos","Sin datos","ASESORÍA","Asesoría en administración y sostenibilidad del espacio público","Asesoría en temas de espacio público","Parqueadedores de nuestra comunidad Urb.Turingia I, sector de la localidad 11 Suba","Radicar en ORFEO","SGI","11 Suba"]
[917,2022,"NOVIEMBRE","2022-11-11","11:24:00","CRISTHIAN CAMILO MONTAÑA HERNANDEZ","VIRTUAL","Correo electrónico","jacnuevavilladelossauces@gmail.com","Juntas de Acción Comunal (JAC)","Juntas de Acción Comunal (JAC)","Juntas de Acción Comunal (JAC)","JAC Nueva Villa de los Sauces","N/A","N/A","Sin datos","Sin datos","Sin datos","Sin datos","ASESORÍA","Estudio de la viabilidad de las solicitudes de administración de bienes públicos","CAMEP Contrato de administración y mantenimiento",20223100000000,"Radicar en ORFEO","SGI","No Registra"]
[918,2022,"NOVIEMBRE","2022-11-11","11:29:00","CRISTHIAN CAMILO MONTAÑA HERNANDEZ","VIRTUAL","Correo electrónico","jadmin06bta@notificacionesrj.gov.co","Entidades y Organismos Nacionales","Ministerio de Justicia","Entidades y Orgamismos Nacionales","Notificaciones","N/A","N/A","Sin datos","Sin datos","Sin datos","Sin datos","NOTIFICACIONES","Consulta general","Asuntos Jurídicos","TUTELA_Notificacion Admision 006-2022-00552-00","Radicar en ORFEO","OJ","No Registra"]
[919,2022,"NOVIEMBRE","2022-11-11","11:45:00","CRISTHIAN CAMILO MONTAÑA HERNANDEZ","VIRTUAL","Correo electrónico","asovecinosvillasdealcala@gmail.com","Organizaciones Sociales","Vecinos Villas de Alcalá","Organizaciones Sociales","Vecinos Villas de Alcalá","N/A","N/A","Sin datos","Sin datos","Sin datos","Sin datos","ASESORÍA","Asesoría en administración y sostenibilidad del espacio público","Asesoría en temas de espacio público","Convocatoria zona ubicada en el RUPI 351 predio 10 Portal de Alcalá (Antes la Perla)","Radicar en ORFEO","SGI","No Registra"]
[920,2022,"NOVIEMBRE","2022-11-11","11:56:00","CRISTHIAN CAMILO MONTAÑA HERNANDEZ","VIRTUAL","Correo electrónico","correspondencia@scj.gov.co","Entidades y Organismos Distritales","Secretaría Distrital de Seguridad, Convivencia y Justicia","Entidades y Organismos Distritales","Correspondencia","Masculino","Hombre ","Sin datos","Sin datos","Sin datos","Sin datos","PETICIONES ENTRE ENTIDADES","Consulta general","Peticiones entre entidades","Envío de Radicado 20224300828942","Radicar en ORFEO","DIRECCIÓN","No Registra"]
[921,2022,"NOVIEMBRE","2022-11-11","12:05:00","CRISTHIAN CAMILO MONTAÑA HERNANDEZ","VIRTUAL","Correo electrónico","jhon.pardo@gobiernobogota.gov.co","Entidades y Organismos Distritales","Secretaría de Gobierno","Entidades y Organismos Distritales","Funcionario","Masculino","Hombre ","Sin datos","Sin datos","Sin datos","Sin datos","PETICIONES ENTRE ENTIDADES","Consulta general","Peticiones entre entidades","INVITACION SEGUIMIENTO AL CONSEJO DE GOBIERNO LOCALIDAD 20 DE SUMAPAZ","Radicar en ORFEO","DIRECCIÓN","20 Sumapaz"]
[922,2022,"NOVIEMBRE","2022-11-11","12:08:00","CRISTHIAN CAMILO MONTAÑA HERNANDEZ","VIRTUAL","Correo electrónico","sirius2@personeriabogota.gov.co","Entidades y Organismos Distritales","personeria de bogota","Entidades y Organismos Distritales","Sirius 2","Masculino","Hombre ","Sin datos","Sin datos","Sin datos","Sin datos","PETICIONES ENTRE ENTIDADES","Consulta general","Peticiones entre entidades","Respuesta 2022-EE-0567095 2022-11-11","Radicar en ORFEO","DIRECCIÓN","No Registra"]
[923,2022,"NOVIEMBRE","2022-11-11","12:31:00","CRISTHIAN CAMILO MONTAÑA HERNANDEZ","VIRTUAL","Correo electrónico","buzoncomunicaciones@sdp.gov.co","Entidades y Organismos Distritales","Secretaría Distrital de Planeación","Entidades y Organismos Distritales","buzon comunicaciones","Femenino","Mujer","Sin datos","Sin datos","Sin datos","Sin datos","PETICIONES ENTRE ENTIDADES","Consulta general","Peticiones entre entidades","2-2022-164437","Radicar en ORFEO","SRI","No Registra"]
[924,2022,"NOVIEMBRE","2022-11-11","12:53:00","CRISTHIAN CAMILO MONTAÑA HERNANDEZ","VIRTUAL","Correo electrónico","ccto27bt@cendoj.ramajudicial.gov.co","Entidades y Organismos Nacionales","Juzgado 27 Civil Circuito - Bogota - Bogota D.C. ","Entidades y Orgamismos Nacionales","Juzgado 27 Civil Circuito - Bogota - Bogota D.C. ","N/A","N/A","Sin datos","Sin datos","Sin datos","Sin datos","NOTIFICACIONES","Consulta general","Asuntos Jurídicos","SE REMITE LINK DEL EXPEDIENTE DIGITAL – ADVERTENCIA DE TÉRMINOS - 11001310302720190082100","Radicar en ORFEO","OJ","No Registra"]
[925,2022,"NOVIEMBRE","2022-11-11","14:27:00","CRISTHIAN CAMILO MONTAÑA HERNANDEZ","VIRTUAL","Correo electrónico","reinaldo.suarez@gobiernobogota.gov.co","Entidades y Organismos Distritales","Secretaría de Gobierno","Entidades y Organismos Distritales","Funcionario","Femenino","Mujer","Sin datos","Sin datos","Sin datos","Sin datos","PETICIONES ENTRE ENTIDADES","Consulta general","Peticiones entre entidades","20226841528471 - Solicitud acompañamiento en audiencia Pública","Radicar en ORFEO","SGI","18 Rafael Uribe Uribe"]
[926,2022,"NOVIEMBRE","2022-11-11","14:27:00","CRISTHIAN CAMILO MONTAÑA HERNANDEZ","VIRTUAL","Correo electrónico","adriana.llorente@egis-group.com","Empresas privadas","EGIS CONSULTORIA S.A.S.","Empresas Privadas","EGIS CONSULTORIA S.A.S.","N/A","N/A","Sin datos","Sin datos","Sin datos","Sin datos","ASESORÍA","Asesoría en administración y sostenibilidad del espacio público","Asesoría en temas de espacio público","Presentación de proyecto etapa de factibilidad.","Radicar en ORFEO","SGI","No Registra"]
[927,2022,"NOVIEMBRE","2022-11-11","14:29:00","CRISTHIAN CAMILO MONTAÑA HERNANDEZ","VIRTUAL","Correo electrónico","reinaldo.suarez@gobiernobogota.gov.co","Entidades y Organismos Distritales","Secretaría de Gobierno","Entidades y Organismos Distritales","Funcionario","Femenino","Mujer","Sin datos","Sin datos","Sin datos","Sin datos","PETICIONES ENTRE ENTIDADES","Consulta general","Peticiones entre entidades","20226841529221 - Solicitud acompañamiento en audiencia e información de RUPI.","Radicar en ORFEO","SGI","18 Rafael Uribe Uribe"]
[928,2022,"NOVIEMBRE","2022-11-11","14:49:00","CRISTHIAN CAMILO MONTAÑA HERNANDEZ","VIRTUAL","Correo electrónico","correspondencia@scj.gov.co","Entidades y Organismos Distritales","Secretaría Distrital de Seguridad, Convivencia y Justicia","Entidades y Organismos Distritales","Correspondencia","Femenino","Mujer","Sin datos","Sin datos","Sin datos","Sin datos","PETICIONES ENTRE ENTIDADES","Consulta general","Peticiones entre entidades","Envío de Radicado 20222200830032","Radicar en ORFEO","DIRECCIÓN","No Registra"]
[929,2022,"NOVIEMBRE","2022-11-15","15:10:00","CRISTHIAN CAMILO MONTAÑA HERNANDEZ","VIRTUAL","Correo electrónico","buzoncomunicaciones@sdp.gov.co","Entidades y Organismos Distritales","Secretaría Distrital de Planeación","Entidades y Organismos Distritales","buzon comunicaciones","Femenino","Mujer","Sin datos","Sin datos","Sin datos","Sin datos","PETICIONES ENTRE ENTIDADES","Consulta general","Peticiones entre entidades","2-2022-162756","Radicar en ORFEO","SRI","No Registra"]
[930,2022,"NOVIEMBRE","2022-11-15","15:15:00","CRISTHIAN CAMILO MONTAÑA HERNANDEZ","VIRTUAL","Correo electrónico","mesasgestionterritorial@gobiernobogota.gov.co","Entidades y Organismos Distritales","Secretaría de Gobierno","Entidades y Organismos Distritales","mesas gestion territorial","Masculino","Hombre ","Sin datos","Sin datos","Sin datos","Sin datos","PETICIONES ENTRE ENTIDADES","Consulta general","Peticiones entre entidades","20224213647572 HC JULIAN DAVID RODRIGUEZ SASTOQUE -REALIZACIÓN DE MESA DE SEGURIDAD LOCALIDAD DE KENNEDY.","Responder a correo electronico","AREA DE ATENCION A LA CIUDADANIA","08 Kennedy"]
[931,2022,"NOVIEMBRE","2022-11-15","15:17:00","CRISTHIAN CAMILO MONTAÑA HERNANDEZ","VIRTUAL","Correo electrónico","oscar.cardenas@uaesp.gov.co","Entidades y Organismos Distritales","Unidad Administrativa Especial de Servicios Públicos","Entidades y Organismos Distritales","Funcionario","Femenino","Mujer","Sin datos","Sin datos","Sin datos","Sin datos","PETICIONES ENTRE ENTIDADES","Consulta general","Peticiones entre entidades","Oficio UAESP 20224000 257121-Infraestructura de alumbrado publico - Calles 77 y 78 B - Carreras 120 A y 129, barrio Gran Granada de Engativa.","Radicar en ORFEO","SRI","10 Engativá"]
[932,2022,"NOVIEMBRE","2022-11-15","15:18:00","CRISTHIAN CAMILO MONTAÑA HERNANDEZ","VIRTUAL","Correo electrónico","notificado.certimail2020.3@acueducto.com.co","Entidades y Organismos Distritales","Acueducto","Entidades y Organismos Distritales","Notificaciones","Femenino","Mujer","Sin datos","Sin datos","Sin datos","Sin datos","PETICIONES ENTRE ENTIDADES","Consulta general","Peticiones entre entidades","NOTIFICACION S-2022-297745","Radicar en ORFEO","SRI","No Registra"]
[933,2022,"NOVIEMBRE","2022-11-15","15:18:00","CRISTHIAN CAMILO MONTAÑA HERNANDEZ","VIRTUAL","Correo electrónico","martha.hernandeza@gobiernobogota.gov.co","Entidades y Organismos Distritales","Secretaría de Gobierno","Entidades y Organismos Distritales","Funcionario","Masculino","Hombre ","Sin datos","Sin datos","Sin datos","Sin datos","PETICIONES ENTRE ENTIDADES","Consulta general","Peticiones entre entidades","RADICADO 20226620643451","Radicar en ORFEO","SGI","16 Puente Aranda"]
[934,2022,"NOVIEMBRE","2022-11-15","15:19:00","CRISTHIAN CAMILO MONTAÑA HERNANDEZ","VIRTUAL","Correo electrónico","notificacionelectronica@movilidadbogota.gov.co","Entidades y Organismos Distritales","Secretaría de Movilidad","Entidades y Organismos Distritales","Notificaciones","Femenino","Mujer","Sin datos","Sin datos","Sin datos","Sin datos","PETICIONES ENTRE ENTIDADES","Consulta general","Peticiones entre entidades","RADICADO SDM N° 202240007604331","Responder a correo electronico","AREA DE ATENCION A LA CIUDADANIA","No Registra"]
[935,2022,"NOVIEMBRE","2022-11-15","15:21:00","CRISTHIAN CAMILO MONTAÑA HERNANDEZ","VIRTUAL","Correo electrónico","correspondencia.i.dadep247@interdisenos.com.co","Empresas privadas","interdisenos","Empresas Privadas","Correspondencia","Femenino","Mujer","Sin datos","Sin datos","Sin datos","Sin datos","NOTIFICACIONES","Estudio de la viabilidad de las solicitudes de administración de bienes públicos","CAMEP Contrato de administración y mantenimiento","GDADEP-952-22 DADEP Respuesta 20223080177481 - Informe Mensual N° 26 V1","Radicar en ORFEO","SGI","No Registra"]
[936,2022,"NOVIEMBRE","2022-11-15","15:24:00","CRISTHIAN CAMILO MONTAÑA HERNANDEZ","VIRTUAL","Correo electrónico","protocolo@notaria40debogota.co","Entidades y Organismos Nacionales","PROTOCOLO NOTARIA 40 BOGOTA ","Entidades y Orgamismos Nacionales","PROTOCOLO NOTARIA 40 BOGOTA ","N/A","N/A","Sin datos","Sin datos","Sin datos","Sin datos","PETICIONES ENTRE ENTIDADES","Consulta general","Peticiones entre entidades","SOLICITUD COPIA DE LAS ESCRITURA PÚBLICA - ESCRITURAS PÚBLICAS No 2363 DEL 29 DE JUNIO DE 1995, 3770 DEL 9 DE DICIEMBRE DE 1996","Radicar en ORFEO","SRI","No Registra"]
[937,2022,"NOVIEMBRE","2022-11-15","15:25:00","CRISTHIAN CAMILO MONTAÑA HERNANDEZ","VIRTUAL","Correo electrónico","protocolo@notaria40debogota.co","Entidades y Organismos Nacionales","PROTOCOLO NOTARIA 40 BOGOTA ","Entidades y Orgamismos Nacionales","PROTOCOLO NOTARIA 40 BOGOTA ","N/A","N/A","Sin datos","Sin datos","Sin datos","Sin datos","PETICIONES ENTRE ENTIDADES","Consulta general","Peticiones entre entidades","SOLICITUD COPIA DE LA ESCRITURA PÚBLICA - ESCRITURA PÚBLICA No 1872 DEL 22 DE MAYO DE 1995","Radicar en ORFEO","SRI","No Registra"]
[938,2022,"NOVIEMBRE","2022-11-15","15:26:00","CRISTHIAN CAMILO MONTAÑA HERNANDEZ","VIRTUAL","Correo electrónico","protocolo@notaria40debogota.co","Entidades y Organismos Nacionales","PROTOCOLO NOTARIA 40 BOGOTA ","Entidades y Orgamismos Nacionales","PROTOCOLO NOTARIA 40 BOGOTA ","N/A","N/A","Sin datos","Sin datos","Sin datos","Sin datos","PETICIONES ENTRE ENTIDADES","Consulta general","Peticiones entre entidades","SOLICITUD COPIA DE LA ESCRITURA PÚBLICA - ESCRITURA PÚBLICA No 642 DEL 13 DE MARZO DEL 1996","Radicar en ORFEO","SRI","No Registra"]
[939,2022,"NOVIEMBRE","2022-11-15","15:27:00","CRISTHIAN CAMILO MONTAÑA HERNANDEZ","VIRTUAL","Correo electrónico","sirius2@personeriabogota.gov.co","Entidades y Organismos Distritales","personeria de bogota","Entidades y Organismos Distritales","Sirius 2","Masculino","Hombre ","Sin datos","Sin datos","Sin datos","Sin datos","PETICIONES ENTRE ENTIDADES","Consulta general","Peticiones entre entidades","Respuesta 2022-EE-0567240 2022-11-11","Radicar en ORFEO","DIRECCIÓN","No Registra"]
[940,2022,"NOVIEMBRE","2022-11-15","15:28:00","CRISTHIAN CAMILO MONTAÑA HERNANDEZ","VIRTUAL","Correo electrónico","respuestasrbl@uaesp.gov.co","Entidades y Organismos Distritales","Unidad Administrativa Especial de Servicios Públicos","Entidades y Organismos Distritales","Respuestas RBL","Masculino","Hombre ","Sin datos","Sin datos","Sin datos","Sin datos","PETICIONES ENTRE ENTIDADES","Consulta general","Peticiones entre entidades","Remito radicado UAESP 20222000251491","Radicar en ORFEO","SRI","No Registra"]
[941,2022,"NOVIEMBRE","2022-11-15","15:44:00","CRISTHIAN CAMILO MONTAÑA HERNANDEZ","VIRTUAL","Correo electrónico","cdi.engativa@gobiernobogota.gov.co","Entidades y Organismos Distritales","Secretaría de Gobierno","Entidades y Organismos Distritales","CDI Engativá","Femenino","Mujer","Sin datos","Sin datos","Sin datos","Sin datos","PETICIONES ENTRE ENTIDADES","Consulta general","Peticiones entre entidades","20226040927201 - SOLICITUD DE INFORMACIÓN URGENTE. AL CONTESTAR CITE: EXP N° 2019604490109256E INSPECCION 10G ENGATIVA -PARROQUIA LA ENCARNACION. LEY 1801/16 -ART 135 -LIT A -NUM 3","Radicar en ORFEO","SGI","10 Engativá"]
[942,2022,"NOVIEMBRE","2022-11-15","15:47:00","CRISTHIAN CAMILO MONTAÑA HERNANDEZ","VIRTUAL","Correo electrónico","jdrodriguez@concejobogota.gov.co","Entidades y Organismos Distritales","Concejo de Bogotá","Entidades y Organismos Distritales","Funcionario","Masculino","Hombre ","Sin datos","Sin datos","Sin datos","Sin datos","PETICIONES ENTRE ENTIDADES","Consulta general","Peticiones entre entidades","Solicitud Reunión de Seguimiento ITI - Situación predio Instituto Técnico Industrial Francisco José de Caldas.","Radicar en ORFEO","DIRECCIÓN","No Registra"]
[943,2022,"NOVIEMBRE","2022-11-15","15:55:00","CRISTHIAN CAMILO MONTAÑA HERNANDEZ","VIRTUAL","Correo electrónico","correspondencia.cau@promoambientaldistrito.com","Entidades y Organismos Distritales","Promoambiental Distrito","Entidades y Organismos Distritales","Correspondencia","Femenino","Mujer","Sin datos","Sin datos","Sin datos","Sin datos","PETICIONES ENTRE ENTIDADES","Consulta general","Peticiones entre entidades","Traslado por competencia PQR-2022-2058","Radicar en ORFEO","SGI","No Registra"]
[944,2022,"NOVIEMBRE","2022-11-15","16:01:00","CRISTHIAN CAMILO MONTAÑA HERNANDEZ","VIRTUAL","Correo electrónico","jdrodriguez@concejobogota.gov.co","Entidades y Organismos Distritales","Concejo de Bogotá","Entidades y Organismos Distritales","Funcionario","Masculino","Hombre ","Sin datos","Sin datos","Sin datos","Sin datos","PETICIONES ENTRE ENTIDADES","Consulta general","Peticiones entre entidades","recorrido Cerramiento UD Sede Bosa","Radicar en ORFEO","DIRECCIÓN","07 Bosa"]
[945,2022,"NOVIEMBRE","2022-11-15","16:18:00","CRISTHIAN CAMILO MONTAÑA HERNANDEZ","VIRTUAL","Correo electrónico","lverdugo@acueducto.com.co","Entidades y Organismos Distritales","Acueducto","Entidades y Organismos Distritales","Funcionario","Femenino","Mujer","Sin datos","Sin datos","Sin datos","Sin datos","PETICIONES ENTRE ENTIDADES","Consulta general","Peticiones entre entidades","PROGRAMACIÓN - CORTES DE LA SEMANA DEL SÁBADO 12 AL VIERNES 18 DE NOVIEMBRE DEL 2022","Radicar en ORFEO","SGI","No Registra"]
[946,2022,"NOVIEMBRE","2022-11-15","16:19:00","CRISTHIAN CAMILO MONTAÑA HERNANDEZ","VIRTUAL","Correo electrónico","sromana@dian.gov.co","Entidades y Organismos Nacionales","Dirección de Impuestos y Aduanas Nacionales","Entidades y Orgamismos Nacionales","Funcionario","Masculino","Hombre ","Sin datos","Sin datos","Sin datos","Sin datos","PETICIONES ENTRE ENTIDADES","Consulta general","Peticiones entre entidades","SOLICITUD DE INFORMACIÓN URGENTE- Respuesta radicado DADEP","Radicar en ORFEO","SRI","No Registra"]
[947,2022,"NOVIEMBRE","2022-11-15","16:25:00","CRISTHIAN CAMILO MONTAÑA HERNANDEZ","VIRTUAL","Correo electrónico","sindistritales2011@gmail.com","Organizaciones Sociales","Sindistritales","Organizaciones Sociales","Sindistritales","Masculino","Hombre ","Sin datos","Sin datos","Sin datos","Sin datos","ASESORÍA","Estudio de la viabilidad de las solicitudes de administración de bienes públicos","CAMEP Contrato de administración y mantenimiento","SOLICITUD DE PRORROGA DE CONTRATO DE COMODATO","Radicar en ORFEO","SGI","No Registra"]
[948,2022,"NOVIEMBRE","2022-11-15","16:32:00","CRISTHIAN CAMILO MONTAÑA HERNANDEZ","VIRTUAL","Correo electrónico","buzon.areatecnica@idrd.gov.co","Entidades y Organismos Distritales","Instituto Distrital de Recreación y Deportes","Entidades y Organismos Distritales","buzon area tecnica","Masculino","Hombre ","Sin datos","Sin datos","Sin datos","Sin datos","PETICIONES ENTRE ENTIDADES","Consulta general","Peticiones entre entidades","Radicado IDRD No. 20222100334562 del 04 de noviembre de 2022. Radicado DADEP No. 20222010165421 del 20 de octubre de 2022","Radicar en ORFEO","SRI","No Registra"]
[949,2022,"NOVIEMBRE","2022-11-15","16:42:00","CRISTHIAN CAMILO MONTAÑA HERNANDEZ","VIRTUAL","Correo electrónico","buzon.areatecnica@idrd.gov.co","Entidades y Organismos Distritales","Instituto Distrital de Recreación y Deportes","Entidades y Organismos Distritales","buzon area tecnica","Masculino","Hombre ","Sin datos","Sin datos","Sin datos","Sin datos","PETICIONES ENTRE ENTIDADES","Consulta general","Peticiones entre entidades","Radicado IDRD No. 20222100334562 del 04 de noviembre de 2022. Radicado DADEP No. 20222010165421 del 20 de octubre de 2022","Responder a correo electronico","AREA DE ATENCION A LA CIUDADANIA","07 Bosa"]
[950,2022,"NOVIEMBRE","2022-11-15","16:51:00","CRISTHIAN CAMILO MONTAÑA HERNANDEZ","VIRTUAL","Correo electrónico","rafaelantonioc46@gmail.com","Ciudadanía","Funcionario","Ciudadanía","Ciudadanía","Masculino","Hombre ","Sin datos","Sin datos","Sin datos","Sin datos","ASESORÍA","Asesoría en administración y sostenibilidad del espacio público","Asesoría en temas de espacio público","Derecho de petición. = Consulta","Radicar en ORFEO","SGI","No Registra"]
[951,2022,"NOVIEMBRE","2022-11-15","17:14:00","CRISTHIAN CAMILO MONTAÑA HERNANDEZ","VIRTUAL","Correo electrónico","yohana.aldana@gobiernobogota.gov.co","Entidades y Organismos Distritales","Secretaría de Gobierno","Entidades y Organismos Distritales","Funcionario","Femenino","Mujer","Sin datos","Sin datos","Sin datos","Sin datos","PETICIONES ENTRE ENTIDADES","Consulta general","Peticiones entre entidades","Acta No5 de CLG-Infraestructura y Movilidad","Radicar en ORFEO","SGI","No Registra"]
[952,2022,"NOVIEMBRE","2022-11-15","17:30:00","CRISTHIAN CAMILO MONTAÑA HERNANDEZ","VIRTUAL","Correo electrónico","cav.urbanismo@gmail.com","Empresas privadas","CAV URBANISMO ","Empresas Privadas","CAV URBANISMO ","N/A","N/A","Sin datos","Sin datos","Sin datos","Sin datos","ASESORÍA","Incorporación y entrega de las áreas de cesión a favor del municipio","Entrega de zonas de cesión","ENTREGA REAL Y MATERIAL DE LAS ZONAS DE CESION OBLIGATORIAS Y GRATUITAS AL DISTRITO URBANIZACION ENSUEÑO I","Radicar en ORFEO","SRI","No Registra"]
[953,2022,"NOVIEMBRE","2022-11-15","17:35:00","CRISTHIAN CAMILO MONTAÑA HERNANDEZ","VIRTUAL","Correo electrónico","jaime.tenorio@scrd.gov.co","Entidades y Organismos Distritales","Secretaría de Cultura, Recreación y Deporte","Entidades y Organismos Distritales","Funcionario","Femenino","Mujer","Sin datos","Sin datos","Sin datos","Sin datos","PETICIONES ENTRE ENTIDADES","Consulta general","Peticiones entre entidades","20223100129381 - Modificación del decreto 552 de 2018","Radicar en ORFEO","DIRECCIÓN","No Registra"]
[954,2022,"NOVIEMBRE","2022-11-15","17:35:00","CRISTHIAN CAMILO MONTAÑA HERNANDEZ","VIRTUAL","Correo electrónico","notificacionescec@domina.com.co","Entidades y Organismos Distritales","Domina Entrega Total S.A.S","Entidades y Organismos Distritales","Notificaciones","Femenino","Mujer","Sin datos","Sin datos","Sin datos","Sin datos","PETICIONES ENTRE ENTIDADES","Consulta general","Peticiones entre entidades","Radicado Instituto de Patrimonio 20223020057961","Radicar en ORFEO","SGI","No Registra"]
[955,2022,"NOVIEMBRE","2022-11-15","17:36:00","CRISTHIAN CAMILO MONTAÑA HERNANDEZ","VIRTUAL","Correo electrónico","jtraslavina@alianza.com.co","Empresas privadas","Alianza Fiduciaria","Empresas Privadas","Ciudadanía","Masculino","Hombre ","Sin datos","Sin datos","Sin datos","Sin datos","NOTIFICACIONES","Estudio de la viabilidad de las solicitudes de administración de bienes públicos","CAMEP Contrato de administración y mantenimiento","RESPUESTA REQUERIMIENTO No. 20222010154401 ","Radicar en ORFEO","SRI","No Registra"]
[956,2022,"NOVIEMBRE","2022-11-15","17:50:00","CRISTHIAN CAMILO MONTAÑA HERNANDEZ","VIRTUAL","Correo electrónico","notificacionescec@domina.com.co","Entidades y Organismos Distritales","Domina Entrega Total S.A.S","Entidades y Organismos Distritales","Notificaciones","Femenino","Mujer","Sin datos","Sin datos","Sin datos","Sin datos","PETICIONES ENTRE ENTIDADES","Consulta general","Peticiones entre entidades","Radicado Instituto de Patrimonio 20222060058051","Radicar en ORFEO","SGI","No Registra"]
[957,2022,"NOVIEMBRE","2022-11-15","17:55:00","CRISTHIAN CAMILO MONTAÑA HERNANDEZ","VIRTUAL","Correo electrónico","cav.urbanismo@gmail.com","Empresas privadas","CAV URBANISMO ","Empresas Privadas","CAV URBANISMO ","N/A","N/A","Sin datos","Sin datos","Sin datos","Sin datos","ASESORÍA","Incorporación y entrega de las áreas de cesión a favor del municipio","Entrega de zonas de cesión","ENTREGA REAL Y MATERIAL DE LAS ZONAS DE CESION OBLIGATORIAS Y GRATUITAS AL DISTRITO URBANIZACION ENSUEÑO II","Radicar en ORFEO","SRI","No Registra"]
[958,2022,"NOVIEMBRE","2022-11-15","18:17:00","CRISTHIAN CAMILO MONTAÑA HERNANDEZ","VIRTUAL","Correo electrónico","carlos.bustamante@cnmh.gov.co","Entidades y Organismos Nacionales","Centro Nacional de Memoria Histórica","Entidades y Orgamismos Nacionales","Funcionario","Femenino","Mujer","Sin datos","Sin datos","Sin datos","Sin datos","PETICIONES ENTRE ENTIDADES","Consulta general","Peticiones entre entidades","RADICACION 2022111110010967-1 DE 11-NOV-2022 - PROYECTO MMC","Radicar en ORFEO","DIRECCIÓN","No Registra"]
[959,2022,"NOVIEMBRE","2022-11-15","19:48:00","CRISTHIAN CAMILO MONTAÑA HERNANDEZ","VIRTUAL","Correo electrónico","buzoncomunicaciones@sdp.gov.co","Entidades y Organismos Distritales","Secretaría Distrital de Planeación","Entidades y Organismos Distritales","buzon comunicaciones","Femenino","Mujer","Sin datos","Sin datos","Sin datos","Sin datos","PETICIONES ENTRE ENTIDADES","Consulta general","Peticiones entre entidades","2-2022-164866","Responder a correo electronico","AREA DE ATENCION A LA CIUDADANIA","No Registra"]
[960,2022,"NOVIEMBRE","2022-11-15","21:58:00","CRISTHIAN CAMILO MONTAÑA HERNANDEZ","VIRTUAL","Correo electrónico","correspondencia@concejobogota.gov.co","Entidades y Organismos Distritales","Concejo de Bogotá","Entidades y Organismos Distritales","Correspondencia","Masculino","Hombre ","Sin datos","Sin datos","Sin datos","Sin datos","PETICIONES ENTRE ENTIDADES","Consulta general","Peticiones entre entidades","SOLICITUD MESA DE TRABAJO EN EL BARRIO EL SALITRE CONJUNTO RESIDENCIAL VENTURA Calle 24B 68ª-42 Bogotá","Radicar en ORFEO","DIRECCIÓN","12 Barrios Unidos"]
[961,2022,"NOVIEMBRE","2022-11-15","07:24:00","CRISTHIAN CAMILO MONTAÑA HERNANDEZ","VIRTUAL","Correo electrónico","buzoncomunicaciones@sdp.gov.co","Entidades y Organismos Distritales","Secretaría Distrital de Planeación","Entidades y Organismos Distritales","buzon comunicaciones","Masculino","Hombre ","Sin datos","Sin datos","Sin datos","Sin datos","PETICIONES ENTRE ENTIDADES","Consulta general","Peticiones entre entidades","2-2022-164692","Radicar en ORFEO","SRI","02 Chapinero"]
[962,2022,"NOVIEMBRE","2022-11-15","07:31:00","CRISTHIAN CAMILO MONTAÑA HERNANDEZ","VIRTUAL","Correo electrónico","protocolo@notaria1bogota.com.co","Entidades y Organismos Nacionales","NOTARIA 1","Entidades y Orgamismos Nacionales","NOTARIA 1","N/A","N/A","Sin datos","Sin datos","Sin datos","Sin datos","PETICIONES ENTRE ENTIDADES","Consulta general","Peticiones entre entidades","solicitud copia escritura publica numero 6888 del 26 de noviembre de 1970","Radicar en ORFEO","SRI","No Registra"]
[963,2022,"NOVIEMBRE","2022-11-15","07:35:00","CRISTHIAN CAMILO MONTAÑA HERNANDEZ","VIRTUAL","Correo electrónico","oscar.cardenas@uaesp.gov.co","Entidades y Organismos Distritales","Unidad Administrativa Especial de Servicios Públicos","Entidades y Organismos Distritales","Funcionario","Femenino","Mujer","Sin datos","Sin datos","Sin datos","Sin datos","PETICIONES ENTRE ENTIDADES","Consulta general","Peticiones entre entidades","Oficio UAESP 20224000 256071-Infraestructura de alumbrado publico parque - Carrera 58 No. 119 A - 49 - Lagos de Cordoba - Suba. SDQS - 3165782228 y SDQS - 3829532022.","Radicar en ORFEO","SRI","11 Suba"]
[964,2022,"NOVIEMBRE","2022-11-15","08:00:00","CRISTHIAN CAMILO MONTAÑA HERNANDEZ","VIRTUAL","Correo electrónico","mc.cortes@metalgraf.com","Empresas privadas","Metalgraf","Empresas Privadas","Ciudadanía","Masculino","Hombre ","Sin datos","Sin datos","Sin datos","Sin datos","ASESORÍA","Certificación de la propiedad inmobiliaria distrital","Certificación de la propiedad inmobiliaria","Solicitud certificado espacio publico cra 27 # 68 - 95","Radicar en ORFEO","SRI","No Registra"]
[965,2022,"NOVIEMBRE","2022-11-15","08:45:00","CRISTHIAN CAMILO MONTAÑA HERNANDEZ","VIRTUAL","Correo electrónico","correspondencia@secretariajuridica.gov.co","Entidades y Organismos Distritales","Secretasría Jurídica Distrital","Entidades y Organismos Distritales","Correspondencia","Femenino","Mujer","Sin datos","Sin datos","Sin datos","Sin datos","PETICIONES ENTRE ENTIDADES","Consulta general","Peticiones entre entidades","2-2022-23643 - Circular # 055 de 2022 del 11-11-2022 - El principio de favorabilidad en el Código General Disciplinario - Ley 1952 de 2019","Radicar en ORFEO","DIRECCIÓN","No Registra"]
[966,2022,"NOVIEMBRE","2022-11-15","08:49:00","CRISTHIAN CAMILO MONTAÑA HERNANDEZ","VIRTUAL","Correo electrónico","correspondencia@secretariajuridica.gov.co","Entidades y Organismos Distritales","Secretasría Jurídica Distrital","Entidades y Organismos Distritales","Correspondencia","Femenino","Mujer","Sin datos","Sin datos","Sin datos","Sin datos","PETICIONES ENTRE ENTIDADES","Consulta general","Peticiones entre entidades","2-2022-23640 - Circular # 056 de 2022 del 11-11-2022 - Ofrecimiento bienes corporativa","Radicar en ORFEO","DIRECCIÓN","No Registra"]
[967,2022,"NOVIEMBRE","2022-11-15","09:10:00","CRISTHIAN CAMILO MONTAÑA HERNANDEZ","VIRTUAL","Correo electrónico","cav.urbanismo@gmail.com","Empresas privadas","CAV URBANISMO ","Empresas Privadas","CAV URBANISMO ","N/A","N/A","Sin datos","Sin datos","Sin datos","Sin datos","ASESORÍA","Incorporación y entrega de las áreas de cesión a favor del municipio","Entrega de zonas de cesión","ENTREGA REAL Y MATERIAL DE LAS ZONAS DE CESION OBLIGATORIAS Y GRATUITAS AL DISTRITO URBANIZACION LA FELICIDAD UG-1","Radicar en ORFEO","SRI","No Registra"]
[968,2022,"NOVIEMBRE","2022-11-15","10:08:00","CRISTHIAN CAMILO MONTAÑA HERNANDEZ","VIRTUAL","Correo electrónico","anino@catastrobogota.gov.co","Entidades y Organismos Distritales","Catastro de Bogotá","Entidades y Organismos Distritales","Funcionario","Masculino","Hombre ","Sin datos","Sin datos","Sin datos","Sin datos","PETICIONES ENTRE ENTIDADES","Consulta general","Peticiones entre entidades","COMUNICACIÓN ELECTRÓNICA 50C-1463686, 50C-991240, 50C-1463687, 2022EE83889","Radicar en ORFEO","SRI","No Registra"]
[969,2022,"NOVIEMBRE","2022-11-15","12:21:00","CRISTHIAN CAMILO MONTAÑA HERNANDEZ","VIRTUAL","Correo electrónico","javier.mendez@gobiernobogota.gov.co","Entidades y Organismos Distritales","Secretaría de Gobierno","Entidades y Organismos Distritales","Funcionario","Masculino","Hombre ","Sin datos","Sin datos","Sin datos","Sin datos","PETICIONES ENTRE ENTIDADES","Consulta general","Peticiones entre entidades","20225540795431 - Carta de Citacion","Radicar en ORFEO","SGI","05 Usme"]
[970,2022,"NOVIEMBRE","2022-11-15","12:23:00","CRISTHIAN CAMILO MONTAÑA HERNANDEZ","VIRTUAL","Correo electrónico","javier.mendez@gobiernobogota.gov.co","Entidades y Organismos Distritales","Secretaría de Gobierno","Entidades y Organismos Distritales","Funcionario","Masculino","Hombre ","Sin datos","Sin datos","Sin datos","Sin datos","PETICIONES ENTRE ENTIDADES","Consulta general","Peticiones entre entidades","20225540800441 - Carta de Citacion","Radicar en ORFEO","SGI","05 Usme"]
[971,2022,"NOVIEMBRE","2022-11-15","12:25:00","CRISTHIAN CAMILO MONTAÑA HERNANDEZ","VIRTUAL","Correo electrónico","javier.mendez@gobiernobogota.gov.co","Entidades y Organismos Distritales","Secretaría de Gobierno","Entidades y Organismos Distritales","Funcionario","Masculino","Hombre ","Sin datos","Sin datos","Sin datos","Sin datos","PETICIONES ENTRE ENTIDADES","Consulta general","Peticiones entre entidades","20225540800651 - Carta de Citacion","Radicar en ORFEO","SGI","05 Usme"]
[972,2022,"NOVIEMBRE","2022-11-15","12:26:00","CRISTHIAN CAMILO MONTAÑA HERNANDEZ","VIRTUAL","Correo electrónico","javier.mendez@gobiernobogota.gov.co","Entidades y Organismos Distritales","Secretaría de Gobierno","Entidades y Organismos Distritales","Funcionario","Masculino","Hombre ","Sin datos","Sin datos","Sin datos","Sin datos","PETICIONES ENTRE ENTIDADES","Consulta general","Peticiones entre entidades","20225540798081 - AUDIENCIA PÚBLICA PROGRAMADA PARA EL DÍA 06 DE DICIEMBRE DE 2022 1:30P.M.","Radicar en ORFEO","SGI","05 Usme"]
[973,2022,"NOVIEMBRE","2022-11-15","12:26:00","CRISTHIAN CAMILO MONTAÑA HERNANDEZ","VIRTUAL","Correo electrónico","javier.mendez@gobiernobogota.gov.co","Entidades y Organismos Distritales","Secretaría de Gobierno","Entidades y Organismos Distritales","Funcionario","Masculino","Hombre ","Sin datos","Sin datos","Sin datos","Sin datos","PETICIONES ENTRE ENTIDADES","Consulta general","Peticiones entre entidades","20225540799481  - EXPEDIENTE 2021553490106157E","Radicar en ORFEO","SGI","05 Usme"]
[974,2022,"NOVIEMBRE","2022-11-15","12:27:00","CRISTHIAN CAMILO MONTAÑA HERNANDEZ","VIRTUAL","Correo electrónico","javier.mendez@gobiernobogota.gov.co","Entidades y Organismos Distritales","Secretaría de Gobierno","Entidades y Organismos Distritales","Funcionario","Masculino","Hombre ","Sin datos","Sin datos","Sin datos","Sin datos","PETICIONES ENTRE ENTIDADES","Consulta general","Peticiones entre entidades","20225540799531 - EXPEDIENTE 2021553490106158E","Radicar en ORFEO","SGI","05 Usme"]
[975,2022,"NOVIEMBRE","2022-11-15","12:27:00","CRISTHIAN CAMILO MONTAÑA HERNANDEZ","VIRTUAL","Correo electrónico","javier.mendez@gobiernobogota.gov.co","Entidades y Organismos Distritales","Secretaría de Gobierno","Entidades y Organismos Distritales","Funcionario","Masculino","Hombre ","Sin datos","Sin datos","Sin datos","Sin datos","PETICIONES ENTRE ENTIDADES","Consulta general","Peticiones entre entidades","20225540799511 - EXPEDIENTE 2021553490106150E","Radicar en ORFEO","SGI","05 Usme"]
[976,2022,"NOVIEMBRE","2022-11-15","15:16:00","CRISTHIAN CAMILO MONTAÑA HERNANDEZ","VIRTUAL","Correo electrónico","mesasgestionterritorial@gobiernobogota.gov.co","Entidades y Organismos Distritales","Secretaría de Gobierno","Entidades y Organismos Distritales","mesas gestion territorial","Masculino","Hombre ","Sin datos","Sin datos","Sin datos","Sin datos","PETICIONES ENTRE ENTIDADES","Consulta general","Peticiones entre entidades","CONVOCATORIA Mesa de Seguimiento Territorial, Predios escuela, Ciudad Bolivar - HC Abisambra RADICADO 20224213662312","Radicar en ORFEO","DIRECCIÓN","No Registra"]
[977,2022,"NOVIEMBRE","2022-11-15","06:30:00","CRISTHIAN CAMILO MONTAÑA HERNANDEZ","VIRTUAL","Correo electrónico","alcalde.bosa@gobiernobogota.gov.co","Entidades y Organismos Distritales","Secretaría de Gobierno","Entidades y Organismos Distritales","Alcaldía de Bosa","Femenino","Mujer","Sin datos","Sin datos","Sin datos","Sin datos","PETICIONES ENTRE ENTIDADES","Consulta general","Peticiones entre entidades","Convocatoria UPZ 49 Apogeo","Radicar en ORFEO","SGI","07 Bosa"]
[978,2022,"NOVIEMBRE","2022-11-15","06:30:00","CRISTHIAN CAMILO MONTAÑA HERNANDEZ","VIRTUAL","Correo electrónico","alcalde.bosa@gobiernobogota.gov.co","Entidades y Organismos Distritales","Secretaría de Gobierno","Entidades y Organismos Distritales","Alcaldía de Bosa","Femenino","Mujer","Sin datos","Sin datos","Sin datos","Sin datos","PETICIONES ENTRE ENTIDADES","Consulta general","Peticiones entre entidades","INVITACIÓN A MESA DE TRABAJO INSTITUCIONAL - SECTOR DEL APOGEO","Radicar en ORFEO","SGI","07 Bosa"]
[979,2022,"NOVIEMBRE","2022-11-15","07:45:00","CRISTHIAN CAMILO MONTAÑA HERNANDEZ","VIRTUAL","Correo electrónico","mayra.gonzalez@idu.gov.co","Entidades y Organismos Distritales","Instituto de Desarrollo Urbano","Entidades y Organismos Distritales","Funcionario","Femenino","Mujer","Sin datos","Sin datos","Sin datos","Sin datos","PETICIONES ENTRE ENTIDADES","Consulta general","Peticiones entre entidades","Radicados convenio 1306 de 2015","Radicar en ORFEO","SGI","No Registra"]
[980,2022,"NOVIEMBRE","2022-11-15","08:12:00","CRISTHIAN CAMILO MONTAÑA HERNANDEZ","VIRTUAL","Correo electrónico","gmarulanda@contraloriabogota.gov.co","Entidades y Organismos Distritales","Contraloría de Bogotá","Entidades y Organismos Distritales","Funcionario","Femenino","Mujer","Sin datos","Sin datos","Sin datos","Sin datos","PETICIONES ENTRE ENTIDADES","Consulta general","Peticiones entre entidades","Requerimiento 5 Solicitud de información Visita Control Fiscal Código 505 – PAD 2022, DPC 1045","Radicar en ORFEO","DIRECCIÓN","No Registra"]
[981,2022,"NOVIEMBRE","2022-11-15","08:19:00","CRISTHIAN CAMILO MONTAÑA HERNANDEZ","VIRTUAL","Correo electrónico","gmarulanda@contraloriabogota.gov.co","Entidades y Organismos Distritales","Contraloría de Bogotá","Entidades y Organismos Distritales","Funcionario","Femenino","Mujer","Sin datos","Sin datos","Sin datos","Sin datos","PETICIONES ENTRE ENTIDADES","Consulta general","Peticiones entre entidades","Requerimiento 6 Solicitud de acompañamiento Visita Control Fiscal Código 505 – PAD 2022, DPC 1045","Radicar en ORFEO","DIRECCIÓN","No Registra"]
[982,2022,"NOVIEMBRE","2022-11-15","08:20:00","CRISTHIAN CAMILO MONTAÑA HERNANDEZ","VIRTUAL","Correo electrónico","lagudelo@movilidadbogota.gov.co","Entidades y Organismos Distritales","Secretaría de Movilidad","Entidades y Organismos Distritales","Funcionario","Femenino","Mujer","Sin datos","Sin datos","Sin datos","Sin datos","PETICIONES ENTRE ENTIDADES","Consulta general","Peticiones entre entidades","Préstamo espacio de co-working","Radicar en ORFEO","SGI","No Registra"]
[983,2022,"NOVIEMBRE","2022-11-15","08:27:00","CRISTHIAN CAMILO MONTAÑA HERNANDEZ","VIRTUAL","Correo electrónico","elportaljuntadeaccioncomunal@gmail.com","Juntas de Acción Comunal (JAC)","Juntas de Acción Comunal (JAC)","Juntas de Acción Comunal (JAC)","JAC El Portal","N/A","N/A","Sin datos","Sin datos","Sin datos","Sin datos","ASESORÍA","Incorporación y entrega de las áreas de cesión a favor del municipio","Entrega de zonas de cesión","Acta de entrega con el RUPI 632-39","Radicar en ORFEO","SRI","No Registra"]
[984,2022,"NOVIEMBRE","2022-11-15","08:42:00","CRISTHIAN CAMILO MONTAÑA HERNANDEZ","VIRTUAL","Correo electrónico","mateusjorgek67@gmail.com","Ciudadanía","Funcionario","Ciudadanía","Ciudadanía","Masculino","Hombre ","Sin datos","Sin datos","Sin datos","Sin datos","ASESORÍA","Incorporación y entrega de las áreas de cesión a favor del municipio","Entrega de zonas de cesión","ZONAS DE CESION ANTICIPADA","Radicar en ORFEO","SRI","No Registra"]
[985,2022,"NOVIEMBRE","2022-11-15","09:18:00","CRISTHIAN CAMILO MONTAÑA HERNANDEZ","VIRTUAL","Correo electrónico","correspondencia@concejobogota.gov.co","Entidades y Organismos Distritales","Concejo de Bogotá","Entidades y Organismos Distritales","Correspondencia","Masculino","Hombre ","Sin datos","Sin datos","Sin datos","Sin datos","PETICIONES ENTRE ENTIDADES","Consulta general","Peticiones entre entidades","Acciones adelantadas e invitación Visita Técnica “Problemática en Parque los Molinos ubicado en la Calle 106 con carrera 15”","Radicar en ORFEO","DIRECCIÓN","No Registra"]
[986,2022,"NOVIEMBRE","2022-11-15","09:30:00","CRISTHIAN CAMILO MONTAÑA HERNANDEZ","VIRTUAL","Correo electrónico","mofajardo@alianza.com.co","Empresas privadas","Alianza Fiduciaria","Empresas Privadas","Ciudadanía","Femenino","Mujer","Sin datos","Sin datos","Sin datos","Sin datos","NOTIFICACIONES","Estudio de la viabilidad de las solicitudes de administración de bienes públicos","CAMEP Contrato de administración y mantenimiento","Notificación ingreso de Giros Equity – Cuenta Proyecto FIDEICOMISO HUB MOVILIDAD CALLE 136 ALIANZA FIDUCIARIA S.A","Radicar en ORFEO","SGI","No Registra"]
[987,2022,"NOVIEMBRE","2022-11-15","09:42:00","CRISTHIAN CAMILO MONTAÑA HERNANDEZ","VIRTUAL","Correo electrónico","envionotificaciones@ipes.gov.co","Entidades y Organismos Distritales","Instituto para la Economía Social ","Entidades y Organismos Distritales","Notificaciones","Femenino","Mujer","Sin datos","Sin datos","Sin datos","Sin datos","PETICIONES ENTRE ENTIDADES","Consulta general","Peticiones entre entidades","00110-816-028649 - Respuesta al Radicado IPES No. 00110-812- 020051","Radicar en ORFEO","SGI","No Registra"]
[988,2022,"NOVIEMBRE","2022-11-15","09:48:00","CRISTHIAN CAMILO MONTAÑA HERNANDEZ","VIRTUAL","Correo electrónico","correspondenciaexternaenviada@participacionbogota.gov.co","Entidades y Organismos Distritales","participacion Bogota","Entidades y Organismos Distritales","Correspondencia","Masculino","Hombre ","Sin datos","Sin datos","Sin datos","Sin datos","PETICIONES ENTRE ENTIDADES","Consulta general","Peticiones entre entidades",20223000000000,"Radicar en ORFEO","DIRECCIÓN","No Registra"]
[989,2022,"NOVIEMBRE","2022-11-15","10:04:00","CRISTHIAN CAMILO MONTAÑA HERNANDEZ","VIRTUAL","Correo electrónico","ipoveda@dadep.gov.co","Servidores públicos (funcionarios y contratistas)","Funcionario","Servidores públicos (funcionarios y contratistas)","Servidor público","Masculino","Hombre ","Sin datos","Sin datos","Sin datos","Sin datos","CONSULTA","Consulta general","Contratos jurídica","Certificación de contratos","Radicar en ORFEO","OJ","No Registra"]
[990,2022,"NOVIEMBRE","2022-11-15","10:38:00","CRISTHIAN CAMILO MONTAÑA HERNANDEZ","VIRTUAL","Correo electrónico","isagr802@hotmail.es","Juntas de Acción Comunal (JAC)","Juntas de Acción Comunal (JAC)","Juntas de Acción Comunal (JAC)","Ciudadanía","N/A","N/A","Sin datos","Sin datos","Sin datos","Sin datos","NOTIFICACIONES","Estudio de la viabilidad de las solicitudes de administración de bienes públicos","CAMEP Contrato de administración y mantenimiento","REPARCHEO CONTRATO N.11000129517-0-2012 PARQUEADERO LAS LUCES","Radicar en ORFEO","SGI","No Registra"]
[991,2022,"NOVIEMBRE","2022-11-15","10:55:00","CRISTHIAN CAMILO MONTAÑA HERNANDEZ","VIRTUAL","Correo electrónico","correspondencia.i.dadep247@interdisenos.com.co","Empresas privadas","interdisenos","Empresas Privadas","Correspondencia","Femenino","Mujer","Sin datos","Sin datos","Sin datos","Sin datos","NOTIFICACIONES","Estudio de la viabilidad de las solicitudes de administración de bienes públicos","CAMEP Contrato de administración y mantenimiento","GDADEP-954-22 DADEP - Acciones adelantadas por el Dadep Reposicion de Mobiliario y Señalizacion Paraderos SITP","Radicar en ORFEO","SGI","No Registra"]
[992,2022,"NOVIEMBRE","2022-11-15","11:06:00","CRISTHIAN CAMILO MONTAÑA HERNANDEZ","VIRTUAL","Correo electrónico","cdi.chapinero@gobiernobogota.gov.co","Entidades y Organismos Distritales","Secretaría de Gobierno","Entidades y Organismos Distritales","CDI Chapinero","Masculino","Hombre ","Sin datos","Sin datos","Sin datos","Sin datos","PETICIONES ENTRE ENTIDADES","Consulta general","Peticiones entre entidades","20225220772921 - Invitación a conformar el consejo local de obras","Radicar en ORFEO","SGI","02 Chapinero"]
[993,2022,"NOVIEMBRE","2022-11-15","11:30:00","CRISTHIAN CAMILO MONTAÑA HERNANDEZ","VIRTUAL","Correo electrónico","correspondencia@ambientebogota.gov.co","Entidades y Organismos Distritales","Secretaría de Ambiente","Entidades y Organismos Distritales","Correspondencia","Masculino","Hombre ","Sin datos","Sin datos","Sin datos","Sin datos","PETICIONES ENTRE ENTIDADES","Consulta general","Peticiones entre entidades","Envió documento Secretaria distrital de ambiente Radicado No.2022EE293513","Radicar en ORFEO","SGI","11 Suba"]
[994,2022,"NOVIEMBRE","2022-11-15","11:32:00","CRISTHIAN CAMILO MONTAÑA HERNANDEZ","VIRTUAL","Correo electrónico","oscar.cardenas@uaesp.gov.co","Entidades y Organismos Distritales","Unidad Administrativa Especial de Servicios Públicos","Entidades y Organismos Distritales","Funcionario","Femenino","Mujer","Sin datos","Sin datos","Sin datos","Sin datos","PETICIONES ENTRE ENTIDADES","Consulta general","Peticiones entre entidades","Oficio UAESP 20224000 258301-Infraestructura de alumbrado publico - parque con codigo 11-191 - Carrera 58 No. 119 A - Lagos de Cordoba de Suba. SDQS 3778302022.","Radicar en ORFEO","SRI","11 Suba"]
[995,2022,"NOVIEMBRE","2022-11-15","11:40:00","CRISTHIAN CAMILO MONTAÑA HERNANDEZ","VIRTUAL","Correo electrónico","hvtolosab@colpensiones.gov.co","Entidades y Organismos Nacionales","Colpensiones","Entidades y Orgamismos Nacionales","Funcionario","Femenino","Mujer","Sin datos","Sin datos","Sin datos","Sin datos","CONSULTA","Consulta general","Talento humano","PQRS - DADEP","Radicar en ORFEO","SGC","No Registra"]
[996,2022,"NOVIEMBRE","2022-11-15","11:40:00","CRISTHIAN CAMILO MONTAÑA HERNANDEZ","VIRTUAL","Correo electrónico","sharon.valderrama@axacolpatria.co","Empresas privadas","AXA Colpatria","Empresas Privadas","Ciudadanía","Femenino","Mujer","Sin datos","Sin datos","Sin datos","Sin datos","CONSULTA","Consulta general","Talento humano","CARTA DE NO PRORROGA NO RENOVACIÓN RCSP IRF DADEP","Radicar en ORFEO","SGC","No Registra"]
[997,2022,"NOVIEMBRE","2022-11-15","11:43:00","CRISTHIAN CAMILO MONTAÑA HERNANDEZ","VIRTUAL","Correo electrónico","notificacionelectronica@movilidadbogota.gov.co","Entidades y Organismos Distritales","Secretaría de Movilidad","Entidades y Organismos Distritales","Notificaciones","Femenino","Mujer","Sin datos","Sin datos","Sin datos","Sin datos","PETICIONES ENTRE ENTIDADES","Consulta general","Peticiones entre entidades","RADICADO SDM N°202215009774261","Responder a correo electronico","AREA DE ATENCION A LA CIUDADANIA","No Registra"]
[998,2022,"NOVIEMBRE","2022-11-15","11:43:00","CRISTHIAN CAMILO MONTAÑA HERNANDEZ","VIRTUAL","Correo electrónico","mariafernanda.estrada9@gmail.com","Ciudadanía","Funcionario","Ciudadanía","Ciudadanía","Femenino","Mujer","Sin datos","Sin datos","Sin datos","Sin datos","ASESORÍA","Asesoría en administración y sostenibilidad del espacio público","Asesoría en temas de espacio público","Invasión zona de protección canal Salitre","Radicar en ORFEO","SGI","09 Fontibón"]
[999,2022,"NOVIEMBRE","2022-11-15","11:45:00","CRISTHIAN CAMILO MONTAÑA HERNANDEZ","VIRTUAL","Correo electrónico","correspondencia@veeduriadistrital.gov.co","Entidades y Organismos Distritales","veeduría distrital","Entidades y Organismos Distritales","Correspondencia","Masculino","Hombre ","Sin datos","Sin datos","Sin datos","Sin datos","PETICIONES ENTRE ENTIDADES","Consulta general","Peticiones entre entidades",20223000000000,"Radicar en ORFEO","DIRECCIÓN","No Registra"]
[1000,2022,"NOVIEMBRE","2022-11-15","11:47:00","CRISTHIAN CAMILO MONTAÑA HERNANDEZ","VIRTUAL","Correo electrónico","correspondencia.enviada@idu.gov.co","Entidades y Organismos Distritales","Instituto de Desarrollo Urbano","Entidades y Organismos Distritales","correspondencia","Femenino","Mujer","Sin datos","Sin datos","Sin datos","Sin datos","PETICIONES ENTRE ENTIDADES","Consulta general","Peticiones entre entidades","RADICADO IDU N° 20223251770031 DEL 11 DE NOVIEMBRE 2022","Radicar en ORFEO","SRI","No Registra"]
[1001,2022,"NOVIEMBRE","2022-11-15","11:48:00","CRISTHIAN CAMILO MONTAÑA HERNANDEZ","VIRTUAL","Correo electrónico","notificacionelectronica@movilidadbogota.gov.co","Entidades y Organismos Distritales","Secretaría de Movilidad","Entidades y Organismos Distritales","Notificaciones","Femenino","Mujer","Sin datos","Sin datos","Sin datos","Sin datos","PETICIONES ENTRE ENTIDADES","Consulta general","Peticiones entre entidades","RADICADO SDM N°202253009772651","Responder a correo electronico","AREA DE ATENCION A LA CIUDADANIA","No Registra"]
[1002,2022,"NOVIEMBRE","2022-11-15","11:51:00","CRISTHIAN CAMILO MONTAÑA HERNANDEZ","VIRTUAL","Correo electrónico","idrdcorrespondencia@idrd.gov.co","Entidades y Organismos Distritales","Instituto Distrital de Recreación y Deportes","Entidades y Organismos Distritales","idrd correspondencia","Masculino","Hombre ","Sin datos","Sin datos","Sin datos","Sin datos","PETICIONES ENTRE ENTIDADES","Consulta general","Peticiones entre entidades","20224200245581 - Recibo de obras Zona de Cesión Parque Urb. Derivados del Mármol con póliza de estabilidad vigente – Respuesta Rad IDRD No. 20222100276742.","Radicar en ORFEO","SRI","05 Usme"]
[1003,2022,"NOVIEMBRE","2022-11-15","11:53:00","CRISTHIAN CAMILO MONTAÑA HERNANDEZ","VIRTUAL","Correo electrónico","sirius2@personeriabogota.gov.co","Entidades y Organismos Distritales","personeria de bogota","Entidades y Organismos Distritales","Sirius 2","Masculino","Hombre ","Sin datos","Sin datos","Sin datos","Sin datos","PETICIONES ENTRE ENTIDADES","Consulta general","Peticiones entre entidades","Respuesta 2022-EE-0567673 2022-11-15","Radicar en ORFEO","DIRECCIÓN","No Registra"]
[1004,2022,"NOVIEMBRE","2022-11-15","11:59:00","CRISTHIAN CAMILO MONTAÑA HERNANDEZ","VIRTUAL","Correo electrónico","sirius2@personeriabogota.gov.co","Entidades y Organismos Distritales","personeria de bogota","Entidades y Organismos Distritales","Sirius 2","Masculino","Hombre ","Sin datos","Sin datos","Sin datos","Sin datos","PETICIONES ENTRE ENTIDADES","Consulta general","Peticiones entre entidades","Respuesta 2022-EE-0567678 2022-11-15","Radicar en ORFEO","DIRECCIÓN","No Registra"]
[1005,2022,"NOVIEMBRE","2022-11-15","11:59:00","CRISTHIAN CAMILO MONTAÑA HERNANDEZ","VIRTUAL","Correo electrónico","sirius2@personeriabogota.gov.co","Entidades y Organismos Distritales","personeria de bogota","Entidades y Organismos Distritales","Sirius 2","Masculino","Hombre ","Sin datos","Sin datos","Sin datos","Sin datos","PETICIONES ENTRE ENTIDADES","Consulta general","Peticiones entre entidades","Respuesta 2022-EE-0567685 2022-11-15","Radicar en ORFEO","DIRECCIÓN","No Registra"]
[1006,2022,"NOVIEMBRE","2022-11-15","12:00:00","CRISTHIAN CAMILO MONTAÑA HERNANDEZ","VIRTUAL","Correo electrónico","oscar.cardenas@uaesp.gov.co","Entidades y Organismos Distritales","Unidad Administrativa Especial de Servicios Públicos","Entidades y Organismos Distritales","Funcionario","Femenino","Mujer","Sin datos","Sin datos","Sin datos","Sin datos","PETICIONES ENTRE ENTIDADES","Consulta general","Peticiones entre entidades","Oficio UAESP 20224000 261281-Respuesta a solicitud entrega simplificada de zonas de cesion, proyecto Urbanizacion Brantevilla - Suba. Radicado DADEP No. 20222010170951.","Radicar en ORFEO","SRI","11 Suba"]
[1007,2022,"NOVIEMBRE","2022-11-15","12:09:00","CRISTHIAN CAMILO MONTAÑA HERNANDEZ","VIRTUAL","Correo electrónico","jpareja@educacionbogota.gov.co","Entidades y Organismos Distritales","Secretaría de Educación","Entidades y Organismos Distritales","Funcionario","Masculino","Hombre ","Sin datos","Sin datos","Sin datos","Sin datos","PETICIONES ENTRE ENTIDADES","Consulta general","Peticiones entre entidades","S-2022-347719 - radicado solicitud de anuencia 1903","Radicar en ORFEO","SRI","No Registra"]
[1008,2022,"NOVIEMBRE","2022-11-15","12:15:00","CRISTHIAN CAMILO MONTAÑA HERNANDEZ","VIRTUAL","Correo electrónico","correspondencia@ambientebogota.gov.co","Entidades y Organismos Distritales","Secretaría de Ambiente","Entidades y Organismos Distritales","Correspondencia","Masculino","Hombre ","Sin datos","Sin datos","Sin datos","Sin datos","PETICIONES ENTRE ENTIDADES","Consulta general","Peticiones entre entidades","Envio documento Secretaria distrital de ambiente Radicado No. 2022EE293528","Radicar en ORFEO","DIRECCIÓN","No Registra"]
[1009,2022,"NOVIEMBRE","2022-11-15","12:17:00","CRISTHIAN CAMILO MONTAÑA HERNANDEZ","VIRTUAL","Correo electrónico","info@parque93.com","Empresas privadas","Parque 93","Empresas Privadas","Información","Femenino","Mujer","Sin datos","Sin datos","Sin datos","Sin datos","NOTIFICACIONES","Estudio de la viabilidad de las solicitudes de administración de bienes públicos","CAMEP Contrato de administración y mantenimiento","AAP- A-3137-22 - INFORME MES DE OCTUBRE","Radicar en ORFEO","SGI","02 Chapinero"]
[1010,2022,"NOVIEMBRE","2022-11-15","13:06:00","CRISTHIAN CAMILO MONTAÑA HERNANDEZ","VIRTUAL","Correo electrónico","ragonzalez@concejobogota.gov.co","Entidades y Organismos Distritales","Concejo de Bogotá","Entidades y Organismos Distritales","Funcionario","Masculino","Hombre ","Sin datos","Sin datos","Sin datos","Sin datos","PETICIONES ENTRE ENTIDADES","Consulta general","Peticiones entre entidades","Mesa Técnica de Trabajo en el Barrio Villa Alsacia en la Localidad de Kennedy - DADEP","Radicar en ORFEO","DIRECCIÓN","No Registra"]
[1011,2022,"NOVIEMBRE","2022-11-15","13:32:00","CRISTHIAN CAMILO MONTAÑA HERNANDEZ","VIRTUAL","Correo electrónico","buzoncomunicaciones@sdp.gov.co","Entidades y Organismos Distritales","Secretaría Distrital de Planeación","Entidades y Organismos Distritales","buzon comunicaciones","Femenino","Mujer","Sin datos","Sin datos","Sin datos","Sin datos","PETICIONES ENTRE ENTIDADES","Consulta general","Peticiones entre entidades","2-2022-165313","Radicar en ORFEO","SRI","No Registra"]
[1012,2022,"NOVIEMBRE","2022-11-15","13:36:00","CRISTHIAN CAMILO MONTAÑA HERNANDEZ","VIRTUAL","Correo electrónico","crisuarez1990@gmail.com","Ciudadanía","Funcionario","Ciudadanía","Ciudadanía","Masculino","Hombre ","Sin datos","Sin datos","Sin datos","Sin datos","ASESORÍA","Asesoría en administración y sostenibilidad del espacio público","Asesoría en temas de espacio público","DERECHO PETICION RECUP. ESPACIO PUBLICO","Radicar en ORFEO","SGI","No Registra"]
[1013,2022,"NOVIEMBRE","2022-11-15","14:12:00","CRISTHIAN CAMILO MONTAÑA HERNANDEZ","VIRTUAL","Correo electrónico","proyectarq.pa@gmail.com","Empresas privadas","Proyectos Arquitectónicos P.A ","Empresas Privadas","Proyectos Arquitectónicos P.A ","N/A","N/A","Sin datos","Sin datos","Sin datos","Sin datos","ASESORÍA","Incorporación y entrega de las áreas de cesión a favor del municipio","Entrega de zonas de cesión","Plano Topográfico del área de planificación_PP Nueva Aranda","Radicar en ORFEO","SRI","No Registra"]
[1014,2022,"NOVIEMBRE","2022-11-15","14:13:00","CRISTHIAN CAMILO MONTAÑA HERNANDEZ","VIRTUAL","Correo electrónico","correspondencia.enviada@idu.gov.co","Entidades y Organismos Distritales","Instituto de Desarrollo Urbano","Entidades y Organismos Distritales","correspondencia","Masculino","Hombre ","Sin datos","Sin datos","Sin datos","Sin datos","PETICIONES ENTRE ENTIDADES","Consulta general","Peticiones entre entidades","RADICADO IDU N° 20222051771821 DEL 11 DE NOVIEMBRE 2022","Radicar en ORFEO","SRI","No Registra"]
[1015,2022,"NOVIEMBRE","2022-11-15","14:19:00","CRISTHIAN CAMILO MONTAÑA HERNANDEZ","VIRTUAL","Correo electrónico","oscar.cardenas@uaesp.gov.co","Entidades y Organismos Distritales","Unidad Administrativa Especial de Servicios Públicos","Entidades y Organismos Distritales","Funcionario","Femenino","Mujer","Sin datos","Sin datos","Sin datos","Sin datos","PETICIONES ENTRE ENTIDADES","Consulta general","Peticiones entre entidades","Oficio UAESP 20224000 260011-Alumbrado publico - parque - Calle 65 Sur - Carrera 7 H San Pedro Usme (05-489).","Radicar en ORFEO","DIRECCIÓN","05 Usme"]
[1016,2022,"NOVIEMBRE","2022-11-15","14:59:00","CRISTHIAN CAMILO MONTAÑA HERNANDEZ","VIRTUAL","Correo electrónico","ruadmi2008@yahoo.com","Ciudadanía","Funcionario","Ciudadanía","Ciudadanía","Masculino","Hombre ","Sin datos","Sin datos","Sin datos","Sin datos","ASESORÍA","Asesoría en administración y sostenibilidad del espacio público","Asesoría en temas de espacio público","Contestación sustentación de recurso de apelación Expediente 2018223490148434E de referencia RADICADO 20224000240652","Radicar en ORFEO","SGI","No Registra"]
[1017,2022,"NOVIEMBRE","2022-11-15","15:05:00","CRISTHIAN CAMILO MONTAÑA HERNANDEZ","VIRTUAL","Correo electrónico","jalchapinero.2020@gmail.com","Juntas Administradoras Locales (JAL)","JAL CHAPINERO","Juntas Administradoras Locales (JAL)","JAL Chapinero","N/A","N/A","Sin datos","Sin datos","Sin datos","Sin datos","PETICIONES ENTRE ENTIDADES","Consulta general","Peticiones entre entidades","OFICIO Nº. 667-2022 - Invitación sesión JAL Chapinero 23 de noviembre Comisión de Movilidad.","Radicar en ORFEO","DIRECCIÓN","02 Chapinero"]
[1018,2022,"NOVIEMBRE","2022-11-15","15:21:00","CRISTHIAN CAMILO MONTAÑA HERNANDEZ","VIRTUAL","Correo electrónico","mebog.e12-preci@policia.gov.co","Entidades y Organismos Nacionales","Policía Nacional","Entidades y Orgamismos Nacionales","Mebog-12","Masculino","Hombre ","Sin datos","Sin datos","Sin datos","Sin datos","INVITACIONES","Consulta general","Gestión de comunicaciones, eventos e invitaciones","INVITACION ENCUENTRO COMUNITARIO ESTACION DE POLICIA BARRIOS UNIDOS","Radicar en ORFEO","DIRECCIÓN","12 Barrios Unidos"]
[1019,2022,"NOVIEMBRE","2022-11-15","15:33:00","CRISTHIAN CAMILO MONTAÑA HERNANDEZ","VIRTUAL","Correo electrónico","idrdcorrespondencia@idrd.gov.co","Entidades y Organismos Distritales","Instituto Distrital de Recreación y Deportes","Entidades y Organismos Distritales","idrd correspondencia","Masculino","Hombre ","Sin datos","Sin datos","Sin datos","Sin datos","PETICIONES ENTRE ENTIDADES","Consulta general","Peticiones entre entidades","20224200244801 - Solicitud recibo zona de Cesión Urbanización trento 169, con póliza de estabilidad vigente.","Radicar en ORFEO","SRI","11 Suba"]
[1020,2022,"NOVIEMBRE","2022-11-15","15:37:00","CRISTHIAN CAMILO MONTAÑA HERNANDEZ","VIRTUAL","Correo electrónico","idrdcorrespondencia@idrd.gov.co","Entidades y Organismos Distritales","Instituto Distrital de Recreación y Deportes","Entidades y Organismos Distritales","idrd correspondencia","Masculino","Hombre ","Sin datos","Sin datos","Sin datos","Sin datos","PETICIONES ENTRE ENTIDADES","Consulta general","Peticiones entre entidades","20224100245961 - Entrega Simplificada de las zonas de cesión para parque producto de la Unidad de Gestión 7 de la Urbanización La Felicidad de la localidad de Fontibón.- Expediente Virtual No. 2022410660300079E","Radicar en ORFEO","SRI","09 Fontibón"]
[1021,2022,"NOVIEMBRE","2022-11-15","15:38:00","CRISTHIAN CAMILO MONTAÑA HERNANDEZ","VIRTUAL","Correo electrónico","w.pena@vapiano.com.co","Empresas privadas","Vapiano Colombia","Empresas Privadas","Ciudadanía","Masculino","Hombre ","Sin datos","Sin datos","Sin datos","Sin datos","ASESORÍA","Estudio de la viabilidad de las solicitudes de administración de bienes públicos","Viabilidad Decreto 070 / 2022 BACA 2.0","polizas Vapiano para revision y firma","Radicar en ORFEO","SGI","No Registra"]
[1022,2022,"NOVIEMBRE","2022-11-15","15:44:00","CRISTHIAN CAMILO MONTAÑA HERNANDEZ","VIRTUAL","Correo electrónico","jaiver.echeverria4689@correo.policia.gov.co","Entidades y Organismos Nacionales","Policía Nacional","Entidades y Orgamismos Nacionales","Funcionario","Masculino","Hombre ","Sin datos","Sin datos","Sin datos","Sin datos","INVITACIONES","Consulta general","Gestión de comunicaciones, eventos e invitaciones","Invitación de encuentros comunitarios de la Localidad de Santa Fe 24-11-2022","Radicar en ORFEO","DIRECCIÓN","03 Santa fe"]
[1023,2022,"NOVIEMBRE","2022-11-15","15:49:00","CRISTHIAN CAMILO MONTAÑA HERNANDEZ","VIRTUAL","Correo electrónico","idrdcorrespondencia@idrd.gov.co","Entidades y Organismos Distritales","Instituto Distrital de Recreación y Deportes","Entidades y Organismos Distritales","idrd correspondencia","Masculino","Hombre ","Sin datos","Sin datos","Sin datos","Sin datos","PETICIONES ENTRE ENTIDADES","Consulta general","Peticiones entre entidades","20224100245091 - Vocación, lineamientos y características recreo deportivas para el desarrollo de las zonas de cesión para parque producto de la Urbanización Torres del Este de la localidad de Chapinero. Expediente Virtual No. 2022410660300089E","Radicar en ORFEO","SRI","02 Chapinero"]
[1024,2022,"NOVIEMBRE","2022-11-16","15:45:00","CRISTHIAN CAMILO MONTAÑA HERNANDEZ","VIRTUAL","Correo electrónico","idrdcorrespondencia@idrd.gov.co","Entidades y Organismos Distritales","Instituto Distrital de Recreación y Deportes","Entidades y Organismos Distritales","idrd correspondencia","Masculino","Hombre ","Sin datos","Sin datos","Sin datos","Sin datos","PETICIONES ENTRE ENTIDADES","Consulta general","Peticiones entre entidades","20224100245051 - Zonas de Cesión del predio donde se localiza el predio ÉxitoBosa- Calle 65 Sur No. 78H-50 de la localidad de Bosa","Radicar en ORFEO","SRI","07 Bosa"]
[1025,2022,"NOVIEMBRE","2022-11-16","15:51:00","CRISTHIAN CAMILO MONTAÑA HERNANDEZ","VIRTUAL","Correo electrónico","idrdcorrespondencia@idrd.gov.co","Entidades y Organismos Distritales","Instituto Distrital de Recreación y Deportes","Entidades y Organismos Distritales","idrd correspondencia","Masculino","Hombre ","Sin datos","Sin datos","Sin datos","Sin datos","PETICIONES ENTRE ENTIDADES","Consulta general","Peticiones entre entidades","20224100245331 - Zonas de Cesión para parque producto de la Urbanización Vitelma de la localidad de San Cristóbal. Expediente Virtual No. 2021410660300208E","Radicar en ORFEO","SRI","04 San Cristóbal"]
[1026,2022,"NOVIEMBRE","2022-11-16","15:54:00","CRISTHIAN CAMILO MONTAÑA HERNANDEZ","VIRTUAL","Correo electrónico","servicioalpublico@archivogeneral.gov.co","Entidades y Organismos Nacionales","Archivo General de la Nación","Entidades y Orgamismos Nacionales","servicio al publico","Masculino","Hombre ","Sin datos","Sin datos","Sin datos","Sin datos","PETICIONES ENTRE ENTIDADES","Consulta general","Peticiones entre entidades","2-2022-11693 - Respuesta Radicado DADEP No. 20222030179291","Radicar en ORFEO","SRI","No Registra"]
[1027,2022,"NOVIEMBRE","2022-11-16","16:19:00","CRISTHIAN CAMILO MONTAÑA HERNANDEZ","VIRTUAL","Correo electrónico","correspondencia.externa@scrd.gov.co","Entidades y Organismos Distritales","Secretaría de Cultura, Recreación y Deporte","Entidades y Organismos Distritales","Correspondencia","Femenino","Mujer","Sin datos","Sin datos","Sin datos","Sin datos","PETICIONES ENTRE ENTIDADES","Consulta general","Peticiones entre entidades",20227000000000,"Radicar en ORFEO","SGI","No Registra"]
[1028,2022,"NOVIEMBRE","2022-11-16","16:28:00","CRISTHIAN CAMILO MONTAÑA HERNANDEZ","VIRTUAL","Correo electrónico","correspondencia.enviada1@idu.gov.co","Entidades y Organismos Distritales","Instituto de Desarrollo Urbano","Entidades y Organismos Distritales","correspondencia","Masculino","Hombre ","Sin datos","Sin datos","Sin datos","Sin datos","PETICIONES ENTRE ENTIDADES","Consulta general","Peticiones entre entidades","RADICADO IDU N° 20223751777071 DEL 15 DE NOVIEMBRE 2022","Radicar en ORFEO","SRI","No Registra"]
[1029,2022,"NOVIEMBRE","2022-11-16","16:35:00","CRISTHIAN CAMILO MONTAÑA HERNANDEZ","VIRTUAL","Correo electrónico","sednotificaciones@educacionbogota.edu.co","Entidades y Organismos Distritales","Secretaría de Educación","Entidades y Organismos Distritales","Notificaciones","Masculino","Hombre ","Sin datos","Sin datos","Sin datos","Sin datos","PETICIONES ENTRE ENTIDADES","Consulta general","Peticiones entre entidades","S-2022-347673","Radicar en ORFEO","SRI","No Registra"]
[1030,2022,"NOVIEMBRE","2022-11-16","16:35:00","CRISTHIAN CAMILO MONTAÑA HERNANDEZ","VIRTUAL","Correo electrónico","sednotificaciones@educacionbogota.edu.co","Entidades y Organismos Distritales","Secretaría de Educación","Entidades y Organismos Distritales","Notificaciones","Masculino","Hombre ","Sin datos","Sin datos","Sin datos","Sin datos","PETICIONES ENTRE ENTIDADES","Consulta general","Peticiones entre entidades","S-2022-347719","Responder a correo electronico","AREA DE ATENCION A LA CIUDADANIA","No Registra"]
[1031,2022,"NOVIEMBRE","2022-11-16","16:36:00","CRISTHIAN CAMILO MONTAÑA HERNANDEZ","VIRTUAL","Correo electrónico","afarfan@dadep.gov.co","Ciudadanía","Funcionario","Ciudadanía","Ciudadanía","Femenino","Mujer","Sin datos","Sin datos","Sin datos","Sin datos","NOTIFICACIONES","Consulta general","Talento humano","Incapacidad 2 días","Radicar en ORFEO","SGC","No Registra"]
[1032,2022,"NOVIEMBRE","2022-11-16","16:40:00","CRISTHIAN CAMILO MONTAÑA HERNANDEZ","VIRTUAL","Correo electrónico","JLibreros@minvivienda.gov.co","Entidades y Organismos Nacionales","Ministerio de Vivienda","Entidades y Orgamismos Nacionales","Funcionario","Femenino","Mujer","Sin datos","Sin datos","Sin datos","Sin datos","PETICIONES ENTRE ENTIDADES","Consulta general","Peticiones entre entidades","Acta de Entrega Predios Transferidos: Res. 0020 - 16 Jun 2022 (Bogotá, D.C.)","Radicar en ORFEO","SRI","No Registra"]
[1033,2022,"NOVIEMBRE","2022-11-16","16:56:00","CRISTHIAN CAMILO MONTAÑA HERNANDEZ","VIRTUAL","Correo electrónico","isola.admon@gmail.com","Empresas privadas","Gabriel Nasser ","Empresas Privadas","Ciudadanía","Masculino","Hombre ","Sin datos","Sin datos","Sin datos","Sin datos","NOTIFICACIONES","Estudio de la viabilidad de las solicitudes de administración de bienes públicos","Viabilidad Decreto 070 / 2022 BACA 2.0","Pólizas restaurante isola","Radicar en ORFEO","SGI","No Registra"]
[1034,2022,"NOVIEMBRE","2022-11-16","17:10:00","CRISTHIAN CAMILO MONTAÑA HERNANDEZ","VIRTUAL","Correo electrónico","pilarbastidas2020@gmail.com","Ciudadanía","Funcionario","Ciudadanía","Ciudadanía","Femenino","Mujer","Sin datos","Sin datos","Sin datos","Sin datos","ASESORÍA","Asesoría en administración y sostenibilidad del espacio público","Asesoría en temas de espacio público","Marcha Nacional Ciudadana. ","Radicar en ORFEO","SGI","No Registra"]
[1035,2022,"NOVIEMBRE","2022-11-16","17:14:00","CRISTHIAN CAMILO MONTAÑA HERNANDEZ","VIRTUAL","Correo electrónico","mofajardo@alianza.com.co","Empresas privadas","Alianza Fiduciaria","Empresas Privadas","Ciudadanía","Femenino","Mujer","Sin datos","Sin datos","Sin datos","Sin datos","NOTIFICACIONES","Estudio de la viabilidad de las solicitudes de administración de bienes públicos","CAMEP Contrato de administración y mantenimiento","Certificación Ingresos y Egresos mes de octubre de 2022 Subcuenta Recaudo por aprovechamiento económico- Alianza Fiduciaria S.A Fideicomiso Hub Movilidad","Radicar en ORFEO","SGI","01 Usaquén"]
[1036,2022,"NOVIEMBRE","2022-11-16","17:33:00","CRISTHIAN CAMILO MONTAÑA HERNANDEZ","VIRTUAL","Correo electrónico","buzoncomunicaciones@sdp.gov.co","Entidades y Organismos Distritales","Secretaría Distrital de Planeación","Entidades y Organismos Distritales","buzon comunicaciones","Femenino","Mujer","Sin datos","Sin datos","Sin datos","Sin datos","PETICIONES ENTRE ENTIDADES","Consulta general","Peticiones entre entidades","2-2022-165601","Radicar en ORFEO","SGI","No Registra"]
[1037,2022,"NOVIEMBRE","2022-11-16","17:42:00","CRISTHIAN CAMILO MONTAÑA HERNANDEZ","VIRTUAL","Correo electrónico","cjimenez@ingeurbe.com","Empresas privadas","Ingeurbe","Empresas Privadas","Ciudadanía","Masculino","Hombre ","Sin datos","Sin datos","Sin datos","Sin datos","ASESORÍA","Incorporación y entrega de las áreas de cesión a favor del municipio","Entrega de zonas de cesión","VISTA MAYOR - Radicación Entrega Zonas de Cesión Parque y Control Ambiental","Radicar en ORFEO","SRI","No Registra"]
[1038,2022,"NOVIEMBRE","2022-11-16","17:53:00","CRISTHIAN CAMILO MONTAÑA HERNANDEZ","VIRTUAL","Correo electrónico","mofajardo@alianza.com.co","Empresas privadas","Alianza Fiduciaria","Empresas Privadas","Ciudadanía","Femenino","Mujer","Sin datos","Sin datos","Sin datos","Sin datos","NOTIFICACIONES","Estudio de la viabilidad de las solicitudes de administración de bienes públicos","CAMEP Contrato de administración y mantenimiento","Certificación Ingresos y Egresos mes de octubre de 2022 Subcuenta Tarifa de Parqueo- Alianza Fiduciaria S.A Fideicomiso Hub Movilidad","Radicar en ORFEO","SGI","01 Usaquén"]
[1039,2022,"NOVIEMBRE","2022-11-16","17:58:00","CRISTHIAN CAMILO MONTAÑA HERNANDEZ","VIRTUAL","Correo electrónico","jlabrador@angularinmobiliario.com","Empresas privadas","Angular Inmobiliario","Empresas Privadas","Ciudadanía","Femenino","Mujer","Sin datos","Sin datos","Sin datos","Sin datos","ASESORÍA","Incorporación y entrega de las áreas de cesión a favor del municipio","Entrega de zonas de cesión","Respuesta radicado DADEP","Radicar en ORFEO","SRI","No Registra"]
[1040,2022,"NOVIEMBRE","2022-11-16","19:06:00","CRISTHIAN CAMILO MONTAÑA HERNANDEZ","VIRTUAL","Correo electrónico","notificaciones_sgdorfeo@dnp.gov.co","Entidades y Organismos Nacionales","Departamento Nacional de Planeación","Entidades y Orgamismos Nacionales","Notificaciones","Femenino","Mujer","Sin datos","Sin datos","Sin datos","Sin datos","PETICIONES ENTRE ENTIDADES","Consulta general","Peticiones entre entidades","(20228200792051_1) Envío de notificación radicado 20228200792051","Radicar en ORFEO","SGI","No Registra"]
[1041,2022,"NOVIEMBRE","2022-11-16","20:23:00","CRISTHIAN CAMILO MONTAÑA HERNANDEZ","VIRTUAL","Correo electrónico","correspondencia@concejobogota.gov.co","Entidades y Organismos Distritales","Concejo de Bogotá","Entidades y Organismos Distritales","correspondencia","Masculino","Hombre ","Sin datos","Sin datos","Sin datos","Sin datos","PETICIONES ENTRE ENTIDADES","Consulta general","Peticiones entre entidades","INVITACIÓN MESA DE TRABAJO LOCALIDAD CIUDAD BOLIVAR - Cra 66 # 60ª-23 Salón Comunal Barrio Madelena. ","Radicar en ORFEO","DIRECCIÓN","19 Ciudad Bolívar"]
[1042,2022,"NOVIEMBRE","2022-11-16","20:32:00","CRISTHIAN CAMILO MONTAÑA HERNANDEZ","VIRTUAL","Correo electrónico","correspondencia@concejobogota.gov.co","Entidades y Organismos Distritales","Concejo de Bogotá","Entidades y Organismos Distritales","correspondencia","Masculino","Hombre ","Sin datos","Sin datos","Sin datos","Sin datos","PETICIONES ENTRE ENTIDADES","Consulta general","Peticiones entre entidades","INVITACIÓN MESA DE TRABAJO LOCALIDAD CIUDAD BOLIVAR - Carrera 73f # 62g-81 barrio Galicia 1.","Radicar en ORFEO","DIRECCIÓN","19 Ciudad Bolívar"]
[1043,2022,"NOVIEMBRE","2022-11-16","21:07:00","CRISTHIAN CAMILO MONTAÑA HERNANDEZ","VIRTUAL","Correo electrónico","gerencia@asosalitre.org","Organizaciones Sociales","Asosalitre","Organizaciones Sociales","Ciudadanía","Masculino","Hombre ","Sin datos","Sin datos","Sin datos","Sin datos","ASESORÍA","Asesoría en administración y sostenibilidad del espacio público","Asesoría en temas de espacio público","Reunión de Comerciantes, residentes, autoridades","Radicar en ORFEO","SGI","No Registra"]
[1044,2022,"NOVIEMBRE","2022-11-16","22:35:00","CRISTHIAN CAMILO MONTAÑA HERNANDEZ","VIRTUAL","Correo electrónico","correspondencia@idiger.gov.co","Entidades y Organismos Distritales","instituto Distrital de Gestión de Riesgos y Cambio Climático","Entidades y Organismos Distritales","Correspondencia","Masculino","Hombre ","Sin datos","Sin datos","Sin datos","Sin datos","PETICIONES ENTRE ENTIDADES","Consulta general","Peticiones entre entidades","2022EE18982 - Seguimiento a las acciones derivada del decreto 489 de 2012","Radicar en ORFEO","SRI","No Registra"]
[1045,2022,"NOVIEMBRE","2022-11-16","22:48:00","CRISTHIAN CAMILO MONTAÑA HERNANDEZ","VIRTUAL","Correo electrónico","sednotificaciones@educacionbogota.edu.co","Entidades y Organismos Distritales","Secretaría de Educación","Entidades y Organismos Distritales","Notificaciones","Masculino","Hombre ","Sin datos","Sin datos","Sin datos","Sin datos","PETICIONES ENTRE ENTIDADES","Consulta general","Peticiones entre entidades","S-2022-347477","Radicar en ORFEO","SRI","18 Rafael Uribe Uribe"]
[1046,2022,"NOVIEMBRE","2022-11-16","23:17:00","CRISTHIAN CAMILO MONTAÑA HERNANDEZ","VIRTUAL","Correo electrónico","buzoncomunicaciones@sdp.gov.co","Entidades y Organismos Distritales","Secretaría Distrital de Planeación","Entidades y Organismos Distritales","buzon comunicaciones","Femenino","Mujer","Sin datos","Sin datos","Sin datos","Sin datos","PETICIONES ENTRE ENTIDADES","Consulta general","Peticiones entre entidades","2-2022-165924","Radicar en ORFEO","SRI","No Registra"]
[1047,2022,"NOVIEMBRE","2022-11-16","23:38:00","CRISTHIAN CAMILO MONTAÑA HERNANDEZ","VIRTUAL","Correo electrónico","absconsultoriasas@gmail.com","Empresas privadas","ABS Consultoria ","Empresas Privadas","ABS Consultoria ","N/A","N/A","Sin datos","Sin datos","Sin datos","Sin datos","ASESORÍA","Incorporación y entrega de las áreas de cesión a favor del municipio","Entrega de zonas de cesión","Derecho de Petición solicitud cesión predio con RUPI con Código 1587","Radicar en ORFEO","SRI","No Registra"]
[1048,2022,"NOVIEMBRE","2022-11-16","06:45:00","CRISTHIAN CAMILO MONTAÑA HERNANDEZ","VIRTUAL","Correo electrónico","oscar.cardenas@uaesp.gov.co","Entidades y Organismos Distritales","Unidad Administrativa Especial de Servicios Públicos","Entidades y Organismos Distritales","Funcionario","Femenino","Mujer","Sin datos","Sin datos","Sin datos","Sin datos","PETICIONES ENTRE ENTIDADES","Consulta general","Peticiones entre entidades","Oficio UAESP 20224000 259831-Respuesta solicitud de entrega simplificada de zonas de cesion, proyecto Urbanizacion STAHL, Localidad de Ciudad Bolivar. Radicado DADEP No. 20222010163641.","Radicar en ORFEO","SRI","19 Ciudad Bolívar"]
[1049,2022,"NOVIEMBRE","2022-11-16","06:49:00","CRISTHIAN CAMILO MONTAÑA HERNANDEZ","VIRTUAL","Correo electrónico","ayduran@concejobogota.gov.co","Entidades y Organismos Distritales","Concejo de Bogotá","Entidades y Organismos Distritales","Funcionario","Masculino","Hombre ","Sin datos","Sin datos","Sin datos","Sin datos","PETICIONES ENTRE ENTIDADES","Consulta general","Peticiones entre entidades","INVITACIÓN DEBATE DE GESTIÓN NORMATIVA","Radicar en ORFEO","DIRECCIÓN","No Registra"]
[1050,2022,"NOVIEMBRE","2022-11-16","07:24:00","CRISTHIAN CAMILO MONTAÑA HERNANDEZ","VIRTUAL","Correo electrónico","correspondencia.externa@scrd.gov.co","Entidades y Organismos Distritales","Secretaría de Cultura, Recreación y Deporte","Entidades y Organismos Distritales","correspondencia","Femenino","Mujer","Sin datos","Sin datos","Sin datos","Sin datos","PETICIONES ENTRE ENTIDADES","Consulta general","Peticiones entre entidades",20223100000000,"Radicar en ORFEO","DIRECCIÓN","No Registra"]
[1051,2022,"NOVIEMBRE","2022-11-16","07:48:00","CRISTHIAN CAMILO MONTAÑA HERNANDEZ","VIRTUAL","Correo electrónico","buzoncomunicaciones@sdp.gov.co","Entidades y Organismos Distritales","Secretaría Distrital de Planeación","Entidades y Organismos Distritales","buzon comunicaciones","Femenino","Mujer","Sin datos","Sin datos","Sin datos","Sin datos","PETICIONES ENTRE ENTIDADES","Consulta general","Peticiones entre entidades","2-2022-165995","Radicar en ORFEO","SGI","No Registra"]
[1052,2022,"NOVIEMBRE","2022-11-16","08:54:00","CRISTHIAN CAMILO MONTAÑA HERNANDEZ","VIRTUAL","Correo electrónico","mofajardo@alianza.com.co","Empresas privadas","Alianza Fiduciaria","Empresas Privadas","Ciudadanía","Femenino","Mujer","Sin datos","Sin datos","Sin datos","Sin datos","NOTIFICACIONES","Estudio de la viabilidad de las solicitudes de administración de bienes públicos","CAMEP Contrato de administración y mantenimiento","Certificación Ingresos y Egresos mes de octubre de 2022 Subcuenta obras menores- Alianza Fiduciaria S.A Fideicomiso Hub Movilidad","Radicar en ORFEO","SGI","01 Usaquén"]
[1053,2022,"NOVIEMBRE","2022-11-16","08:56:00","CRISTHIAN CAMILO MONTAÑA HERNANDEZ","VIRTUAL","Correo electrónico","mofajardo@alianza.com.co","Empresas privadas","Alianza Fiduciaria","Empresas Privadas","Ciudadanía","Femenino","Mujer","Sin datos","Sin datos","Sin datos","Sin datos","NOTIFICACIONES","Estudio de la viabilidad de las solicitudes de administración de bienes públicos","CAMEP Contrato de administración y mantenimiento","Certificación Ingresos y Egresos mes de octubre de 2022 Subcuenta Interventoría y Supervisión- Alianza Fiduciaria S.A Fideicomiso Hub Movilidad","Radicar en ORFEO","SGI","01 Usaquén"]
[1054,2022,"NOVIEMBRE","2022-11-16","08:58:00","CRISTHIAN CAMILO MONTAÑA HERNANDEZ","VIRTUAL","Correo electrónico","mofajardo@alianza.com.co","Empresas privadas","Alianza Fiduciaria","Empresas Privadas","Ciudadanía","Femenino","Mujer","Sin datos","Sin datos","Sin datos","Sin datos","NOTIFICACIONES","Estudio de la viabilidad de las solicitudes de administración de bienes públicos","CAMEP Contrato de administración y mantenimiento","Certificación Ingresos y Egresos mes de octubre de 2022 Subcuenta Excedentes DADEP- Alianza Fiduciaria S.A Fideicomiso Hub Movilidad","Radicar en ORFEO","SGI","01 Usaquén"]
[1055,2022,"NOVIEMBRE","2022-11-16","09:00:00","CRISTHIAN CAMILO MONTAÑA HERNANDEZ","VIRTUAL","Correo electrónico","mofajardo@alianza.com.co","Empresas privadas","Alianza Fiduciaria","Empresas Privadas","Ciudadanía","Femenino","Mujer","Sin datos","Sin datos","Sin datos","Sin datos","NOTIFICACIONES","Estudio de la viabilidad de las solicitudes de administración de bienes públicos","CAMEP Contrato de administración y mantenimiento","Certificación Ingresos y Egresos mes de octubre de 2022 Cuenta DADEP y sus subcuentas- Alianza Fiduciaria S.A Fideicomiso Hub Movilidad","Radicar en ORFEO","SGI","01 Usaquén"]
[1056,2022,"NOVIEMBRE","2022-11-16","09:08:00","CRISTHIAN CAMILO MONTAÑA HERNANDEZ","VIRTUAL","Correo electrónico","buzoncomunicaciones@sdp.gov.co","Entidades y Organismos Distritales","Secretaría Distrital de Planeación","Entidades y Organismos Distritales","buzon comunicaciones","Femenino","Mujer","Sin datos","Sin datos","Sin datos","Sin datos","PETICIONES ENTRE ENTIDADES","Consulta general","Peticiones entre entidades","2-2022-166080","Radicar en ORFEO","SGI","No Registra"]
[1057,2022,"NOVIEMBRE","2022-11-16","09:09:00","CRISTHIAN CAMILO MONTAÑA HERNANDEZ","VIRTUAL","Correo electrónico","julianprieto@galias.com.co","Empresas privadas","Las Galias","Empresas Privadas","Ciudadanía","Masculino","Hombre ","Sin datos","Sin datos","Sin datos","Sin datos","ASESORÍA","Incorporación y entrega de las áreas de cesión a favor del municipio","Entrega de zonas de cesión","RESPUESTA RAD *20222010172571* ENTREGA PARQUES Y EQ COMUNAL VEGAS DE SANTA ANA","Radicar en ORFEO","SRI","No Registra"]
[1058,2022,"NOVIEMBRE","2022-11-16","10:23:00","CRISTHIAN CAMILO MONTAÑA HERNANDEZ","VIRTUAL","Correo electrónico","correspondencia@idiger.gov.co","Entidades y Organismos Distritales","instituto Distrital de Gestión de Riesgos y Cambio Climático","Entidades y Organismos Distritales","Correspondencia","Femenino","Mujer","Sin datos","Sin datos","Sin datos","Sin datos","PETICIONES ENTRE ENTIDADES","Consulta general","Peticiones entre entidades","radicado idiger 2022ER18816 / 2022EE18855","Radicar en ORFEO","SGI","No Registra"]
[1059,2022,"NOVIEMBRE","2022-11-16","10:24:00","CRISTHIAN CAMILO MONTAÑA HERNANDEZ","VIRTUAL","Correo electrónico","correspondencia.i.dadep247@interdisenos.com.co","Empresas privadas","interdisenos","Empresas Privadas","Correspondencia","Femenino","Mujer","Sin datos","Sin datos","Sin datos","Sin datos","NOTIFICACIONES","Estudio de la viabilidad de las solicitudes de administración de bienes públicos","CAMEP Contrato de administración y mantenimiento","GDADEP-955-22 DADEP RTA radicado 20223080167211 rendimientos cultura ciudadana","Radicar en ORFEO","SGI","No Registra"]
[1060,2022,"NOVIEMBRE","2022-11-16","10:26:00","CRISTHIAN CAMILO MONTAÑA HERNANDEZ","VIRTUAL","Correo electrónico","pscsbogota@gmail.com","Empresas privadas","PARROQUIA SANTA CATALINA DE SIENA","Empresas Privadas","PARROQUIA SANTA CATALINA DE SIENA","N/A","N/A","Sin datos","Sin datos","Sin datos","Sin datos","ASESORÍA","Asesoría en administración y sostenibilidad del espacio público","Asesoría en temas de espacio público","Derecho de peticion. ","Radicar en ORFEO","SGI","No Registra"]
[1061,2022,"NOVIEMBRE","2022-11-16","10:27:00","CRISTHIAN CAMILO MONTAÑA HERNANDEZ","VIRTUAL","Correo electrónico","correspondencia.i.dadep247@interdisenos.com.co","Empresas privadas","interdisenos","Empresas Privadas","Correspondencia","Femenino","Mujer","Sin datos","Sin datos","Sin datos","Sin datos","NOTIFICACIONES","Estudio de la viabilidad de las solicitudes de administración de bienes públicos","CAMEP Contrato de administración y mantenimiento","GDADEP-956-22 EUCOL Información sobre la exposición de la marca JCDECAUX","Radicar en ORFEO","SGI","No Registra"]
[1062,2022,"NOVIEMBRE","2022-11-16","10:29:00","CRISTHIAN CAMILO MONTAÑA HERNANDEZ","VIRTUAL","Correo electrónico","profesionalapoyo.diradministrativa@subredsur.gov.co","Entidades y Organismos Distritales","Subred sur","Entidades y Organismos Distritales","Profesional de apoyo","Masculino","Hombre ","Sin datos","Sin datos","Sin datos","Sin datos","PETICIONES ENTRE ENTIDADES","Consulta general","Peticiones entre entidades","RESPUESTA A RADICADO 20227030019371 \"OCUPACIÓN INDEBIDA DEL PREDIO BETANIA - SUMAPAZ\"","Radicar en ORFEO","SGI","20 Sumapaz"]
[1063,2022,"NOVIEMBRE","2022-11-16","10:33:00","CRISTHIAN CAMILO MONTAÑA HERNANDEZ","VIRTUAL","Correo electrónico","externa_enviada_virtual@shd.gov.co","Entidades y Organismos Distritales","Secretaría de Hacienda Distrital","Entidades y Organismos Distritales","Correspondencia","Femenino","Mujer","Sin datos","Sin datos","Sin datos","Sin datos","PETICIONES ENTRE ENTIDADES","Consulta general","Peticiones entre entidades","Registrado: 2022EE537964O1 YC","Radicar en ORFEO","SRI","No Registra"]
[1064,2022,"NOVIEMBRE","2022-11-16","10:36:00","CRISTHIAN CAMILO MONTAÑA HERNANDEZ","VIRTUAL","Correo electrónico","envionotificaciones@ipes.gov.co","Entidades y Organismos Distritales","Instituto para la Economía Social ","Entidades y Organismos Distritales","Notificaciones","Masculino","Hombre ","Sin datos","Sin datos","Sin datos","Sin datos","PETICIONES ENTRE ENTIDADES","Consulta general","Peticiones entre entidades","00110-816-031202 - Observaciones al Proyecto que modifica el Decreto No. 552 de 2018 “Por medio del cual se establece el Marco Regulatorio del Aprovechamiento Económico del Espacio Público en el Distrito Capital de Bogotá y se dictan otras disposiciones”","Radicar en ORFEO","SGI","No Registra"]
[1065,2022,"NOVIEMBRE","2022-11-16","10:52:00","CRISTHIAN CAMILO MONTAÑA HERNANDEZ","VIRTUAL","Correo electrónico","gmarulanda@contraloriabogota.gov.co","Entidades y Organismos Distritales","Contraloría de Bogotá","Entidades y Organismos Distritales","Funcionario","Femenino","Mujer","Sin datos","Sin datos","Sin datos","Sin datos","PETICIONES ENTRE ENTIDADES","Consulta general","Peticiones entre entidades","REQUERIMIENTO 08- SOLICITUD RELACIONADA CON EL DPC 1318-22- DADEP","Radicar en ORFEO","DIRECCIÓN","No Registra"]
[1066,2022,"NOVIEMBRE","2022-11-16","11:10:00","CRISTHIAN CAMILO MONTAÑA HERNANDEZ","VIRTUAL","Correo electrónico","amanda.gomez@uaesp.gov.co","Entidades y Organismos Distritales","Unidad Administrativa Especial de Servicios Públicos","Entidades y Organismos Distritales","Funcionario","Masculino","Hombre ","Sin datos","Sin datos","Sin datos","Sin datos","PETICIONES ENTRE ENTIDADES","Consulta general","Peticiones entre entidades","20225000264431 - SOLICITUD DE CONCEPTO DE VIABILIDAD O NO OBJECION","Radicar en ORFEO","SGI","No Registra"]
[1067,2022,"NOVIEMBRE","2022-11-16","11:16:00","CRISTHIAN CAMILO MONTAÑA HERNANDEZ","VIRTUAL","Correo electrónico","mofajardo@alianza.com.co","Empresas privadas","Alianza Fiduciaria","Empresas Privadas","Ciudadanía","Femenino","Mujer","Sin datos","Sin datos","Sin datos","Sin datos","NOTIFICACIONES","Estudio de la viabilidad de las solicitudes de administración de bienes públicos","CAMEP Contrato de administración y mantenimiento","INFORME -EEFF OCTUBRE 2022 FIDEICOMISO HUB DE MOVILIDAD PLAZA CALLE 136- ALIANZA FIDUCIARIA S.A","Radicar en ORFEO","SGI","01 Usaquén"]
[1068,2022,"NOVIEMBRE","2022-11-16","11:25:00","CRISTHIAN CAMILO MONTAÑA HERNANDEZ","VIRTUAL","Correo electrónico","anderson.machuca@gobiernobogota.gov.co","Entidades y Organismos Distritales","Secretaría de Gobierno","Entidades y Organismos Distritales","Funcionario","Femenino","Mujer","Sin datos","Sin datos","Sin datos","Sin datos","PETICIONES ENTRE ENTIDADES","Consulta general","Peticiones entre entidades","20222239275921 - MATERIALIZACION DE MEDIDA CORRECTIVA REFERENCIA EXPEDIENTE 2022533490101686E","Radicar en ORFEO","SGI","20 Sumapaz"]
[1069,2022,"NOVIEMBRE","2022-11-16","11:31:00","CRISTHIAN CAMILO MONTAÑA HERNANDEZ","VIRTUAL","Correo electrónico","porduz@sdis.gov.co","Entidades y Organismos Distritales","Secretaría Distrital de Integración Social","Entidades y Organismos Distritales","Funcionario","Femenino","Mujer","Sin datos","Sin datos","Sin datos","Sin datos","PETICIONES ENTRE ENTIDADES","Consulta general","Peticiones entre entidades","S2022166157 - Solicitud Anuencia Prorroga El camino","Radicar en ORFEO","SRI","No Registra"]
[1070,2022,"NOVIEMBRE","2022-11-16","11:32:00","CRISTHIAN CAMILO MONTAÑA HERNANDEZ","VIRTUAL","Correo electrónico","correspondencia@ambientebogota.gov.co","Entidades y Organismos Distritales","Secretaría de Ambiente","Entidades y Organismos Distritales","Correspondencia","Femenino","Mujer","Sin datos","Sin datos","Sin datos","Sin datos","PETICIONES ENTRE ENTIDADES","Consulta general","Peticiones entre entidades","Envio documento Secretaria distrital de ambiente Radicado No. 2022EE294296","Radicar en ORFEO","DIRECCIÓN","No Registra"]
[1071,2022,"NOVIEMBRE","2022-11-16","11:39:00","CRISTHIAN CAMILO MONTAÑA HERNANDEZ","VIRTUAL","Correo electrónico","j11pqccmbta@cendoj.ramajudicial.gov.co","Entidades y Organismos Nacionales","Juzgado 11 Pequeñas Causas Competencia Multiple - Bogotá - Bogotá D.C. ","Entidades y Orgamismos Nacionales","Juzgado 11 Pequeñas Causas Competencia Multiple - Bogotá - Bogotá D.C. ","N/A","N/A","Sin datos","Sin datos","Sin datos","Sin datos","NOTIFICACIONES","Consulta general","Asuntos Jurídicos","URGENTE NOTIFICACION ADMISORIO ACCIÓN DE TUTELA No. 2022-01524","Radicar en ORFEO","OJ","No Registra"]
[1072,2022,"NOVIEMBRE","2022-11-16","11:41:00","CRISTHIAN CAMILO MONTAÑA HERNANDEZ","VIRTUAL","Correo electrónico","notificaciones_catastro@catastrobogota.gov.c","Entidades y Organismos Distritales","Catastro de Bogotá","Entidades y Organismos Distritales","Notificaciones","Femenino","Mujer","Sin datos","Sin datos","Sin datos","Sin datos","PETICIONES ENTRE ENTIDADES","Consulta general","Peticiones entre entidades","UAECD 2022 EE 83188 (uaecd 2022 er 39880)","Radicar en ORFEO","SRI","No Registra"]
[1073,2022,"NOVIEMBRE","2022-11-16","11:50:00","CRISTHIAN CAMILO MONTAÑA HERNANDEZ","VIRTUAL","Correo electrónico","notificaciones_catastro@catastrobogota.gov.c","Entidades y Organismos Distritales","Catastro de Bogotá","Entidades y Organismos Distritales","Notificaciones","Femenino","Mujer","Sin datos","Sin datos","Sin datos","Sin datos","PETICIONES ENTRE ENTIDADES","Consulta general","Peticiones entre entidades","UAECD 2022 EE 83206 (uaecd 2022 er 40844)","Radicar en ORFEO","SRI","No Registra"]
[1074,2022,"NOVIEMBRE","2022-11-16","11:52:00","CRISTHIAN CAMILO MONTAÑA HERNANDEZ","VIRTUAL","Correo electrónico","apbuitrago@veeduriadistrital.gov.co","Entidades y Organismos Distritales","veeduría distrital","Entidades y Organismos Distritales","Funcionario","Femenino","Mujer","Sin datos","Sin datos","Sin datos","Sin datos","PETICIONES ENTRE ENTIDADES","Consulta general","Peticiones entre entidades","SOLICITA REENVIO DE ANEXO RADICADO 20226000094511","Radicar en ORFEO","DIRECCIÓN","No Registra"]
[1075,2022,"NOVIEMBRE","2022-11-16","11:57:00","CRISTHIAN CAMILO MONTAÑA HERNANDEZ","VIRTUAL","Correo electrónico","correspondenciaexternaenviada@participacionbogota.gov.co","Entidades y Organismos Distritales","participacion Bogota","Entidades y Organismos Distritales","Correspondencia","Masculino","Hombre ","Sin datos","Sin datos","Sin datos","Sin datos","PETICIONES ENTRE ENTIDADES","Consulta general","Peticiones entre entidades","RADICADO 20223000199141","Radicar en ORFEO","SGI","No Registra"]
[1076,2022,"NOVIEMBRE","2022-11-16","12:12:00","CRISTHIAN CAMILO MONTAÑA HERNANDEZ","VIRTUAL","Correo electrónico","abenitezm@movilidadbogota.gov.co","Entidades y Organismos Distritales","Secretaría de Movilidad","Entidades y Organismos Distritales","Funcionario","Femenino","Mujer","Sin datos","Sin datos","Sin datos","Sin datos","PETICIONES ENTRE ENTIDADES","Consulta general","Peticiones entre entidades","202220009559691 - Recordatorio de solicitud de autorización del uso de predios para el despliegue de infraestructura de recarga de vehículos eléctricos","Responder a correo electronico","AREA DE ATENCION A LA CIUDADANIA","No Registra"]
[1077,2022,"NOVIEMBRE","2022-11-16","12:13:00","CRISTHIAN CAMILO MONTAÑA HERNANDEZ","VIRTUAL","Correo electrónico","yolanda.londono@gobiernobogota.gov.co","Entidades y Organismos Distritales","Secretaría de Gobierno","Entidades y Organismos Distritales","Funcionario","Masculino","Hombre ","Sin datos","Sin datos","Sin datos","Sin datos","PETICIONES ENTRE ENTIDADES","Consulta general","Peticiones entre entidades","20225620465531 - RESPUESTA RADICADO No 20225610049162","Radicar en ORFEO","SGI","06 Tunjuelito"]
[1078,2022,"NOVIEMBRE","2022-11-16","12:15:00","CRISTHIAN CAMILO MONTAÑA HERNANDEZ","VIRTUAL","Correo electrónico","oscar.cardenas@uaesp.gov.co","Entidades y Organismos Distritales","Unidad Administrativa Especial de Servicios Públicos","Entidades y Organismos Distritales","Funcionario","Femenino","Mujer","Sin datos","Sin datos","Sin datos","Sin datos","PETICIONES ENTRE ENTIDADES","Consulta general","Peticiones entre entidades","Oficio UAESP 20224000 259971-Respuesta a solicitud entrega simplificada zonas de cesion, proyecto Urbanizacion IVESUR - Puente Aranda. Radicado DADEP No. 20222010168521.","Radicar en ORFEO","SRI","16 Puente Aranda"]
[1079,2022,"NOVIEMBRE","2022-11-16","12:17:00","CRISTHIAN CAMILO MONTAÑA HERNANDEZ","VIRTUAL","Correo electrónico","juan.serrato@enel.com","Empresas privadas","ENEL","Empresas Privadas","Funcionario","Masculino","Hombre ","Sin datos","Sin datos","Sin datos","Sin datos","ASESORÍA","Asesoría en administración y sostenibilidad del espacio público","Asesoría en temas de espacio público","Respuesta radicado DADEP","Radicar en ORFEO","SGI","No Registra"]
[1080,2022,"NOVIEMBRE","2022-11-16","12:44:00","CRISTHIAN CAMILO MONTAÑA HERNANDEZ","VIRTUAL","Correo electrónico","correspondencia@idiger.gov.co","Entidades y Organismos Distritales","instituto Distrital de Gestión de Riesgos y Cambio Climático","Entidades y Organismos Distritales","Correspondencia","Femenino","Mujer","Sin datos","Sin datos","Sin datos","Sin datos","PETICIONES ENTRE ENTIDADES","Consulta general","Peticiones entre entidades","radicado Idiger 2022ER18513 / 2022EE18686","Radicar en ORFEO","SRI","No Registra"]
[1081,2022,"NOVIEMBRE","2022-11-16","12:45:00","CRISTHIAN CAMILO MONTAÑA HERNANDEZ","VIRTUAL","Correo electrónico","ludy.moreno@gobiernobogota.gov.co","Entidades y Organismos Distritales","Secretaría de Gobierno","Entidades y Organismos Distritales","Funcionario","Femenino","Mujer","Sin datos","Sin datos","Sin datos","Sin datos","PETICIONES ENTRE ENTIDADES","Consulta general","Peticiones entre entidades","Solicitud acompañamiento Operativo - Espacio Publico - Inspección, Vigilancia - Control y Sensibilización a Vendedores Ambulantes","Radicar en ORFEO","SGI","02 Chapinero"]
[1082,2022,"NOVIEMBRE","2022-11-16","12:50:00","CRISTHIAN CAMILO MONTAÑA HERNANDEZ","VIRTUAL","Correo electrónico","salidascdi.suba@gobiernobogota.gov.co","Entidades y Organismos Distritales","Secretaría de Gobierno","Entidades y Organismos Distritales","Alcaldía de Suba","Masculino","Hombre ","Sin datos","Sin datos","Sin datos","Sin datos","PETICIONES ENTRE ENTIDADES","Consulta general","Peticiones entre entidades","20226130738351 - Solicitud certificación de bien de uso publico y Naturaleza Jurídica ","Radicar en ORFEO","SGI","11 Suba"]
[1083,2022,"NOVIEMBRE","2022-11-16","12:55:00","CRISTHIAN CAMILO MONTAÑA HERNANDEZ","VIRTUAL","Correo electrónico","oscar.cardenas@uaesp.gov.co","Entidades y Organismos Distritales","Unidad Administrativa Especial de Servicios Públicos","Entidades y Organismos Distritales","Funcionario","Femenino","Mujer","Sin datos","Sin datos","Sin datos","Sin datos","PETICIONES ENTRE ENTIDADES","Consulta general","Peticiones entre entidades","Oficio UAESP 20224000 260961-Infraestructura alumbrado publico - parque codigo 11-191 - Calle 124 No. 57 - 45 - Lagos de Cordoba - Suba. SDQS 3805712022.","Radicar en ORFEO","SRI","11 Suba"]
[1084,2022,"NOVIEMBRE","2022-11-16","13:06:00","CRISTHIAN CAMILO MONTAÑA HERNANDEZ","VIRTUAL","Correo electrónico","gloriainesagudo@gmail.com","Empresas privadas","Conjunto Residencial Bosques de Granada","Empresas Privadas","Conjunto Residencial Bosques de Granada","N/A","N/A","Sin datos","Sin datos","Sin datos","Sin datos","ASESORÍA","Estudio de la viabilidad de las solicitudes de administración de bienes públicos","CAMEP Contrato de administración y mantenimiento","Cobro a deudor de parqueadero en predio con contrato 400-00129-356-0-2022","Radicar en ORFEO","SGI","10 Engativá"]
[1085,2022,"NOVIEMBRE","2022-11-16","13:12:00","CRISTHIAN CAMILO MONTAÑA HERNANDEZ","VIRTUAL","Correo electrónico","correspondencia@idiger.gov.co","Entidades y Organismos Distritales","instituto Distrital de Gestión de Riesgos y Cambio Climático","Entidades y Organismos Distritales","Correspondencia","Masculino","Hombre ","Sin datos","Sin datos","Sin datos","Sin datos","PETICIONES ENTRE ENTIDADES","Consulta general","Peticiones entre entidades","2022EE19005 - Respuesta solicitud radicado IDIGER 2022ER20359","Radicar en ORFEO","DIRECCIÓN","No Registra"]
[1086,2022,"NOVIEMBRE","2022-11-16","13:14:00","CRISTHIAN CAMILO MONTAÑA HERNANDEZ","VIRTUAL","Correo electrónico","John.Munoz@jcdecaux.com","Empresas privadas","JCDecaux Colombia","Empresas Privadas","Ciudadanía","Masculino","Hombre ","Sin datos","Sin datos","Sin datos","Sin datos","NOTIFICACIONES","Estudio de la viabilidad de las solicitudes de administración de bienes públicos","CAMEP Contrato de administración y mantenimiento","CC-INTERD-230-22 - Respuesta GDADEP-953-22 EUCOL Traslado radicado N° 20223080170821 - Solicitud de Ensayos Previos al Evento de Lanzamiento","Radicar en ORFEO","SGI","No Registra"]
[1087,2022,"NOVIEMBRE","2022-11-16","13:21:00","CRISTHIAN CAMILO MONTAÑA HERNANDEZ","VIRTUAL","Correo electrónico","gloriainesagudo@gmail.com","Empresas privadas","Conjunto Residencial Bosques de Granada","Empresas Privadas","Conjunto Residencial Bosques de Granada","N/A","N/A","Sin datos","Sin datos","Sin datos","Sin datos","ASESORÍA","Estudio de la viabilidad de las solicitudes de administración de bienes públicos","CAMEP Contrato de administración y mantenimiento","Cobro a deudor de parqueadero en predio con contrato 400-00129-356-0-2022_Amanda Quintero","Radicar en ORFEO","SGI","10 Engativá"]
[1088,2022,"NOVIEMBRE","2022-11-16","13:43:00","CRISTHIAN CAMILO MONTAÑA HERNANDEZ","VIRTUAL","Correo electrónico","correspondenciaexternaenviada@participacionbogota.gov.co","Entidades y Organismos Distritales","participacion Bogota","Entidades y Organismos Distritales","Correspondencia","Masculino","Hombre ","Sin datos","Sin datos","Sin datos","Sin datos","PETICIONES ENTRE ENTIDADES","Consulta general","Peticiones entre entidades","RADICADO 20223000197431","Radicar en ORFEO","DIRECCIÓN","No Registra"]
[1089,2022,"NOVIEMBRE","2022-11-16","14:00:00","CRISTHIAN CAMILO MONTAÑA HERNANDEZ","VIRTUAL","Correo electrónico","buzonjudicial@sdp.gov.co","Entidades y Organismos Distritales","Secretaría Distrital de Planeación","Entidades y Organismos Distritales","buzon judicial","Femenino","Mujer","Sin datos","Sin datos","Sin datos","Sin datos","PETICIONES ENTRE ENTIDADES","Consulta general","Peticiones entre entidades","2-2022-165528","Radicar en ORFEO","SRI","No Registra"]
[1090,2022,"NOVIEMBRE","2022-11-16","14:01:00","CRISTHIAN CAMILO MONTAÑA HERNANDEZ","VIRTUAL","Correo electrónico","buzonjudicial@sdp.gov.co","Entidades y Organismos Distritales","Secretaría Distrital de Planeación","Entidades y Organismos Distritales","buzon judicial","Femenino","Mujer","Sin datos","Sin datos","Sin datos","Sin datos","PETICIONES ENTRE ENTIDADES","Consulta general","Peticiones entre entidades","2-2022-165551","Radicar en ORFEO","SRI","No Registra"]
[1091,2022,"NOVIEMBRE","2022-11-16","14:01:00","CRISTHIAN CAMILO MONTAÑA HERNANDEZ","VIRTUAL","Correo electrónico","cmpl31bt@cendoj.ramajudicial.gov.co","Entidades y Organismos Nacionales","Juzgado 31 Civil Municipal - Bogotá - Bogotá D.C. ","Entidades y Orgamismos Nacionales","Juzgado 31 Civil Municipal - Bogotá - Bogotá D.C. ","N/A","N/A","Sin datos","Sin datos","Sin datos","Sin datos","NOTIFICACIONES","Consulta general","Asuntos Jurídicos","OFICIO 2046 a2061-20220908","Radicar en ORFEO","SRI","No Registra"]
[1092,2022,"NOVIEMBRE","2022-11-16","14:02:00","CRISTHIAN CAMILO MONTAÑA HERNANDEZ","VIRTUAL","Correo electrónico","cdiusaquen.salidas@gobiernobogota.gov.co","Entidades y Organismos Distritales","Secretaría de Gobierno","Entidades y Organismos Distritales","CDI Usaquén","Masculino","Hombre ","Sin datos","Sin datos","Sin datos","Sin datos","PETICIONES ENTRE ENTIDADES","Consulta general","Peticiones entre entidades","20225131029931 - Concepto sobre presunta ocupación del espacio público.","Radicar en ORFEO","SGI","01 Usaquén"]
[1093,2022,"NOVIEMBRE","2022-11-16","14:03:00","CRISTHIAN CAMILO MONTAÑA HERNANDEZ","VIRTUAL","Correo electrónico","buzonjudicial@sdp.gov.co","Entidades y Organismos Distritales","Secretaría Distrital de Planeación","Entidades y Organismos Distritales","buzon judicial","Femenino","Mujer","Sin datos","Sin datos","Sin datos","Sin datos","PETICIONES ENTRE ENTIDADES","Consulta general","Peticiones entre entidades","2-2022-165248","Radicar en ORFEO","SRI","No Registra"]
[1094,2022,"NOVIEMBRE","2022-11-16","14:03:00","CRISTHIAN CAMILO MONTAÑA HERNANDEZ","VIRTUAL","Correo electrónico","buzonjudicial@sdp.gov.co","Entidades y Organismos Distritales","Secretaría Distrital de Planeación","Entidades y Organismos Distritales","buzon judicial","Femenino","Mujer","Sin datos","Sin datos","Sin datos","Sin datos","PETICIONES ENTRE ENTIDADES","Consulta general","Peticiones entre entidades","2-2022-165234","Radicar en ORFEO","SRI","No Registra"]
[1095,2022,"NOVIEMBRE","2022-11-16","14:05:00","CRISTHIAN CAMILO MONTAÑA HERNANDEZ","VIRTUAL","Correo electrónico","buzonjudicial@sdp.gov.co","Entidades y Organismos Distritales","Secretaría Distrital de Planeación","Entidades y Organismos Distritales","buzon judicial","Femenino","Mujer","Sin datos","Sin datos","Sin datos","Sin datos","PETICIONES ENTRE ENTIDADES","Consulta general","Peticiones entre entidades","2-2022-164211","Radicar en ORFEO","SRI","No Registra"]
[1096,2022,"NOVIEMBRE","2022-11-16","14:07:00","CRISTHIAN CAMILO MONTAÑA HERNANDEZ","VIRTUAL","Correo electrónico","cmpl10bt@cendoj.ramajudicial.gov.co","Entidades y Organismos Nacionales","Juzgado 10 Civil Municipal - Bogotá - Bogotá D.C. ","Entidades y Orgamismos Nacionales","Juzgado 10 Civil Municipal - Bogotá - Bogotá D.C. ","N/A","N/A","Sin datos","Sin datos","Sin datos","Sin datos","NOTIFICACIONES","Consulta general","Asuntos Jurídicos","ENVÍO COMUNICACIONES VERBAL 2020-603","Radicar en ORFEO","SRI","No Registra"]
[1097,2022,"NOVIEMBRE","2022-11-16","14:08:00","CRISTHIAN CAMILO MONTAÑA HERNANDEZ","VIRTUAL","Correo electrónico","ccto30bt@cendoj.ramajudicial.gov.co","Entidades y Organismos Nacionales","Juzgado 30 Civil Circuito - Bogota - Bogota D.C. ","Entidades y Orgamismos Nacionales","Juzgado 30 Civil Circuito - Bogota - Bogota D.C. ","N/A","N/A","Sin datos","Sin datos","Sin datos","Sin datos","NOTIFICACIONES","Consulta general","Asuntos Jurídicos","REMISIÓN OFICIO No. 0752/2022 - VERBAL No. 11001310303020180002500","Radicar en ORFEO","SRI","No Registra"]
[1098,2022,"NOVIEMBRE","2022-11-16","14:16:00","CRISTHIAN CAMILO MONTAÑA HERNANDEZ","VIRTUAL","Correo electrónico","gloriainesagudo@gmail.com","Empresas privadas","Conjunto Residencial Bosques de Granada","Empresas Privadas","Conjunto Residencial Bosques de Granada","N/A","N/A","Sin datos","Sin datos","Sin datos","Sin datos","ASESORÍA","Estudio de la viabilidad de las solicitudes de administración de bienes públicos","CAMEP Contrato de administración y mantenimiento","Vidrios Gema SAS_Cobro a deudor de parqueadero en predio con contrato 400-00129-356-0-2022","Radicar en ORFEO","SGI","10 Engativá"]
[1099,2022,"NOVIEMBRE","2022-11-16","14:17:00","CRISTHIAN CAMILO MONTAÑA HERNANDEZ","VIRTUAL","Correo electrónico","anino@catastrobogota.gov.co","Entidades y Organismos Distritales","Catastro de Bogotá","Entidades y Organismos Distritales","Notificaciones","Masculino","Hombre ","Sin datos","Sin datos","Sin datos","Sin datos","PETICIONES ENTRE ENTIDADES","Consulta general","Peticiones entre entidades","COMUNICACIÓN ELECTRÓNICA 50C-1463686, 50C-991240, 50C-1463687, 2022EE83889","Responder a correo electronico","AREA DE ATENCION A LA CIUDADANIA","No Registra"]
[1100,2022,"NOVIEMBRE","2022-11-16","14:28:00","CRISTHIAN CAMILO MONTAÑA HERNANDEZ","VIRTUAL","Correo electrónico","gloriainesagudo@gmail.com","Empresas privadas","Conjunto Residencial Bosques de Granada","Empresas Privadas","Conjunto Residencial Bosques de Granada","N/A","N/A","Sin datos","Sin datos","Sin datos","Sin datos","ASESORÍA","Estudio de la viabilidad de las solicitudes de administración de bienes públicos","CAMEP Contrato de administración y mantenimiento","Henry Acevedo_Cobro a deudor de parqueadero en predio con contrato 400-00129-356-0-2022","Radicar en ORFEO","SGI","10 Engativá"]
[1101,2022,"NOVIEMBRE","2022-11-16","14:41:00","CRISTHIAN CAMILO MONTAÑA HERNANDEZ","VIRTUAL","Correo electrónico","correspondencia.enviada1@idu.gov.co","Entidades y Organismos Distritales","Instituto de Desarrollo Urbano","Entidades y Organismos Distritales","correspondencia","Masculino","Hombre ","Sin datos","Sin datos","Sin datos","Sin datos","PETICIONES ENTRE ENTIDADES","Consulta general","Peticiones entre entidades","RADICADO IDU N° 20223851780881 DEL 15 DE NOVIEMBRE 2022","Radicar en ORFEO","DIRECCIÓN","No Registra"]
[1102,2022,"NOVIEMBRE","2022-11-16","14:46:00","CRISTHIAN CAMILO MONTAÑA HERNANDEZ","VIRTUAL","Correo electrónico","correspondencia.enviada1@idu.gov.co","Entidades y Organismos Distritales","Instituto de Desarrollo Urbano","Entidades y Organismos Distritales","correspondencia","Masculino","Hombre ","Sin datos","Sin datos","Sin datos","Sin datos","PETICIONES ENTRE ENTIDADES","Consulta general","Peticiones entre entidades","RADICADO IDU N° 20223751789121 DEL 16 DE NOVIEMBRE 2022","Radicar en ORFEO","SRI","16 Puente Aranda"]
[1103,2022,"NOVIEMBRE","2022-11-16","15:05:00","CRISTHIAN CAMILO MONTAÑA HERNANDEZ","VIRTUAL","Correo electrónico","correspondencia@idiger.gov.co","Entidades y Organismos Distritales","instituto Distrital de Gestión de Riesgos y Cambio Climático","Entidades y Organismos Distritales","Correspondencia","Femenino","Mujer","Sin datos","Sin datos","Sin datos","Sin datos","PETICIONES ENTRE ENTIDADES","Consulta general","Peticiones entre entidades","Radicado Idiger 2022ER18947-ER19137- ER19846 / 2022EE18724","Radicar en ORFEO","SRI","No Registra"]
[1104,2022,"NOVIEMBRE","2022-11-16","15:26:00","CRISTHIAN CAMILO MONTAÑA HERNANDEZ","VIRTUAL","Correo electrónico","conjurcivil@uexternado.edu.co>","Universidades / Estudiantes","Sala Civil ","Universidades / Estudiantes","Sala Civil ","N/A","N/A","Sin datos","Sin datos","Sin datos","Sin datos","NOTIFICACIONES","Consulta general","Asuntos Jurídicos","OFICIO No. 4364 JUZGADO 23 CIVIL MUNICIPAL DE BOGOTÁ RAD. 2021-417","Radicar en ORFEO","SRI","No Registra"]
[1105,2022,"NOVIEMBRE","2022-11-16","15:41:00","CRISTHIAN CAMILO MONTAÑA HERNANDEZ","VIRTUAL","Correo electrónico","correspondencia.cau@promoambientaldistrito.com","Entidades y Organismos Distritales","Promoambiental Distrito","Entidades y Organismos Distritales","Correspondencia","Femenino","Mujer","Sin datos","Sin datos","Sin datos","Sin datos","PETICIONES ENTRE ENTIDADES","Consulta general","Peticiones entre entidades","Traslado por competencia PQR-2022-2061","Radicar en ORFEO","SGI","No Registra"]
[1106,2022,"NOVIEMBRE","2022-11-16","15:48:00","CRISTHIAN CAMILO MONTAÑA HERNANDEZ","VIRTUAL","Correo electrónico","julio.rodriguez@idu.gov.co","Entidades y Organismos Distritales","Instituto de Desarrollo Urbano","Entidades y Organismos Distritales","Funcionario","Masculino","Hombre ","Sin datos","Sin datos","Sin datos","Sin datos","PETICIONES ENTRE ENTIDADES","Consulta general","Peticiones entre entidades","SOLICITUD DE MESA DE TRABAJO SEGUIMIENTO","Radicar en ORFEO","SGI","No Registra"]
[1107,2022,"NOVIEMBRE","2022-11-16","15:53:00","CRISTHIAN CAMILO MONTAÑA HERNANDEZ","VIRTUAL","Correo electrónico","contacto@admintegralbogota.com","Empresas privadas","Administración integral","Empresas Privadas","Ciudadanía","Femenino","Mujer","Sin datos","Sin datos","Sin datos","Sin datos","ASESORÍA","Asesoría en administración y sostenibilidad del espacio público","Asesoría en temas de espacio público","DERECHO PETICION EDIFICIO OCTAVA APTOS -- DADEP","Radicar en ORFEO","SGI","No Registra"]
[1108,2022,"NOVIEMBRE","2022-11-16","15:56:00","CRISTHIAN CAMILO MONTAÑA HERNANDEZ","VIRTUAL","Correo electrónico","siga@habitatbogota.gov.co","Entidades y Organismos Distritales","Secretaria de Habitat","Entidades y Organismos Distritales","SIGA","Femenino","Mujer","Sin datos","Sin datos","Sin datos","Sin datos","PETICIONES ENTRE ENTIDADES","Consulta general","Peticiones entre entidades","Comunicación Oficial N° 2-2022-69698","Radicar en ORFEO","OJ","No Registra"]
[1109,2022,"NOVIEMBRE","2022-11-16","16:00:00","CRISTHIAN CAMILO MONTAÑA HERNANDEZ","VIRTUAL","Correo electrónico","correspondencia.enviada1@idu.gov.co","Entidades y Organismos Distritales","Instituto de Desarrollo Urbano","Entidades y Organismos Distritales","correspondencia","Masculino","Hombre ","Sin datos","Sin datos","Sin datos","Sin datos","PETICIONES ENTRE ENTIDADES","Consulta general","Peticiones entre entidades","RADICADO IDU N° 20223751786141 DEL 15 DE NOVIEMBRE 2022","Radicar en ORFEO","SRI","19 Ciudad Bolívar"]
[1110,2022,"NOVIEMBRE","2022-11-17","16:17:00","CRISTHIAN CAMILO MONTAÑA HERNANDEZ","VIRTUAL","Correo electrónico","oscar.cardenas@uaesp.gov.co","Entidades y Organismos Distritales","Unidad Administrativa Especial de Servicios Públicos","Entidades y Organismos Distritales","Funcionario","Femenino","Mujer","Sin datos","Sin datos","Sin datos","Sin datos","PETICIONES ENTRE ENTIDADES","Consulta general","Peticiones entre entidades","Oficio UAESP 20224000 259521-Cancha Multiple en la Vereda Tuna Bajo -de Sumapaz.","Radicar en ORFEO","DIRECCIÓN","20 Sumapaz"]
[1111,2022,"NOVIEMBRE","2022-11-17","16:21:00","CRISTHIAN CAMILO MONTAÑA HERNANDEZ","VIRTUAL","Correo electrónico","Externa_Enviada_Virtual@shd.gov.co","Entidades y Organismos Distritales","Secretaría de Hacienda Distrital","Entidades y Organismos Distritales","Correspondencia","Masculino","Hombre ","Sin datos","Sin datos","Sin datos","Sin datos","PETICIONES ENTRE ENTIDADES","Consulta general","Peticiones entre entidades","(R2022EE539534O1) 2022EE539534O1 YC","Radicar en ORFEO","SGI","No Registra"]
[1112,2022,"NOVIEMBRE","2022-11-17","16:22:00","CRISTHIAN CAMILO MONTAÑA HERNANDEZ","VIRTUAL","Correo electrónico","buzoncomunicaciones@sdp.gov.co","Entidades y Organismos Distritales","Secretaría Distrital de Planeación","Entidades y Organismos Distritales","buzon comunicaciones","Femenino","Mujer","Sin datos","Sin datos","Sin datos","Sin datos","PETICIONES ENTRE ENTIDADES","Consulta general","Peticiones entre entidades","2-2022-166550","Radicar en ORFEO","SRI","No Registra"]
[1113,2022,"NOVIEMBRE","2022-11-17","16:25:00","CRISTHIAN CAMILO MONTAÑA HERNANDEZ","VIRTUAL","Correo electrónico","santamariadelparque@yahoo.com","Empresas privadas","AGRUPACION DE VIVIENDA SANTA MARIA DEL PARQUE P.H.","Empresas Privadas","AGRUPACION DE VIVIENDA SANTA MARIA DEL PARQUE P.H.","N/A","N/A","Sin datos","Sin datos","Sin datos","Sin datos","ASESORÍA","Asesoría en administración y sostenibilidad del espacio público","Asesoría en temas de espacio público","DERECHO DE PETICION","Radicar en ORFEO","SGI","11 Suba"]
[1114,2022,"NOVIEMBRE","2022-11-17","16:27:00","CRISTHIAN CAMILO MONTAÑA HERNANDEZ","VIRTUAL","Correo electrónico","cdi.candelaria@gobiernobogota.gov.co","Entidades y Organismos Distritales","Secretaría de Gobierno","Entidades y Organismos Distritales","CDI La Candelaria","Femenino","Mujer","Sin datos","Sin datos","Sin datos","Sin datos","PETICIONES ENTRE ENTIDADES","Consulta general","Peticiones entre entidades","Remito comunicación Rad No. 20226720508331","Radicar en ORFEO","SGI","17 La Candelaria"]
[1115,2022,"NOVIEMBRE","2022-11-17","16:28:00","CRISTHIAN CAMILO MONTAÑA HERNANDEZ","VIRTUAL","Correo electrónico","asozonarosa@gmail.com","Empresas privadas","Asociación Zona Rosa","Empresas Privadas","Asociación Zona Rosa","N/A","N/A","Sin datos","Sin datos","Sin datos","Sin datos","NOTIFICACIONES","Estudio de la viabilidad de las solicitudes de administración de bienes públicos","CAMEP Contrato de administración y mantenimiento","INFORME DE GESTION OCTUBRE DE 2022","Radicar en ORFEO","SGI","02 Chapinero"]
[1116,2022,"NOVIEMBRE","2022-11-17","16:28:00","CRISTHIAN CAMILO MONTAÑA HERNANDEZ","VIRTUAL","Correo electrónico","sednotificaciones@educacionbogota.edu.co","Entidades y Organismos Distritales","Secretaría de Educación","Entidades y Organismos Distritales","Notificaciones","Masculino","Hombre ","Sin datos","Sin datos","Sin datos","Sin datos","PETICIONES ENTRE ENTIDADES","Consulta general","Peticiones entre entidades","S-2022-349612","Radicar en ORFEO","SRI","No Registra"]
[1117,2022,"NOVIEMBRE","2022-11-17","16:33:00","CRISTHIAN CAMILO MONTAÑA HERNANDEZ","VIRTUAL","Correo electrónico","notificaciones_catastro@catastrobogota.gov.co","Entidades y Organismos Distritales","Catastro de Bogotá","Entidades y Organismos Distritales","Notificaciones","Femenino","Mujer","Sin datos","Sin datos","Sin datos","Sin datos","PETICIONES ENTRE ENTIDADES","Consulta general","Peticiones entre entidades","UAECD 2022 EE 83527 (uaecd 2022 er 40843)","Radicar en ORFEO","SRI","No Registra"]
[1118,2022,"NOVIEMBRE","2022-11-17","16:40:00","CRISTHIAN CAMILO MONTAÑA HERNANDEZ","VIRTUAL","Correo electrónico","correspondencia.cau@promoambientaldistrito.com","Entidades y Organismos Distritales","Promoambiental Distrito","Entidades y Organismos Distritales","Correspondencia","Femenino","Mujer","Sin datos","Sin datos","Sin datos","Sin datos","PETICIONES ENTRE ENTIDADES","Consulta general","Peticiones entre entidades","Traslado por competencia PQR-2022-2066","Radicar en ORFEO","SGI","No Registra"]
[1119,2022,"NOVIEMBRE","2022-11-17","16:53:00","CRISTHIAN CAMILO MONTAÑA HERNANDEZ","VIRTUAL","Correo electrónico","correspondencia.i.dadep378@interdisenos.com.co","Empresas privadas","interdisenos","Empresas Privadas","Correspondencia","Femenino","Mujer","Sin datos","Sin datos","Sin datos","Sin datos","NOTIFICACIONES","Estudio de la viabilidad de las solicitudes de administración de bienes públicos","CAMEP Contrato de administración y mantenimiento","GDADEP06-0556-22 DADEP SOLICITUD APLAZAMIENTO ENTREGA INFORME 15","Radicar en ORFEO","SGI","No Registra"]
[1120,2022,"NOVIEMBRE","2022-11-17","16:55:00","CRISTHIAN CAMILO MONTAÑA HERNANDEZ","VIRTUAL","Correo electrónico","protocolonotaria3bogota@gmail.com","Entidades y Organismos Nacionales","Notaria 3 Bogota protocolo","Entidades y Orgamismos Nacionales","Notaria 3 Bogota protocolo","N/A","N/A","Sin datos","Sin datos","Sin datos","Sin datos","PETICIONES ENTRE ENTIDADES","Consulta general","Peticiones entre entidades","RAD 20222030167701","Radicar en ORFEO","SRI","No Registra"]
[1121,2022,"NOVIEMBRE","2022-11-17","16:59:00","CRISTHIAN CAMILO MONTAÑA HERNANDEZ","VIRTUAL","Correo electrónico","julianprieto@galias.com.co","Empresas privadas","Las Galias","Empresas Privadas","Ciudadanía","Masculino","Hombre ","Sin datos","Sin datos","Sin datos","Sin datos","ASESORÍA","Incorporación y entrega de las áreas de cesión a favor del municipio","Entrega de zonas de cesión","SOLICITUD ENTREGA ZONAS DE CESIÓN URBANIZACIÓN VALLE DEL REFOUS","Radicar en ORFEO","SRI","No Registra"]
[1122,2022,"NOVIEMBRE","2022-11-17","17:01:00","CRISTHIAN CAMILO MONTAÑA HERNANDEZ","VIRTUAL","Correo electrónico","r.bermudez@bermudezybermudezabogados.com","Empresas privadas","Supertiendas y Droguerías Olimpica SA","Empresas Privadas","Supertiendas y Droguerías Olimpica SA","N/A","N/A","Sin datos","Sin datos","Sin datos","Sin datos","ASESORÍA","Incorporación y entrega de las áreas de cesión a favor del municipio","Entrega de zonas de cesión","Constancia de Visita para Entrega Simplificada de Zonas de Cesión Proyecto El Chanco - AAA0140JNXS","Radicar en ORFEO","SRI","No Registra"]
[1123,2022,"NOVIEMBRE","2022-11-17","17:02:00","CRISTHIAN CAMILO MONTAÑA HERNANDEZ","VIRTUAL","Correo electrónico","buzoncomunicaciones@sdp.gov.co","Entidades y Organismos Distritales","Secretaría Distrital de Planeación","Entidades y Organismos Distritales","buzon comunicaciones","Femenino","Mujer","Sin datos","Sin datos","Sin datos","Sin datos","PETICIONES ENTRE ENTIDADES","Consulta general","Peticiones entre entidades","2-2022-166624","Radicar en ORFEO","SRI","No Registra"]
[1124,2022,"NOVIEMBRE","2022-11-17","18:04:00","CRISTHIAN CAMILO MONTAÑA HERNANDEZ","VIRTUAL","Correo electrónico","jmramirez@shd.gov.co","Entidades y Organismos Distritales","Secretaría de Hacienda Distrital","Entidades y Organismos Distritales","Correspondencia","Masculino","Hombre ","Sin datos","Sin datos","Sin datos","Sin datos","PETICIONES ENTRE ENTIDADES","Consulta general","Peticiones entre entidades","Devolución Bodega avenida 68 con calle 68 costado oriental.","Radicar en ORFEO","SGI","No Registra"]
[1125,2022,"NOVIEMBRE","2022-11-17","19:12:00","CRISTHIAN CAMILO MONTAÑA HERNANDEZ","VIRTUAL","Correo electrónico","proyectosespeciales2022@outlook.com","Empresas privadas","Proyectos Especiales Urbanos ","Empresas Privadas","Proyectos Especiales Urbanos ","N/A","N/A","Sin datos","Sin datos","Sin datos","Sin datos","ASESORÍA","Incorporación y entrega de las áreas de cesión a favor del municipio","Entrega de zonas de cesión","Reiteración solicitud de saneamiento de bienes públicos del ámbito del plan parcial y redefinición o reordenamiento del espacio público del ámbito espacial del PPRU – Predio DADEP, Área remanente apertura de la Av. de las Américas","Radicar en ORFEO","SRI","No Registra"]
[1126,2022,"NOVIEMBRE","2022-11-17","19:16:00","CRISTHIAN CAMILO MONTAÑA HERNANDEZ","VIRTUAL","Correo electrónico","proyectosespeciales2022@outlook.com","Empresas privadas","Proyectos Especiales Urbanos ","Empresas Privadas","Proyectos Especiales Urbanos ","N/A","N/A","Sin datos","Sin datos","Sin datos","Sin datos","ASESORÍA","Incorporación y entrega de las áreas de cesión a favor del municipio","Entrega de zonas de cesión","Reiteración solicitud de saneamiento de bienes públicos del ámbito del plan parcial y redefinición o reordenamiento del espacio público del ámbito espacial del PPRU. Radicaciones antecedentes: 20214000125402, 20214000190862 del 16/09/2021","Radicar en ORFEO","SRI","No Registra"]
[1127,2022,"NOVIEMBRE","2022-11-17","19:19:00","CRISTHIAN CAMILO MONTAÑA HERNANDEZ","VIRTUAL","Correo electrónico","proyectosespeciales2022@outlook.com","Empresas privadas","Proyectos Especiales Urbanos ","Empresas Privadas","Proyectos Especiales Urbanos ","N/A","N/A","Sin datos","Sin datos","Sin datos","Sin datos","ASESORÍA","Incorporación y entrega de las áreas de cesión a favor del municipio","Entrega de zonas de cesión","Asunto: Plan Parcial de Renovación Urbana-PPRU Triángulo Bavaría. Referencia: Cartografía conciliada predios privados y RUPIs","Radicar en ORFEO","SRI","No Registra"]
[1128,2022,"NOVIEMBRE","2022-11-17","19:23:00","CRISTHIAN CAMILO MONTAÑA HERNANDEZ","VIRTUAL","Correo electrónico","correspondencia.enviada1@idu.gov.co","Entidades y Organismos Distritales","Instituto de Desarrollo Urbano","Entidades y Organismos Distritales","correspondencia","Masculino","Hombre ","Sin datos","Sin datos","Sin datos","Sin datos","PETICIONES ENTRE ENTIDADES","Consulta general","Peticiones entre entidades","RADICADO IDU N° 20223751790711 DEL 16 DE NOVIEMBRE 2022","Radicar en ORFEO","SRI","No Registra"]
[1129,2022,"NOVIEMBRE","2022-11-17","19:24:00","CRISTHIAN CAMILO MONTAÑA HERNANDEZ","VIRTUAL","Correo electrónico","respuestasrbl@uaesp.gov.co","Entidades y Organismos Distritales","Unidad Administrativa Especial de Servicios Públicos","Entidades y Organismos Distritales","Respuestas RBL","Masculino","Hombre ","Sin datos","Sin datos","Sin datos","Sin datos","PETICIONES ENTRE ENTIDADES","Consulta general","Peticiones entre entidades","Remito radicado UAESP 20222000261181","Radicar en ORFEO","SRI","No Registra"]
[1130,2022,"NOVIEMBRE","2022-11-17","19:37:00","CRISTHIAN CAMILO MONTAÑA HERNANDEZ","VIRTUAL","Correo electrónico","mebog.e12-preci@policia.gov.co","Entidades y Organismos Nacionales","MEBOG E12-PRECI ","Entidades y Orgamismos Nacionales","MEBOG E12-PRECI ","N/A","N/A","Sin datos","Sin datos","Sin datos","Sin datos","PETICIONES ENTRE ENTIDADES","Consulta general","Peticiones entre entidades","INVITACION AL ENCUENTRO COMUNITARIO DEL CAI SIETE DE AGOSTO ","Radicar en ORFEO","SGI","12 Barrios Unidos"]
[1131,2022,"NOVIEMBRE","2022-11-17","20:06:00","CRISTHIAN CAMILO MONTAÑA HERNANDEZ","VIRTUAL","Correo electrónico","mofajardo@alianza.com.co","Empresas privadas","Alianza Fiduciaria","Empresas Privadas","Ciudadanía","Femenino","Mujer","Sin datos","Sin datos","Sin datos","Sin datos","NOTIFICACIONES","Estudio de la viabilidad de las solicitudes de administración de bienes públicos","CAMEP Contrato de administración y mantenimiento","INFORME -EEFF SEPTIEMBRE 2022 FIDEICOMISO HUB MOVILIDAD CALLE 136- ALIANZA FIDUCIARIA S.A","Radicar en ORFEO","SGI","01 Usaquén"]
[1132,2022,"NOVIEMBRE","2022-11-17","21:23:00","CRISTHIAN CAMILO MONTAÑA HERNANDEZ","VIRTUAL","Correo electrónico","mofajardo@alianza.com.c","Empresas privadas","Alianza Fiduciaria","Empresas Privadas","Ciudadanía","Femenino","Mujer","Sin datos","Sin datos","Sin datos","Sin datos","NOTIFICACIONES","Estudio de la viabilidad de las solicitudes de administración de bienes públicos","CAMEP Contrato de administración y mantenimiento","Certificación rendimientos mes de octubre de 2022 Subcuenta MASC FIDEICOMISO HUB MOVILIDAD CALLE 136 ALIANZA FIDUCIARIA S.A.","Radicar en ORFEO","SGI","01 Usaquén"]
[1133,2022,"NOVIEMBRE","2022-11-17","06:26:00","CRISTHIAN CAMILO MONTAÑA HERNANDEZ","VIRTUAL","Correo electrónico","inkaparina@gmail.com","Ciudadanía","Funcionario","Ciudadanía","Ciudadanía","Masculino","Hombre ","Sin datos","Sin datos","Sin datos","Sin datos","ASESORÍA","Asesoría en administración y sostenibilidad del espacio público","Asesoría en temas de espacio público","sdqs acompañamiento","Radicar en ORFEO","SGI","No Registra"]
[1134,2022,"NOVIEMBRE","2022-11-17","07:30:00","CRISTHIAN CAMILO MONTAÑA HERNANDEZ","VIRTUAL","Correo electrónico","salidascdi.suba@gobiernobogota.gov.co","Entidades y Organismos Distritales","Secretaría de Gobierno","Entidades y Organismos Distritales","Alcaldía de Suba","Masculino","Hombre ","Sin datos","Sin datos","Sin datos","Sin datos","PETICIONES ENTRE ENTIDADES","Consulta general","Peticiones entre entidades","20226131980981 - Respuesta Derecho de petición Radicado No.20224603494962 ","Radicar en ORFEO","SGI","11 Suba"]
[1135,2022,"NOVIEMBRE","2022-11-17","08:11:00","CRISTHIAN CAMILO MONTAÑA HERNANDEZ","VIRTUAL","Correo electrónico","radicacion@transmilenio.gov.co","Entidades y Organismos Distritales","Transmilenio","Entidades y Organismos Distritales","Radicación","Masculino","Hombre ","Sin datos","Sin datos","Sin datos","Sin datos","PETICIONES ENTRE ENTIDADES","Consulta general","Peticiones entre entidades","Solicitud de información de tramos viales según la metodología para la identificación y definición de corredores de transporte público (Resolución N° 483 de 2019) TM 2022-EE-28690","Radicar en ORFEO","SRI","No Registra"]
[1136,2022,"NOVIEMBRE","2022-11-17","08:52:00","CRISTHIAN CAMILO MONTAÑA HERNANDEZ","VIRTUAL","Correo electrónico","mfierrito@hotmail.com","Ciudadanía","Funcionario","Ciudadanía","Ciudadanía","Masculino","Hombre ","Sin datos","Sin datos","Sin datos","Sin datos","CONSULTA","Consulta general","Talento humano","Derecho de petición. Solicitud de información sobre notificación cargo profesional universitario, código 219, grado 18.","Radicar en ORFEO","SGC","No Registra"]
[1137,2022,"NOVIEMBRE","2022-11-17","09:04:00","CRISTHIAN CAMILO MONTAÑA HERNANDEZ","VIRTUAL","Correo electrónico","correspondencia@ambientebogota.gov.co","Entidades y Organismos Distritales","Secretaría de Ambiente","Entidades y Organismos Distritales","Correspondencia","Masculino","Hombre ","Sin datos","Sin datos","Sin datos","Sin datos","PETICIONES ENTRE ENTIDADES","Consulta general","Peticiones entre entidades","Envio documento Secretaria distrital de ambiente Radicado No. 2022EE297784","Radicar en ORFEO","DIRECCIÓN","No Registra"]
[1138,2022,"NOVIEMBRE","2022-11-17","09:18:00","CRISTHIAN CAMILO MONTAÑA HERNANDEZ","VIRTUAL","Correo electrónico","isolarestaurantebar@gmail.com","Empresas privadas","Isola Restaurante Bar ","Empresas Privadas","Isola Restaurante Bar ","N/A","N/A","Sin datos","Sin datos","Sin datos","Sin datos","ASESORÍA","Estudio de la viabilidad de las solicitudes de administración de bienes públicos","Viabilidad Decreto 070 / 2022 BACA 2.0","SOLICITUD ISOLA RESTAURANTE","Radicar en ORFEO","SGC","No Registra"]
[1139,2022,"NOVIEMBRE","2022-11-17","09:44:00","CRISTHIAN CAMILO MONTAÑA HERNANDEZ","VIRTUAL","Correo electrónico","alessandra.santoro@hayueloscc.com","Empresas privadas","Asociación Zona H.","Empresas Privadas","Asociación Zona H.","N/A","N/A","Sin datos","Sin datos","Sin datos","Sin datos","ASESORÍA","Asesoría en administración y sostenibilidad del espacio público","Asesoría en temas de espacio público","Notificación DADEP","Radicar en ORFEO","SGC","No Registra"]
[1140,2022,"NOVIEMBRE","2022-11-17","09:54:00","CRISTHIAN CAMILO MONTAÑA HERNANDEZ","VIRTUAL","Correo electrónico","admdocumental@idipron.gov.co","Entidades y Organismos Distritales","Instituto Distrital para la Protección de la Niñez y la Juventud-Idipron","Entidades y Organismos Distritales","Administración Documental","Masculino","Hombre ","Sin datos","Sin datos","Sin datos","Sin datos","PETICIONES ENTRE ENTIDADES","Consulta general","Peticiones entre entidades","2022EE3539 -  SOLICITUD DE RADICADO","Radicar en ORFEO","SRI","No Registra"]
[1141,2022,"NOVIEMBRE","2022-11-17","09:55:00","CRISTHIAN CAMILO MONTAÑA HERNANDEZ","VIRTUAL","Correo electrónico","notificaciones_catastro@catastrobogota.gov.co","Entidades y Organismos Distritales","Catastro de Bogotá","Entidades y Organismos Distritales","Notificaciones","Femenino","Mujer","Sin datos","Sin datos","Sin datos","Sin datos","PETICIONES ENTRE ENTIDADES","Consulta general","Peticiones entre entidades","Notificación del tramite 2022 - 730153","Radicar en ORFEO","DIRECCIÓN","No Registra"]
[1142,2022,"NOVIEMBRE","2022-11-17","09:59:00","CRISTHIAN CAMILO MONTAÑA HERNANDEZ","VIRTUAL","Correo electrónico","buzoncomunicaciones@sdp.gov.co","Entidades y Organismos Distritales","Secretaría Distrital de Planeación","Entidades y Organismos Distritales","buzon comunicaciones","Femenino","Mujer","Sin datos","Sin datos","Sin datos","Sin datos","PETICIONES ENTRE ENTIDADES","Consulta general","Peticiones entre entidades","2-2022-166886","Radicar en ORFEO","SRI","No Registra"]
[1143,2022,"NOVIEMBRE","2022-11-17","10:02:00","CRISTHIAN CAMILO MONTAÑA HERNANDEZ","VIRTUAL","Correo electrónico","ajlambrano@saludcapital.gov.co","Entidades y Organismos Distritales","Salud Capital","Entidades y Organismos Distritales","Funcionario","Masculino","Hombre ","Sin datos","Sin datos","Sin datos","Sin datos","PETICIONES ENTRE ENTIDADES","Consulta general","Peticiones entre entidades","2022EE131928 - Implementación DEA - Resolución 668 de 2022","Radicar en ORFEO","DIRECCIÓN","No Registra"]
[1144,2022,"NOVIEMBRE","2022-11-17","10:07:00","CRISTHIAN CAMILO MONTAÑA HERNANDEZ","VIRTUAL","Correo electrónico","correspondencia@ambientebogota.gov.co","Entidades y Organismos Distritales","Secretaría de Ambiente","Entidades y Organismos Distritales","Correspondencia","Femenino","Mujer","Sin datos","Sin datos","Sin datos","Sin datos","PETICIONES ENTRE ENTIDADES","Consulta general","Peticiones entre entidades","Envió documento Secretaria distrital de ambiente Radicado No. 2022EE297525","Radicar en ORFEO","SGI","No Registra"]
[1145,2022,"NOVIEMBRE","2022-11-17","10:12:00","CRISTHIAN CAMILO MONTAÑA HERNANDEZ","VIRTUAL","Correo electrónico","jorge8ae@gmail.com","Ciudadanía","Funcionario","Ciudadanía","Ciudadanía","Masculino","Hombre ","Sin datos","Sin datos","Sin datos","Sin datos","ASESORÍA","Asesoría en administración y sostenibilidad del espacio público","Asesoría en temas de espacio público","Consulta.","Radicar en ORFEO","SGI","No Registra"]
[1146,2022,"NOVIEMBRE","2022-11-17","10:12:00","CRISTHIAN CAMILO MONTAÑA HERNANDEZ","VIRTUAL","Correo electrónico","consultoriasanblas@hotmail.com","Empresas privadas","Consultoría San Blas","Empresas Privadas","Ciudadanía","Femenino","Mujer","Sin datos","Sin datos","Sin datos","Sin datos","ASESORÍA","Asesoría en administración y sostenibilidad del espacio público","Asesoría en temas de espacio público","INFORMACION SOBRE LA ADECUACION Y CONSTRUCCION DE LA USS HOSPITAL SAN BLASS","Radicar en ORFEO","SGI","No Registra"]
[1147,2022,"NOVIEMBRE","2022-11-17","10:18:00","CRISTHIAN CAMILO MONTAÑA HERNANDEZ","VIRTUAL","Correo electrónico","radicacion@transmilenio.gov.co","Entidades y Organismos Distritales","Transmilenio","Entidades y Organismos Distritales","Radicación","Masculino","Hombre ","Sin datos","Sin datos","Sin datos","Sin datos","PETICIONES ENTRE ENTIDADES","Consulta general","Peticiones entre entidades","Citación a 3er Comité Seguimiento a la Implementación de patios del SITP del año 2022. TM 2022-EE-28728","Radicar en ORFEO","SGI","No Registra"]
[1148,2022,"NOVIEMBRE","2022-11-17","10:19:00","CRISTHIAN CAMILO MONTAÑA HERNANDEZ","VIRTUAL","Correo electrónico","social.habitat@incopav.com","Empresas privadas","Incopav Sas en BOGOTA","Empresas Privadas","Ciudadanía","Masculino","Hombre ","Sin datos","Sin datos","Sin datos","Sin datos","ASESORÍA","Asesoría en administración y sostenibilidad del espacio público","Asesoría en temas de espacio público","SOLICITUD DE APOYO PARA VERIFICACIÓN Y RESTITUCIÓN DE ESPACIO PÚBLICO.","Radicar en ORFEO","SGI","No Registra"]
[1149,2022,"NOVIEMBRE","2022-11-17","10:30:00","CRISTHIAN CAMILO MONTAÑA HERNANDEZ","VIRTUAL","Correo electrónico","idrdcorrespondencia@idrd.gov.co","Entidades y Organismos Distritales","Instituto Distrital de Recreación y Deportes","Entidades y Organismos Distritales","idrd correspondencia","Masculino","Hombre ","Sin datos","Sin datos","Sin datos","Sin datos","PETICIONES ENTRE ENTIDADES","Consulta general","Peticiones entre entidades","20224100246721 - Zonas de cesión para parque producto de la Urbanización “Argenta 138” de la localidad de Suba. Expediente Virtual No. 2022410660300046E","Radicar en ORFEO","SRI","11 Suba"]
[1150,2022,"NOVIEMBRE","2022-11-17","10:45:00","CRISTHIAN CAMILO MONTAÑA HERNANDEZ","VIRTUAL","Correo electrónico","correspondencia@concejobogota.gov.co","Entidades y Organismos Distritales","Concejo de Bogotá","Entidades y Organismos Distritales","correspondencia","Femenino","Mujer","Sin datos","Sin datos","Sin datos","Sin datos","PETICIONES ENTRE ENTIDADES","Consulta general","Peticiones entre entidades","convocatoria Mesa Técnica de trabajo sobre la Intervención en el barrio el Rosal Mirador a razón del deterioro evidente y la afectación de las vías y calles peatonales.","Radicar en ORFEO","DIRECCIÓN","No Registra"]
[1151,2022,"NOVIEMBRE","2022-11-17","10:48:00","CRISTHIAN CAMILO MONTAÑA HERNANDEZ","VIRTUAL","Correo electrónico","buzon.areatecnica@idrd.gov.co","Entidades y Organismos Distritales","Instituto Distrital de Recreación y Deportes","Entidades y Organismos Distritales","idrd correspondencia","Masculino","Hombre ","Sin datos","Sin datos","Sin datos","Sin datos","PETICIONES ENTRE ENTIDADES","Consulta general","Peticiones entre entidades","Radicado IDRD 20222100330532- CONTRATO EAAB 1-01-25400- 1099-2022 – “RENOVACIÓN DE LA LÍNEA MATRIZ SAN DIEGO ZONA INTERMEDIA I”","Radicar en ORFEO","SGI","No Registra"]
[1152,2022,"NOVIEMBRE","2022-11-17","10:49:00","CRISTHIAN CAMILO MONTAÑA HERNANDEZ","VIRTUAL","Correo electrónico","correspondencia.i.dadep247@interdisenos.com.co","Empresas privadas","interdisenos","Empresas Privadas","Correspondencia","Femenino","Mujer","Sin datos","Sin datos","Sin datos","Sin datos","NOTIFICACIONES","Estudio de la viabilidad de las solicitudes de administración de bienes públicos","CAMEP Contrato de administración y mantenimiento","GDADEP-958-22 DADEP - Rta oficio N° 20224000274192 - Requerimiento 008 - Solicitud relacionada con el Derecho de petición 1318-22","Radicar en ORFEO","SGI","No Registra"]
[1153,2022,"NOVIEMBRE","2022-11-17","11:06:00","CRISTHIAN CAMILO MONTAÑA HERNANDEZ","VIRTUAL","Correo electrónico","correspondencia@scj.gov.co","Entidades y Organismos Distritales","Secretaría Distrital de Seguridad, Convivencia y Justicia","Entidades y Organismos Distritales","Correspondencia","Femenino","Mujer","Sin datos","Sin datos","Sin datos","Sin datos","PETICIONES ENTRE ENTIDADES","Consulta general","Peticiones entre entidades","Envío de Radicado 20222200862182","Radicar en ORFEO","SGI","No Registra"]
[1154,2022,"NOVIEMBRE","2022-11-17","11:25:00","CRISTHIAN CAMILO MONTAÑA HERNANDEZ","VIRTUAL","Correo electrónico","buzonjudicial@sdp.gov.co","Entidades y Organismos Distritales","Secretaría Distrital de Planeación","Entidades y Organismos Distritales","buzon judicial","Femenino","Mujer","Sin datos","Sin datos","Sin datos","Sin datos","PETICIONES ENTRE ENTIDADES","Consulta general","Peticiones entre entidades","2-2022-166946","Radicar en ORFEO","SRI","No Registra"]
[1155,2022,"NOVIEMBRE","2022-11-17","11:29:00","CRISTHIAN CAMILO MONTAÑA HERNANDEZ","VIRTUAL","Correo electrónico","sguerrap@conconcreto.com","Empresas privadas","Conconcreto","Empresas Privadas","Ciudadanía","Femenino","Mujer","Sin datos","Sin datos","Sin datos","Sin datos","ASESORÍA","Asesoría en administración y sostenibilidad del espacio público","Asesoría en temas de espacio público","DESMONTE DE PARADERO POR PTM 101 SECTOR 6","Radicar en ORFEO","SGI","No Registra"]
[1156,2022,"NOVIEMBRE","2022-11-17","11:45:00","CRISTHIAN CAMILO MONTAÑA HERNANDEZ","VIRTUAL","Correo electrónico","correspondencia@umv.gov.co","Entidades y Organismos Distritales","Unidad De Mantenimiento Vial","Entidades y Organismos Distritales","correspondencia","Masculino","Hombre ","Sin datos","Sin datos","Sin datos","Sin datos","PETICIONES ENTRE ENTIDADES","Consulta general","Peticiones entre entidades","ENVIO DE DOCUMENTO RADICADO 20221200108591 ","Radicar en ORFEO","SRI","No Registra"]
[1157,2022,"NOVIEMBRE","2022-11-17","11:45:00","CRISTHIAN CAMILO MONTAÑA HERNANDEZ","VIRTUAL","Correo electrónico","correspondencia.i.dadep247@interdisenos.com.co","Empresas privadas","interdisenos","Empresas Privadas","Correspondencia","Femenino","Mujer","Sin datos","Sin datos","Sin datos","Sin datos","NOTIFICACIONES","Estudio de la viabilidad de las solicitudes de administración de bienes públicos","CAMEP Contrato de administración y mantenimiento","GDADEP-959-22 DADEP Recomendación Aprobación Evento Lanzamiento Prototipo Programa de Cultura Ciudadana","Radicar en ORFEO","SGI","No Registra"]
[1158,2022,"NOVIEMBRE","2022-11-17","11:52:00","CRISTHIAN CAMILO MONTAÑA HERNANDEZ","VIRTUAL","Correo electrónico","guiocora@hotmail.com","Ciudadanía","Funcionario","Ciudadanía","Ciudadanía","Femenino","Mujer","Sin datos","Sin datos","Sin datos","Sin datos","CONSULTA","Consulta general","Contratos jurídica","certificación con obligaciones del contrato 10-00134-15-0-2021","Radicar en ORFEO","OJ","No Registra"]
[1159,2022,"NOVIEMBRE","2022-11-17","12:06:00","CRISTHIAN CAMILO MONTAÑA HERNANDEZ","VIRTUAL","Correo electrónico","notificacionelectronica@movilidadbogota.gov.co","Entidades y Organismos Distritales","Secretaría de Movilidad","Entidades y Organismos Distritales","Notificaciones","Masculino","Hombre ","Sin datos","Sin datos","Sin datos","Sin datos","PETICIONES ENTRE ENTIDADES","Consulta general","Peticiones entre entidades","RADICADO SDM N° 202232309882191","Radicar en ORFEO","DIRECCIÓN","No Registra"]
[1160,2022,"NOVIEMBRE","2022-11-17","12:22:00","CRISTHIAN CAMILO MONTAÑA HERNANDEZ","VIRTUAL","Correo electrónico","carolina.diaz06@hotmail.com","Ciudadanía","Funcionario","Ciudadanía","Ciudadanía","Femenino","Mujer","Sin datos","Sin datos","Sin datos","Sin datos","ASESORÍA","Estudio de la viabilidad de las solicitudes de administración de bienes públicos","Viabilidad Decreto 070 / 2022 BACA 2.0","Peticion No 2428082022 e informacion personal","Radicar en ORFEO","SGI","No Registra"]
[1161,2022,"NOVIEMBRE","2022-11-17","12:32:00","CRISTHIAN CAMILO MONTAÑA HERNANDEZ","VIRTUAL","Correo electrónico","NotificacionesCAU@lime.com.co","Empresas privadas","LIME","Empresas Privadas","Notificaciones","Masculino","Hombre ","Sin datos","Sin datos","Sin datos","Sin datos","PETICIONES ENTRE ENTIDADES","Consulta general","Peticiones entre entidades","Envió Oficio Electrónico CC11262455 PQR 1192082 ","Radicar en ORFEO","SGI","No Registra"]
[1162,2022,"NOVIEMBRE","2022-11-17","12:36:00","CRISTHIAN CAMILO MONTAÑA HERNANDEZ","VIRTUAL","Correo electrónico","proyectarq.pa@gmail.com","Empresas privadas","Proyectos Arquitectónicos P.A","Empresas Privadas","Proyectos Arquitectónicos P.A","N/A","N/A","Sin datos","Sin datos","Sin datos","Sin datos","ASESORÍA","Incorporación y entrega de las áreas de cesión a favor del municipio","Entrega de zonas de cesión","Alcance Completo DADEP_PP Nueva Aranda","Radicar en ORFEO","SRI","No Registra"]
[1163,2022,"NOVIEMBRE","2022-11-17","12:55:00","CRISTHIAN CAMILO MONTAÑA HERNANDEZ","VIRTUAL","Correo electrónico","mithocafebar@gmail.com","Ciudadanía","Funcionario","Ciudadanía","Ciudadanía","Masculino","Hombre ","Sin datos","Sin datos","Sin datos","Sin datos","ASESORÍA","Estudio de la viabilidad de las solicitudes de administración de bienes públicos","Viabilidad Decreto 070 / 2022 BACA 2.0","Revisión pólizas ","Radicar en ORFEO","SGI","No Registra"]
[1164,2022,"NOVIEMBRE","2022-11-17","13:10:00","CRISTHIAN CAMILO MONTAÑA HERNANDEZ","VIRTUAL","Correo electrónico","cdi.ruribe@gobiernobogota.gov.co","Entidades y Organismos Distritales","Secretaría de Gobierno","Entidades y Organismos Distritales","CDI Rafael Uribe Uribe","Masculino","Hombre ","Sin datos","Sin datos","Sin datos","Sin datos","PETICIONES ENTRE ENTIDADES","Consulta general","Peticiones entre entidades","REMITO COMUNICADO CON RADICADO: 20226831524711","Radicar en ORFEO","SGI","18 Rafael Uribe Uribe"]
[1165,2022,"NOVIEMBRE","2022-11-17","11:33:00","CRISTHIAN CAMILO MONTAÑA HERNANDEZ","VIRTUAL","Correo electrónico","dfsuarezc@unal.edu.co","Ciudadanía","Funcionario","Ciudadanía","Ciudadanía","Femenino","Mujer","Sin datos","Sin datos","Sin datos","Sin datos","ASESORÍA","Asesoría en administración y sostenibilidad del espacio público","Denuncia Cerramiento","Derecho de peticion. Redes Sociales - Twitter - @anaidfsuarez - denuncia por presunto cerramiento de zonas verdes y espacio público por privado en 70 A bis A # 117-15.","Radicar en ORFEO","SGI","No Registra"]
[1166,2022,"NOVIEMBRE","2022-11-17","16:02:00","CRISTHIAN CAMILO MONTAÑA HERNANDEZ","VIRTUAL","Correo electrónico","Paty0718@gmail.com","Ciudadanía","Funcionario","Ciudadanía","Ciudadanía","Femenino","Mujer","Sin datos","Sin datos","Sin datos","Sin datos","ASESORÍA","Asesoría en administración y sostenibilidad del espacio público","Asesoría en temas de espacio público","Derecho de peticion. Redes Sociales. Facebook. denuncia por invasión deespacio público en Cra 78b 33A.","Radicar en ORFEO","SGI","No Registra"]
[1167,2022,"NOVIEMBRE","2022-11-17","14:48:00","CRISTHIAN CAMILO MONTAÑA HERNANDEZ","VIRTUAL","Correo electrónico","Externa_Enviada_Virtual@shd.gov.co","Entidades y Organismos Distritales","Secretaría de Hacienda Distrital","Entidades y Organismos Distritales","Correspondencia","Femenino","Mujer","Sin datos","Sin datos","Sin datos","Sin datos","PETICIONES ENTRE ENTIDADES","Consulta general","Peticiones entre entidades","2022EE540610O1","Radicar en ORFEO","SGI","No Registra"]
[1168,2022,"NOVIEMBRE","2022-11-17","15:03:00","CRISTHIAN CAMILO MONTAÑA HERNANDEZ","VIRTUAL","Correo electrónico","correspondencia@scj.gov.co","Entidades y Organismos Distritales","Secretaría Distrital de Seguridad, Convivencia y Justicia","Entidades y Organismos Distritales","Correspondencia","Femenino","Mujer","Sin datos","Sin datos","Sin datos","Sin datos","PETICIONES ENTRE ENTIDADES","Consulta general","Peticiones entre entidades","Envío de Radicado 20222200863032","Radicar en ORFEO","SGI","No Registra"]
[1169,2022,"NOVIEMBRE","2022-11-17","15:09:00","CRISTHIAN CAMILO MONTAÑA HERNANDEZ","VIRTUAL","Correo electrónico","notificaciones.bosa@gobiernobogota.gov.co","Entidades y Organismos Distritales","Secretaría de Gobierno","Entidades y Organismos Distritales","Alcaldía de Bosa","Femenino","Mujer","Sin datos","Sin datos","Sin datos","Sin datos","PETICIONES ENTRE ENTIDADES","Consulta general","Peticiones entre entidades","20225731958201 - Traslado por competencia","Radicar en ORFEO","SGI","07 Bosa"]
[1170,2022,"NOVIEMBRE","2022-11-17","15:14:00","CRISTHIAN CAMILO MONTAÑA HERNANDEZ","VIRTUAL","Correo electrónico","administradorsiga@alcaldiabogota.gov.co","Entidades y Organismos Distritales","Secretaria de Habitat","Entidades y Organismos Distritales","SIGA","Femenino","Mujer","Sin datos","Sin datos","Sin datos","Sin datos","PETICIONES ENTRE ENTIDADES","Consulta general","Peticiones entre entidades","Comunicación Oficial N° 2-2022-33031","Radicar en ORFEO","DIRECCIÓN","No Registra"]
[1171,2022,"NOVIEMBRE","2022-11-17","15:23:00","CRISTHIAN CAMILO MONTAÑA HERNANDEZ","VIRTUAL","Correo electrónico","correspondencia@secretariajuridica.gov.co","Entidades y Organismos Distritales","Secretaría juridica Distrital","Entidades y Organismos Distritales","Correspondencia","Femenino","Mujer","Sin datos","Sin datos","Sin datos","Sin datos","PETICIONES ENTRE ENTIDADES","Consulta general","Peticiones entre entidades","Comunicación Oficial N° 2-2022-23994","Radicar en ORFEO","OJ","No Registra"]
[1172,2022,"NOVIEMBRE","2022-11-17","15:23:00","CRISTHIAN CAMILO MONTAÑA HERNANDEZ","VIRTUAL","Correo electrónico","Susana.Sanchez@gobiernobogota.gov.co","Entidades y Organismos Distritales","Secretaría de Gobierno","Entidades y Organismos Distritales","Funcionario","Masculino","Hombre ","Sin datos","Sin datos","Sin datos","Sin datos","PETICIONES ENTRE ENTIDADES","Consulta general","Peticiones entre entidades","20225520795681 - RESPUESTA A SOLICITUD DE UBICACIÓN BANCAS CONCESIÓN 110-186-0-2020","Radicar en ORFEO","SGI","05 Usme"]
[1173,2022,"NOVIEMBRE","2022-11-17","15:54:00","CRISTHIAN CAMILO MONTAÑA HERNANDEZ","VIRTUAL","Correo electrónico","correspondencia.i.dadep247@interdisenos.com.co","Empresas privadas","interdisenos","Empresas Privadas","Correspondencia","Femenino","Mujer","Sin datos","Sin datos","Sin datos","Sin datos","NOTIFICACIONES","Estudio de la viabilidad de las solicitudes de administración de bienes públicos","CAMEP Contrato de administración y mantenimiento","GDADEP-960-22 EUCOL Rta comunicación CC-INTERD-19-22 disposición final del mobiliario por instalación de prototipos","Radicar en ORFEO","SGI","No Registra"]
[1174,2022,"NOVIEMBRE","2022-11-18","15:58:00","CRISTHIAN CAMILO MONTAÑA HERNANDEZ","VIRTUAL","Correo electrónico","correspondencia.cau@promoambientaldistrito.com","Entidades y Organismos Distritales","Promoambiental Distrito","Entidades y Organismos Distritales","Correspondencia","Femenino","Mujer","Sin datos","Sin datos","Sin datos","Sin datos","PETICIONES ENTRE ENTIDADES","Consulta general","Peticiones entre entidades","Traslado por competencia PQR-2022-2071","Radicar en ORFEO","SGI","No Registra"]
[1175,2022,"NOVIEMBRE","2022-11-18","16:08:00","CRISTHIAN CAMILO MONTAÑA HERNANDEZ","VIRTUAL","Correo electrónico","correspondencia.cau@promoambientaldistrito.com","Entidades y Organismos Distritales","Promoambiental Distrito","Entidades y Organismos Distritales","Correspondencia","Femenino","Mujer","Sin datos","Sin datos","Sin datos","Sin datos","PETICIONES ENTRE ENTIDADES","Consulta general","Peticiones entre entidades","Traslado por competencia PQR-2022-2072","Radicar en ORFEO","SGI","No Registra"]
[1176,2022,"NOVIEMBRE","2022-11-18","16:13:00","CRISTHIAN CAMILO MONTAÑA HERNANDEZ","VIRTUAL","Correo electrónico","sonia.santos@gobiernobogota.gov.co","Entidades y Organismos Distritales","Secretaría de Gobierno","Entidades y Organismos Distritales","Funcionario","Masculino","Hombre ","Sin datos","Sin datos","Sin datos","Sin datos","PETICIONES ENTRE ENTIDADES","Consulta general","Peticiones entre entidades","Envío oficio No 20225920793761 Traslado derecho de petición - Derecho de petición de interés general","Radicar en ORFEO","SGI","09 Fontibón"]
[1177,2022,"NOVIEMBRE","2022-11-18","16:21:00","CRISTHIAN CAMILO MONTAÑA HERNANDEZ","VIRTUAL","Correo electrónico","sonia.santos@gobiernobogota.gov.co","Entidades y Organismos Distritales","Secretaría de Gobierno","Entidades y Organismos Distritales","Funcionario","Masculino","Hombre ","Sin datos","Sin datos","Sin datos","Sin datos","PETICIONES ENTRE ENTIDADES","Consulta general","Peticiones entre entidades","Envío oficio No 20225920793651 Traslado derecho de petición - invasión de espacio público","Radicar en ORFEO","SGI","09 Fontibón"]
[1178,2022,"NOVIEMBRE","2022-11-18","16:57:00","CRISTHIAN CAMILO MONTAÑA HERNANDEZ","VIRTUAL","Correo electrónico","gerencia.general@dulcejesusmio.com.co","Empresas privadas","Dulce Jesus Mio","Empresas Privadas","Ciudadanía","Masculino","Hombre ","Sin datos","Sin datos","Sin datos","Sin datos","ASESORÍA","Estudio de la viabilidad de las solicitudes de administración de bienes públicos","Viabilidad Decreto 070 / 2022 BACA 2.0","SOLICITUD BOGOTA A CIELO ABIERTO","Radicar en ORFEO","SGI","No Registra"]
[1179,2022,"NOVIEMBRE","2022-11-18","16:59:00","CRISTHIAN CAMILO MONTAÑA HERNANDEZ","VIRTUAL","Correo electrónico","direccion.oasisurbano@zonah.co","Empresas privadas","Dirección - Hayuelos C.C. y Empresarial","Empresas Privadas","Dirección - Hayuelos C.C. y Empresarial","N/A","N/A","Sin datos","Sin datos","Sin datos","Sin datos","ASESORÍA","Estudio de la viabilidad de las solicitudes de administración de bienes públicos","DEMOS","Revocatoria de poder Radicado DADEP *20213080134381 solicitud aplicación a DEMOS para espacio público Hayuelos","Responder a correo electronico","AREA DE ATENCION A LA CIUDADANIA","09 Fontibón"]
[1180,2022,"NOVIEMBRE","2022-11-18","17:54:00","CRISTHIAN CAMILO MONTAÑA HERNANDEZ","VIRTUAL","Correo electrónico","notificacionelectronica@movilidadbogota.gov.co","Entidades y Organismos Distritales","Secretaría de Movilidad","Entidades y Organismos Distritales","Notificaciones","Masculino","Hombre ","Sin datos","Sin datos","Sin datos","Sin datos","PETICIONES ENTRE ENTIDADES","Consulta general","Peticiones entre entidades","RADICADO SDM N°202222409877091","Radicar en ORFEO","SGI","10 Engativá"]
[1181,2022,"NOVIEMBRE","2022-11-18","18:16:00","CRISTHIAN CAMILO MONTAÑA HERNANDEZ","VIRTUAL","Correo electrónico","buzoncomunicaciones@sdp.gov.co","Entidades y Organismos Distritales","Secretaría Distrital de Planeación","Entidades y Organismos Distritales","buzon comunicaciones","Femenino","Mujer","Sin datos","Sin datos","Sin datos","Sin datos","PETICIONES ENTRE ENTIDADES","Consulta general","Peticiones entre entidades","2-2022-167326","Radicar en ORFEO","SRI","No Registra"]
[1182,2022,"NOVIEMBRE","2022-11-18","18:41:00","CRISTHIAN CAMILO MONTAÑA HERNANDEZ","VIRTUAL","Correo electrónico","maperez@personeriabogota.gov.co","Entidades y Organismos Distritales","personeria de bogota","Entidades y Organismos Distritales","Buuzón de comunicaciones","Femenino","Mujer","Sin datos","Sin datos","Sin datos","Sin datos","PETICIONES ENTRE ENTIDADES","Consulta general","Peticiones entre entidades","OFICIO RADICADO ORFEO 20224000194722 - INVESTIGACIÓN DISCIPLINARIA EXPEDIENTE 3052570 - 2022.","Radicar en ORFEO","DIRECCIÓN","No Registra"]
[1183,2022,"NOVIEMBRE","2022-11-18","18:43:00","CRISTHIAN CAMILO MONTAÑA HERNANDEZ","VIRTUAL","Correo electrónico","administradorsiga@alcaldiabogota.gov.co","Entidades y Organismos Distritales","Secretaria de Habitat","Entidades y Organismos Distritales","SIGA","Masculino","Hombre ","Sin datos","Sin datos","Sin datos","Sin datos","PETICIONES ENTRE ENTIDADES","Consulta general","Peticiones entre entidades","Comunicación Oficial N° 2-2022-33137","Radicar en ORFEO","SGC","No Registra"]
[1184,2022,"NOVIEMBRE","2022-11-18","20:35:00","CRISTHIAN CAMILO MONTAÑA HERNANDEZ","VIRTUAL","Correo electrónico","jacchicala@hotmail.es","Juntas de Acción Comunal (JAC)","Juntas de Acción Comunal (JAC)","Juntas de Acción Comunal (JAC)","JAC Chicalá","N/A","N/A","Sin datos","Sin datos","Sin datos","Sin datos","ASESORÍA","Asesoría en administración y sostenibilidad del espacio público","Asesoría en temas de espacio público","Carta Dadep","Radicar en ORFEO","SGI","No Registra"]
[1185,2022,"NOVIEMBRE","2022-11-18","21:07:00","CRISTHIAN CAMILO MONTAÑA HERNANDEZ","VIRTUAL","Correo electrónico","casalindatunal@gmail.com","Juntas de Acción Comunal (JAC)","Juntas de Acción Comunal (JAC)","Juntas de Acción Comunal (JAC)","JAC Casa Linda Tunal","N/A","N/A","Sin datos","Sin datos","Sin datos","Sin datos","ASESORÍA","Asesoría en administración y sostenibilidad del espacio público","Asesoría en temas de espacio público","Solicitud información de la Sra. Aida Zoraida Rozo Sabogal","Radicar en ORFEO","SGI","06 Tunjuelito"]
[1186,2022,"NOVIEMBRE","2022-11-18","21:42:00","CRISTHIAN CAMILO MONTAÑA HERNANDEZ","VIRTUAL","Correo electrónico","nrusso@sdp.gov.co","Entidades y Organismos Distritales","Secretaría Distrital de Planeación","Entidades y Organismos Distritales","nruss o","Femenino","Mujer","Sin datos","Sin datos","Sin datos","Sin datos","PETICIONES ENTRE ENTIDADES","Consulta general","Peticiones entre entidades","2-2022-167412","Radicar en ORFEO","SRI","01 Usaquén"]
[1187,2022,"NOVIEMBRE","2022-11-18","07:06:00","CRISTHIAN CAMILO MONTAÑA HERNANDEZ","VIRTUAL","Correo electrónico","cdi.engativa@gobiernobogota.gov.co","Entidades y Organismos Distritales","Secretaría de Gobierno","Entidades y Organismos Distritales","CDI Engativá","Masculino","Hombre ","Sin datos","Sin datos","Sin datos","Sin datos","PETICIONES ENTRE ENTIDADES","Consulta general","Peticiones entre entidades","20226040935941 - Respuesta solicitud de verificación, radicado DADEP 20224000160752 del 15/07/2022","Radicar en ORFEO","SGI","10 Engativá"]
[1188,2022,"NOVIEMBRE","2022-11-18","07:06:00","CRISTHIAN CAMILO MONTAÑA HERNANDEZ","VIRTUAL","Correo electrónico","buzoncomunicaciones@sdp.gov.co","Entidades y Organismos Distritales","Secretaría Distrital de Planeación","Entidades y Organismos Distritales","buzon comunicaciones","Femenino","Mujer","Sin datos","Sin datos","Sin datos","Sin datos","PETICIONES ENTRE ENTIDADES","Consulta general","Peticiones entre entidades","2-2022-167280","Radicar en ORFEO","SRI","08 Kennedy"]
[1189,2022,"NOVIEMBRE","2022-11-18","08:31:00","CRISTHIAN CAMILO MONTAÑA HERNANDEZ","VIRTUAL","Correo electrónico","buzoncomunicaciones@sdp.gov.co","Entidades y Organismos Distritales","Secretaría Distrital de Planeación","Entidades y Organismos Distritales","buzon comunicaciones","Femenino","Mujer","Sin datos","Sin datos","Sin datos","Sin datos","PETICIONES ENTRE ENTIDADES","Consulta general","Peticiones entre entidades","2-2022-167486","Radicar en ORFEO","SRI","No Registra"]
[1190,2022,"NOVIEMBRE","2022-11-18","08:39:00","CRISTHIAN CAMILO MONTAÑA HERNANDEZ","VIRTUAL","Correo electrónico","siga@habitatbogota.gov.co","Entidades y Organismos Distritales","Secretaria de Habitat","Entidades y Organismos Distritales","SIGA","Femenino","Mujer","Sin datos","Sin datos","Sin datos","Sin datos","PETICIONES ENTRE ENTIDADES","Consulta general","Peticiones entre entidades","Comunicación Oficial N° 2-2022-69781","Radicar en ORFEO","SGI","04 San Cristóbal"]
[1191,2022,"NOVIEMBRE","2022-11-18","08:59:00","CRISTHIAN CAMILO MONTAÑA HERNANDEZ","VIRTUAL","Correo electrónico","salidascdi.suba@gobiernobogota.gov.co","Entidades y Organismos Distritales","Secretaría de Gobierno","Entidades y Organismos Distritales","Alcaldía de Suba","Masculino","Hombre ","Sin datos","Sin datos","Sin datos","Sin datos","PETICIONES ENTRE ENTIDADES","Consulta general","Peticiones entre entidades","20226121969441  - Derecho de petición parque 11-087 ciudad jardín norte ","Radicar en ORFEO","SGI","11 Suba"]
[1192,2022,"NOVIEMBRE","2022-11-18","08:59:00","CRISTHIAN CAMILO MONTAÑA HERNANDEZ","VIRTUAL","Correo electrónico","correspondencia.i.dadep247@interdisenos.com.co","Empresas privadas","interdisenos","Empresas Privadas","Correspondencia","Femenino","Mujer","Sin datos","Sin datos","Sin datos","Sin datos","NOTIFICACIONES","Estudio de la viabilidad de las solicitudes de administración de bienes públicos","CAMEP Contrato de administración y mantenimiento","GDADEP-963-22 DADEP Remisión Informe Mensual Interventoria N° 29 V0","Radicar en ORFEO","SGI","No Registra"]
[1193,2022,"NOVIEMBRE","2022-11-18","09:11:00","CRISTHIAN CAMILO MONTAÑA HERNANDEZ","VIRTUAL","Correo electrónico","cdi.chapinero@gobiernobogota.gov.co","Entidades y Organismos Distritales","Secretaría de Gobierno","Entidades y Organismos Distritales","CDI Chapinero","Masculino","Hombre ","Sin datos","Sin datos","Sin datos","Sin datos","PETICIONES ENTRE ENTIDADES","Consulta general","Peticiones entre entidades","20225220760721 - Respuesta radicado 20225210105972","Radicar en ORFEO","SGI","02 Chapinero"]
[1194,2022,"NOVIEMBRE","2022-11-18","09:14:00","CRISTHIAN CAMILO MONTAÑA HERNANDEZ","VIRTUAL","Correo electrónico","buzoncomunicaciones@sdp.gov.co","Entidades y Organismos Distritales","Secretaría Distrital de Planeación","Entidades y Organismos Distritales","buzon comunicaciones","Femenino","Mujer","Sin datos","Sin datos","Sin datos","Sin datos","PETICIONES ENTRE ENTIDADES","Consulta general","Peticiones entre entidades","2-2022-167531","Radicar en ORFEO","SRI","No Registra"]
[1195,2022,"NOVIEMBRE","2022-11-18","09:45:00","CRISTHIAN CAMILO MONTAÑA HERNANDEZ","VIRTUAL","Correo electrónico","correspondencia@scj.gov.co","Entidades y Organismos Distritales","Secretaría Distrital de Seguridad, Convivencia y Justicia","Entidades y Organismos Distritales","Correspondencia","Femenino","Mujer","Sin datos","Sin datos","Sin datos","Sin datos","PETICIONES ENTRE ENTIDADES","Consulta general","Peticiones entre entidades","Envío de Radicado 20222200864132","Radicar en ORFEO","SGI","No Registra"]
[1196,2022,"NOVIEMBRE","2022-11-18","09:52:00","CRISTHIAN CAMILO MONTAÑA HERNANDEZ","VIRTUAL","Correo electrónico","notificaciones_catastro@catastrobogota.gov.co","Entidades y Organismos Distritales","Catastro de Bogotá","Entidades y Organismos Distritales","Notificaciones","Femenino","Mujer","Sin datos","Sin datos","Sin datos","Sin datos","PETICIONES ENTRE ENTIDADES","Consulta general","Peticiones entre entidades","Notificación del tramite 2021 - 919562 ","Radicar en ORFEO","SRI","No Registra"]
[1197,2022,"NOVIEMBRE","2022-11-18","10:09:00","CRISTHIAN CAMILO MONTAÑA HERNANDEZ","VIRTUAL","Correo electrónico","ruthrodf@etb.com.co","Entidades y Organismos Distritales","Empresa de Telefonos de Bogotá","Entidades y Organismos Distritales","Funcionario","Femenino","Mujer","Sin datos","Sin datos","Sin datos","Sin datos","PETICIONES ENTRE ENTIDADES","Consulta general","Peticiones entre entidades","CIRCULARIZACIÓN OPERACIONES RECIPROCAS SEPTIEMBRE DE 2022 ETB 234111001 NIT 899.999.115-8Otamayo@Gobiernobogota.Gov.Co","Radicar en ORFEO","SGI","No Registra"]
[1198,2022,"NOVIEMBRE","2022-11-18","10:17:00","CRISTHIAN CAMILO MONTAÑA HERNANDEZ","VIRTUAL","Correo electrónico","lvelez@educacionbogota.gov.co","Entidades y Organismos Distritales","Secretaría de Educación","Entidades y Organismos Distritales","Notificaciones","Masculino","Hombre ","Sin datos","Sin datos","Sin datos","Sin datos","PETICIONES ENTRE ENTIDADES","Consulta general","Peticiones entre entidades","S-2022-220532 - Reiteración solicitud","Radicar en ORFEO","SRI","11 Suba"]
[1199,2022,"NOVIEMBRE","2022-11-18","10:28:00","CRISTHIAN CAMILO MONTAÑA HERNANDEZ","VIRTUAL","Correo electrónico","correspondencia.enviada1@idu.gov.co","Entidades y Organismos Distritales","Instituto de Desarrollo Urbano","Entidades y Organismos Distritales","correspondencia","Masculino","Hombre ","Sin datos","Sin datos","Sin datos","Sin datos","PETICIONES ENTRE ENTIDADES","Consulta general","Peticiones entre entidades","RADICADO IDU N° 20223751800731 DEL 17 DE NOVIEMBRE 2022","Radicar en ORFEO","SRI","11 Suba"]
[1200,2022,"NOVIEMBRE","2022-11-18","10:40:00","CRISTHIAN CAMILO MONTAÑA HERNANDEZ","VIRTUAL","Correo electrónico","cdi.chapinero@gobiernobogota.gov.co","Entidades y Organismos Distritales","Secretaría de Gobierno","Entidades y Organismos Distritales","CDI Chapinero","Masculino","Hombre ","Sin datos","Sin datos","Sin datos","Sin datos","PETICIONES ENTRE ENTIDADES","Consulta general","Peticiones entre entidades","20225230761131 - Respuesta radicado 20225210117172","Radicar en ORFEO","SGI","02 Chapinero"]
[1201,2022,"NOVIEMBRE","2022-11-18","10:41:00","CRISTHIAN CAMILO MONTAÑA HERNANDEZ","VIRTUAL","Correo electrónico","correspondencia.i.dadep247@interdisenos.com.co","Empresas privadas","interdisenos","Empresas Privadas","Correspondencia","Femenino","Mujer","Sin datos","Sin datos","Sin datos","Sin datos","NOTIFICACIONES","Estudio de la viabilidad de las solicitudes de administración de bienes públicos","CAMEP Contrato de administración y mantenimiento","GDADEP-961-22- Traslado - Radicado DADEP N° 20223080082881 - Observaciones Manuales","Radicar en ORFEO","SGI","No Registra"]
[1202,2022,"NOVIEMBRE","2022-11-18","10:42:00","CRISTHIAN CAMILO MONTAÑA HERNANDEZ","VIRTUAL","Correo electrónico","cdi.chapinero@gobiernobogota.gov.co","Entidades y Organismos Distritales","Secretaría de Gobierno","Entidades y Organismos Distritales","CDI Chapinero","Masculino","Hombre ","Sin datos","Sin datos","Sin datos","Sin datos","PETICIONES ENTRE ENTIDADES","Consulta general","Peticiones entre entidades","20225230787521 - Respuesta radicado 20223030150311","Radicar en ORFEO","SGI","02 Chapinero"]
[1203,2022,"NOVIEMBRE","2022-11-18","10:45:00","CRISTHIAN CAMILO MONTAÑA HERNANDEZ","VIRTUAL","Correo electrónico","jadmin06bta@notificacionesrj.gov.co","Entidades y Organismos Nacionales","Ministerio de Justicia","Entidades y Orgamismos Nacionales","Notificaciones","N/A","N/A","Sin datos","Sin datos","Sin datos","Sin datos","NOTIFICACIONES","Consulta general","Asuntos Jurídicos","Notificacion_Vinuclacion_Tutela_ 006-2022-00552-00","Radicar en ORFEO","OJ","No Registra"]
[1204,2022,"NOVIEMBRE","2022-11-18","10:45:00","CRISTHIAN CAMILO MONTAÑA HERNANDEZ","VIRTUAL","Correo electrónico","buzoncomunicaciones@sdp.gov.co","Entidades y Organismos Distritales","Secretaría Distrital de Planeación","Entidades y Organismos Distritales","buzon comunicaciones","Femenino","Mujer","Sin datos","Sin datos","Sin datos","Sin datos","PETICIONES ENTRE ENTIDADES","Consulta general","Peticiones entre entidades","2-2022-167433","Radicar en ORFEO","SRI","No Registra"]
[1205,2022,"NOVIEMBRE","2022-11-18","10:47:00","CRISTHIAN CAMILO MONTAÑA HERNANDEZ","VIRTUAL","Correo electrónico","mesasgestionterritorial@gobiernobogota.gov.co","Entidades y Organismos Distritales","Secretaría de Gobierno","Entidades y Organismos Distritales","mesas gestion territorial","Masculino","Hombre ","Sin datos","Sin datos","Sin datos","Sin datos","PETICIONES ENTRE ENTIDADES","Consulta general","Peticiones entre entidades","CONVOCATORIA Mesa de Gestión Territorial, Barrio Villa Alsacia - HC Gonzalez RADICADO 20224213694952","Radicar en ORFEO","DIRECCIÓN","No Registra"]
[1206,2022,"NOVIEMBRE","2022-11-18","10:47:00","CRISTHIAN CAMILO MONTAÑA HERNANDEZ","VIRTUAL","Correo electrónico","correspondencia.i.dadep247@interdisenos.com.co","Empresas privadas","interdisenos","Empresas Privadas","Correspondencia","Femenino","Mujer","Sin datos","Sin datos","Sin datos","Sin datos","NOTIFICACIONES","Estudio de la viabilidad de las solicitudes de administración de bienes públicos","CAMEP Contrato de administración y mantenimiento","GDADEP-964-22 EUCOL Cartilla Cultura Ciudadana","Radicar en ORFEO","SGI","No Registra"]
[1207,2022,"NOVIEMBRE","2022-11-18","11:05:00","CRISTHIAN CAMILO MONTAÑA HERNANDEZ","VIRTUAL","Correo electrónico","correspondencia.i.dadep247@interdisenos.com.co","Empresas privadas","interdisenos","Empresas Privadas","Correspondencia","Femenino","Mujer","Sin datos","Sin datos","Sin datos","Sin datos","NOTIFICACIONES","Estudio de la viabilidad de las solicitudes de administración de bienes públicos","CAMEP Contrato de administración y mantenimiento","GDADEP-965-22 EUCOL Traslado radicado 20223080175901-Intervención paradero Museo Nacional","Radicar en ORFEO","SGI","No Registra"]
[1208,2022,"NOVIEMBRE","2022-11-18","11:08:00","CRISTHIAN CAMILO MONTAÑA HERNANDEZ","VIRTUAL","Correo electrónico","correspondencia.i.dadep247@interdisenos.com.co","Empresas privadas","interdisenos","Empresas Privadas","Correspondencia","Femenino","Mujer","Sin datos","Sin datos","Sin datos","Sin datos","NOTIFICACIONES","Estudio de la viabilidad de las solicitudes de administración de bienes públicos","CAMEP Contrato de administración y mantenimiento","GDADEP-966-22 DADEP Rta a solicitud de espacio para ensayos previos al evento Lanzamiento","Radicar en ORFEO","SGI","No Registra"]
[1209,2022,"NOVIEMBRE","2022-11-18","11:14:00","CRISTHIAN CAMILO MONTAÑA HERNANDEZ","VIRTUAL","Correo electrónico","correspondencia@ambientebogota.gov.co","Entidades y Organismos Distritales","Secretaría de Ambiente","Entidades y Organismos Distritales","Correspondencia","Femenino","Mujer","Sin datos","Sin datos","Sin datos","Sin datos","PETICIONES ENTRE ENTIDADES","Consulta general","Peticiones entre entidades","Envio documento Secretaria distrital de ambiente Radicado No. 2022EE299035","Radicar en ORFEO","SGC","No Registra"]
[1210,2022,"NOVIEMBRE","2022-11-18","11:15:00","CRISTHIAN CAMILO MONTAÑA HERNANDEZ","VIRTUAL","Correo electrónico","correspondencia@scj.gov.co","Entidades y Organismos Distritales","Secretaría Distrital de Seguridad, Convivencia y Justicia","Entidades y Organismos Distritales","Correspondencia","Femenino","Mujer","Sin datos","Sin datos","Sin datos","Sin datos","PETICIONES ENTRE ENTIDADES","Consulta general","Peticiones entre entidades","Envío de Radicado 20222200864342","Radicar en ORFEO","SGI","No Registra"]
[1211,2022,"NOVIEMBRE","2022-11-18","11:28:00","CRISTHIAN CAMILO MONTAÑA HERNANDEZ","VIRTUAL","Correo electrónico","asozonarosa@gmail.com","Empresas privadas","Asociación Zona Rosa ","Empresas Privadas","Asociación Zona Rosa ","N/A","N/A","Sin datos","Sin datos","Sin datos","Sin datos","NOTIFICACIONES","Estudio de la viabilidad de las solicitudes de administración de bienes públicos","CAMEP Contrato de administración y mantenimiento","DERECHO DE PETICION RETIRO DE BICICLETAS","Radicar en ORFEO","SGI","02 Chapinero"]
[1212,2022,"NOVIEMBRE","2022-11-18","11:29:00","CRISTHIAN CAMILO MONTAÑA HERNANDEZ","VIRTUAL","Correo electrónico","correspondencia.enviada1@idu.gov.co","Entidades y Organismos Distritales","Instituto de Desarrollo Urbano","Entidades y Organismos Distritales","correspondencia","Masculino","Hombre ","Sin datos","Sin datos","Sin datos","Sin datos","PETICIONES ENTRE ENTIDADES","Consulta general","Peticiones entre entidades","RADICADO IDU N° 20223751800901 DEL 17 DE NOVIEMBRE 2022","Radicar en ORFEO","SRI","No Registra"]
[1213,2022,"NOVIEMBRE","2022-11-18","11:35:00","CRISTHIAN CAMILO MONTAÑA HERNANDEZ","VIRTUAL","Correo electrónico","correspondenciacrc@crcom.gov.co","Entidades y Organismos Nacionales","Comisión de Regulación de Comunicaciones - CRC","Entidades y Orgamismos Nacionales","Correspondencia","Femenino","Mujer","Sin datos","Sin datos","Sin datos","Sin datos","PETICIONES ENTRE ENTIDADES","Consulta general","Peticiones entre entidades","Cumplimiento directiva presidencial No. 8 – Solicitud verificación disponibilidad inmueble para depósito.","Radicar en ORFEO","DIRECCIÓN","No Registra"]
[1214,2022,"NOVIEMBRE","2022-11-18","11:35:00","CRISTHIAN CAMILO MONTAÑA HERNANDEZ","VIRTUAL","Correo electrónico","notificacionelectronica@movilidadbogota.gov.co","Entidades y Organismos Distritales","Secretaría de Movilidad","Entidades y Organismos Distritales","Notificaciones","Femenino","Mujer","Sin datos","Sin datos","Sin datos","Sin datos","PETICIONES ENTRE ENTIDADES","Consulta general","Peticiones entre entidades","RADICADO SDM N° 202252009892611","Responder a correo electronico","AREA DE ATENCION A LA CIUDADANIA","No Registra"]
[1215,2022,"NOVIEMBRE","2022-11-18","11:41:00","CRISTHIAN CAMILO MONTAÑA HERNANDEZ","VIRTUAL","Correo electrónico","notificaciones_gd@defensoria.gov.co","Entidades y Organismos Nacionales","Defensoría del Pueblo","Entidades y Orgamismos Nacionales","Notificaciones","Femenino","Mujer","Sin datos","Sin datos","Sin datos","Sin datos","PETICIONES ENTRE ENTIDADES","Consulta general","Peticiones entre entidades","Remision de comunicacion numero 20220060054600811","Responder a correo electronico","AREA DE ATENCION A LA CIUDADANIA","No Registra"]
[1216,2022,"NOVIEMBRE","2022-11-18","11:44:00","CRISTHIAN CAMILO MONTAÑA HERNANDEZ","VIRTUAL","Correo electrónico","comisiondegobierno@concejobogota.gov.co","Entidades y Organismos Distritales","Concejo de Bogotá","Entidades y Organismos Distritales","comision de gobierno","Masculino","Hombre ","Sin datos","Sin datos","Sin datos","Sin datos","PETICIONES ENTRE ENTIDADES","Consulta general","Peticiones entre entidades","Citación Proposición No. 646 de 2022","Radicar en ORFEO","DIRECCIÓN","No Registra"]
[1217,2022,"NOVIEMBRE","2022-11-18","11:45:00","CRISTHIAN CAMILO MONTAÑA HERNANDEZ","VIRTUAL","Correo electrónico","correspondencia.enviada1@idu.gov.co","Entidades y Organismos Distritales","Instituto de Desarrollo Urbano","Entidades y Organismos Distritales","correspondencia","Masculino","Hombre ","Sin datos","Sin datos","Sin datos","Sin datos","PETICIONES ENTRE ENTIDADES","Consulta general","Peticiones entre entidades","RADICADO IDU N° 20223751798241 DEL 17 DE NOVIEMBRE 2022","Radicar en ORFEO","DIRECCIÓN","No Registra"]
[1218,2022,"NOVIEMBRE","2022-11-18","11:46:00","CRISTHIAN CAMILO MONTAÑA HERNANDEZ","VIRTUAL","Correo electrónico","martha.bertel@uaesp.gov.co","Entidades y Organismos Distritales","Unidad Administrativa Especial de Servicios Públicos","Entidades y Organismos Distritales","Respuestas RBL","Femenino","Mujer","Sin datos","Sin datos","Sin datos","Sin datos","PETICIONES ENTRE ENTIDADES","Consulta general","Peticiones entre entidades","20224000265981 Respuesta traslado de derecho de petición - Solicitud de información y/o expedición de certificados de propiedad osarios número 58 y 8 ubicados en el Sector 4 Manzana B Lote 3 Cementerio Distrital Norte","Radicar en ORFEO","SRI","No Registra"]
[1219,2022,"NOVIEMBRE","2022-11-18","11:46:00","CRISTHIAN CAMILO MONTAÑA HERNANDEZ","VIRTUAL","Correo electrónico","oscar.cardenas@uaesp.gov.co","Entidades y Organismos Distritales","Unidad Administrativa Especial de Servicios Públicos","Entidades y Organismos Distritales","Funcionario","Femenino","Mujer","Sin datos","Sin datos","Sin datos","Sin datos","PETICIONES ENTRE ENTIDADES","Consulta general","Peticiones entre entidades","Oficio UAESP 20224000 261471-Infraestructura servicio de alumbrado publico Parque Ciudadela Cafam II codigo 11-1080 - Suba.","Radicar en ORFEO","SRI","11 Suba"]
[1220,2022,"NOVIEMBRE","2022-11-18","11:48:00","CRISTHIAN CAMILO MONTAÑA HERNANDEZ","VIRTUAL","Correo electrónico","correspondencia.enviada1@idu.gov.co","Entidades y Organismos Distritales","Instituto de Desarrollo Urbano","Entidades y Organismos Distritales","correspondencia","Masculino","Hombre ","Sin datos","Sin datos","Sin datos","Sin datos","PETICIONES ENTRE ENTIDADES","Consulta general","Peticiones entre entidades","RADICADO IDU N° 20223751800811 DEL 17 DE NOVIEMBRE 2022","Radicar en ORFEO","SRI","07 Bosa"]
[1221,2022,"NOVIEMBRE","2022-11-18","11:51:00","CRISTHIAN CAMILO MONTAÑA HERNANDEZ","VIRTUAL","Correo electrónico","comunitarioliderazgo@gmail.com","Organizaciones Sociales","Comunidad de Tibabita","Organizaciones Sociales","Comunitario liderazgo","N/A","N/A","Sin datos","Sin datos","Sin datos","Sin datos","ASESORÍA","Asesoría en administración y sostenibilidad del espacio público","Asesoría en temas de espacio público","Radicado DADEP No.20223060180291","Radicar en ORFEO","SGI","01 Usaquén"]
[1222,2022,"NOVIEMBRE","2022-11-18","11:51:00","CRISTHIAN CAMILO MONTAÑA HERNANDEZ","VIRTUAL","Correo electrónico","rfisicos@udistrital.edu.co","Entidades y Organismos Distritales","División de Recursos Físicos Universidad Distrital ","Entidades y Organismos Distritales",0,"N/A","N/A","Sin datos","Sin datos","Sin datos","Sin datos","PETICIONES ENTRE ENTIDADES","Consulta general","Peticiones entre entidades","Inicio trámite PQR, presunta deuda Limpieza Metropolitana S.A. E.S.P.","Radicar en ORFEO","SGI","No Registra"]
[1223,2022,"NOVIEMBRE","2022-11-18","13:03:00","CRISTHIAN CAMILO MONTAÑA HERNANDEZ","VIRTUAL","Correo electrónico","envionotificaciones@ipes.gov.co","Entidades y Organismos Distritales","Instituto para la Economía Social ","Entidades y Organismos Distritales","Notificaciones","Femenino","Mujer","Sin datos","Sin datos","Sin datos","Sin datos","PETICIONES ENTRE ENTIDADES","Consulta general","Peticiones entre entidades","00110-816-028793 - Remisión por competencia con radicado IPES No. 00110-812-021321 del 21/10/2022","Radicar en ORFEO","DIRECCIÓN","No Registra"]
[1224,2022,"NOVIEMBRE","2022-11-18","13:17:00","CRISTHIAN CAMILO MONTAÑA HERNANDEZ","VIRTUAL","Correo electrónico","carolina.gonzalez@gobiernobogota.gov.co","Entidades y Organismos Distritales","Secretaría de Gobierno","Entidades y Organismos Distritales","Funcionario","Femenino","Mujer","Sin datos","Sin datos","Sin datos","Sin datos","PETICIONES ENTRE ENTIDADES","Consulta general","Peticiones entre entidades","MESA DE TRABAJO CANDELARIA - VENDEDORES INFORMALES - USO ESPACIO PUBLICO","Radicar en ORFEO","SGI","17 La Candelaria"]
[1225,2022,"NOVIEMBRE","2022-11-18","13:27:00","CRISTHIAN CAMILO MONTAÑA HERNANDEZ","VIRTUAL","Correo electrónico","gmarulanda@contraloriabogota.gov.co","Entidades y Organismos Distritales","Contraloría de Bogotá","Entidades y Organismos Distritales","Funcionario","Femenino","Mujer","Sin datos","Sin datos","Sin datos","Sin datos","PETICIONES ENTRE ENTIDADES","Consulta general","Peticiones entre entidades","Requerimiento 9 Solicitud Control Fiscal Interno - Visita Control Fiscal Código 505 – PAD 2022.","Radicar en ORFEO","DIRECCIÓN","No Registra"]
[1226,2022,"NOVIEMBRE","2022-11-18","13:45:00","CRISTHIAN CAMILO MONTAÑA HERNANDEZ","VIRTUAL","Correo electrónico","tzuleta@movilidadbogota.gov.co","Entidades y Organismos Distritales","Secretaría de Movilidad","Entidades y Organismos Distritales","Funcionario","Masculino","Hombre ","Sin datos","Sin datos","Sin datos","Sin datos","PETICIONES ENTRE ENTIDADES","Consulta general","Peticiones entre entidades","202230009744521 - Respuesta al Rad: 202261203310262 Jose Jaime Uscategui","Responder a correo electronico","AREA DE ATENCION A LA CIUDADANIA","No Registra"]
[1227,2022,"NOVIEMBRE","2022-11-18","14:10:00","CRISTHIAN CAMILO MONTAÑA HERNANDEZ","VIRTUAL","Correo electrónico","ragonzalez@concejobogota.gov.co","Entidades y Organismos Distritales","Concejo de Bogotá","Entidades y Organismos Distritales","Funcionario","Masculino","Hombre ","Sin datos","Sin datos","Sin datos","Sin datos","PETICIONES ENTRE ENTIDADES","Consulta general","Peticiones entre entidades","Mesa de Seguridad Barrio Vista Bella Localidad de Suba - DADEP","Radicar en ORFEO","DIRECCIÓN","No Registra"]
[1228,2022,"NOVIEMBRE","2022-11-18","14:10:00","CRISTHIAN CAMILO MONTAÑA HERNANDEZ","VIRTUAL","Correo electrónico","correspondencia.i.dadep247@interdisenos.com.co","Empresas privadas","interdisenos","Empresas Privadas","Correspondencia","Femenino","Mujer","Sin datos","Sin datos","Sin datos","Sin datos","NOTIFICACIONES","Estudio de la viabilidad de las solicitudes de administración de bienes públicos","CAMEP Contrato de administración y mantenimiento","GDADEP-968-22 DADEP Recomendación Aprobación Presupuesto Evento Lanzamiento Prototipos","Radicar en ORFEO","SGI","No Registra"]
[1229,2022,"NOVIEMBRE","2022-11-18","14:25:00","CRISTHIAN CAMILO MONTAÑA HERNANDEZ","VIRTUAL","Correo electrónico","notificaciones_catastro@catastrobogota.gov.co","Entidades y Organismos Distritales","Catastro de Bogotá","Entidades y Organismos Distritales","Notificaciones","Femenino","Mujer","Sin datos","Sin datos","Sin datos","Sin datos","PETICIONES ENTRE ENTIDADES","Consulta general","Peticiones entre entidades","UAECD 2022 EE 83339 (uaecd 2022 er 36787)","Radicar en ORFEO","SRI","No Registra"]
[1230,2022,"NOVIEMBRE","2022-11-18","14:32:00","CRISTHIAN CAMILO MONTAÑA HERNANDEZ","VIRTUAL","Correo electrónico","correspondencia.i.dadep247@interdisenos.com.co","Empresas privadas","interdisenos","Empresas Privadas","Correspondencia","Femenino","Mujer","Sin datos","Sin datos","Sin datos","Sin datos","NOTIFICACIONES","Estudio de la viabilidad de las solicitudes de administración de bienes públicos","CAMEP Contrato de administración y mantenimiento","GDADEP-962-22 DADEP - Rta oficio N° 20224000273292 - Solicitud de información Contrato 110-00129-186-0-2020 (1)","Radicar en ORFEO","SGI","No Registra"]
[1231,2022,"NOVIEMBRE","2022-11-18","14:38:00","CRISTHIAN CAMILO MONTAÑA HERNANDEZ","VIRTUAL","Correo electrónico","notificaciones_catastro@catastrobogota.gov.co","Entidades y Organismos Distritales","Catastro de Bogotá","Entidades y Organismos Distritales","Notificaciones","Femenino","Mujer","Sin datos","Sin datos","Sin datos","Sin datos","PETICIONES ENTRE ENTIDADES","Consulta general","Peticiones entre entidades","UAECD 2022 EE 83619 (uaecd 2022 er 40847)","Radicar en ORFEO","SRI","No Registra"]
[1232,2022,"NOVIEMBRE","2022-11-18","14:43:00","CRISTHIAN CAMILO MONTAÑA HERNANDEZ","VIRTUAL","Correo electrónico","buzoncomunicaciones@sdp.gov.co","Entidades y Organismos Distritales","Secretaría Distrital de Planeación","Entidades y Organismos Distritales","buzon comunicaciones","Femenino","Mujer","Sin datos","Sin datos","Sin datos","Sin datos","PETICIONES ENTRE ENTIDADES","Consulta general","Peticiones entre entidades","2-2022-167854","Radicar en ORFEO","DIRECCIÓN","No Registra"]
[1233,2022,"NOVIEMBRE","2022-11-18","14:46:00","CRISTHIAN CAMILO MONTAÑA HERNANDEZ","VIRTUAL","Correo electrónico","daniela.santos@scrd.gov.co","Entidades y Organismos Distritales","Secretaría de Cultura, Recreación y Deporte","Entidades y Organismos Distritales","Funcionario","Masculino","Hombre ","Sin datos","Sin datos","Sin datos","Sin datos","PETICIONES ENTRE ENTIDADES","Consulta general","Peticiones entre entidades","20223100131561 - Invitación Comité Distrital del Espacio Público - DADEP","Radicar en ORFEO","SGI","No Registra"]
[1234,2022,"NOVIEMBRE","2022-11-18","14:53:00","CRISTHIAN CAMILO MONTAÑA HERNANDEZ","VIRTUAL","Correo electrónico","correspondencia.i.dadep378@interdisenos.com.co","Empresas privadas","interdisenos","Empresas Privadas","Correspondencia","Femenino","Mujer","Sin datos","Sin datos","Sin datos","Sin datos","NOTIFICACIONES","Estudio de la viabilidad de las solicitudes de administración de bienes públicos","CAMEP Contrato de administración y mantenimiento","GDADEP06-0558-22 HUB Reiteracion PC VALLA (768)","Radicar en ORFEO","SGI","No Registra"]
[1235,2022,"NOVIEMBRE","2022-11-18","14:56:00","CRISTHIAN CAMILO MONTAÑA HERNANDEZ","VIRTUAL","Correo electrónico","lforerot@shd.gov.co","Entidades y Organismos Distritales","Secretaría de Hacienda Distrital","Entidades y Organismos Distritales","Funcionario","Femenino","Mujer","Sin datos","Sin datos","Sin datos","Sin datos","PETICIONES ENTRE ENTIDADES","Consulta general","Peticiones entre entidades","ENVIAR 2022EE544519O1 - DEPARTAMENTO ADMINISTRATIVO DE LA DEFENSORÍA DEL ESPACIO PÚBLICO – DADEP","Radicar en ORFEO","SRI","No Registra"]
[1236,2022,"NOVIEMBRE","2022-11-21","15:05:00","CRISTHIAN CAMILO MONTAÑA HERNANDEZ","VIRTUAL","Correo electrónico","correspondencia.i.dadep378@interdisenos.com.co","Empresas privadas","interdisenos","Empresas Privadas","Correspondencia","Femenino","Mujer","Sin datos","Sin datos","Sin datos","Sin datos","NOTIFICACIONES","Estudio de la viabilidad de las solicitudes de administración de bienes públicos","CAMEP Contrato de administración y mantenimiento","GDADEP06-0560-22 HUB Reintego Agot Sep 2022 SBAS finan","Radicar en ORFEO","SGI","No Registra"]
[1237,2022,"NOVIEMBRE","2022-11-21","15:16:00","CRISTHIAN CAMILO MONTAÑA HERNANDEZ","VIRTUAL","Correo electrónico","notificaciones_catastro@catastrobogota.gov.co","Entidades y Organismos Distritales","Catastro de Bogotá","Entidades y Organismos Distritales","Notificaciones","Femenino","Mujer","Sin datos","Sin datos","Sin datos","Sin datos","PETICIONES ENTRE ENTIDADES","Consulta general","Peticiones entre entidades","UAECD 2022 EE 83662 (uaecd 2022 er 40951)","Radicar en ORFEO","SRI","No Registra"]
[1238,2022,"NOVIEMBRE","2022-11-21","15:35:00","CRISTHIAN CAMILO MONTAÑA HERNANDEZ","VIRTUAL","Correo electrónico","ejecutivoempresarial11@proexequial.com","Empresas privadas","Proexequial - Líderes en Servicios Funerarios","Empresas Privadas","Ciudadanía","Femenino","Mujer","Sin datos","Sin datos","Sin datos","Sin datos","NOTIFICACIONES","Consulta general","Gestión de comunicaciones, eventos e invitaciones","Prefactura Secretaría de Hacienda Distrital - Suc DADEP","Radicar en ORFEO","SGC","No Registra"]
[1239,2022,"NOVIEMBRE","2022-11-21","15:45:00","CRISTHIAN CAMILO MONTAÑA HERNANDEZ","VIRTUAL","Correo electrónico","correspondencia.i.dadep378@interdisenos.com.co","Empresas privadas","interdisenos","Empresas Privadas","Correspondencia","Femenino","Mujer","Sin datos","Sin datos","Sin datos","Sin datos","NOTIFICACIONES","Estudio de la viabilidad de las solicitudes de administración de bienes públicos","CAMEP Contrato de administración y mantenimiento","GDADEP06-0555-22 RTA A 20223080178201 – ATENCIÓN OBSERVACIONES INFORME MENSUAL 9 V1 - REMISIÓN INFORME MENSUAL 9 V2.","Radicar en ORFEO","SGI","No Registra"]
[1240,2022,"NOVIEMBRE","2022-11-21","15:58:00","CRISTHIAN CAMILO MONTAÑA HERNANDEZ","VIRTUAL","Correo electrónico","correspondencia@scj.gov.co","Entidades y Organismos Distritales","Secretaría Distrital de Seguridad, Convivencia y Justicia","Entidades y Organismos Distritales","Correspondencia","Femenino","Mujer","Sin datos","Sin datos","Sin datos","Sin datos","PETICIONES ENTRE ENTIDADES","Consulta general","Peticiones entre entidades","Envío de Radicado 20222200865292","Radicar en ORFEO","SGI","No Registra"]
[1241,2022,"NOVIEMBRE","2022-11-21","16:08:00","CRISTHIAN CAMILO MONTAÑA HERNANDEZ","VIRTUAL","Correo electrónico","cadel15@educacionbogota.edu.co","Entidades y Organismos Distritales","Dirección Local de Educación","Entidades y Organismos Distritales","Dile Antonio Nariño","N/A","N/A","Sin datos","Sin datos","Sin datos","Sin datos","PETICIONES ENTRE ENTIDADES","Consulta general","Peticiones entre entidades","Invitación Presencial Mesa Local Entorno Escolares de la Localidad Antonio Nariño.","Radicar en ORFEO","SGI","15 Antonio Nariño"]
[1242,2022,"NOVIEMBRE","2022-11-21","16:22:00","CRISTHIAN CAMILO MONTAÑA HERNANDEZ","VIRTUAL","Correo electrónico","administradorsiga@alcaldiabogota.gov.co","Entidades y Organismos Distritales","SIGA","Entidades y Organismos Distritales","SIGA","Femenino","Mujer","Sin datos","Sin datos","Sin datos","Sin datos","PETICIONES ENTRE ENTIDADES","Consulta general","Peticiones entre entidades","Comunicación Oficial N° 2-2022-33248","Radicar en ORFEO","DIRECCIÓN","No Registra"]
[1243,2022,"NOVIEMBRE","2022-11-21","16:22:00","CRISTHIAN CAMILO MONTAÑA HERNANDEZ","VIRTUAL","Correo electrónico","Externa_Enviada_Virtual@shd.gov.co","Entidades y Organismos Distritales","Secretaría de Hacienda Distrital","Entidades y Organismos Distritales","Correspondencia","Femenino","Mujer","Sin datos","Sin datos","Sin datos","Sin datos","PETICIONES ENTRE ENTIDADES","Consulta general","Peticiones entre entidades","(R2022EE544519O1 ) 2022EE544519O1  LA","Responder a correo electronico","AREA DE ATENCION A LA CIUDADANIA","No Registra"]
[1244,2022,"NOVIEMBRE","2022-11-21","17:13:00","CRISTHIAN CAMILO MONTAÑA HERNANDEZ","VIRTUAL","Correo electrónico","alcalde.bosa@gobiernobogota.gov.co","Entidades y Organismos Distritales","Secretaría de Gobierno","Entidades y Organismos Distritales","Alcandía de Bosa","Femenino","Mujer","Sin datos","Sin datos","Sin datos","Sin datos","PETICIONES ENTRE ENTIDADES","Consulta general","Peticiones entre entidades","Convocatoria Junta Zonal UPZ 85 Bosa Central","Radicar en ORFEO","SGI","07 Bosa"]
[1245,2022,"NOVIEMBRE","2022-11-21","17:17:00","CRISTHIAN CAMILO MONTAÑA HERNANDEZ","VIRTUAL","Correo electrónico","metaagroeco@gmail.com","Empresas privadas","Meta Agroecologica","Empresas Privadas","Ciudadanía","N/A","N/A","Sin datos","Sin datos","Sin datos","Sin datos","ASESORÍA","Estudio de la viabilidad de las solicitudes de administración de bienes públicos","CAMEP Contrato de administración y mantenimiento","PROPUESTA DE ADMINISTRACIÓN LOCAL","Radicar en ORFEO","SGI","No Registra"]
[1246,2022,"NOVIEMBRE","2022-11-21","17:21:00","CRISTHIAN CAMILO MONTAÑA HERNANDEZ","VIRTUAL","Correo electrónico","pgamboa@contraloriabogota.gov.co","Entidades y Organismos Distritales","Contraloría de Bogotá","Entidades y Organismos Distritales","Funcionario","Masculino","Hombre ","Sin datos","Sin datos","Sin datos","Sin datos","PETICIONES ENTRE ENTIDADES","Consulta general","Peticiones entre entidades","2-2022-24713 - Convocatoria Socialización Circular Externa 004/22","Radicar en ORFEO","DIRECCIÓN","No Registra"]
[1247,2022,"NOVIEMBRE","2022-11-21","17:25:00","CRISTHIAN CAMILO MONTAÑA HERNANDEZ","VIRTUAL","Correo electrónico","javier.mendez@gobiernobogota.gov.co","Entidades y Organismos Distritales","Secretaría de Gobierno","Entidades y Organismos Distritales","Funcionario","Masculino","Hombre ","Sin datos","Sin datos","Sin datos","Sin datos","PETICIONES ENTRE ENTIDADES","Consulta general","Peticiones entre entidades","20225530811421 - SOLICITUD CERTIFICADO","Radicar en ORFEO","SRI","05 Usme"]
[1248,2022,"NOVIEMBRE","2022-11-21","17:26:00","CRISTHIAN CAMILO MONTAÑA HERNANDEZ","VIRTUAL","Correo electrónico","javier.mendez@gobiernobogota.gov.co","Entidades y Organismos Distritales","Secretaría de Gobierno","Entidades y Organismos Distritales","Funcionario","Masculino","Hombre ","Sin datos","Sin datos","Sin datos","Sin datos","PETICIONES ENTRE ENTIDADES","Consulta general","Peticiones entre entidades","20225540811201 - SOLICITUD RUPI","Radicar en ORFEO","SRI","05 Usme"]
[1249,2022,"NOVIEMBRE","2022-11-21","17:26:00","CRISTHIAN CAMILO MONTAÑA HERNANDEZ","VIRTUAL","Correo electrónico","notificacionescec@domina.com.co","Entidades y Organismos Distritales","Domina Entrega Total S.A.S","Entidades y Organismos Distritales","Ciudadanía","Femenino","Mujer","Sin datos","Sin datos","Sin datos","Sin datos","PETICIONES ENTRE ENTIDADES","Consulta general","Peticiones entre entidades","Radicado Instituto de Patrimonio 20223010060711","Radicar en ORFEO","SRI","19 Ciudad Bolívar"]
[1250,2022,"NOVIEMBRE","2022-11-21","17:26:00","CRISTHIAN CAMILO MONTAÑA HERNANDEZ","VIRTUAL","Correo electrónico","javier.mendez@gobiernobogota.gov.co","Entidades y Organismos Distritales","Secretaría de Gobierno","Entidades y Organismos Distritales","Ciudadanía","Masculino","Hombre ","Sin datos","Sin datos","Sin datos","Sin datos","PETICIONES ENTRE ENTIDADES","Consulta general","Peticiones entre entidades","20225540812061 - EXPEDIENTE 2021553490106419E","Radicar en ORFEO","SRI","05 Usme"]
[1251,2022,"NOVIEMBRE","2022-11-21","17:31:00","CRISTHIAN CAMILO MONTAÑA HERNANDEZ","VIRTUAL","Correo electrónico","mofajardo@alianza.com.co","Empresas privadas","Alianza Fiduciaria","Empresas Privadas","Ciudadanía","Femenino","Mujer","Sin datos","Sin datos","Sin datos","Sin datos","NOTIFICACIONES","Estudio de la viabilidad de las solicitudes de administración de bienes públicos","CAMEP Contrato de administración y mantenimiento","Certificación Ingresos y Egresos mes de octubre de 2022 Subcuenta Redes- Alianza Fiduciaria S.A Fideicomiso Hub Movilidad","Radicar en ORFEO","SGI","01 Usaquén"]
[1252,2022,"NOVIEMBRE","2022-11-21","17:33:00","CRISTHIAN CAMILO MONTAÑA HERNANDEZ","VIRTUAL","Correo electrónico","mofajardo@alianza.com.co","Empresas privadas","Alianza Fiduciaria","Empresas Privadas","Ciudadanía","Femenino","Mujer","Sin datos","Sin datos","Sin datos","Sin datos","NOTIFICACIONES","Estudio de la viabilidad de las solicitudes de administración de bienes públicos","CAMEP Contrato de administración y mantenimiento","Certificación Ingresos y Egresos mes de octubre de 2022 Subcuenta Gestión Social y Ambiental- Alianza Fiduciaria S.A Fideicomiso Hub Movilidad","Radicar en ORFEO","SGI","01 Usaquén"]
[1253,2022,"NOVIEMBRE","2022-11-21","17:52:00","CRISTHIAN CAMILO MONTAÑA HERNANDEZ","VIRTUAL","Correo electrónico","VNunez@minvivienda.gov.co","Entidades y Organismos Nacionales","Ministerio de Vivienda","Entidades y Orgamismos Nacionales","Funcionario","Femenino","Mujer","Sin datos","Sin datos","Sin datos","Sin datos","PETICIONES ENTRE ENTIDADES","Consulta general","Peticiones entre entidades","2022EE0115647","Radicar en ORFEO","DIRECCIÓN","No Registra"]
[1254,2022,"NOVIEMBRE","2022-11-21","17:59:00","CRISTHIAN CAMILO MONTAÑA HERNANDEZ","VIRTUAL","Correo electrónico","siga@habitatbogota.gov.co","Entidades y Organismos Distritales","Secretaría de Habitat","Entidades y Organismos Distritales","SIGA","Femenino","Mujer","Sin datos","Sin datos","Sin datos","Sin datos","PETICIONES ENTRE ENTIDADES","Consulta general","Peticiones entre entidades","Comunicación Oficial N° 2-2022-70441","Radicar en ORFEO","SRI","04 San Cristóbal"]
[1255,2022,"NOVIEMBRE","2022-11-21","18:32:00","CRISTHIAN CAMILO MONTAÑA HERNANDEZ","VIRTUAL","Correo electrónico","buzoncomunicaciones@sdp.gov.co","Entidades y Organismos Distritales","Secretaría Distrital de Planeación","Entidades y Organismos Distritales","buzon comunicaciones","Femenino","Mujer","Sin datos","Sin datos","Sin datos","Sin datos","PETICIONES ENTRE ENTIDADES","Consulta general","Peticiones entre entidades","2-2022-168188","Radicar en ORFEO","SGI","16 Puente Aranda"]
[1256,2022,"NOVIEMBRE","2022-11-21","19:40:00","CRISTHIAN CAMILO MONTAÑA HERNANDEZ","VIRTUAL","Correo electrónico","buzoncomunicaciones@sdp.gov.co","Entidades y Organismos Distritales","Secretaría Distrital de Planeación","Entidades y Organismos Distritales","buzon comunicaciones","Femenino","Mujer","Sin datos","Sin datos","Sin datos","Sin datos","PETICIONES ENTRE ENTIDADES","Consulta general","Peticiones entre entidades","2-2022-168201","Responder a correo electronico","AREA DE ATENCION A LA CIUDADANIA","No Registra"]
[1257,2022,"NOVIEMBRE","2022-11-21","20:18:00","CRISTHIAN CAMILO MONTAÑA HERNANDEZ","VIRTUAL","Correo electrónico","isola.admon@gmail.com","Empresas privadas","Administración Isola","Empresas Privadas",0,"N/A","N/A","Sin datos","Sin datos","Sin datos","Sin datos","ASESORÍA","Estudio de la viabilidad de las solicitudes de administración de bienes públicos","Viabilidad Decreto 070 / 2022 BACA 2.0","ajuste mapa cielo abierto isola","Radicar en ORFEO","SGI","No Registra"]
[1258,2022,"NOVIEMBRE","2022-11-21","22:39:00","CRISTHIAN CAMILO MONTAÑA HERNANDEZ","VIRTUAL","Correo electrónico","correspondencia.enviada1@idu.gov.co","Entidades y Organismos Distritales","Instituto de Desarrollo Urbano","Entidades y Organismos Distritales","correspondencia","Masculino","Hombre ","Sin datos","Sin datos","Sin datos","Sin datos","PETICIONES ENTRE ENTIDADES","Consulta general","Peticiones entre entidades","RADICADO IDU N° 20223751802291 DEL 18 DE NOVIEMBRE 2022","Radicar en ORFEO","SRI","No Registra"]
[1259,2022,"NOVIEMBRE","2022-11-21","07:28:00","CRISTHIAN CAMILO MONTAÑA HERNANDEZ","VIRTUAL","Correo electrónico","notificadorD@supernotariado.gov.co","Entidades y Organismos Nacionales","Supernotariado","Entidades y Orgamismos Nacionales","Notificaciones","Masculino","Hombre ","Sin datos","Sin datos","Sin datos","Sin datos","PETICIONES ENTRE ENTIDADES","Consulta general","Peticiones entre entidades","Respuesta PQRSD de la Superintendencia de Notariado y Registro / SNR2022EE135340","Radicar en ORFEO","SRI","No Registra"]
[1260,2022,"NOVIEMBRE","2022-11-21","07:31:00","CRISTHIAN CAMILO MONTAÑA HERNANDEZ","VIRTUAL","Correo electrónico","correspondencia.enviada1@idu.gov.co","Entidades y Organismos Distritales","Instituto de Desarrollo Urbano","Entidades y Organismos Distritales","correspondencia","Femenino","Mujer","Sin datos","Sin datos","Sin datos","Sin datos","PETICIONES ENTRE ENTIDADES","Consulta general","Peticiones entre entidades","RADICADO IDU N° 20222261799981 DEL 17 DE NOVIEMBRE 2022","Radicar en ORFEO","SGI","No Registra"]
[1261,2022,"NOVIEMBRE","2022-11-21","07:32:00","CRISTHIAN CAMILO MONTAÑA HERNANDEZ","VIRTUAL","Correo electrónico","oscar.cardenas@uaesp.gov.co","Entidades y Organismos Distritales","Unidad Administrativa Especial de Servicios Públicos","Entidades y Organismos Distritales","Funcionario","Femenino","Mujer","Sin datos","Sin datos","Sin datos","Sin datos","PETICIONES ENTRE ENTIDADES","Consulta general","Peticiones entre entidades","Oficio UAESP 20224000 266551-INFRAESTRUCTURA ALUMBRADO PUBLICO - ZONAS DE CESION, PROYECTO URBANIZACION CENTRO EMPRESARIAL LA ESPERANZA.","Radicar en ORFEO","SRI","No Registra"]
[1262,2022,"NOVIEMBRE","2022-11-21","07:37:00","CRISTHIAN CAMILO MONTAÑA HERNANDEZ","VIRTUAL","Correo electrónico","cvpgestiondocumental@cajaviviendapopular.gov.co","Entidades y Organismos Distritales","Caja de vivienda popular","Entidades y Organismos Distritales","gestión documental","Femenino","Mujer","Sin datos","Sin datos","Sin datos","Sin datos","PETICIONES ENTRE ENTIDADES","Consulta general","Peticiones entre entidades",202213000000000,"Radicar en ORFEO","SGI","No Registra"]
[1263,2022,"NOVIEMBRE","2022-11-21","07:48:00","CRISTHIAN CAMILO MONTAÑA HERNANDEZ","VIRTUAL","Correo electrónico","correspondenciaexternaenviada@participacionbogota.gov.co","Entidades y Organismos Distritales","Participación Bogotá","Entidades y Organismos Distritales","Correspondencia","Masculino","Hombre ","Sin datos","Sin datos","Sin datos","Sin datos","PETICIONES ENTRE ENTIDADES","Consulta general","Peticiones entre entidades","RADICADO 20223000195651","Radicar en ORFEO","SGI","No Registra"]
[1264,2022,"NOVIEMBRE","2022-11-21","10:57:00","CRISTHIAN CAMILO MONTAÑA HERNANDEZ","VIRTUAL","Correo electrónico","dairon.asesor10@gmail.com","Ciudadanía","JANIK H. DE LA HOZ RIOS","Ciudadanía","Ciudadanía","Masculino","Hombre ","Sin datos","Sin datos","Sin datos","Sin datos","CONSULTA","Consulta general","Talento humano","DERECHO DE PETICION.","Radicar en ORFEO","SGC","No Registra"]
[1265,2022,"NOVIEMBRE","2022-11-21","11:49:00","CRISTHIAN CAMILO MONTAÑA HERNANDEZ","VIRTUAL","Correo electrónico","buzoncomunicaciones@sdp.gov.co","Entidades y Organismos Distritales","Secretaría Distrital de Planeación","Entidades y Organismos Distritales","buzon comunicaciones","Femenino","Mujer","Sin datos","Sin datos","Sin datos","Sin datos","PETICIONES ENTRE ENTIDADES","Consulta general","Peticiones entre entidades","2-2022-168407","Radicar en ORFEO","SRI","06 Tunjuelito"]
[1266,2022,"NOVIEMBRE","2022-11-21","07:38:00","CRISTHIAN CAMILO MONTAÑA HERNANDEZ","VIRTUAL","Correo electrónico","ccto12bt@cendoj.ramajudicial.gov.co","Entidades y Organismos Nacionales","Juzgado 12 Civil Circuito - Bogota - Bogota D.C. ","Entidades y Orgamismos Nacionales","Juzgado 12 Civil Circuito","N/A","N/A","Sin datos","Sin datos","Sin datos","Sin datos","NOTIFICACIONES","Consulta general","Asuntos Jurídicos","REMITO OFICIO 1429 PROCESO VERBAL DE PERTENENCIA POR PRESCRIPCION EXTRAORDINARIA ADQUISITIVA DE DOMINIO No. 110013103012 2022 00454 00 DE FABIO VANEGAS NIETO","Radicar en ORFEO","OJ","No Registra"]
[1267,2022,"NOVIEMBRE","2022-11-21","07:46:00","CRISTHIAN CAMILO MONTAÑA HERNANDEZ","VIRTUAL","Correo electrónico","buzonjudicial@sdp.gov.co","Entidades y Organismos Distritales","Secretaría Distrital de Planeación","Entidades y Organismos Distritales","buzon comunicaciones","Femenino","Mujer","Sin datos","Sin datos","Sin datos","Sin datos","PETICIONES ENTRE ENTIDADES","Consulta general","Peticiones entre entidades","2-2022-167065","Radicar en ORFEO","OJ","No Registra"]
[1268,2022,"NOVIEMBRE","2022-11-21","07:46:00","CRISTHIAN CAMILO MONTAÑA HERNANDEZ","VIRTUAL","Correo electrónico","buzonjudicial@sdp.gov.co","Entidades y Organismos Distritales","Secretaría Distrital de Planeación","Entidades y Organismos Distritales","buzon comunicaciones","Femenino","Mujer","Sin datos","Sin datos","Sin datos","Sin datos","PETICIONES ENTRE ENTIDADES","Consulta general","Peticiones entre entidades","2-2022-166998","Radicar en ORFEO","OJ","No Registra"]
[1269,2022,"NOVIEMBRE","2022-11-21","08:37:00","CRISTHIAN CAMILO MONTAÑA HERNANDEZ","VIRTUAL","Correo electrónico","correspondencia@ambientebogota.gov.co","Entidades y Organismos Distritales","Secretaría de Ambiente","Entidades y Organismos Distritales","Correspondencia","Femenino","Mujer","Sin datos","Sin datos","Sin datos","Sin datos","PETICIONES ENTRE ENTIDADES","Consulta general","Peticiones entre entidades","Envio documento Secretaria distrital de ambiente Radicado No. 2022EE299735","Radicar en ORFEO","DIRECCIÓN","No Registra"]
[1270,2022,"NOVIEMBRE","2022-11-21","09:18:00","CRISTHIAN CAMILO MONTAÑA HERNANDEZ","VIRTUAL","Correo electrónico","derechosdepeticiondrp@gobiernobogota.gov.co","Entidades y Organismos Distritales","Secretaría de Gobierno","Entidades y Organismos Distritales","Funcionario","Masculino","Hombre ","Sin datos","Sin datos","Sin datos","Sin datos","PETICIONES ENTRE ENTIDADES","Consulta general","Peticiones entre entidades","20221709279481 - Traslado a Derecho de Petición No. 20224213701202 – 2022EE17222","Radicar en ORFEO","DIRECCIÓN","No Registra"]
[1271,2022,"NOVIEMBRE","2022-11-21","09:26:00","CRISTHIAN CAMILO MONTAÑA HERNANDEZ","VIRTUAL","Correo electrónico","buzon.areatecnica@idrd.gov.co","Entidades y Organismos Distritales","Instituto Distrital de Recreación y Deportes","Entidades y Organismos Distritales","buzón comunicaciones","Masculino","Hombre ","Sin datos","Sin datos","Sin datos","Sin datos","PETICIONES ENTRE ENTIDADES","Consulta general","Peticiones entre entidades","20224100245891 - Radicado IDRD 20222100330962 Asunto: SOLICITUD CAMBIO DE USO - Zona de parque código IDRD No. 08-056, Nombre URBANIZACION EL CARMELO – FAVIDI, SECTORES A Y B, URBANIZACION GRAN BRITALIA\" - RUPI: 1011-153.”","Radicar en ORFEO","SRI","No Registra"]
[1272,2022,"NOVIEMBRE","2022-11-21","09:29:00","CRISTHIAN CAMILO MONTAÑA HERNANDEZ","VIRTUAL","Correo electrónico","buzoncomunicaciones@sdp.gov.co","Entidades y Organismos Distritales","Secretaría Distrital de Planeación","Entidades y Organismos Distritales","buzon comunicaciones","N/A","N/A","Sin datos","Sin datos","Sin datos","Sin datos","PETICIONES ENTRE ENTIDADES","Consulta general","Peticiones entre entidades","2-2022-168534","Radicar en ORFEO","SRI","No Registra"]
[1273,2022,"NOVIEMBRE","2022-11-21","09:33:00","CRISTHIAN CAMILO MONTAÑA HERNANDEZ","VIRTUAL","Correo electrónico","buzon.areatecnica@idrd.gov.co","Entidades y Organismos Distritales","Instituto Distrital de Recreación y Deportes","Entidades y Organismos Distritales","buzón comunicaciones","Masculino","Hombre ","Sin datos","Sin datos","Sin datos","Sin datos","PETICIONES ENTRE ENTIDADES","Consulta general","Peticiones entre entidades","20224100245931 - Radicados IDRD 20222100323422 y SDP 2-2022-153343 Asunto: Consulta Predio con CHIP AAA0172NLFT, ubicado en la Carrera 9 A Este No. 107- 43. Coordenadas: N 88251,08 E 97705,52 y N 88245,17 E 97706,41.","Radicar en ORFEO","SRI","No Registra"]
[1274,2022,"NOVIEMBRE","2022-11-21","09:45:00","CRISTHIAN CAMILO MONTAÑA HERNANDEZ","VIRTUAL","Correo electrónico","sandra.linares@gobiernobogota.gov.co","Entidades y Organismos Distritales","Secretaría de Gobierno","Entidades y Organismos Distritales","Funcionario","Femenino","Mujer","Sin datos","Sin datos","Sin datos","Sin datos","PETICIONES ENTRE ENTIDADES","Consulta general","Peticiones entre entidades","Convocatoria al Consejo local de gobierno","Radicar en ORFEO","SGI","09 Fontibón"]
[1275,2022,"NOVIEMBRE","2022-11-21","10:08:00","CRISTHIAN CAMILO MONTAÑA HERNANDEZ","VIRTUAL","Correo electrónico","anova@catastrobogota.gov.co","Entidades y Organismos Distritales","Catastro de Bogotá","Entidades y Organismos Distritales","Funcionario","Masculino","Hombre ","Sin datos","Sin datos","Sin datos","Sin datos","PETICIONES ENTRE ENTIDADES","Consulta general","Peticiones entre entidades","COMUNICACIÓN ELECTRÓNICA RADICACIÓN: 2021-984586, 2022EE85310","Radicar en ORFEO","SRI","No Registra"]
[1276,2022,"NOVIEMBRE","2022-11-21","10:10:00","CRISTHIAN CAMILO MONTAÑA HERNANDEZ","VIRTUAL","Correo electrónico","idrdcorrespondencia@idrd.gov.co","Entidades y Organismos Distritales","Instituto Distrital de Recreación y Deportes","Entidades y Organismos Distritales","buzón comunicaciones","Masculino","Hombre ","Sin datos","Sin datos","Sin datos","Sin datos","PETICIONES ENTRE ENTIDADES","Consulta general","Peticiones entre entidades","20226000250751 - Respuesta Radicado IDRD No. 20222100329932 del 01 de noviembre 2022 / Invasión de espacio público.","Radicar en ORFEO","SGI","No Registra"]
[1277,2022,"NOVIEMBRE","2022-11-21","10:20:00","CRISTHIAN CAMILO MONTAÑA HERNANDEZ","VIRTUAL","Correo electrónico","equipocongresodrp@gobiernobogota.gov.co","Entidades y Organismos Distritales","Secretaría de Gobierno","Entidades y Organismos Distritales","equipo congreso","Masculino","Hombre ","Sin datos","Sin datos","Sin datos","Sin datos","PETICIONES ENTRE ENTIDADES","Consulta general","Peticiones entre entidades","20221709279721 - Traslado a Derecho de Petición","Radicar en ORFEO","DIRECCIÓN","No Registra"]
[1278,2022,"NOVIEMBRE","2022-11-21","10:26:00","CRISTHIAN CAMILO MONTAÑA HERNANDEZ","VIRTUAL","Correo electrónico","ricardo-becerra1707@hotmail.com","Juntas de Acción Comunal (JAC)","JUNTA DE ACCION COMUNAL SABANA DE TIBABUYES","Juntas de Acción Comunal (JAC)","Ciudadanía","N/A","N/A","Sin datos","Sin datos","Sin datos","Sin datos","ASESORÍA","Asesoría en administración y sostenibilidad del espacio público","Asesoría en temas de espacio público","Solicitud Adecuacion parquedero Motocicletas","Radicar en ORFEO","SGI","11 Suba"]
[1279,2022,"NOVIEMBRE","2022-11-21","10:27:00","CRISTHIAN CAMILO MONTAÑA HERNANDEZ","VIRTUAL","Correo electrónico","salidascdi.suba@gobiernobogota.gov.co","Entidades y Organismos Distritales","Secretaría de Gobierno","Entidades y Organismos Distritales","salidas cdi suba","Masculino","Hombre ","Sin datos","Sin datos","Sin datos","Sin datos","PETICIONES ENTRE ENTIDADES","Consulta general","Peticiones entre entidades","20226131973131 - Respuesta a petición Nro. 20196110056292.","Radicar en ORFEO","SGI","11 Suba"]
[1280,2022,"NOVIEMBRE","2022-11-21","10:36:00","CRISTHIAN CAMILO MONTAÑA HERNANDEZ","VIRTUAL","Correo electrónico","mfrojas@concejobogota.gov.co","Entidades y Organismos Distritales","Concejo de Bogotá","Entidades y Organismos Distritales","Funcionario","Femenino","Mujer","Sin datos","Sin datos","Sin datos","Sin datos","PETICIONES ENTRE ENTIDADES","Consulta general","Peticiones entre entidades","Derecho Petición Predio","Radicar en ORFEO","DIRECCIÓN","No Registra"]
[1281,2022,"NOVIEMBRE","2022-11-21","10:40:00","CRISTHIAN CAMILO MONTAÑA HERNANDEZ","VIRTUAL","Correo electrónico","jaccalvosur@gmail.com","Juntas de Acción Comunal (JAC)","junta de accion comunal barrio calvo sur","Juntas de Acción Comunal (JAC)","Ciudadanía","N/A","N/A","Sin datos","Sin datos","Sin datos","Sin datos","ASESORÍA","Estudio de la viabilidad de las solicitudes de administración de bienes públicos","CAMEP Contrato de administración y mantenimiento","SOLICITUD ASIGNACIÓN POR COMODATO DEL EDIFICIO COMUNAL CALVO SUR,","Radicar en ORFEO","SGI","No Registra"]
[1282,2022,"NOVIEMBRE","2022-11-21","11:38:00","CRISTHIAN CAMILO MONTAÑA HERNANDEZ","VIRTUAL","Correo electrónico","correspondencia.i.dadep247@interdisenos.com.co","Empresas privadas","interdisenos","Empresas Privadas","Correspondencia","Femenino","Mujer","Sin datos","Sin datos","Sin datos","Sin datos","NOTIFICACIONES","Estudio de la viabilidad de las solicitudes de administración de bienes públicos","CAMEP Contrato de administración y mantenimiento","GDADEP-969-22 DADEP Rta oficio N° 20223080163871 - Instalación módulos M-160 Otrosi 5","Radicar en ORFEO","SGI","No Registra"]
[1283,2022,"NOVIEMBRE","2022-11-21","12:10:00","CRISTHIAN CAMILO MONTAÑA HERNANDEZ","VIRTUAL","Correo electrónico","william.castaneda@ambientebogota.gov.co","Entidades y Organismos Distritales","Secretaría de Ambiente","Entidades y Organismos Distritales","Correspondencia","Masculino","Hombre ","Sin datos","Sin datos","Sin datos","Sin datos","PETICIONES ENTRE ENTIDADES","Consulta general","Peticiones entre entidades","2022EE288429","Radicar en ORFEO","SGI","No Registra"]
[1284,2022,"NOVIEMBRE","2022-11-21","12:13:00","CRISTHIAN CAMILO MONTAÑA HERNANDEZ","VIRTUAL","Correo electrónico","correspondencia.i.dadep247@interdisenos.com.co","Empresas privadas","interdisenos","Empresas Privadas","Correspondencia","Femenino","Mujer","Sin datos","Sin datos","Sin datos","Sin datos","NOTIFICACIONES","Estudio de la viabilidad de las solicitudes de administración de bienes públicos","CAMEP Contrato de administración y mantenimiento","GDADEP-971-22 EUCOL Corrección informe fiducia agosto","Radicar en ORFEO","SGI","No Registra"]
[1285,2022,"NOVIEMBRE","2022-11-21","12:14:00","CRISTHIAN CAMILO MONTAÑA HERNANDEZ","VIRTUAL","Correo electrónico","correspondencia.i.dadep247@interdisenos.com.co","Empresas privadas","interdisenos","Empresas Privadas","Correspondencia","Femenino","Mujer","Sin datos","Sin datos","Sin datos","Sin datos","NOTIFICACIONES","Estudio de la viabilidad de las solicitudes de administración de bienes públicos","CAMEP Contrato de administración y mantenimiento","GDADEP-972-22 EUCOL Correccion informe fiducia septiembre","Radicar en ORFEO","SGI","No Registra"]
[1286,2022,"NOVIEMBRE","2022-11-21","12:15:00","CRISTHIAN CAMILO MONTAÑA HERNANDEZ","VIRTUAL","Correo electrónico","correspondencia.i.dadep247@interdisenos.com.co","Empresas privadas","interdisenos","Empresas Privadas","Correspondencia","Femenino","Mujer","Sin datos","Sin datos","Sin datos","Sin datos","NOTIFICACIONES","Estudio de la viabilidad de las solicitudes de administración de bienes públicos","CAMEP Contrato de administración y mantenimiento","GDADEP-973-22 EUCOL Reintegro pago gravamen a los movimientos financieros de la cuenta de interventoría - octubre","Radicar en ORFEO","SGI","No Registra"]
[1287,2022,"NOVIEMBRE","2022-11-21","12:17:00","CRISTHIAN CAMILO MONTAÑA HERNANDEZ","VIRTUAL","Correo electrónico","mitigacion009@gmail.com","Empresas privadas","Rafael Eduardo Montes Navas","Empresas Privadas","Ciudadanía","Masculino","Hombre ","Sin datos","Sin datos","Sin datos","Sin datos","ASESORÍA","Asesoría en administración y sostenibilidad del espacio público","Asesoría en temas de espacio público","FDLUSA-561-22-003","Radicar en ORFEO","SGI","No Registra"]
[1288,2022,"NOVIEMBRE","2022-11-21","12:20:00","CRISTHIAN CAMILO MONTAÑA HERNANDEZ","VIRTUAL","Correo electrónico","correspondencia.i.dadep247@interdisenos.com.co","Empresas privadas","interdisenos","Empresas Privadas","Correspondencia","Femenino","Mujer","Sin datos","Sin datos","Sin datos","Sin datos","NOTIFICACIONES","Estudio de la viabilidad de las solicitudes de administración de bienes públicos","CAMEP Contrato de administración y mantenimiento","GDADEP-974-22 EUCOL Traslado 20223080183751-Recomendación aprobacion presupuesto acciones plan de cultura ciudadana","Radicar en ORFEO","SGI","No Registra"]
[1289,2022,"NOVIEMBRE","2022-11-21","12:20:00","CRISTHIAN CAMILO MONTAÑA HERNANDEZ","VIRTUAL","Correo electrónico","yolanda.londono@gobiernobogota.gov.co","Entidades y Organismos Distritales","Secretaría de Gobierno","Entidades y Organismos Distritales","Funcionario","Masculino","Hombre ","Sin datos","Sin datos","Sin datos","Sin datos","PETICIONES ENTRE ENTIDADES","Consulta general","Peticiones entre entidades","20225620465531 - REMISION INFORME FINAL DEL CONVENIO INTERADMINISTRATIVO No 45-2002","Radicar en ORFEO","SGI","06 Tunjuelito"]
[1290,2022,"NOVIEMBRE","2022-11-21","12:22:00","CRISTHIAN CAMILO MONTAÑA HERNANDEZ","VIRTUAL","Correo electrónico","correspondencia.i.dadep247@interdisenos.com.co","Empresas privadas","interdisenos","Empresas Privadas","Correspondencia","Femenino","Mujer","Sin datos","Sin datos","Sin datos","Sin datos","NOTIFICACIONES","Estudio de la viabilidad de las solicitudes de administración de bienes públicos","CAMEP Contrato de administración y mantenimiento","GDADEP-970-22 DADEP Rta oficio N° 20223080170621 - Entrega de Informe Trimestral N°09","Radicar en ORFEO","SGI","No Registra"]
[1291,2022,"NOVIEMBRE","2022-11-21","12:37:00","CRISTHIAN CAMILO MONTAÑA HERNANDEZ","VIRTUAL","Correo electrónico","salidascdi.suba@gobiernobogota.gov.co","Entidades y Organismos Distritales","Secretaría de Gobierno","Entidades y Organismos Distritales","salidas cdi suba","Masculino","Hombre ","Sin datos","Sin datos","Sin datos","Sin datos","PETICIONES ENTRE ENTIDADES","Consulta general","Peticiones entre entidades","20226122091171 - Respuesta a Radicado No. 20224602531082.","Radicar en ORFEO","SGI","11 Suba"]
[1292,2022,"NOVIEMBRE","2022-11-21","12:41:00","CRISTHIAN CAMILO MONTAÑA HERNANDEZ","VIRTUAL","Correo electrónico","verificaciones.eis17@thomasgreg.com","Empresas privadas","Thomas Greg & Sons - Seguridad","Empresas Privadas","Verificaciones","Masculino","Hombre ","Sin datos","Sin datos","Sin datos","Sin datos","CONSULTA","Consulta general","Contratos jurídica","VALIDACION LABORAL","Radicar en ORFEO","OJ","No Registra"]
[1293,2022,"NOVIEMBRE","2022-11-21","13:17:00","CRISTHIAN CAMILO MONTAÑA HERNANDEZ","VIRTUAL","Correo electrónico","idrdcorrespondencia@idrd.gov.co","Entidades y Organismos Distritales","Instituto Distrital de Recreación y Deportes","Entidades y Organismos Distritales","Correspondencia","Masculino","Hombre ","Sin datos","Sin datos","Sin datos","Sin datos","PETICIONES ENTRE ENTIDADES","Consulta general","Peticiones entre entidades","20224100250411 - Zonas de Cesión para parque producto de la urbanización Reserva 67 localidad de Engativá. Expediente Virtual No. 2022410660300009E","Radicar en ORFEO","SRI","10 Engativá"]
[1294,2022,"NOVIEMBRE","2022-11-21","13:22:00","CRISTHIAN CAMILO MONTAÑA HERNANDEZ","VIRTUAL","Correo electrónico","gmarulanda@contraloriabogota.gov.co","Entidades y Organismos Distritales","Contraloría de Bogotá","Entidades y Organismos Distritales","Funcionario","Femenino","Mujer","Sin datos","Sin datos","Sin datos","Sin datos","PETICIONES ENTRE ENTIDADES","Consulta general","Peticiones entre entidades","Requerimiento 010 - Solicitud relacionada con el Derecho de petición 1318-22 Visita Fiscal 505 DADEP. ","Radicar en ORFEO","DIRECCIÓN","No Registra"]
[1295,2022,"NOVIEMBRE","2022-11-21","13:57:00","CRISTHIAN CAMILO MONTAÑA HERNANDEZ","VIRTUAL","Correo electrónico","sjabisambra@concejobogota.gov.co","Entidades y Organismos Distritales","Concejo de Bogotá","Entidades y Organismos Distritales","Funcionario","Masculino","Hombre ","Sin datos","Sin datos","Sin datos","Sin datos","PETICIONES ENTRE ENTIDADES","Consulta general","Peticiones entre entidades","SOLICITUD MESA DE TRABAJO DESPACHO ALCALDESA LOCAL DE KENNEDY JUEVES 1 DE DICIEMBRE, 7:00 AM. EJERCICIO DE CONTROL POLÍTICO A LA RESPUESTA DEL DISTRITO FRENTE A LAS PROBLEMÁTICAS DEL BARRIO NUEVA YORK.","Radicar en ORFEO","DIRECCIÓN","No Registra"]
[1296,2022,"NOVIEMBRE","2022-11-21","14:11:00","CRISTHIAN CAMILO MONTAÑA HERNANDEZ","VIRTUAL","Correo electrónico","mariac.mesa@fiscalia.gov.co","Entidades y Organismos Nacionales","Fiscalía General de la Nación","Entidades y Orgamismos Nacionales","Funcionario","Masculino","Hombre ","Sin datos","Sin datos","Sin datos","Sin datos","PETICIONES ENTRE ENTIDADES","Consulta general","Peticiones entre entidades","OFICIO 20225810008571 - RESPUESTA SOLICITUD OFICIO DADEP No. 20223050174221 DEL 1 DE NOVIEMBRE DE 2022 – REMISIÓN COPIA PÓLIZA TODO RIESGO VIGENTE - CONTRATO INTERADMINISTRATIVO DE COMODATO 110-129-535-0-2019 ","Radicar en ORFEO","SGI","No Registra"]
[1297,2022,"NOVIEMBRE","2022-11-21","14:11:00","CRISTHIAN CAMILO MONTAÑA HERNANDEZ","VIRTUAL","Correo electrónico","correspondenciabogotasur@Supernotariado.gov.co","Entidades y Organismos Nacionales","Supernotariado","Entidades y Orgamismos Nacionales","correspondencia","Femenino","Mujer","Sin datos","Sin datos","Sin datos","Sin datos","PETICIONES ENTRE ENTIDADES","Consulta general","Peticiones entre entidades","EE26546","Radicar en ORFEO","SRI","No Registra"]
[1298,2022,"NOVIEMBRE","2022-11-21","14:17:00","CRISTHIAN CAMILO MONTAÑA HERNANDEZ","VIRTUAL","Correo electrónico","gmarulanda@contraloriabogota.gov.co","Entidades y Organismos Distritales","Contraloría de Bogotá","Entidades y Organismos Distritales","Funcionario","Femenino","Mujer","Sin datos","Sin datos","Sin datos","Sin datos","PETICIONES ENTRE ENTIDADES","Consulta general","Peticiones entre entidades","Requerimiento 11- Solicitud de información Zona de estacionamiento identificada con el RUPI 852-17 (DPC 1361-22) ","Radicar en ORFEO","DIRECCIÓN","No Registra"]
[1299,2022,"NOVIEMBRE","2022-11-21","14:19:00","CRISTHIAN CAMILO MONTAÑA HERNANDEZ","VIRTUAL","Correo electrónico","profesionalapoyo.diradministrativa@subredsur.gov.co","Entidades y Organismos Distritales","Subred sur","Entidades y Organismos Distritales","Profesional de apoyo","Masculino","Hombre ","Sin datos","Sin datos","Sin datos","Sin datos","PETICIONES ENTRE ENTIDADES","Consulta general","Peticiones entre entidades","RESPUESTA RADICADO DADEP 20223050168001. ","Radicar en ORFEO","SGI","No Registra"]
[1300,2022,"NOVIEMBRE","2022-11-21","14:41:00","CRISTHIAN CAMILO MONTAÑA HERNANDEZ","VIRTUAL","Correo electrónico","correspondencia@ambientebogota.gov.co","Entidades y Organismos Distritales","Secretaría de Ambiente","Entidades y Organismos Distritales","Correspondencia","Femenino","Mujer","Sin datos","Sin datos","Sin datos","Sin datos","PETICIONES ENTRE ENTIDADES","Consulta general","Peticiones entre entidades","Envió documento Secretaria distrital de ambiente Radicado No. 2022EE299961 ","Radicar en ORFEO","SRI","No Registra"]
[1301,2022,"NOVIEMBRE","2022-11-21","14:51:00","CRISTHIAN CAMILO MONTAÑA HERNANDEZ","VIRTUAL","Correo electrónico","fact2600@gmail.com","Ciudadanía","FREDY ALEXANDER CANIZALES","Ciudadanía","Ciudadanía","Masculino","Hombre ","Sin datos","Sin datos","Sin datos","Sin datos","CONSULTA","Consulta general","Contratos jurídica","Solicitud Certificación contrato - Fredy Alexander Canizales","Radicar en ORFEO","OJ","No Registra"]
[1302,2022,"NOVIEMBRE","2022-11-21","14:54:00","CRISTHIAN CAMILO MONTAÑA HERNANDEZ","VIRTUAL","Correo electrónico","sirius2@personeriabogota.gov.co","Entidades y Organismos Distritales","personeria de bogota","Entidades y Organismos Distritales","Sirius 2","Masculino","Hombre ","Sin datos","Sin datos","Sin datos","Sin datos","PETICIONES ENTRE ENTIDADES","Consulta general","Peticiones entre entidades","Respuesta 2022-EE-0569796 2022-11-21","Radicar en ORFEO","DIRECCIÓN","No Registra"]
[1303,2022,"NOVIEMBRE","2022-11-21","15:03:00","CRISTHIAN CAMILO MONTAÑA HERNANDEZ","VIRTUAL","Correo electrónico","correspondencia@concejobogota.gov.co","Entidades y Organismos Distritales","Concejo de Bogotá","Entidades y Organismos Distritales","correspondencia","Masculino","Hombre ","Sin datos","Sin datos","Sin datos","Sin datos","PETICIONES ENTRE ENTIDADES","Consulta general","Peticiones entre entidades","Avances sobre restitución de bienes de uso público y/o espacio público de San Joaquín del Vaticano.","Radicar en ORFEO","DIRECCIÓN","No Registra"]
[1304,2022,"NOVIEMBRE","2022-11-22","15:31:00","CRISTHIAN CAMILO MONTAÑA HERNANDEZ","VIRTUAL","Correo electrónico","correspondencia@alosur.com","Empresas privadas","CORRESPONDENCIA ALO SUR","Empresas Privadas",0,"N/A","N/A","Sin datos","Sin datos","Sin datos","Sin datos","ASESORÍA","Incorporación y entrega de las áreas de cesión a favor del municipio","Entrega de zonas de cesión","AS-CS-000173 Solicitud de Predios de Espacio Público","Radicar en ORFEO","SRI","No Registra"]
[1305,2022,"NOVIEMBRE","2022-11-22","15:45:00","CRISTHIAN CAMILO MONTAÑA HERNANDEZ","VIRTUAL","Correo electrónico","notificaciones.anarino@gobiernobogota.gov.co","Entidades y Organismos Distritales","Secretaría de Gobierno","Entidades y Organismos Distritales","Notificacion Antonio Nariño","Masculino","Hombre ","Sin datos","Sin datos","Sin datos","Sin datos","PETICIONES ENTRE ENTIDADES","Consulta general","Peticiones entre entidades","Citación 20226540463951 Audiencia Pública","Radicar en ORFEO","SGI","15 Antonio Nariño"]
[1306,2022,"NOVIEMBRE","2022-11-22","15:50:00","CRISTHIAN CAMILO MONTAÑA HERNANDEZ","VIRTUAL","Correo electrónico","correspondencia.i.dadep247@interdisenos.com.co","Empresas privadas","interdisenos","Empresas Privadas","Correspondencia","Femenino","Mujer","Sin datos","Sin datos","Sin datos","Sin datos","NOTIFICACIONES","Estudio de la viabilidad de las solicitudes de administración de bienes públicos","CAMEP Contrato de administración y mantenimiento","GDADEP-975-22 DADEP Asignación de Puntos - Contrato IDU 352 de 2020 Grupo 8","Radicar en ORFEO","SGI","No Registra"]
[1307,2022,"NOVIEMBRE","2022-11-22","15:51:00","CRISTHIAN CAMILO MONTAÑA HERNANDEZ","VIRTUAL","Correo electrónico","correspondencia.i.dadep247@interdisenos.com.co","Empresas privadas","interdisenos","Empresas Privadas","Correspondencia","Femenino","Mujer","Sin datos","Sin datos","Sin datos","Sin datos","NOTIFICACIONES","Estudio de la viabilidad de las solicitudes de administración de bienes públicos","CAMEP Contrato de administración y mantenimiento","GDADEP-976-22 DADEP Asignación de Puntos - Contrato IDU 347 de 2020 Grupo 3","Radicar en ORFEO","SGI","No Registra"]
[1308,2022,"NOVIEMBRE","2022-11-22","16:15:00","CRISTHIAN CAMILO MONTAÑA HERNANDEZ","VIRTUAL","Correo electrónico","sirius2@personeriabogota.gov.co","Entidades y Organismos Distritales","personeria de bogota","Entidades y Organismos Distritales","Sirius 2","Masculino","Hombre ","Sin datos","Sin datos","Sin datos","Sin datos","PETICIONES ENTRE ENTIDADES","Consulta general","Peticiones entre entidades","Respuesta 2022-EE-0569866 2022-11-21","Radicar en ORFEO","DIRECCIÓN","No Registra"]
[1309,2022,"NOVIEMBRE","2022-11-22","16:22:00","CRISTHIAN CAMILO MONTAÑA HERNANDEZ","VIRTUAL","Correo electrónico","notificaciones_catastro@catastrobogota.gov.co","Entidades y Organismos Distritales","Catastro de Bogotá","Entidades y Organismos Distritales","Notificaciones","Femenino","Mujer","Sin datos","Sin datos","Sin datos","Sin datos","PETICIONES ENTRE ENTIDADES","Consulta general","Peticiones entre entidades","UAECD 2022 EE 83768 (uaecd 2022 er 40823)","Radicar en ORFEO","SRI","No Registra"]
[1310,2022,"NOVIEMBRE","2022-11-22","16:23:00","CRISTHIAN CAMILO MONTAÑA HERNANDEZ","VIRTUAL","Correo electrónico","asuntosnormativosdrp@gobiernobogota.gov.co","Entidades y Organismos Distritales","Secretaría de Gobierno","Entidades y Organismos Distritales","Asuntos normativos DRP","Masculino","Hombre ","Sin datos","Sin datos","Sin datos","Sin datos","PETICIONES ENTRE ENTIDADES","Consulta general","Peticiones entre entidades","20221709283641 - Oficios Solicitudes de Comentarios 1D PA 603-2022 ","Radicar en ORFEO","DIRECCIÓN","No Registra"]
[1311,2022,"NOVIEMBRE","2022-11-22","16:39:00","CRISTHIAN CAMILO MONTAÑA HERNANDEZ","VIRTUAL","Correo electrónico","osierra@colvatel.com","Empresas privadas","Colvatel","Empresas Privadas","Ciudadanía","Masculino","Hombre ","Sin datos","Sin datos","Sin datos","Sin datos","NOTIFICACIONES","Consulta general","Gestión financiera","Radicación Factura Contrato No. 110-00131-387-0 de 2022","Radicar en ORFEO","SGC","No Registra"]
[1312,2022,"NOVIEMBRE","2022-11-22","16:50:00","CRISTHIAN CAMILO MONTAÑA HERNANDEZ","VIRTUAL","Correo electrónico","mblanco@serviciocivil.gov.co","Entidades y Organismos Distritales","Servicio Civil Distrital","Entidades y Organismos Distritales","Funcionario","Femenino","Mujer","Sin datos","Sin datos","Sin datos","Sin datos","PETICIONES ENTRE ENTIDADES","Consulta general","Peticiones entre entidades","2-2022-10427 - Circular 025 de 2022 DASCD Reporte programa Movilidad laboral.","Responder a correo electronico","AREA DE ATENCION A LA CIUDADANIA","No Registra"]
[1313,2022,"NOVIEMBRE","2022-11-22","17:15:00","CRISTHIAN CAMILO MONTAÑA HERNANDEZ","VIRTUAL","Correo electrónico","notificaciones_catastro@catastrobogota.gov.co","Entidades y Organismos Distritales","Catastro de Bogotá","Entidades y Organismos Distritales","Notificaciones","Femenino","Mujer","Sin datos","Sin datos","Sin datos","Sin datos","PETICIONES ENTRE ENTIDADES","Consulta general","Peticiones entre entidades","UAECD 2022 EE 83817 (uaecd 2022 er 40826) ","Radicar en ORFEO","SRI","No Registra"]
[1314,2022,"NOVIEMBRE","2022-11-22","17:30:00","CRISTHIAN CAMILO MONTAÑA HERNANDEZ","VIRTUAL","Correo electrónico","mmartinez@pavcol.com","Empresas privadas","Pavimentos Colombia","Empresas Privadas","Ciudadanía","Femenino","Mujer","Sin datos","Sin datos","Sin datos","Sin datos","ASESORÍA","Asesoría en administración y sostenibilidad del espacio público","Asesoría en temas de espacio público","Retiro de paraderos Grupo 7","Radicar en ORFEO","SGI","No Registra"]
[1315,2022,"NOVIEMBRE","2022-11-22","17:34:00","CRISTHIAN CAMILO MONTAÑA HERNANDEZ","VIRTUAL","Correo electrónico","administradorsiga@alcaldiabogota.gov.co","Entidades y Organismos Distritales","Alcaldia Mayor de Bogotá","Entidades y Organismos Distritales","Administrador SIGA","Femenino","Mujer","Sin datos","Sin datos","Sin datos","Sin datos","PETICIONES ENTRE ENTIDADES","Consulta general","Peticiones entre entidades","Comunicación Oficial N° 2-2022-33382","Radicar en ORFEO","DIRECCIÓN","No Registra"]
[1316,2022,"NOVIEMBRE","2022-11-22","18:43:00","CRISTHIAN CAMILO MONTAÑA HERNANDEZ","VIRTUAL","Correo electrónico","noresponder@sic.gov.co","Entidades y Organismos Nacionales","Superintendencia de Industria y Comercio","Entidades y Orgamismos Nacionales","No responder","Masculino","Hombre ","Sin datos","Sin datos","Sin datos","Sin datos","PETICIONES ENTRE ENTIDADES","Consulta general","Peticiones entre entidades","22-459869- -0 - Superintendencia de Industria y Comercio. Radicacion","Radicar en ORFEO","DIRECCIÓN","18 Rafael Uribe Uribe"]
[1317,2022,"NOVIEMBRE","2022-11-22","19:02:00","CRISTHIAN CAMILO MONTAÑA HERNANDEZ","VIRTUAL","Correo electrónico","sednotificaciones@educacionbogota.edu.co","Entidades y Organismos Distritales","Secretaría de Educación","Entidades y Organismos Distritales","Notificaciones","Masculino","Hombre ","Sin datos","Sin datos","Sin datos","Sin datos","PETICIONES ENTRE ENTIDADES","Consulta general","Peticiones entre entidades","S-2022-355251","Radicar en ORFEO","DIRECCIÓN","No Registra"]
[1318,2022,"NOVIEMBRE","2022-11-22","19:21:00","CRISTHIAN CAMILO MONTAÑA HERNANDEZ","VIRTUAL","Correo electrónico","slramos1@yahoo.es","Empresas privadas","sandra liliana ramos ","Empresas Privadas","Ciudadanía","Femenino","Mujer","Sin datos","Sin datos","Sin datos","Sin datos","NOTIFICACIONES","Estudio de la viabilidad de las solicitudes de administración de bienes públicos","CAMEP Contrato de administración y mantenimiento","Informes Ejecución Segundo y Tercer Trimestre 2022","Radicar en ORFEO","SGI","No Registra"]
[1319,2022,"NOVIEMBRE","2022-11-22","20:20:00","CRISTHIAN CAMILO MONTAÑA HERNANDEZ","VIRTUAL","Correo electrónico","notificaciones.cbolivar@gobiernobogota.gov.co","Entidades y Organismos Distritales","Secretaría de Gobierno","Entidades y Organismos Distritales","Notificaciones C. Bolivar","Femenino","Mujer","Sin datos","Sin datos","Sin datos","Sin datos","PETICIONES ENTRE ENTIDADES","Consulta general","Peticiones entre entidades",20226900000000,"Radicar en ORFEO","SGI","19 Ciudad Bolívar"]
[1320,2022,"NOVIEMBRE","2022-11-22","20:20:00","CRISTHIAN CAMILO MONTAÑA HERNANDEZ","VIRTUAL","Correo electrónico","zmlozada@concejobogota.gov.co","Entidades y Organismos Distritales","Concejo de Bogotá","Entidades y Organismos Distritales","Funcionario","Masculino","Hombre ","Sin datos","Sin datos","Sin datos","Sin datos","PETICIONES ENTRE ENTIDADES","Consulta general","Peticiones entre entidades","Proposición No 651, aprobada en Sesión de la Plenaria el 16 de noviembre de 2022","Radicar en ORFEO","DIRECCIÓN","No Registra"]
[1321,2022,"NOVIEMBRE","2022-11-22","20:23:00","CRISTHIAN CAMILO MONTAÑA HERNANDEZ","VIRTUAL","Correo electrónico","buzoncomunicaciones@sdp.gov.co","Entidades y Organismos Distritales","Secretaría Distrital de Planeación","Entidades y Organismos Distritales","buzon comunicaciones","Masculino","Hombre ","Sin datos","Sin datos","Sin datos","Sin datos","PETICIONES ENTRE ENTIDADES","Consulta general","Peticiones entre entidades","2-2022-169233","Radicar en ORFEO","DIRECCIÓN","01 Usaquén"]
[1322,2022,"NOVIEMBRE","2022-11-22","20:35:00","CRISTHIAN CAMILO MONTAÑA HERNANDEZ","VIRTUAL","Correo electrónico","gesdoc@desarrolloeconomico.gov.co","Entidades y Organismos Distritales","Secretaría Distrital de Desarrollo Económico","Entidades y Organismos Distritales","Gestión documental","Femenino","Mujer","Sin datos","Sin datos","Sin datos","Sin datos","PETICIONES ENTRE ENTIDADES","Consulta general","Peticiones entre entidades","2022EE008423","Radicar en ORFEO","SGI","No Registra"]
[1323,2022,"NOVIEMBRE","2022-11-22","07:02:00","CRISTHIAN CAMILO MONTAÑA HERNANDEZ","VIRTUAL","Correo electrónico","cvpgestiondocumental@cajaviviendapopular.gov.co","Entidades y Organismos Distritales","Caja de vivienda popular","Entidades y Organismos Distritales","gestión documental","Femenino","Mujer","Sin datos","Sin datos","Sin datos","Sin datos","PETICIONES ENTRE ENTIDADES","Consulta general","Peticiones entre entidades","RAD 202213000233161 Respuesta al radicado CVP 202217000266642, DADEP 20222030169731.","Radicar en ORFEO","SRI","No Registra"]
[1324,2022,"NOVIEMBRE","2022-11-22","07:17:00","CRISTHIAN CAMILO MONTAÑA HERNANDEZ","VIRTUAL","Correo electrónico","alarconorozco@yahoo.com","Empresas privadas","UNIDAD RESIDENCIAL TUNAL 1 SECTOR P.H","Empresas Privadas","Ciudadanía","N/A","N/A","Sin datos","Sin datos","Sin datos","Sin datos","NOTIFICACIONES","Estudio de la viabilidad de las solicitudes de administración de bienes públicos","CAMEP Contrato de administración y mantenimiento","INFORME DE GESTION TERCER TRIEMESTRE 2022","Radicar en ORFEO","SGI","06 Tunjuelito"]
[1325,2022,"NOVIEMBRE","2022-11-22","07:19:00","CRISTHIAN CAMILO MONTAÑA HERNANDEZ","VIRTUAL","Correo electrónico","alarconorozco@yahoo.com","Empresas privadas","UNIDAD RESIDENCIAL TUNAL 1 SECTOR P.H","Empresas Privadas","Ciudadanía","N/A","N/A","Sin datos","Sin datos","Sin datos","Sin datos","NOTIFICACIONES","Estudio de la viabilidad de las solicitudes de administración de bienes públicos","CAMEP Contrato de administración y mantenimiento","INFORME DE GESTION 2DO TRIEMESTRE 2022","Radicar en ORFEO","SGI","06 Tunjuelito"]
[1326,2022,"NOVIEMBRE","2022-11-22","07:30:00","CRISTHIAN CAMILO MONTAÑA HERNANDEZ","VIRTUAL","Correo electrónico","correspondencia@car.gov.co","Entidades y Organismos Nacionales","Corporación Autónoma Regional","Entidades y Orgamismos Nacionales","Correspondencia","Femenino","Mujer","Sin datos","Sin datos","Sin datos","Sin datos","PETICIONES ENTRE ENTIDADES","Consulta general","Peticiones entre entidades","Envío Oficio No. 20222100366","Radicar en ORFEO","SRI","No Registra"]
[1327,2022,"NOVIEMBRE","2022-11-22","07:31:00","CRISTHIAN CAMILO MONTAÑA HERNANDEZ","VIRTUAL","Correo electrónico","pao_alonso@live.com","Empresas privadas","Edificio Tundama Calle 100 P.H.","Empresas Privadas","Ciudadanía","N/A","N/A","Sin datos","Sin datos","Sin datos","Sin datos","ASESORÍA","Asesoría en administración y sostenibilidad del espacio público","Asesoría en temas de espacio público","Solicitud Certificación","Radicar en ORFEO","SGI","No Registra"]
[1328,2022,"NOVIEMBRE","2022-11-22","08:01:00","CRISTHIAN CAMILO MONTAÑA HERNANDEZ","VIRTUAL","Correo electrónico","envionotificaciones@ipes.gov.co","Entidades y Organismos Distritales","Instituto Para la Economía Social - IPES","Entidades y Organismos Distritales","envío notificaciones","Femenino","Mujer","Sin datos","Sin datos","Sin datos","Sin datos","PETICIONES ENTRE ENTIDADES","Consulta general","Peticiones entre entidades","00110-816-031412 - SOLICITUD DE COPIA DE CERTIFICACIONES DE INCORPORACIÓN DE PLANOS TOPOGRÁFICO, DE ACTUALIZACIÓN Y CABIDA Y LINDEROS DE 14 PLAZAS DE MERCADOS DISTRITALES.","Radicar en ORFEO","DIRECCIÓN","No Registra"]
[1329,2022,"NOVIEMBRE","2022-11-22","08:01:00","CRISTHIAN CAMILO MONTAÑA HERNANDEZ","VIRTUAL","Correo electrónico","envionotificaciones@ipes.gov.co","Entidades y Organismos Distritales","Instituto Para la Economía Social - IPES","Entidades y Organismos Distritales","envío notificaciones","Femenino","Mujer","Sin datos","Sin datos","Sin datos","Sin datos","PETICIONES ENTRE ENTIDADES","Consulta general","Peticiones entre entidades","00110-816-031384 - COORDINAR MESA TÉCNICA ENTRE DADEP, IPES Y SOLGEO SAS PARA VERIFICAR GESTIÓN Y ESTADO ACTUAL SOBRE LAS CERTIFICACIONES DE INCORPORACIÓN DE PLANOS TOPOGRÁFICO, DE ACTUALIZACIÓN Y CABIDA Y LINDEROS DE 14 PLAZAS DE MERCADOS DISTRITALES.","Radicar en ORFEO","DIRECCIÓN","No Registra"]
[1330,2022,"NOVIEMBRE","2022-11-22","08:58:00","CRISTHIAN CAMILO MONTAÑA HERNANDEZ","VIRTUAL","Correo electrónico","siga@habitatbogota.gov.co","Entidades y Organismos Distritales","Secretaría de Habitat","Entidades y Organismos Distritales","SIGA","Masculino","Hombre ","Sin datos","Sin datos","Sin datos","Sin datos","PETICIONES ENTRE ENTIDADES","Consulta general","Peticiones entre entidades","Comunicación Oficial N° 2-2022-70652","Radicar en ORFEO","SRI","No Registra"]
[1331,2022,"NOVIEMBRE","2022-11-22","09:01:00","CRISTHIAN CAMILO MONTAÑA HERNANDEZ","VIRTUAL","Correo electrónico","administradorsiga@alcaldiabogota.gov.co","Entidades y Organismos Distritales","Alcaldía Mayor de Bogotá","Entidades y Organismos Distritales","Administrador SIGA","Femenino","Mujer","Sin datos","Sin datos","Sin datos","Sin datos","PETICIONES ENTRE ENTIDADES","Consulta general","Peticiones entre entidades","Comunicación Oficial N° 2-2022-33409","Radicar en ORFEO","SGI","No Registra"]
[1332,2022,"NOVIEMBRE","2022-11-22","09:03:00","CRISTHIAN CAMILO MONTAÑA HERNANDEZ","VIRTUAL","Correo electrónico","idrdcorrespondencia@idrd.gov.co","Entidades y Organismos Distritales","Instituto Distrital de Recreación y Deportes","Entidades y Organismos Distritales","Correspondencia","Masculino","Hombre ","Sin datos","Sin datos","Sin datos","Sin datos","PETICIONES ENTRE ENTIDADES","Consulta general","Peticiones entre entidades","20224200249521 - Acuso de recibo rad IDRD 20222100342062, DADEP 20222010170461. Estado de recibo zona de cesión Urbanización Paraíso de Castilla","Radicar en ORFEO","DIRECCIÓN","No Registra"]
[1333,2022,"NOVIEMBRE","2022-11-22","09:42:00","CRISTHIAN CAMILO MONTAÑA HERNANDEZ","VIRTUAL","Correo electrónico","radicacion@transmilenio.gov.co","Entidades y Organismos Distritales","Transmilenio","Entidades y Organismos Distritales","Radicación","Femenino","Mujer","Sin datos","Sin datos","Sin datos","Sin datos","PETICIONES ENTRE ENTIDADES","Consulta general","Peticiones entre entidades","Observaciones y comentarios al proyecto de Decreto “Por medio del cual se reglamenta la administración y el aprovechamiento económico del espacio público en el Distrito Capital y se dictan otras disposiciones” TM 2022-EE-29225","Radicar en ORFEO","SGI","No Registra"]
[1334,2022,"NOVIEMBRE","2022-11-22","09:54:00","CRISTHIAN CAMILO MONTAÑA HERNANDEZ","VIRTUAL","Correo electrónico","correspondencia.enviada1@idu.gov.co","Entidades y Organismos Distritales","Instituto de Desarrollo Urbano","Entidades y Organismos Distritales","correspondencia","Masculino","Hombre ","Sin datos","Sin datos","Sin datos","Sin datos","PETICIONES ENTRE ENTIDADES","Consulta general","Peticiones entre entidades","RADICADO IDU N° 20223851808101 DEL 22 DE NOVIEMBRE 2022","Radicar en ORFEO","SGI","No Registra"]
[1335,2022,"NOVIEMBRE","2022-11-22","09:57:00","CRISTHIAN CAMILO MONTAÑA HERNANDEZ","VIRTUAL","Correo electrónico","siga@serviciocivil.gov.co","Entidades y Organismos Distritales","Servicio Civil Distrital","Entidades y Organismos Distritales","SIGA","Femenino","Mujer","Sin datos","Sin datos","Sin datos","Sin datos","PETICIONES ENTRE ENTIDADES","Consulta general","Peticiones entre entidades","2-2022-10458 - Circular externa 026 de 2022 Traslado derecho de petición 1-2022-9387, sobre información de prácticas laborales, pasantías, judicaturas o relación de docencia.","Radicar en ORFEO","DIRECCIÓN","No Registra"]
[1336,2022,"NOVIEMBRE","2022-11-22","10:06:00","CRISTHIAN CAMILO MONTAÑA HERNANDEZ","VIRTUAL","Correo electrónico","correspondencia.i.dadep378@interdisenos.com.co","Empresas privadas","interdisenos","Empresas Privadas","Correspondencia","Femenino","Mujer","Sin datos","Sin datos","Sin datos","Sin datos","NOTIFICACIONES","Estudio de la viabilidad de las solicitudes de administración de bienes públicos","CAMEP Contrato de administración y mantenimiento","GDADEP06-0563-22 DADEP Alcance GDADEP06-561-22 Respuesta requerimiento reintegro subcuenta ambiental y social","Radicar en ORFEO","SGI","No Registra"]
[1337,2022,"NOVIEMBRE","2022-11-22","10:22:00","CRISTHIAN CAMILO MONTAÑA HERNANDEZ","VIRTUAL","Correo electrónico","buzoncomunicaciones@sdp.gov.co","Entidades y Organismos Distritales","Secretaría Distrital de Planeación","Entidades y Organismos Distritales","buzon comunicaciones","Femenino","Mujer","Sin datos","Sin datos","Sin datos","Sin datos","PETICIONES ENTRE ENTIDADES","Consulta general","Peticiones entre entidades","2-2022-169503","Radicar en ORFEO","SGI","No Registra"]
[1338,2022,"NOVIEMBRE","2022-11-22","10:24:00","CRISTHIAN CAMILO MONTAÑA HERNANDEZ","VIRTUAL","Correo electrónico","cfsaavedra@personeriabogota.gov.co","Entidades y Organismos Distritales","personeria de bogota","Entidades y Organismos Distritales","Funcionario","Masculino","Hombre ","Sin datos","Sin datos","Sin datos","Sin datos","PETICIONES ENTRE ENTIDADES","Consulta general","Peticiones entre entidades","Solicitud respuesta requerimiento – SINPROC-309484 ","Radicar en ORFEO","SGI","No Registra"]
[1339,2022,"NOVIEMBRE","2022-11-22","10:26:00","CRISTHIAN CAMILO MONTAÑA HERNANDEZ","VIRTUAL","Correo electrónico","asointermedias@gmail.com","Empresas privadas","Asointermedias ","Empresas Privadas","Ciudadanía","N/A","N/A","Sin datos","Sin datos","Sin datos","Sin datos","ASESORÍA","Asesoría en administración y sostenibilidad del espacio público","Asesoría en temas de espacio público","Remisión de documentos solicitados para comodato","Radicar en ORFEO","SGI","No Registra"]
[1340,2022,"NOVIEMBRE","2022-11-22","10:59:00","CRISTHIAN CAMILO MONTAÑA HERNANDEZ","VIRTUAL","Correo electrónico","cartera@agenciacolsanitaseduardobarbon.com","Empresas privadas","Agencia Colsanitas Eduardo Barbon ","Empresas Privadas","Cartera","N/A","N/A","Sin datos","Sin datos","Sin datos","Sin datos","NOTIFICACIONES","Consulta general","Talento humano","NOVEDADES DICIEMBRE/22 COLSANITAS MEDICINA PREPAGADA - D.E.P","Radicar en ORFEO","SGC","No Registra"]
[1341,2022,"NOVIEMBRE","2022-11-22","11:01:00","CRISTHIAN CAMILO MONTAÑA HERNANDEZ","VIRTUAL","Correo electrónico","nora.garcia@terminaldetransporte.gov.co","Entidades y Organismos Distritales","Terminal de transporte","Entidades y Organismos Distritales","Funcionario","Femenino","Mujer","Sin datos","Sin datos","Sin datos","Sin datos","PETICIONES ENTRE ENTIDADES","Consulta general","Peticiones entre entidades","20220020060751 - REQUERIMIENTO PLAN DE INVERSIÓN 2022.","Radicar en ORFEO","DIRECCIÓN","No Registra"]
[1342,2022,"NOVIEMBRE","2022-11-22","11:06:00","CRISTHIAN CAMILO MONTAÑA HERNANDEZ","VIRTUAL","Correo electrónico","notificacionelectronica@movilidadbogota.gov.co","Entidades y Organismos Distritales","Secretaría de Movilidad","Entidades y Organismos Distritales","Funcionario","Masculino","Hombre ","Sin datos","Sin datos","Sin datos","Sin datos","PETICIONES ENTRE ENTIDADES","Consulta general","Peticiones entre entidades","RADICADO SDM N° 202232309906561","Radicar en ORFEO","SGI","No Registra"]
[1343,2022,"NOVIEMBRE","2022-11-22","11:07:00","CRISTHIAN CAMILO MONTAÑA HERNANDEZ","VIRTUAL","Correo electrónico","notificado.certimail2020.1@acueducto.com.co","Entidades y Organismos Distritales","Acueducto","Entidades y Organismos Distritales","Notificaciones","Masculino","Hombre ","Sin datos","Sin datos","Sin datos","Sin datos","PETICIONES ENTRE ENTIDADES","Consulta general","Peticiones entre entidades","CERTIFICADO S-2022-303512","Radicar en ORFEO","SRI","No Registra"]
[1344,2022,"NOVIEMBRE","2022-11-22","11:09:00","CRISTHIAN CAMILO MONTAÑA HERNANDEZ","VIRTUAL","Correo electrónico","gestion.operaciones@lime.com.co","Empresas privadas","LIME","Empresas Privadas","gestión de Operaciones","Masculino","Hombre ","Sin datos","Sin datos","Sin datos","Sin datos","PETICIONES ENTRE ENTIDADES","Consulta general","Peticiones entre entidades","Solicitud Corte de césped – CL 74 C Y LA KR 17 N H BIS Referencia: Radicados PQR No. 1195500 – UAESP 20222000251161 – ALCALDIA LOCAL DE CIUDAD BOLÍVAR 20226920779471","Radicar en ORFEO","SGI","19 Ciudad Bolívar"]
[1345,2022,"NOVIEMBRE","2022-11-22","11:10:00","CRISTHIAN CAMILO MONTAÑA HERNANDEZ","VIRTUAL","Correo electrónico","notificaciones_catastro@catastrobogota.gov.co","Entidades y Organismos Distritales","Catastro de Bogotá","Entidades y Organismos Distritales","Notificaciones","Femenino","Mujer","Sin datos","Sin datos","Sin datos","Sin datos","PETICIONES ENTRE ENTIDADES","Consulta general","Peticiones entre entidades","UAECD 2022 EE 84971 (uaecd 2022 er 41067)","Radicar en ORFEO","SRI","No Registra"]
[1346,2022,"NOVIEMBRE","2022-11-22","11:16:00","CRISTHIAN CAMILO MONTAÑA HERNANDEZ","VIRTUAL","Correo electrónico","cdi.ruribe@gobiernobogota.gov.co","Entidades y Organismos Distritales","Secretaría de Gobierno","Entidades y Organismos Distritales","CDI Rafael Uribe Uribe","Masculino","Hombre ","Sin datos","Sin datos","Sin datos","Sin datos","PETICIONES ENTRE ENTIDADES","Consulta general","Peticiones entre entidades","REMITO COMUNICADO CON RADICADO: 20226841548681 ","Radicar en ORFEO","SGI","18 Rafael Uribe Uribe"]
[1347,2022,"NOVIEMBRE","2022-11-22","11:19:00","CRISTHIAN CAMILO MONTAÑA HERNANDEZ","VIRTUAL","Correo electrónico","notificaciones_catastro@catastrobogota.gov.co","Entidades y Organismos Distritales","Catastro de Bogotá","Entidades y Organismos Distritales","Notificaciones","Femenino","Mujer","Sin datos","Sin datos","Sin datos","Sin datos","PETICIONES ENTRE ENTIDADES","Consulta general","Peticiones entre entidades","UAECD 2022 EE 85238 (uaecd 2022 er 41324)","Radicar en ORFEO","SRI","No Registra"]
[1348,2022,"NOVIEMBRE","2022-11-22","11:24:00","CRISTHIAN CAMILO MONTAÑA HERNANDEZ","VIRTUAL","Correo electrónico","buzoncomunicaciones@sdp.gov.co","Entidades y Organismos Distritales","Secretaría Distrital de Planeación","Entidades y Organismos Distritales","buzon comunicaciones","Femenino","Mujer","Sin datos","Sin datos","Sin datos","Sin datos","PETICIONES ENTRE ENTIDADES","Consulta general","Peticiones entre entidades","2-2022-168201","Radicar en ORFEO","DIRECCIÓN","No Registra"]
[1349,2022,"NOVIEMBRE","2022-11-22","11:27:00","CRISTHIAN CAMILO MONTAÑA HERNANDEZ","VIRTUAL","Correo electrónico","notificaciones_catastro@catastrobogota.gov.co","Entidades y Organismos Distritales","Catastro de Bogotá","Entidades y Organismos Distritales","Notificaciones","Femenino","Mujer","Sin datos","Sin datos","Sin datos","Sin datos","PETICIONES ENTRE ENTIDADES","Consulta general","Peticiones entre entidades","UAECD 2022 EE 85347 (uaecd 2022 er 41532)","Radicar en ORFEO","SRI","No Registra"]
[1350,2022,"NOVIEMBRE","2022-11-22","11:30:00","CRISTHIAN CAMILO MONTAÑA HERNANDEZ","VIRTUAL","Correo electrónico","cdi.ruribe@gobiernobogota.gov.co","Entidades y Organismos Distritales","Secretaría de Gobierno","Entidades y Organismos Distritales","CDI Rafael Uribe Uribe","Femenino","Mujer","Sin datos","Sin datos","Sin datos","Sin datos","PETICIONES ENTRE ENTIDADES","Consulta general","Peticiones entre entidades","REMITO COMUNICADO CON RADICADO: 20226831534781 ","Radicar en ORFEO","SGI","18 Rafael Uribe Uribe"]
[1351,2022,"NOVIEMBRE","2022-11-22","11:31:00","CRISTHIAN CAMILO MONTAÑA HERNANDEZ","VIRTUAL","Correo electrónico","cdi.ruribe@gobiernobogota.gov.co","Entidades y Organismos Distritales","Secretaría de Gobierno","Entidades y Organismos Distritales","CDI Rafael Uribe Uribe","Masculino","Hombre ","Sin datos","Sin datos","Sin datos","Sin datos","PETICIONES ENTRE ENTIDADES","Consulta general","Peticiones entre entidades","REMITO COMUNICADO CON RADICADO: 20226831543161","Radicar en ORFEO","SGI","18 Rafael Uribe Uribe"]
[1352,2022,"NOVIEMBRE","2022-11-22","11:34:00","CRISTHIAN CAMILO MONTAÑA HERNANDEZ","VIRTUAL","Correo electrónico","bolivia.07@hotmail.com","Empresas privadas","Administrador Bolivia 7 ","Empresas Privadas",0,"N/A","N/A","Sin datos","Sin datos","Sin datos","Sin datos","ASESORÍA","Asesoría en administración y sostenibilidad del espacio público","Asesoría en temas de espacio público","SOLICITUD ADMINISTRACION","Radicar en ORFEO","SGI","10 Engativá"]
[1353,2022,"NOVIEMBRE","2022-11-22","11:37:00","CRISTHIAN CAMILO MONTAÑA HERNANDEZ","VIRTUAL","Correo electrónico","notificacionelectronica@movilidadbogota.gov.co","Entidades y Organismos Distritales","Secretaría de Movilidad","Entidades y Organismos Distritales","Notificaciones","Femenino","Mujer","Sin datos","Sin datos","Sin datos","Sin datos","PETICIONES ENTRE ENTIDADES","Consulta general","Peticiones entre entidades","RADICADO SDM N° 202214009948701","Radicar en ORFEO","SGI","19 Ciudad Bolívar"]
[1354,2022,"NOVIEMBRE","2022-11-22","11:37:00","CRISTHIAN CAMILO MONTAÑA HERNANDEZ","VIRTUAL","Correo electrónico","cdi.ruribe@gobiernobogota.gov.co","Entidades y Organismos Distritales","Secretaría de Gobierno","Entidades y Organismos Distritales","CDI Rafael Uribe Uribe","Masculino","Hombre ","Sin datos","Sin datos","Sin datos","Sin datos","PETICIONES ENTRE ENTIDADES","Consulta general","Peticiones entre entidades","Convocatoria a mesa de trabajo Casa de la Juventud","Radicar en ORFEO","SGI","18 Rafael Uribe Uribe"]
[1355,2022,"NOVIEMBRE","2022-11-22","11:44:00","CRISTHIAN CAMILO MONTAÑA HERNANDEZ","VIRTUAL","Correo electrónico","edilsantamariabarvo@gmail.com","Juntas Administradoras Locales (JAL)","Jose Miguel Santamaría Barvo","Juntas Administradoras Locales (JAL)","Ciudadanía","Masculino","Hombre ","Sin datos","Sin datos","Sin datos","Sin datos","PETICIONES ENTRE ENTIDADES","Consulta general","Peticiones entre entidades","Derecho de petición","Radicar en ORFEO","DIRECCIÓN","02 Chapinero"]
[1356,2022,"NOVIEMBRE","2022-11-22","11:47:00","CRISTHIAN CAMILO MONTAÑA HERNANDEZ","VIRTUAL","Correo electrónico","consorciogcmovbog@outlook.com","Empresas privadas","Consorcio GC Movilidad Bogotá ","Empresas Privadas","Ciudadanía","N/A","N/A","Sin datos","Sin datos","Sin datos","Sin datos","ASESORÍA","Asesoría en administración y sostenibilidad del espacio público","Asesoría en temas de espacio público","Comunicado GCMB-2022-367 Derecho de Petición ","Radicar en ORFEO","SGI","No Registra"]
[1357,2022,"NOVIEMBRE","2022-11-22","11:50:00","CRISTHIAN CAMILO MONTAÑA HERNANDEZ","VIRTUAL","Correo electrónico","consorciogcmovbog@outlook.com","Empresas privadas","Consorcio GC Movilidad Bogotá ","Empresas Privadas","Ciudadanía","N/A","N/A","Sin datos","Sin datos","Sin datos","Sin datos","ASESORÍA","Asesoría en administración y sostenibilidad del espacio público","Asesoría en temas de espacio público","Comunicado GCMB-2022-369 Derecho de Petición ","Radicar en ORFEO","SGI","No Registra"]
[1358,2022,"NOVIEMBRE","2022-11-22","11:57:00","CRISTHIAN CAMILO MONTAÑA HERNANDEZ","VIRTUAL","Correo electrónico","patrick.morales@idpc.gov.co","Entidades y Organismos Distritales","Instituto Distrital de la Participación y Acción Comunal: IDPAC","Entidades y Organismos Distritales","Funcionario","Masculino","Hombre ","Sin datos","Sin datos","Sin datos","Sin datos","PETICIONES ENTRE ENTIDADES","Consulta general","Peticiones entre entidades","20222060061831 - Invitación a la Segunda mesa interinstitucional del Plan Especial de Manejo y Protección del Centro Histórico de Bogotá (PEMP-CHB). Balance de la primera fase de implementación del plan de acción","Radicar en ORFEO","DIRECCIÓN","No Registra"]
[1359,2022,"NOVIEMBRE","2022-11-22","12:21:00","CRISTHIAN CAMILO MONTAÑA HERNANDEZ","VIRTUAL","Correo electrónico","buzoncomunicaciones@sdp.gov.co","Entidades y Organismos Distritales","Secretaría Distrital de Planeación","Entidades y Organismos Distritales","buzon comunicaciones","Femenino","Mujer","Sin datos","Sin datos","Sin datos","Sin datos","PETICIONES ENTRE ENTIDADES","Consulta general","Peticiones entre entidades","2-2022-169672","Radicar en ORFEO","SGI","No Registra"]
[1360,2022,"NOVIEMBRE","2022-11-22","12:28:00","CRISTHIAN CAMILO MONTAÑA HERNANDEZ","VIRTUAL","Correo electrónico","salidascdi.suba@gobiernobogota.gov.co","Entidades y Organismos Distritales","Secretaría de Gobierno","Entidades y Organismos Distritales","salidas cdi suba","Femenino","Mujer","Sin datos","Sin datos","Sin datos","Sin datos","PETICIONES ENTRE ENTIDADES","Consulta general","Peticiones entre entidades",20226100000000,"Radicar en ORFEO","SGI","11 Suba"]
[1361,2022,"NOVIEMBRE","2022-11-22","13:03:00","CRISTHIAN CAMILO MONTAÑA HERNANDEZ","VIRTUAL","Correo electrónico","sirius2@personeriabogota.gov.co","Entidades y Organismos Distritales","personeria de bogota","Entidades y Organismos Distritales","Sirius 2","Masculino","Hombre ","Sin datos","Sin datos","Sin datos","Sin datos","PETICIONES ENTRE ENTIDADES","Consulta general","Peticiones entre entidades","Respuesta 2022-EE-0570070 2022-11-22","Responder a correo electronico","AREA DE ATENCION A LA CIUDADANIA","No Registra"]
[1362,2022,"NOVIEMBRE","2022-11-22","13:35:00","CRISTHIAN CAMILO MONTAÑA HERNANDEZ","VIRTUAL","Correo electrónico","milena0882@gmail.com","Ciudadanía","ADIELA SASTRE BUITRAGO","Ciudadanía","Ciudadanía","Femenino","Mujer","Sin datos","Sin datos","Sin datos","Sin datos","ASESORÍA","Asesoría en administración y sostenibilidad del espacio público","Asesoría en temas de espacio público","Solicitud Aministracion Parqueadero - RUPI 1156-18","Radicar en ORFEO","SGI","No Registra"]
[1363,2022,"NOVIEMBRE","2022-11-22","13:39:00","CRISTHIAN CAMILO MONTAÑA HERNANDEZ","VIRTUAL","Correo electrónico","mauricio.vargas@amarilo.com","Empresas privadas","AMARILO","Empresas Privadas","Ciudadanía","Masculino","Hombre ","Sin datos","Sin datos","Sin datos","Sin datos","ASESORÍA","Incorporación y entrega de las áreas de cesión a favor del municipio","Entrega de zonas de cesión","Respuesta oficio No. 20222010182021","Radicar en ORFEO","SRI","No Registra"]
[1364,2022,"NOVIEMBRE","2022-11-22","13:51:00","CRISTHIAN CAMILO MONTAÑA HERNANDEZ","VIRTUAL","Correo electrónico","paolaa.torres@gobiernobogota.gov.co","Entidades y Organismos Distritales","Secretaría de Gobierno","Entidades y Organismos Distritales","Funcionario","Masculino","Hombre ","Sin datos","Sin datos","Sin datos","Sin datos","PETICIONES ENTRE ENTIDADES","Consulta general","Peticiones entre entidades","20225620448111 - Traslado por competencia a Departamento Administrativo de la Defensoría del Espacio Público -DADEP, entrega de parques, senderos peatonales,senderos para bicicletas, plazoletas, iluminación, adecuaciones paisajísticas","Radicar en ORFEO","SRI","No Registra"]
[1365,2022,"NOVIEMBRE","2022-11-22","13:56:00","CRISTHIAN CAMILO MONTAÑA HERNANDEZ","VIRTUAL","Correo electrónico","correspondencia@idiger.gov.co","Ciudadanía","Instituto Distrital de Gestión de Riesgos y Cambio Climático","Ciudadanía","Correspondencia","Femenino","Mujer","Sin datos","Sin datos","Sin datos","Sin datos","PETICIONES ENTRE ENTIDADES","Consulta general","Peticiones entre entidades","Radicado idiger 2022ER7669/ 2022EE19273","Radicar en ORFEO","SRI","No Registra"]
[1366,2022,"NOVIEMBRE","2022-11-22","14:02:00","CRISTHIAN CAMILO MONTAÑA HERNANDEZ","VIRTUAL","Correo electrónico","carolina.gonzalez@gobiernobogota.gov.co","Entidades y Organismos Distritales","Secretaría de Gobierno","Entidades y Organismos Distritales","Funcionario","Femenino","Mujer","Sin datos","Sin datos","Sin datos","Sin datos","PETICIONES ENTRE ENTIDADES","Consulta general","Peticiones entre entidades","REPROGRAMACION MESA DE TRABAJO PROBLEMATICA CANDELARIA","Radicar en ORFEO","SGI","17 La Candelaria"]
[1367,2022,"NOVIEMBRE","2022-11-22","14:45:00","CRISTHIAN CAMILO MONTAÑA HERNANDEZ","VIRTUAL","Correo electrónico","laura.cmv08@gmail.com","Ciudadanía","Laura Camila Mendoza Vargas ","Ciudadanía","Ciudadanía","Femenino","Mujer","Sin datos","Sin datos","Sin datos","Sin datos","CONSULTA","Consulta general","Solicitud de copia","Petición (Documentos)","Radicar en ORFEO","SRI","No Registra"]
[1368,2022,"NOVIEMBRE","2022-11-22","14:48:00","CRISTHIAN CAMILO MONTAÑA HERNANDEZ","VIRTUAL","Correo electrónico","envionotificaciones@ipes.gov.co","Entidades y Organismos Distritales","Instituto Para la Economía Social - IPES","Entidades y Organismos Distritales","envío notificaciones","Femenino","Mujer","Sin datos","Sin datos","Sin datos","Sin datos","PETICIONES ENTRE ENTIDADES","Consulta general","Peticiones entre entidades","00110-816-064 - Respuesta al Radicado IPES No. 00110-812- 020051","Radicar en ORFEO","SGI","No Registra"]
[1369,2022,"NOVIEMBRE","2022-11-22","14:50:00","CRISTHIAN CAMILO MONTAÑA HERNANDEZ","VIRTUAL","Correo electrónico","envionotificaciones@ipes.gov.co","Entidades y Organismos Distritales","Instituto Para la Economía Social - IPES","Entidades y Organismos Distritales","envío notificaciones","Femenino","Mujer","Sin datos","Sin datos","Sin datos","Sin datos","PETICIONES ENTRE ENTIDADES","Consulta general","Peticiones entre entidades","00110-816-0651 - Respuesta al Radicado IPES No. 00110-812- 020175","Radicar en ORFEO","SGI","No Registra"]
[1370,2022,"NOVIEMBRE","2022-11-22","15:14:00","CRISTHIAN CAMILO MONTAÑA HERNANDEZ","VIRTUAL","Correo electrónico","cdiusaquen.salidas@gobiernobogota.gov.co","Entidades y Organismos Distritales","Secretaría de Gobierno","Entidades y Organismos Distritales","CDI Usaquén","Masculino","Hombre ","Sin datos","Sin datos","Sin datos","Sin datos","PETICIONES ENTRE ENTIDADES","Consulta general","Peticiones entre entidades","20225101095101 - Invitación Mesa de Trabajo, Zonas Especiales de Usaquén","Radicar en ORFEO","SGI","01 Usaquén"]
[1371,2022,"NOVIEMBRE","2022-11-22","15:26:00","CRISTHIAN CAMILO MONTAÑA HERNANDEZ","VIRTUAL","Correo electrónico","administradorsiga@alcaldiabogota.gov.co","Entidades y Organismos Distritales","Alcaldía Mayor de Bogotá","Entidades y Organismos Distritales","Administrador SIGA","Femenino","Mujer","Sin datos","Sin datos","Sin datos","Sin datos","PETICIONES ENTRE ENTIDADES","Consulta general","Peticiones entre entidades","Comunicación Oficial N° 2-2022-33464","Radicar en ORFEO","DIRECCIÓN","No Registra"]
[1372,2022,"NOVIEMBRE","2022-11-23","15:31:00","CRISTHIAN CAMILO MONTAÑA HERNANDEZ","VIRTUAL","Correo electrónico","ludy.moreno@gobiernobogota.gov.co","Entidades y Organismos Distritales","Secretaría de Gobierno","Entidades y Organismos Distritales","Funcionario","Femenino","Mujer","Sin datos","Sin datos","Sin datos","Sin datos","PETICIONES ENTRE ENTIDADES","Consulta general","Peticiones entre entidades","Solicitud acompañamiento Operativo - Espacio Publico - Inspección, Vigilancia - Control y Sensibilización a Vendedores Informales","Radicar en ORFEO","SGI","02 Chapinero"]
[1373,2022,"NOVIEMBRE","2022-11-23","15:43:00","CRISTHIAN CAMILO MONTAÑA HERNANDEZ","VIRTUAL","Correo electrónico","buzoncomunicaciones@sdp.gov.co","Entidades y Organismos Distritales","Secretaría Distrital de Planeación","Entidades y Organismos Distritales","buzon comunicaciones","Femenino","Mujer","Sin datos","Sin datos","Sin datos","Sin datos","PETICIONES ENTRE ENTIDADES","Consulta general","Peticiones entre entidades","2-2022-169870","Radicar en ORFEO","SRI","No Registra"]
[1374,2022,"NOVIEMBRE","2022-11-23","15:46:00","CRISTHIAN CAMILO MONTAÑA HERNANDEZ","VIRTUAL","Correo electrónico","buzon.areatecnica@idrd.gov.co","Entidades y Organismos Distritales","Instituto Distrital de Recreación y Deportes","Entidades y Organismos Distritales","Correspondencia","Masculino","Hombre ","Sin datos","Sin datos","Sin datos","Sin datos","PETICIONES ENTRE ENTIDADES","Consulta general","Peticiones entre entidades","Petición con radicado IDRD No. 20222100348272 del 17 de noviembre de 2022.","Radicar en ORFEO","SRI","09 Fontibón"]
[1375,2022,"NOVIEMBRE","2022-11-23","16:00:00","CRISTHIAN CAMILO MONTAÑA HERNANDEZ","VIRTUAL","Correo electrónico","correspondencia.i.dadep247@interdisenos.com.co","Empresas privadas","interdisenos","Empresas Privadas","Correspondencia","Femenino","Mujer","Sin datos","Sin datos","Sin datos","Sin datos","NOTIFICACIONES","Estudio de la viabilidad de las solicitudes de administración de bienes públicos","CAMEP Contrato de administración y mantenimiento","GDADEP-977-22- TRASLADO - ENTREGA DE INTERFAZ DE PROGRAMACIÓN DE APLICACIONES EN ADELANTE “API”","Radicar en ORFEO","SGI","No Registra"]
[1376,2022,"NOVIEMBRE","2022-11-23","16:02:00","CRISTHIAN CAMILO MONTAÑA HERNANDEZ","VIRTUAL","Correo electrónico","correspondencia.i.dadep378@interdisenos.com.co","Empresas privadas","interdisenos","Empresas Privadas","Correspondencia","Femenino","Mujer","Sin datos","Sin datos","Sin datos","Sin datos","NOTIFICACIONES","Estudio de la viabilidad de las solicitudes de administración de bienes públicos","CAMEP Contrato de administración y mantenimiento","GDADEP06-00565-22 DADEP Remisión Informe Mensual No.15v0 (1)","Radicar en ORFEO","SGI","No Registra"]
[1377,2022,"NOVIEMBRE","2022-11-23","16:03:00","CRISTHIAN CAMILO MONTAÑA HERNANDEZ","VIRTUAL","Correo electrónico","buzoncomunicaciones@sdp.gov.co","Entidades y Organismos Distritales","Secretaría Distrital de Planeación","Entidades y Organismos Distritales","buzon comunicaciones","Femenino","Mujer","Sin datos","Sin datos","Sin datos","Sin datos","PETICIONES ENTRE ENTIDADES","Consulta general","Peticiones entre entidades","2-2022-169896","Radicar en ORFEO","DIRECCIÓN","11 Suba"]
[1378,2022,"NOVIEMBRE","2022-11-23","16:05:00","CRISTHIAN CAMILO MONTAÑA HERNANDEZ","VIRTUAL","Correo electrónico","correspondencia.i.dadep378@interdisenos.com.co","Empresas privadas","interdisenos","Empresas Privadas","Correspondencia","Femenino","Mujer","Sin datos","Sin datos","Sin datos","Sin datos","NOTIFICACIONES","Estudio de la viabilidad de las solicitudes de administración de bienes públicos","CAMEP Contrato de administración y mantenimiento","GDADEP06-0566-22 Solicitud Contrato de credito","Radicar en ORFEO","SGI","No Registra"]
[1379,2022,"NOVIEMBRE","2022-11-23","16:23:00","CRISTHIAN CAMILO MONTAÑA HERNANDEZ","VIRTUAL","Correo electrónico","catalina.valencia@scrd.gov.co","Entidades y Organismos Distritales","Secretaría de Cultura, Recreación y Deporte","Entidades y Organismos Distritales","Funcionario","Femenino","Mujer","Sin datos","Sin datos","Sin datos","Sin datos","PETICIONES ENTRE ENTIDADES","Consulta general","Peticiones entre entidades","Modificación del decreto 552 de 2018","Radicar en ORFEO","DIRECCIÓN","No Registra"]
[1380,2022,"NOVIEMBRE","2022-11-23","16:45:00","CRISTHIAN CAMILO MONTAÑA HERNANDEZ","VIRTUAL","Correo electrónico","olaverdj@cendoj.ramajudicial.gov.co","Entidades y Organismos Nacionales","Juzgado 12 Civil Circuito - Bogota - Bogota D.C. ","Entidades y Orgamismos Nacionales","Juzgado 12 Civil Circuito","Masculino","Hombre ","Sin datos","Sin datos","Sin datos","Sin datos","PETICIONES ENTRE ENTIDADES","Consulta general","Peticiones entre entidades","RESPUESTA RADICADO DADEP No. 20223050128591 del 24-08- 2022. - INFORMAR CON RESPECTO AL PROCESO DE LIQUIDACIÓN DEL COVENIO110-13 SUCRITO CON EL CONSEJO SUPERIOR DE LA JUDICATURA Y RESPUESTA RADICADO DAEP No.20223050151201","Radicar en ORFEO","OJ","No Registra"]
[1381,2022,"NOVIEMBRE","2022-11-23","16:46:00","CRISTHIAN CAMILO MONTAÑA HERNANDEZ","VIRTUAL","Correo electrónico","correspondenciaexternaenviada@participacionbogota.gov.co","Entidades y Organismos Distritales","Participación Bogotá","Entidades y Organismos Distritales","Correspondencia","Masculino","Hombre ","Sin datos","Sin datos","Sin datos","Sin datos","PETICIONES ENTRE ENTIDADES","Consulta general","Peticiones entre entidades","RADICADO 20223000198761","Responder a correo electronico","AREA DE ATENCION A LA CIUDADANIA","No Registra"]
[1382,2022,"NOVIEMBRE","2022-11-23","17:08:00","CRISTHIAN CAMILO MONTAÑA HERNANDEZ","VIRTUAL","Correo electrónico","hubscalle136@gmail.com","Empresas privadas","Hubs Plaza Calle 136","Empresas Privadas","Ciudadanía","N/A","N/A","Sin datos","Sin datos","Sin datos","Sin datos","NOTIFICACIONES","Estudio de la viabilidad de las solicitudes de administración de bienes públicos","CAMEP Contrato de administración y mantenimiento","HUB 136 - HUB136-OBRA-CL-717-2022 RESPUESTA RADICADO SDA NO. 2022ER278943 DEL 2022-10-28 Y ATN A SU GDADEP06-0558-22 - 22 DE NOVIEMBRE","Radicar en ORFEO","SGI","01 Usaquén"]
[1383,2022,"NOVIEMBRE","2022-11-23","17:20:00","CRISTHIAN CAMILO MONTAÑA HERNANDEZ","VIRTUAL","Correo electrónico","correspondencia@veeduriadistrital.gov.co","Entidades y Organismos Distritales","veeduría distrital","Entidades y Organismos Distritales","correspondencia","Femenino","Mujer","Sin datos","Sin datos","Sin datos","Sin datos","PETICIONES ENTRE ENTIDADES","Consulta general","Peticiones entre entidades",20226000000000,"Radicar en ORFEO","DIRECCIÓN","No Registra"]
[1384,2022,"NOVIEMBRE","2022-11-23","17:28:00","CRISTHIAN CAMILO MONTAÑA HERNANDEZ","VIRTUAL","Correo electrónico","jvillalbam@eru.gov.co","Entidades y Organismos Distritales","Empresa de Renovación y Desarrollo Urbano de Bogotá","Entidades y Organismos Distritales","Funcionario","Femenino","Mujer","Sin datos","Sin datos","Sin datos","Sin datos","PETICIONES ENTRE ENTIDADES","Consulta general","Peticiones entre entidades","S2022004822 - ENVÍO RESPUESTA - DADEP - TRASLADO POR COMPETENCIA - MORA EN PAGO SERVICIO PÚBLICO ASEO POR PARTE DE 107 ENTIDADES DISTRITALES – RADICADOS E2022007501 Y S2022004822-Nov22-2021.","Radicar en ORFEO","DIRECCIÓN","No Registra"]
[1385,2022,"NOVIEMBRE","2022-11-23","17:41:00","CRISTHIAN CAMILO MONTAÑA HERNANDEZ","VIRTUAL","Correo electrónico","mgfonseca25@gmail.com","Ciudadanía","Maria Guillermina Fonseca Mila ","Ciudadanía","Ciudadanía","Femenino","Mujer","Sin datos","Sin datos","Sin datos","Sin datos","ASESORÍA","Asesoría en administración y sostenibilidad del espacio público","Asesoría en temas de espacio público","Derecho de petición daño predio 22.11.2022.pdf","Radicar en ORFEO","SGI","No Registra"]
[1386,2022,"NOVIEMBRE","2022-11-23","17:56:00","CRISTHIAN CAMILO MONTAÑA HERNANDEZ","VIRTUAL","Correo electrónico","notificaciones_catastro@catastrobogota.gov.co","Entidades y Organismos Distritales","Catastro de Bogotá","Entidades y Organismos Distritales","Notificaciones","Femenino","Mujer","Sin datos","Sin datos","Sin datos","Sin datos","PETICIONES ENTRE ENTIDADES","Consulta general","Peticiones entre entidades","UAECD 2022 EE 84616 (uaecd 2022 er 40830)","Radicar en ORFEO","SRI","No Registra"]
[1387,2022,"NOVIEMBRE","2022-11-23","17:58:00","CRISTHIAN CAMILO MONTAÑA HERNANDEZ","VIRTUAL","Correo electrónico","notificaciones_catastro@catastrobogota.gov.co","Entidades y Organismos Distritales","Catastro de Bogotá","Entidades y Organismos Distritales","Notificaciones","Femenino","Mujer","Sin datos","Sin datos","Sin datos","Sin datos","PETICIONES ENTRE ENTIDADES","Consulta general","Peticiones entre entidades","UAECD 2022 EE 84617 (uaecd 2022 er 40835)","Radicar en ORFEO","SRI","No Registra"]
[1388,2022,"NOVIEMBRE","2022-11-23","18:07:00","CRISTHIAN CAMILO MONTAÑA HERNANDEZ","VIRTUAL","Correo electrónico","buzoncomunicaciones@sdp.gov.co","Entidades y Organismos Distritales","Secretaría Distrital de Planeación","Entidades y Organismos Distritales","buzon comunicaciones","Femenino","Mujer","Sin datos","Sin datos","Sin datos","Sin datos","PETICIONES ENTRE ENTIDADES","Consulta general","Peticiones entre entidades","2-2022-170112","Radicar en ORFEO","SRI","No Registra"]
[1389,2022,"NOVIEMBRE","2022-11-23","18:48:00","CRISTHIAN CAMILO MONTAÑA HERNANDEZ","VIRTUAL","Correo electrónico","jacciudadelaparquedelaroca@hotmail.com","Juntas de Acción Comunal (JAC)","JAC CIUDADELA PARQUE DE LA ROCA ","Juntas de Acción Comunal (JAC)","Ciudadanía","N/A","N/A","Sin datos","Sin datos","Sin datos","Sin datos","ASESORÍA","Asesoría en administración y sostenibilidad del espacio público","Asesoría en temas de espacio público","Derecho de petición - Invitación a reunión de urgencia por emergencia zonas de alto riesgo sobre ladera.","Radicar en ORFEO","SGI","No Registra"]
[1390,2022,"NOVIEMBRE","2022-11-23","20:00:00","CRISTHIAN CAMILO MONTAÑA HERNANDEZ","VIRTUAL","Correo electrónico","jaime.tenorio@scrd.gov.co","Entidades y Organismos Distritales","Secretaría de Cultura, Recreación y Deporte","Entidades y Organismos Distritales","Funcionario","Masculino","Hombre ","Sin datos","Sin datos","Sin datos","Sin datos","PETICIONES ENTRE ENTIDADES","Consulta general","Peticiones entre entidades","Decreto aprovechamiento económico del espacio público","Radicar en ORFEO","SGI","No Registra"]
[1391,2022,"NOVIEMBRE","2022-11-23","20:00:00","CRISTHIAN CAMILO MONTAÑA HERNANDEZ","VIRTUAL","Correo electrónico","profesionaluniversitario1@subredsuroccidente.gov.co","Entidades y Organismos Distritales","Subred sur","Entidades y Organismos Distritales","Funcionario","Femenino","Mujer","Sin datos","Sin datos","Sin datos","Sin datos","PETICIONES ENTRE ENTIDADES","Consulta general","Peticiones entre entidades","20222100193951 - SOLICITUD DE INFORMACIÓN DE PREDIOS DONDE FUNCIONAN CENTROS DE SERVCIOS DE SALUD DE LA SUBRED INTEGRADA DE SERVICIOS DE SALUD SUR OCCIDENTE E.S.E.","Radicar en ORFEO","SGI","No Registra"]
[1392,2022,"NOVIEMBRE","2022-11-23","20:10:00","CRISTHIAN CAMILO MONTAÑA HERNANDEZ","VIRTUAL","Correo electrónico","buzoncomunicaciones@sdp.gov.co","Entidades y Organismos Distritales","Secretaría Distrital de Planeación","Entidades y Organismos Distritales","buzon comunicaciones","Femenino","Mujer","Sin datos","Sin datos","Sin datos","Sin datos","PETICIONES ENTRE ENTIDADES","Consulta general","Peticiones entre entidades","2-2022-170262","Radicar en ORFEO","SRI","10 Engativá"]
[1393,2022,"NOVIEMBRE","2022-11-23","20:37:00","CRISTHIAN CAMILO MONTAÑA HERNANDEZ","VIRTUAL","Correo electrónico","bosques2.jac@gmail.com","Empresas privadas","JAC Bosques Granada","Empresas Privadas","Ciudadanía","N/A","N/A","Sin datos","Sin datos","Sin datos","Sin datos","NOTIFICACIONES","Estudio de la viabilidad de las solicitudes de administración de bienes públicos","CAMEP Contrato de administración y mantenimiento","RESPUESTA RADICADO DADEP 20223050161701 DEL 12-10-2022","Radicar en ORFEO","SGI","10 Engativá"]
[1394,2022,"NOVIEMBRE","2022-11-23","04:14:00","CRISTHIAN CAMILO MONTAÑA HERNANDEZ","VIRTUAL","Correo electrónico","proyectosverticalescolombia@gmail.com","Empresas privadas","Proyectos verticales Colombia","Empresas Privadas","Ciudadanía","Femenino","Mujer","Sin datos","Sin datos","Sin datos","Sin datos","ASESORÍA","Asesoría en administración y sostenibilidad del espacio público","Denuncia otros elementos","DENUNCIA IMPORTANTE ","Radicar en ORFEO","SGI","No Registra"]
[1395,2022,"NOVIEMBRE","2022-11-23","06:47:00","CRISTHIAN CAMILO MONTAÑA HERNANDEZ","VIRTUAL","Correo electrónico","notificaciones_catastro@catastrobogota.gov.co","Entidades y Organismos Distritales","Catastro de Bogotá","Entidades y Organismos Distritales","Notificaciones","Femenino","Mujer","Sin datos","Sin datos","Sin datos","Sin datos","PETICIONES ENTRE ENTIDADES","Consulta general","Peticiones entre entidades","UAECD 2022 EE 84717 (uaecd 2022 er 40819) ","Radicar en ORFEO","SRI","No Registra"]
[1396,2022,"NOVIEMBRE","2022-11-23","07:01:00","CRISTHIAN CAMILO MONTAÑA HERNANDEZ","VIRTUAL","Correo electrónico","notificaciones_catastro@catastrobogota.gov.co","Entidades y Organismos Distritales","Catastro de Bogotá","Entidades y Organismos Distritales","Notificaciones","Masculino","Hombre ","Sin datos","Sin datos","Sin datos","Sin datos","PETICIONES ENTRE ENTIDADES","Consulta general","Peticiones entre entidades","RAD 2022-493005 OFICIO 2022EE85918 Y ANEXOS 2022- 48984 DEL 17/11/2022","Radicar en ORFEO","SRI","No Registra"]
[1397,2022,"NOVIEMBRE","2022-11-23","07:04:00","CRISTHIAN CAMILO MONTAÑA HERNANDEZ","VIRTUAL","Correo electrónico","cmpl09bt@cendoj.ramajudicial.gov.co","Entidades y Organismos Nacionales","Juzgado 12 Civil Circuito - Bogota - Bogota D.C. ","Entidades y Orgamismos Nacionales","Juzgado 12 Civil Circuito","N/A","N/A","Sin datos","Sin datos","Sin datos","Sin datos","NOTIFICACIONES","Consulta general","Asuntos Jurídicos","REMISIÓN OFICIO 1436 PROCESO 2017-870","Radicar en ORFEO","OJ","No Registra"]
[1398,2022,"NOVIEMBRE","2022-11-23","07:07:00","CRISTHIAN CAMILO MONTAÑA HERNANDEZ","VIRTUAL","Correo electrónico","ccto12bt@cendoj.ramajudicial.gov.co","Entidades y Organismos Nacionales","Juzgado 12 Civil Circuito - Bogota - Bogota D.C. ","Entidades y Orgamismos Nacionales","Juzgado 12 Civil Circuito","N/A","N/A","Sin datos","Sin datos","Sin datos","Sin datos","NOTIFICACIONES","Consulta general","Asuntos Jurídicos","REMITO OFICIO 1415 ROCESO VERBAL DE MAYOR CUANTIA PERTENENCIA POR PRESCRIPCIÓN EXTRAORDINARIA ADQUISITIVA DE DOMINIO INSTAURADA POR JAIME LAVERDE DELGADO, CC. 19.125.836 CONTRA HEREDEROS INDETERMINADOS DE LA CAUSANTE ISABEL NIETO DE CAMPO","Radicar en ORFEO","OJ","No Registra"]
[1399,2022,"NOVIEMBRE","2022-11-23","07:08:00","CRISTHIAN CAMILO MONTAÑA HERNANDEZ","VIRTUAL","Correo electrónico","correspondencia@secretariajuridica.gov.co","Entidades y Organismos Distritales","Secretaría juridica Distrital","Entidades y Organismos Distritales","Correspondencia","Femenino","Mujer","Sin datos","Sin datos","Sin datos","Sin datos","PETICIONES ENTRE ENTIDADES","Consulta general","Peticiones entre entidades","Comunicación Oficial N° 2-2022-24175","Radicar en ORFEO","OJ","No Registra"]
[1400,2022,"NOVIEMBRE","2022-11-23","07:18:00","CRISTHIAN CAMILO MONTAÑA HERNANDEZ","VIRTUAL","Correo electrónico","buzonjudicial@sdp.gov.co","Entidades y Organismos Distritales","Secretaría Distrital de Planeación","Entidades y Organismos Distritales","buzon comunicaciones","Femenino","Mujer","Sin datos","Sin datos","Sin datos","Sin datos","PETICIONES ENTRE ENTIDADES","Consulta general","Peticiones entre entidades","2-2022-168836","Radicar en ORFEO","OJ","No Registra"]
[1401,2022,"NOVIEMBRE","2022-11-23","07:22:00","CRISTHIAN CAMILO MONTAÑA HERNANDEZ","VIRTUAL","Correo electrónico","cmpl78bt@cendoj.ramajudicial.gov.co","Entidades y Organismos Nacionales","Juzgado 12 Civil Circuito - Bogota - Bogota D.C. ","Entidades y Orgamismos Nacionales","Juzgado 12 Civil Circuito","N/A","N/A","Sin datos","Sin datos","Sin datos","Sin datos","NOTIFICACIONES","Consulta general","Asuntos Jurídicos","REMISIÓN OFICIO No. 1118 PARA TRAMITAR PROCESO 2021-00216","Radicar en ORFEO","OJ","No Registra"]
[1402,2022,"NOVIEMBRE","2022-11-23","08:59:00","CRISTHIAN CAMILO MONTAÑA HERNANDEZ","VIRTUAL","Correo electrónico","correspondencia@secretariajuridica.gov.co","Entidades y Organismos Distritales","Secretaría juridica Distrital","Entidades y Organismos Distritales","Correspondencia","Masculino","Hombre ","Sin datos","Sin datos","Sin datos","Sin datos","PETICIONES ENTRE ENTIDADES","Consulta general","Peticiones entre entidades","2-2022-24415 - COMUNICACION RESOLUCION 468 DE 2022","Radicar en ORFEO","DIRECCIÓN","No Registra"]
[1403,2022,"NOVIEMBRE","2022-11-23","09:30:00","CRISTHIAN CAMILO MONTAÑA HERNANDEZ","VIRTUAL","Correo electrónico","notificacionessuba@gobiernobogota.gov.co","Entidades y Organismos Distritales","Secretaría de Gobierno","Entidades y Organismos Distritales","salidas cdi suba","Femenino","Mujer","Sin datos","Sin datos","Sin datos","Sin datos","PETICIONES ENTRE ENTIDADES","Consulta general","Peticiones entre entidades","20226142106541 - SE DA RESPUESTA AL DADEP SEGUN EXPEDIENTE 2021614490102307E, CONEXION ILEGAL","Radicar en ORFEO","SGI","11 Suba"]
[1404,2022,"NOVIEMBRE","2022-11-23","09:36:00","CRISTHIAN CAMILO MONTAÑA HERNANDEZ","VIRTUAL","Correo electrónico","profesionalapoyo.diradministrativa@subredsur.gov.co","Entidades y Organismos Distritales","Subred sur","Entidades y Organismos Distritales","Funcionario","Masculino","Hombre ","Sin datos","Sin datos","Sin datos","Sin datos","PETICIONES ENTRE ENTIDADES","Consulta general","Peticiones entre entidades","SOLICITUD DE SUSCRIPCIÓN INSTRUMENTO DE COMODATO UNIDAD DE DESTINO, RUPI 2-2097","Radicar en ORFEO","SGI","No Registra"]
[1405,2022,"NOVIEMBRE","2022-11-23","09:37:00","CRISTHIAN CAMILO MONTAÑA HERNANDEZ","VIRTUAL","Correo electrónico","paolaa.torres@gobiernobogota.gov.co","Entidades y Organismos Distritales","Secretaría de Gobierno","Entidades y Organismos Distritales","Funcionario","Masculino","Hombre ","Sin datos","Sin datos","Sin datos","Sin datos","PETICIONES ENTRE ENTIDADES","Consulta general","Peticiones entre entidades","20225620467841 - Solicitud de Información. Referencia: Radicado 20225610055162","Radicar en ORFEO","SGI","06 Tunjuelito"]
[1406,2022,"NOVIEMBRE","2022-11-23","09:55:00","CRISTHIAN CAMILO MONTAÑA HERNANDEZ","VIRTUAL","Correo electrónico","idrdcorrespondencia@idrd.gov.co","Entidades y Organismos Distritales","Instituto Distrital de Recreación y Deportes","Entidades y Organismos Distritales","Correspondencia","Masculino","Hombre ","Sin datos","Sin datos","Sin datos","Sin datos","PETICIONES ENTRE ENTIDADES","Consulta general","Peticiones entre entidades","20224100252481 - Zonas de Cesión para parque producto de la Urbanización IVESUR Colombia de la localidad de Puente Aranda. Expediente Virtual No. 2021410660300196E","Radicar en ORFEO","SRI","16 Puente Aranda"]
[1407,2022,"NOVIEMBRE","2022-11-23","10:05:00","CRISTHIAN CAMILO MONTAÑA HERNANDEZ","VIRTUAL","Correo electrónico","idrdcorrespondencia@idrd.gov.co","Entidades y Organismos Distritales","Instituto Distrital de Recreación y Deportes","Entidades y Organismos Distritales","Correspondencia","Masculino","Hombre ","Sin datos","Sin datos","Sin datos","Sin datos","PETICIONES ENTRE ENTIDADES","Consulta general","Peticiones entre entidades","20224100252391 - Zonas de Cesión para parque producto de la Urbanización Brantevilla de la localidad de Suba. Expediente Virtual No. 2022410660300091E","Radicar en ORFEO","SRI","11 Suba"]
[1408,2022,"NOVIEMBRE","2022-11-23","10:10:00","CRISTHIAN CAMILO MONTAÑA HERNANDEZ","VIRTUAL","Correo electrónico","buzoncomunicaciones@sdp.gov.co","Entidades y Organismos Distritales","Secretaría Distrital de Planeación","Entidades y Organismos Distritales","buzon comunicaciones","Femenino","Mujer","Sin datos","Sin datos","Sin datos","Sin datos","PETICIONES ENTRE ENTIDADES","Consulta general","Peticiones entre entidades","2-2022-170574","Radicar en ORFEO","SRI","No Registra"]
[1409,2022,"NOVIEMBRE","2022-11-23","10:21:00","CRISTHIAN CAMILO MONTAÑA HERNANDEZ","VIRTUAL","Correo electrónico","lovalle@dadep.gov.co","Servidores públicos (funcionarios y contratistas)","DADEP","Servidores públicos (funcionarios y contratistas)","Servidor público","Femenino","Mujer","Sin datos","Sin datos","Sin datos","Sin datos","CONSULTA","Consulta general","Contratos jurídica","Solicitud de certificado Laboral contrato 110-00131-128-0-2022","Radicar en ORFEO","OJ","No Registra"]
[1410,2022,"NOVIEMBRE","2022-11-23","10:24:00","CRISTHIAN CAMILO MONTAÑA HERNANDEZ","VIRTUAL","Correo electrónico","danielramirez00260@gmail.com","Servidores públicos (funcionarios y contratistas)","Daniel Ramírez","Servidores públicos (funcionarios y contratistas)","Servidor público","Masculino","Hombre ","Sin datos","Sin datos","Sin datos","Sin datos","NOTIFICACIONES","Consulta general","Contratos jurídica","Solicitud de suspensión del contrato de prestación de servicios No. 110-00128-23-1-2022 del 14 de enero del 2022 ","Radicar en ORFEO","SRI","No Registra"]
[1411,2022,"NOVIEMBRE","2022-11-23","10:33:00","CRISTHIAN CAMILO MONTAÑA HERNANDEZ","VIRTUAL","Correo electrónico","vaguilera@dadep.gov.co","Entidades y Organismos Distritales","DADEP","Entidades y Organismos Distritales","Comunicaciones internas","Masculino","Hombre ","Sin datos","Sin datos","Sin datos","Sin datos","CONSULTA","Consulta general","Contratos jurídica","Solicitud Certificado Contrato 110-00131-145-0-2022","Radicar en ORFEO","OJ","No Registra"]
[1412,2022,"NOVIEMBRE","2022-11-23","10:56:00","CRISTHIAN CAMILO MONTAÑA HERNANDEZ","VIRTUAL","Correo electrónico","idrdcorrespondencia@idrd.gov.co","Entidades y Organismos Distritales","Instituto Distrital de Recreación y Deportes","Entidades y Organismos Distritales","Correspondencia","Masculino","Hombre ","Sin datos","Sin datos","Sin datos","Sin datos","PETICIONES ENTRE ENTIDADES","Consulta general","Peticiones entre entidades","20224100253571 - Vocación, lineamientos y características recreo deportivas para el desarrollo de las zonas de cesión para parque producto de la urbanización “Navarra” de la localidad de Fontibón. Expediente Virtual No. 2022410660300092E","Radicar en ORFEO","SRI","09 Fontibón"]
[1413,2022,"NOVIEMBRE","2022-11-23","11:00:00","CRISTHIAN CAMILO MONTAÑA HERNANDEZ","VIRTUAL","Correo electrónico","correspondencia@idiger.gov.co","Entidades y Organismos Distritales","Instituto Distrital de Gestión de Riesgos y Cambio Climático","Entidades y Organismos Distritales","Correspondencia","Femenino","Mujer","Sin datos","Sin datos","Sin datos","Sin datos","PETICIONES ENTRE ENTIDADES","Consulta general","Peticiones entre entidades","Radicado Idiger 2022ER18894 / 2022EE19085","Radicar en ORFEO","SGI","No Registra"]
[1414,2022,"NOVIEMBRE","2022-11-23","11:03:00","CRISTHIAN CAMILO MONTAÑA HERNANDEZ","VIRTUAL","Correo electrónico","correspondencia@idiger.gov.co","Entidades y Organismos Distritales","Instituto Distrital de Gestión de Riesgos y Cambio Climático","Entidades y Organismos Distritales","Correspondencia","Femenino","Mujer","Sin datos","Sin datos","Sin datos","Sin datos","PETICIONES ENTRE ENTIDADES","Consulta general","Peticiones entre entidades","Radicado Idiger 2022E18881 /2022EE19074","Radicar en ORFEO","SGI","No Registra"]
[1415,2022,"NOVIEMBRE","2022-11-23","11:04:00","CRISTHIAN CAMILO MONTAÑA HERNANDEZ","VIRTUAL","Correo electrónico","correspondencia@idiger.gov.co","Entidades y Organismos Distritales","Instituto Distrital de Gestión de Riesgos y Cambio Climático","Entidades y Organismos Distritales","Correspondencia","Femenino","Mujer","Sin datos","Sin datos","Sin datos","Sin datos","PETICIONES ENTRE ENTIDADES","Consulta general","Peticiones entre entidades","Radicado Idiger 2022ER18880 / 2022EE19073","Radicar en ORFEO","SGI","No Registra"]
[1416,2022,"NOVIEMBRE","2022-11-23","11:05:00","CRISTHIAN CAMILO MONTAÑA HERNANDEZ","VIRTUAL","Correo electrónico","correspondencia@idiger.gov.co","Entidades y Organismos Distritales","Instituto Distrital de Gestión de Riesgos y Cambio Climático","Entidades y Organismos Distritales","Correspondencia","Femenino","Mujer","Sin datos","Sin datos","Sin datos","Sin datos","PETICIONES ENTRE ENTIDADES","Consulta general","Peticiones entre entidades","Radicado idiger 2022ER18877/ 2022EE19072","Radicar en ORFEO","SGI","No Registra"]
[1417,2022,"NOVIEMBRE","2022-11-23","11:11:00","CRISTHIAN CAMILO MONTAÑA HERNANDEZ","VIRTUAL","Correo electrónico","idrdcorrespondencia@idrd.gov.co","Entidades y Organismos Distritales","Instituto Distrital de Recreación y Deportes","Entidades y Organismos Distritales","Correspondencia","Masculino","Hombre ","Sin datos","Sin datos","Sin datos","Sin datos","PETICIONES ENTRE ENTIDADES","Consulta general","Peticiones entre entidades","20224100252621 - Proyecto Específico de la zona de cesión “Parque No. 5” producto de la Etapa VB de la Urbanización Ciudadela El Porvenir de la localidad de Bosa. Expediente Virtual No. 2022410660300047E","Radicar en ORFEO","SRI","07 Bosa"]
[1418,2022,"NOVIEMBRE","2022-11-23","11:16:00","CRISTHIAN CAMILO MONTAÑA HERNANDEZ","VIRTUAL","Correo electrónico","idrdcorrespondencia@idrd.gov.co","Entidades y Organismos Distritales","Instituto Distrital de Recreación y Deportes","Entidades y Organismos Distritales","Correspondencia","Masculino","Hombre ","Sin datos","Sin datos","Sin datos","Sin datos","PETICIONES ENTRE ENTIDADES","Consulta general","Peticiones entre entidades","20224100252031 - Vocación, lineamientos y características recreo deportivas para el desarrollo de las zonas de cesión para parque que conforman el Parque Central La Felicidad de escala Estructurante producto del Plan Parcial y la urbanización","Radicar en ORFEO","SRI","09 Fontibón"]
[1419,2022,"NOVIEMBRE","2022-11-23","11:39:00","CRISTHIAN CAMILO MONTAÑA HERNANDEZ","VIRTUAL","Correo electrónico","Externa_Enviada_Virtual@shd.gov.co","Entidades y Organismos Distritales","Secretaría de Hacienda Distrital","Entidades y Organismos Distritales","Correspondencia","Masculino","Hombre ","Sin datos","Sin datos","Sin datos","Sin datos","PETICIONES ENTRE ENTIDADES","Consulta general","Peticiones entre entidades","(R2022EE561390O1) 2022EE561390O1 YC","Radicar en ORFEO","SGI","No Registra"]
[1420,2022,"NOVIEMBRE","2022-11-23","11:44:00","CRISTHIAN CAMILO MONTAÑA HERNANDEZ","VIRTUAL","Correo electrónico","asisgerencia@Signumimagen.com","Empresas privadas","Signum Imagen Sas ","Empresas Privadas","Ciudadanía","Femenino","Mujer","Sin datos","Sin datos","Sin datos","Sin datos","ASESORÍA","Estudio de la viabilidad de las solicitudes de administración de bienes públicos","Viabilidad Decreto 070 / 2022 BACA 2.0","Sra.SANDRA LILIANA PIRACÓN–Solicitud estrategia Bogota A Cielo Abierto – 2021ER6570","Radicar en ORFEO","SGI","No Registra"]
[1421,2022,"NOVIEMBRE","2022-11-23","11:48:00","CRISTHIAN CAMILO MONTAÑA HERNANDEZ","VIRTUAL","Correo electrónico","notificaciones_catastro@catastrobogota.gov.co","Entidades y Organismos Distritales","Catastro de Bogotá","Entidades y Organismos Distritales","Notificaciones","Femenino","Mujer","Sin datos","Sin datos","Sin datos","Sin datos","PETICIONES ENTRE ENTIDADES","Consulta general","Peticiones entre entidades","UAECD 2022 EE 85286 (uaecd 2022 er 41534)","Radicar en ORFEO","SRI","No Registra"]
[1422,2022,"NOVIEMBRE","2022-11-23","12:00:00","CRISTHIAN CAMILO MONTAÑA HERNANDEZ","VIRTUAL","Correo electrónico","correspondencia.i.dadep247@interdisenos.com.co","Empresas privadas","interdisenos","Empresas Privadas","Correspondencia","Femenino","Mujer","Sin datos","Sin datos","Sin datos","Sin datos","NOTIFICACIONES","Estudio de la viabilidad de las solicitudes de administración de bienes públicos","CAMEP Contrato de administración y mantenimiento","GDADEP-979-22 RESPUESTA A SU OFICIO PLAZO PARA INFORMACIÓN SOBRE LA EXPOSICIÓN DE LA MARCA JCDECAUX","Radicar en ORFEO","SGI","No Registra"]
[1423,2022,"NOVIEMBRE","2022-11-23","12:04:00","CRISTHIAN CAMILO MONTAÑA HERNANDEZ","VIRTUAL","Correo electrónico","cdiinspecciones.kennedy@gobiernobogota.gov.co","Entidades y Organismos Distritales","Secretaría de Gobierno","Entidades y Organismos Distritales","CDI Kennedy","Femenino","Mujer","Sin datos","Sin datos","Sin datos","Sin datos","PETICIONES ENTRE ENTIDADES","Consulta general","Peticiones entre entidades","20225843421301 - Radicado Orfeo 20225810026672","Radicar en ORFEO","SGI","08 Kennedy"]
[1424,2022,"NOVIEMBRE","2022-11-23","12:04:00","CRISTHIAN CAMILO MONTAÑA HERNANDEZ","VIRTUAL","Correo electrónico","oscar.cardenas@uaesp.gov.co","Entidades y Organismos Distritales","Unidad Administrativa Especial de Servicios Públicos","Entidades y Organismos Distritales","Funcionario","Femenino","Mujer","Sin datos","Sin datos","Sin datos","Sin datos","PETICIONES ENTRE ENTIDADES","Consulta general","Peticiones entre entidades","Oficio UAESP 20224000 259981-Infraestructura de alumbrado publico - parque con codigo 11-191, barrio Lagos de Cordoba de Suba.","Radicar en ORFEO","SRI","11 Suba"]
[1425,2022,"NOVIEMBRE","2022-11-23","12:05:00","CRISTHIAN CAMILO MONTAÑA HERNANDEZ","VIRTUAL","Correo electrónico","correspondenciaexternaenviada@participacionbogota.gov.co","Entidades y Organismos Distritales","Participación Bogotá","Entidades y Organismos Distritales","Correspondencia","Masculino","Hombre ","Sin datos","Sin datos","Sin datos","Sin datos","PETICIONES ENTRE ENTIDADES","Consulta general","Peticiones entre entidades","RADICADO 20223000189361","Radicar en ORFEO","DIRECCIÓN","No Registra"]
[1426,2022,"NOVIEMBRE","2022-11-23","12:05:00","CRISTHIAN CAMILO MONTAÑA HERNANDEZ","VIRTUAL","Correo electrónico","notificaciones_catastro@catastrobogota.gov.co","Entidades y Organismos Distritales","Catastro de Bogotá","Entidades y Organismos Distritales","Notificaciones","Femenino","Mujer","Sin datos","Sin datos","Sin datos","Sin datos","PETICIONES ENTRE ENTIDADES","Consulta general","Peticiones entre entidades","UAECD 2022 EE 85305 (uaecd 2022 er 41536) ","Radicar en ORFEO","SRI","No Registra"]
[1427,2022,"NOVIEMBRE","2022-11-23","12:05:00","CRISTHIAN CAMILO MONTAÑA HERNANDEZ","VIRTUAL","Correo electrónico","cdi.kennedy@gobiernobogota.gov.co","Entidades y Organismos Distritales","Secretaría de Gobierno","Entidades y Organismos Distritales","CDI Kennedy","Femenino","Mujer","Sin datos","Sin datos","Sin datos","Sin datos","PETICIONES ENTRE ENTIDADES","Consulta general","Peticiones entre entidades","Remito oficio No 20225833222961","Responder a correo electronico","AREA DE ATENCION A LA CIUDADANIA","08 Kennedy"]
[1428,2022,"NOVIEMBRE","2022-11-23","12:06:00","CRISTHIAN CAMILO MONTAÑA HERNANDEZ","VIRTUAL","Correo electrónico","cdi.kennedy@gobiernobogota.gov.co","Entidades y Organismos Distritales","Secretaría de Gobierno","Entidades y Organismos Distritales","CDI Kennedy","Femenino","Mujer","Sin datos","Sin datos","Sin datos","Sin datos","PETICIONES ENTRE ENTIDADES","Consulta general","Peticiones entre entidades","Remito oficio No 20225833230401","Radicar en ORFEO","SGI","08 Kennedy"]
[1429,2022,"NOVIEMBRE","2022-11-23","12:06:00","CRISTHIAN CAMILO MONTAÑA HERNANDEZ","VIRTUAL","Correo electrónico","siga@habitatbogota.gov.co","Entidades y Organismos Distritales","Secretaría de Habitat","Entidades y Organismos Distritales","SIGA","Femenino","Mujer","Sin datos","Sin datos","Sin datos","Sin datos","PETICIONES ENTRE ENTIDADES","Consulta general","Peticiones entre entidades","Comunicación Oficial N° 2-2022-71642","Radicar en ORFEO","DIRECCIÓN","No Registra"]
[1430,2022,"NOVIEMBRE","2022-11-23","12:06:00","CRISTHIAN CAMILO MONTAÑA HERNANDEZ","VIRTUAL","Correo electrónico","respuestasrbl@uaesp.gov.co","Entidades y Organismos Distritales","Unidad Administrativa Especial de Servicios Públicos","Entidades y Organismos Distritales","Funcionario","Masculino","Hombre ","Sin datos","Sin datos","Sin datos","Sin datos","PETICIONES ENTRE ENTIDADES","Consulta general","Peticiones entre entidades","Remito radicado UAESP 20222000263691","Radicar en ORFEO","SRI","19 Ciudad Bolívar"]
[1431,2022,"NOVIEMBRE","2022-11-23","12:17:00","CRISTHIAN CAMILO MONTAÑA HERNANDEZ","VIRTUAL","Correo electrónico","notificaciones_catastro@catastrobogota.gov.co","Entidades y Organismos Distritales","Catastro de Bogotá","Entidades y Organismos Distritales","Notificaciones","Femenino","Mujer","Sin datos","Sin datos","Sin datos","Sin datos","PETICIONES ENTRE ENTIDADES","Consulta general","Peticiones entre entidades","UAECD 2022 EE 85320 (uaecd 2022 er 41380)","Radicar en ORFEO","SRI","No Registra"]
[1432,2022,"NOVIEMBRE","2022-11-23","12:19:00","CRISTHIAN CAMILO MONTAÑA HERNANDEZ","VIRTUAL","Correo electrónico","correspondenciaexternaenviada@participacionbogota.gov.co","Entidades y Organismos Distritales","Participación Bogotá","Entidades y Organismos Distritales","Correspondencia","Masculino","Hombre ","Sin datos","Sin datos","Sin datos","Sin datos","PETICIONES ENTRE ENTIDADES","Consulta general","Peticiones entre entidades","RADICADO 20223000189361","Radicar en ORFEO","SGI","No Registra"]
[1433,2022,"NOVIEMBRE","2022-11-23","12:33:00","CRISTHIAN CAMILO MONTAÑA HERNANDEZ","VIRTUAL","Correo electrónico","gloriainesagudo@gmail.com","Empresas privadas","Bosques Granada","Empresas Privadas","Ciudadanía","N/A","N/A","Sin datos","Sin datos","Sin datos","Sin datos","NOTIFICACIONES","Estudio de la viabilidad de las solicitudes de administración de bienes públicos","CAMEP Contrato de administración y mantenimiento","Invitación a tercera socialización con la comunidad contrato 400-00129-356-0-2022","Radicar en ORFEO","SGI","10 Engativá"]
[1434,2022,"NOVIEMBRE","2022-11-23","12:52:00","CRISTHIAN CAMILO MONTAÑA HERNANDEZ","VIRTUAL","Correo electrónico","salidascdi.suba@gobiernobogota.gov.co","Entidades y Organismos Distritales","Secretaría de Gobierno","Entidades y Organismos Distritales","salidas cdi suba","Femenino","Mujer","Sin datos","Sin datos","Sin datos","Sin datos","PETICIONES ENTRE ENTIDADES","Consulta general","Peticiones entre entidades","Comunicación de reparto radicado DADEP N.o 20223010160601","Radicar en ORFEO","SGI","11 Suba"]
[1435,2022,"NOVIEMBRE","2022-11-23","12:57:00","CRISTHIAN CAMILO MONTAÑA HERNANDEZ","VIRTUAL","Correo electrónico","cooagropaz.2018@gmail.com","Empresas privadas","COOPERATIVA COOAGROPAZ ","Empresas Privadas","Ciudadanía","N/A","N/A","Sin datos","Sin datos","Sin datos","Sin datos","ASESORÍA","Asesoría en administración y sostenibilidad del espacio público","Asesoría en temas de espacio público","Alcance a la solicitud con Radicado No. 20224000240492 del 06 de octubre de 2022","Radicar en ORFEO","SGI","No Registra"]
[1436,2022,"NOVIEMBRE","2022-11-23","13:30:00","CRISTHIAN CAMILO MONTAÑA HERNANDEZ","VIRTUAL","Correo electrónico","notificaciones_catastro@catastrobogota.gov.co","Entidades y Organismos Distritales","Catastro de Bogotá","Entidades y Organismos Distritales","Notificaciones","Femenino","Mujer","Sin datos","Sin datos","Sin datos","Sin datos","PETICIONES ENTRE ENTIDADES","Consulta general","Peticiones entre entidades","UAECD 2022 EE 85399 (uaecd 2022 er 41089) ","Radicar en ORFEO","SRI","No Registra"]
[1437,2022,"NOVIEMBRE","2022-11-23","13:33:00","CRISTHIAN CAMILO MONTAÑA HERNANDEZ","VIRTUAL","Correo electrónico","notificaciones_catastro@catastrobogota.gov.co","Entidades y Organismos Distritales","Catastro de Bogotá","Entidades y Organismos Distritales","Notificaciones","Femenino","Mujer","Sin datos","Sin datos","Sin datos","Sin datos","PETICIONES ENTRE ENTIDADES","Consulta general","Peticiones entre entidades","UAECD 2022 EE 85412 (uaecd 2022 er 41530)","Radicar en ORFEO","SRI","No Registra"]
[1438,2022,"NOVIEMBRE","2022-11-23","13:46:00","CRISTHIAN CAMILO MONTAÑA HERNANDEZ","VIRTUAL","Correo electrónico","idrdcorrespondencia@idrd.gov.co","Entidades y Organismos Distritales","Instituto Distrital de Recreación y Deportes","Entidades y Organismos Distritales","Correspondencia","Masculino","Hombre ","Sin datos","Sin datos","Sin datos","Sin datos","PETICIONES ENTRE ENTIDADES","Consulta general","Peticiones entre entidades","20224200253941 - Acuso de recibo radicado IDRD 20222100326002 y 20222100335082. Solicitud recibo zona de Cesión Urbanización tierra Colina, con póliza de estabilidad vigente.","Radicar en ORFEO","SRI","11 Suba"]
[1439,2022,"NOVIEMBRE","2022-11-23","12:40:00","CRISTHIAN CAMILO MONTAÑA HERNANDEZ","VIRTUAL","Correo electrónico","asointermedias@gmail.com","Empresas privadas","Asointermedias ","Empresas Privadas","Ciudadanía","Masculino","Hombre ","Sin datos","Sin datos","Sin datos","Sin datos","ASESORÍA","Asesoría en administración y sostenibilidad del espacio público","Asesoría en temas de espacio público","Alcance 20224000278502  - Remisión de documentos solicitados para comodato","Radicar en ORFEO","SGI","No Registra"]
[1440,2022,"NOVIEMBRE","2022-11-23","14:19:00","CRISTHIAN CAMILO MONTAÑA HERNANDEZ","VIRTUAL","Correo electrónico","idrdcorrespondencia@idrd.gov.co","Entidades y Organismos Distritales","Instituto Distrital de Recreación y Deportes","Entidades y Organismos Distritales","Correspondencia","Masculino","Hombre ","Sin datos","Sin datos","Sin datos","Sin datos","PETICIONES ENTRE ENTIDADES","Consulta general","Peticiones entre entidades","20224200252121 - Acuso de recibo rad IDRD 20222100351922, DADEP 20222010180601. Estado de recibo zona de cesión Urbanización Lares de Fontibón","Radicar en ORFEO","SRI","09 Fontibón"]
[1441,2022,"NOVIEMBRE","2022-11-23","14:19:00","CRISTHIAN CAMILO MONTAÑA HERNANDEZ","VIRTUAL","Correo electrónico","cdi.engativa@gobiernobogota.gov.co","Entidades y Organismos Distritales","Secretaría de Gobierno","Entidades y Organismos Distritales","CDI Engativá","Femenino","Mujer","Sin datos","Sin datos","Sin datos","Sin datos","PETICIONES ENTRE ENTIDADES","Consulta general","Peticiones entre entidades",20226000000000,"Radicar en ORFEO","SGI","10 Engativá"]
[1442,2022,"NOVIEMBRE","2022-11-23","14:29:00","CRISTHIAN CAMILO MONTAÑA HERNANDEZ","VIRTUAL","Correo electrónico","correspondencia.i.dadep378@interdisenos.com.co","Empresas privadas","interdisenos","Empresas Privadas","Correspondencia","Femenino","Mujer","Sin datos","Sin datos","Sin datos","Sin datos","NOTIFICACIONES","Estudio de la viabilidad de las solicitudes de administración de bienes públicos","CAMEP Contrato de administración y mantenimiento","GDADEP06-0567-HUB136-OBRA-CL-673-2022 TRIMESTRAL AMBIENTAL -SST 5 v0","Radicar en ORFEO","SGI","No Registra"]
[1443,2022,"NOVIEMBRE","2022-11-23","14:34:00","CRISTHIAN CAMILO MONTAÑA HERNANDEZ","VIRTUAL","Correo electrónico","cmpl09bt@cendoj.ramajudicial.gov.co","Entidades y Organismos Nacionales","Juzgado 12 Civil Circuito - Bogota - Bogota D.C. ","Entidades y Orgamismos Nacionales","Juzgado 12 Civil Circuito","N/A","N/A","Sin datos","Sin datos","Sin datos","Sin datos","NOTIFICACIONES","Consulta general","Asuntos Jurídicos","REMISIÓN OFICIO 1804 PROCESO 2022-903 ENTIDADES","Radicar en ORFEO","OJ","No Registra"]
[1444,2022,"NOVIEMBRE","2022-11-23","14:43:00","CRISTHIAN CAMILO MONTAÑA HERNANDEZ","VIRTUAL","Correo electrónico","jeison.prada@gobiernobogota.gov.co","Entidades y Organismos Distritales","Secretaría de Gobierno","Entidades y Organismos Distritales","Funcionario","Masculino","Hombre ","Sin datos","Sin datos","Sin datos","Sin datos","PETICIONES ENTRE ENTIDADES","Consulta general","Peticiones entre entidades","Envió oficio 20225900819711 Asunto: Invitación mesa de trabajo el Recodo","Radicar en ORFEO","SGI","09 Fontibón"]
[1445,2022,"NOVIEMBRE","2022-11-23","14:44:00","CRISTHIAN CAMILO MONTAÑA HERNANDEZ","VIRTUAL","Correo electrónico","puntoidu.tacgrupo3@ohla-colombia.com.co","Empresas privadas","Punto Idu Tac Grupo3","Empresas Privadas","Punto Idu Tac Grupo3","N/A","N/A","Sin datos","Sin datos","Sin datos","Sin datos","ASESORÍA","Asesoría en administración y sostenibilidad del espacio público","Asesoría en temas de espacio público","Volante N° 47 - 6° Reunión virtual del Comité IDU Grupo 3.","Radicar en ORFEO","SGI","No Registra"]
[1446,2022,"NOVIEMBRE","2022-11-23","15:03:00","CRISTHIAN CAMILO MONTAÑA HERNANDEZ","VIRTUAL","Correo electrónico","ventanillaunica@eru.gov.co","Entidades y Organismos Distritales","Empresa de Renovación y Desarrollo Urbano de Bogotá","Entidades y Organismos Distritales","Ventanilla única","Femenino","Mujer","Sin datos","Sin datos","Sin datos","Sin datos","PETICIONES ENTRE ENTIDADES","Consulta general","Peticiones entre entidades","S2022004864 - Saneamiento espacio público – Plan Parcial de Renovación Urbana San Bernardo – Tercer Milenio","Radicar en ORFEO","SRI","No Registra"]
[1447,2022,"NOVIEMBRE","2022-11-23","15:10:00","CRISTHIAN CAMILO MONTAÑA HERNANDEZ","VIRTUAL","Correo electrónico","sonia.santos@gobiernobogota.gov.co","Entidades y Organismos Distritales","Secretaría de Gobierno","Entidades y Organismos Distritales","Funcionario","Masculino","Hombre ","Sin datos","Sin datos","Sin datos","Sin datos","PETICIONES ENTRE ENTIDADES","Consulta general","Peticiones entre entidades","Envío oficio No 20225920800431 Solicitud concepto estado Parques de la Localidad de Fontibón","Radicar en ORFEO","SGI","09 Fontibón"]
[1448,2022,"NOVIEMBRE","2022-11-23","15:10:00","CRISTHIAN CAMILO MONTAÑA HERNANDEZ","VIRTUAL","Correo electrónico","ventanillaunica@eru.gov.co","Entidades y Organismos Distritales","Empresa de Renovación y Desarrollo Urbano de Bogotá","Entidades y Organismos Distritales","Ventanilla única","Femenino","Mujer","Sin datos","Sin datos","Sin datos","Sin datos","PETICIONES ENTRE ENTIDADES","Consulta general","Peticiones entre entidades","S2022004836 - Respuesta a su oficio No, DADEP 20222010166441 de fecha 2 de octubre de2022, Requerimiento urbanizador – Entrega de zonas de cesión al Distrito Capital Unidad de Gestión 2 – Plan Parcial Tres Quebradas","Radicar en ORFEO","SRI","No Registra"]
[1449,2022,"NOVIEMBRE","2022-11-23","15:14:00","CRISTHIAN CAMILO MONTAÑA HERNANDEZ","VIRTUAL","Correo electrónico","salidascdi.suba@gobiernobogota.gov.co","Entidades y Organismos Distritales","Secretaría de Gobierno","Entidades y Organismos Distritales","salidas cdi suba","Masculino","Hombre ","Sin datos","Sin datos","Sin datos","Sin datos","PETICIONES ENTRE ENTIDADES","Consulta general","Peticiones entre entidades","RADICADO 20226122047921","Radicar en ORFEO","SGI","11 Suba"]
[1450,2022,"NOVIEMBRE","2022-11-23","15:15:00","CRISTHIAN CAMILO MONTAÑA HERNANDEZ","VIRTUAL","Correo electrónico","juridico@legalplusabogados.com","Empresas privadas","Legal Plus Abogados","Empresas Privadas","Juridico","N/A","N/A","Sin datos","Sin datos","Sin datos","Sin datos","CONSULTA","Consulta general","Asuntos Jurídicos","RADICACION OFICIO No. 700 PROCESO DE PERTENENCIA 11001310300920220021800","Radicar en ORFEO","OJ","No Registra"]
[1451,2022,"NOVIEMBRE","2022-11-23","15:25:00","CRISTHIAN CAMILO MONTAÑA HERNANDEZ","VIRTUAL","Correo electrónico","notificaciones_catastro@catastrobogota.gov.co","Entidades y Organismos Distritales","Catastro de Bogotá","Entidades y Organismos Distritales","Notificaciones","Femenino","Mujer","Sin datos","Sin datos","Sin datos","Sin datos","PETICIONES ENTRE ENTIDADES","Consulta general","Peticiones entre entidades","Notificación del tramite 2022 - 408226","Radicar en ORFEO","SRI","No Registra"]
[1452,2022,"NOVIEMBRE","2022-11-23","15:32:00","CRISTHIAN CAMILO MONTAÑA HERNANDEZ","VIRTUAL","Correo electrónico","ypaezh@acueducto.com.co","Entidades y Organismos Distritales","Acueducto","Entidades y Organismos Distritales","Funcionario","Masculino","Hombre ","Sin datos","Sin datos","Sin datos","Sin datos","PETICIONES ENTRE ENTIDADES","Consulta general","Peticiones entre entidades","RADICADO (919) CORI 2510001-S-2022-306761 - Radicado EAAB No. E-2022-093865 radicado No. 20225620448091 de la Alcaldía Local de Tunjuelito - Entrega Parques de bolsillo CORREDOR AMBIENTAL DEL RIO TUNJUELO – CHIGUAZA. ","Radicar en ORFEO","SRI","No Registra"]
[1453,2022,"NOVIEMBRE","2022-11-23","15:42:00","CRISTHIAN CAMILO MONTAÑA HERNANDEZ","VIRTUAL","Correo electrónico","jalejoraga@gmail.com","Ciudadanía","Ale Jo ","Ciudadanía","Ciudadanía","Masculino","Hombre ","Sin datos","Sin datos","Sin datos","Sin datos","ASESORÍA","Asesoría en administración y sostenibilidad del espacio público","Asesoría en temas de espacio público","ESTABLECIEMIENTO DE PARQUEADEROS Y BOTADEROS DE DESECHOS","Radicar en ORFEO","SGI","No Registra"]
[1454,2022,"NOVIEMBRE","2022-11-24","16:04:00","CRISTHIAN CAMILO MONTAÑA HERNANDEZ","VIRTUAL","Correo electrónico","mofajardo@alianza.com.co","Empresas privadas","Alianza Fiduciaria","Empresas Privadas","Ciudadanía","Femenino","Mujer","Sin datos","Sin datos","Sin datos","Sin datos","NOTIFICACIONES","Estudio de la viabilidad de las solicitudes de administración de bienes públicos","CAMEP Contrato de administración y mantenimiento","Notificación ingreso de Giros Equity – Cuenta Proyecto FIDEICOMISO HUB MOVILIDAD CALLE 136 ALIANZA FIDUCIARIA S.A","Radicar en ORFEO","SGI","01 Usaquén"]
[1455,2022,"NOVIEMBRE","2022-11-24","16:23:00","CRISTHIAN CAMILO MONTAÑA HERNANDEZ","VIRTUAL","Correo electrónico","administradorsiga@alcaldiabogota.gov.co","Entidades y Organismos Distritales","Alcaldía Mayor de Bogotá","Entidades y Organismos Distritales","Administrador SIGA","Femenino","Mujer","Sin datos","Sin datos","Sin datos","Sin datos","PETICIONES ENTRE ENTIDADES","Consulta general","Peticiones entre entidades","Comunicación Oficial N° 2-2022-33599","Radicar en ORFEO","SGC","No Registra"]
[1456,2022,"NOVIEMBRE","2022-11-24","16:23:00","CRISTHIAN CAMILO MONTAÑA HERNANDEZ","VIRTUAL","Correo electrónico","andres.redondo@gobiernobogota.gov.co","Entidades y Organismos Distritales","Secretaría de Gobierno","Entidades y Organismos Distritales","Funcionario","Femenino","Mujer","Sin datos","Sin datos","Sin datos","Sin datos","PETICIONES ENTRE ENTIDADES","Consulta general","Peticiones entre entidades","20226841548841 - Respuesta Radicado No. 20226810124772 – Radicado DADEP: Radicado DADEP No. 20223030167311","Radicar en ORFEO","SGI","18 Rafael Uribe Uribe"]
[1457,2022,"NOVIEMBRE","2022-11-24","16:33:00","CRISTHIAN CAMILO MONTAÑA HERNANDEZ","VIRTUAL","Correo electrónico","angie.sanchez@scrd.gov.co","Entidades y Organismos Distritales","Secretaría de Cultura, Recreación y Deporte","Entidades y Organismos Distritales","Funcionario","Masculino","Hombre ","Sin datos","Sin datos","Sin datos","Sin datos","PETICIONES ENTRE ENTIDADES","Consulta general","Peticiones entre entidades","Seguimiento Política Pública Distrital de Espacio Público tercer trimestre de 2022","Radicar en ORFEO","DIRECCIÓN","No Registra"]
[1458,2022,"NOVIEMBRE","2022-11-24","16:36:00","CRISTHIAN CAMILO MONTAÑA HERNANDEZ","VIRTUAL","Correo electrónico","isagr802@hotmail.es","Juntas de Acción Comunal (JAC)","JAC LAS LUCES","Juntas de Acción Comunal (JAC)","Ciudadanía","N/A","N/A","Sin datos","Sin datos","Sin datos","Sin datos","NOTIFICACIONES","Estudio de la viabilidad de las solicitudes de administración de bienes públicos","CAMEP Contrato de administración y mantenimiento","COTIZACION REPARQUEO PARQUEADERO","Radicar en ORFEO","SGI","No Registra"]
[1459,2022,"NOVIEMBRE","2022-11-24","16:48:00","CRISTHIAN CAMILO MONTAÑA HERNANDEZ","VIRTUAL","Correo electrónico","correspondencia.enviada2@idu.gov.co","Entidades y Organismos Distritales","Instituto de Desarrollo Urbano","Entidades y Organismos Distritales","correspondencia","Femenino","Mujer","Sin datos","Sin datos","Sin datos","Sin datos","PETICIONES ENTRE ENTIDADES","Consulta general","Peticiones entre entidades","RADICADO IDU N° 20223251806821 DEL 21 DE NOVIEMBRE 2022","Radicar en ORFEO","SRI","No Registra"]
[1460,2022,"NOVIEMBRE","2022-11-24","17:01:00","CRISTHIAN CAMILO MONTAÑA HERNANDEZ","VIRTUAL","Correo electrónico","correspondencia.i.dadep378@interdisenos.com.co","Empresas privadas","interdisenos","Empresas Privadas","Correspondencia","Femenino","Mujer","Sin datos","Sin datos","Sin datos","Sin datos","NOTIFICACIONES","Estudio de la viabilidad de las solicitudes de administración de bienes públicos","CAMEP Contrato de administración y mantenimiento","GDADEP06-0569-22 HUB HUB 136-OBRA-CL-715-202 ReintegoSBAS","Radicar en ORFEO","SGI","No Registra"]
[1461,2022,"NOVIEMBRE","2022-11-24","17:33:00","CRISTHIAN CAMILO MONTAÑA HERNANDEZ","VIRTUAL","Correo electrónico","salidascdi.suba@gobiernobogota.gov.co","Entidades y Organismos Distritales","Secretaría de Gobierno","Entidades y Organismos Distritales","salidas cdi suba","Femenino","Mujer","Sin datos","Sin datos","Sin datos","Sin datos","PETICIONES ENTRE ENTIDADES","Consulta general","Peticiones entre entidades","RADICADO 20226142125911","Radicar en ORFEO","SGI","11 Suba"]
[1462,2022,"NOVIEMBRE","2022-11-24","17:55:00","CRISTHIAN CAMILO MONTAÑA HERNANDEZ","VIRTUAL","Correo electrónico","Alcalde.Ruribe@gobiernobogota.gov.co","Entidades y Organismos Distritales","Secretaría de Gobierno","Entidades y Organismos Distritales","Alcaldía Rafael Uribe Uribe","Masculino","Hombre ","Sin datos","Sin datos","Sin datos","Sin datos","PETICIONES ENTRE ENTIDADES","Consulta general","Peticiones entre entidades","Convocatoria a mesa de trabajo Casa de la Juventud","Radicar en ORFEO","SGI","18 Rafael Uribe Uribe"]
[1463,2022,"NOVIEMBRE","2022-11-24","20:18:00","CRISTHIAN CAMILO MONTAÑA HERNANDEZ","VIRTUAL","Correo electrónico","buzon.areatecnica@idrd.gov.co","Entidades y Organismos Distritales","Instituto Distrital de Recreación y Deportes","Entidades y Organismos Distritales","Correspondencia","Masculino","Hombre ","Sin datos","Sin datos","Sin datos","Sin datos","PETICIONES ENTRE ENTIDADES","Consulta general","Peticiones entre entidades","20224100254391 - Respuesta al Rad. 20222100339312 del 09 de noviembre de 2022","Radicar en ORFEO","SRI","No Registra"]
[1464,2022,"NOVIEMBRE","2022-11-24","08:08:00","CRISTHIAN CAMILO MONTAÑA HERNANDEZ","VIRTUAL","Correo electrónico","correspondenciaexternaenviada@participacionbogota.gov.co","Entidades y Organismos Distritales","Participación Bogotá","Entidades y Organismos Distritales","Correspondencia","Masculino","Hombre ","Sin datos","Sin datos","Sin datos","Sin datos","PETICIONES ENTRE ENTIDADES","Consulta general","Peticiones entre entidades","RADICADO 20223000202711","Radicar en ORFEO","SGI","No Registra"]
[1465,2022,"NOVIEMBRE","2022-11-24","08:14:00","CRISTHIAN CAMILO MONTAÑA HERNANDEZ","VIRTUAL","Correo electrónico","buzoncomunicaciones@sdp.gov.co","Entidades y Organismos Distritales","Secretaría Distrital de Planeación","Entidades y Organismos Distritales","buzon comunicaciones","Femenino","Mujer","Sin datos","Sin datos","Sin datos","Sin datos","PETICIONES ENTRE ENTIDADES","Consulta general","Peticiones entre entidades","2-2022-171628","Radicar en ORFEO","SRI","No Registra"]
[1466,2022,"NOVIEMBRE","2022-11-24","08:18:00","CRISTHIAN CAMILO MONTAÑA HERNANDEZ","VIRTUAL","Correo electrónico","notificadorD@supernotariado.gov.co","Entidades y Organismos Nacionales","Supernotariado","Entidades y Orgamismos Distritales","Notificaciones","Femenino","Mujer","Sin datos","Sin datos","Sin datos","Sin datos","PETICIONES ENTRE ENTIDADES","Consulta general","Peticiones entre entidades","Respuesta PQRSD de la Superintendencia de Notariado y Registro / SNR2022EE137089","Radicar en ORFEO","DIRECCIÓN","No Registra"]
[1467,2022,"NOVIEMBRE","2022-11-24","08:24:00","CRISTHIAN CAMILO MONTAÑA HERNANDEZ","VIRTUAL","Correo electrónico","correspondencia@veeduriadistrital.gov.co","Entidades y Organismos Distritales","veeduría distrital","Entidades y Organismos Distritales","Correspondencia","Femenino","Mujer","Sin datos","Sin datos","Sin datos","Sin datos","PETICIONES ENTRE ENTIDADES","Consulta general","Peticiones entre entidades","20221000000084 - Alerta Preventiva por la variación en la TRM y su impacto en la contratación a través de la cual se da cumplimiento al Plan Distrital de Desarrollo","Radicar en ORFEO","DIRECCIÓN","No Registra"]
[1468,2022,"NOVIEMBRE","2022-11-24","08:41:00","CRISTHIAN CAMILO MONTAÑA HERNANDEZ","VIRTUAL","Correo electrónico","cvpgestiondocumental@cajaviviendapopular.gov.co","Entidades y Organismos Distritales","Caja de vivienda popular","Entidades y Organismos Distritales","gestión documental","Masculino","Hombre ","Sin datos","Sin datos","Sin datos","Sin datos","PETICIONES ENTRE ENTIDADES","Consulta general","Peticiones entre entidades","RAD 202214000231041 Solicitud de certificación para trámites de Actos de reconocimiento de predios con los Ship Catastral AAA0028AHSY y AAA0209TEHY.","Radicar en ORFEO","SRI","No Registra"]
[1469,2022,"NOVIEMBRE","2022-11-24","08:51:00","CRISTHIAN CAMILO MONTAÑA HERNANDEZ","VIRTUAL","Correo electrónico","buzoncomunicaciones@sdp.gov.co","Entidades y Organismos Distritales","Secretaría Distrital de Planeación","Entidades y Organismos Distritales","buzon comunicaciones","Femenino","Mujer","Sin datos","Sin datos","Sin datos","Sin datos","PETICIONES ENTRE ENTIDADES","Consulta general","Peticiones entre entidades","2-2022-171663","Radicar en ORFEO","SRI","No Registra"]
[1470,2022,"NOVIEMBRE","2022-11-24","08:56:00","CRISTHIAN CAMILO MONTAÑA HERNANDEZ","VIRTUAL","Correo electrónico","moranvillalbajesuscamilo@gmail.com","Ciudadanía","Jesús Camilo Morán Villalba","Entidades y Orgamismos Distritales","Ciudadanía","Masculino","Hombre ","Sin datos","Sin datos","Sin datos","Sin datos","ASESORÍA","Estudio de la viabilidad de las solicitudes de administración de bienes públicos","Autorización de uso","Prestamos salón comunal barrio La Alquería.","Radicar en ORFEO","SGI","16 Puente Aranda"]
[1471,2022,"NOVIEMBRE","2022-11-24","09:04:00","CRISTHIAN CAMILO MONTAÑA HERNANDEZ","VIRTUAL","Correo electrónico","idrdcorrespondencia@idrd.gov.co","Entidades y Organismos Distritales","Instituto Distrital de Recreación y Deportes","Entidades y Organismos Distritales","Correspondencia","Masculino","Hombre ","Sin datos","Sin datos","Sin datos","Sin datos","PETICIONES ENTRE ENTIDADES","Consulta general","Peticiones entre entidades","20224100251651 - Ubicación parque Regional La Florida - Predio Público de no cesión RUPI No. 1-4138","Radicar en ORFEO","SRI","10 Engativá"]
[1472,2022,"NOVIEMBRE","2022-11-24","09:09:00","CRISTHIAN CAMILO MONTAÑA HERNANDEZ","VIRTUAL","Correo electrónico","cvpgestiondocumental@cajaviviendapopular.gov.co","Entidades y Organismos Distritales","Caja de vivienda popular","Entidades y Organismos Distritales","gestión documental","Masculino","Hombre ","Sin datos","Sin datos","Sin datos","Sin datos","PETICIONES ENTRE ENTIDADES","Consulta general","Peticiones entre entidades","RAD 202214000208431 Solicitud de certificación para trámites de Actos de reconocimiento UPZ EL TESORO - AAA0029AHYX - AAA0029AKFZ.","Radicar en ORFEO","SRI","No Registra"]
[1473,2022,"NOVIEMBRE","2022-11-24","09:10:00","CRISTHIAN CAMILO MONTAÑA HERNANDEZ","VIRTUAL","Correo electrónico","cvpgestiondocumental@cajaviviendapopular.gov.co","Entidades y Organismos Distritales","Caja de vivienda popular","Entidades y Organismos Distritales","gestión documental","Masculino","Hombre ","Sin datos","Sin datos","Sin datos","Sin datos","PETICIONES ENTRE ENTIDADES","Consulta general","Peticiones entre entidades","RAD 202214000208321 Solicitud de certificación para trámites de Actos de reconocimiento UPZ LUCERO - AAA0026SWRU - AAA0026SWXR.","Radicar en ORFEO","SRI","No Registra"]
[1474,2022,"NOVIEMBRE","2022-11-24","09:40:00","CRISTHIAN CAMILO MONTAÑA HERNANDEZ","VIRTUAL","Correo electrónico","notificaciones_catastro@catastrobogota.gov.co","Entidades y Organismos Distritales","Catastro de Bogotá","Entidades y Organismos Distritales","Notificaciones","Femenino","Mujer","Sin datos","Sin datos","Sin datos","Sin datos","PETICIONES ENTRE ENTIDADES","Consulta general","Peticiones entre entidades","UAECD 2022 EE 85946 (uaecd 2022 er 39452","Radicar en ORFEO","SRI","No Registra"]
[1475,2022,"NOVIEMBRE","2022-11-24","09:51:00","CRISTHIAN CAMILO MONTAÑA HERNANDEZ","VIRTUAL","Correo electrónico","notificaciones_catastro@catastrobogota.gov.co","Entidades y Organismos Distritales","Catastro de Bogotá","Entidades y Organismos Distritales","Notificaciones","Femenino","Mujer","Sin datos","Sin datos","Sin datos","Sin datos","PETICIONES ENTRE ENTIDADES","Consulta general","Peticiones entre entidades","UAECD 2022 EE 85983 (uaecd 2022 er 39564)","Radicar en ORFEO","SRI","No Registra"]
[1476,2022,"NOVIEMBRE","2022-11-24","10:04:00","CRISTHIAN CAMILO MONTAÑA HERNANDEZ","VIRTUAL","Correo electrónico","acl@aclcolombia.com","Empresas privadas","Asociación Colombiana de Locutores ACL","Empresas Privadas","Ciudadanía","N/A","N/A","Sin datos","Sin datos","Sin datos","Sin datos","NOTIFICACIONES","Estudio de la viabilidad de las solicitudes de administración de bienes públicos","CAMEP Contrato de administración y mantenimiento","Contrato de Comodato 11-07. Solicitud Retifcación de Linderos y Mojones.","Radicar en ORFEO","SGI","No Registra"]
[1477,2022,"NOVIEMBRE","2022-11-24","10:36:00","CRISTHIAN CAMILO MONTAÑA HERNANDEZ","VIRTUAL","Correo electrónico","cdi.kennedy@gobiernobogota.gov.co","Entidades y Organismos Distritales","Secretaría de Gobierno","Entidades y Organismos Distritales","CDI Kennedy","Femenino","Mujer","Sin datos","Sin datos","Sin datos","Sin datos","PETICIONES ENTRE ENTIDADES","Consulta general","Peticiones entre entidades","Remito oficio No 20225823311931","Radicar en ORFEO","SGI","08 Kennedy"]
[1478,2022,"NOVIEMBRE","2022-11-24","10:42:00","CRISTHIAN CAMILO MONTAÑA HERNANDEZ","VIRTUAL","Correo electrónico","correspondencia.enviada2@idu.gov.co","Entidades y Organismos Distritales","Instituto de Desarrollo Urbano","Entidades y Organismos Distritales","correspondencia","Femenino","Mujer","Sin datos","Sin datos","Sin datos","Sin datos","PETICIONES ENTRE ENTIDADES","Consulta general","Peticiones entre entidades","RADICADO IDU N° 20223251821261 DEL 23 DE NOVIEMBRE 2022","Radicar en ORFEO","SRI","No Registra"]
[1479,2022,"NOVIEMBRE","2022-11-24","10:50:00","CRISTHIAN CAMILO MONTAÑA HERNANDEZ","VIRTUAL","Correo electrónico","buzoncomunicaciones@sdp.gov.co","Entidades y Organismos Distritales","Secretaría Distrital de Planeación","Entidades y Organismos Distritales","buzon comunicaciones","Masculino","Hombre ","Sin datos","Sin datos","Sin datos","Sin datos","PETICIONES ENTRE ENTIDADES","Consulta general","Peticiones entre entidades","2-2022-171130","Radicar en ORFEO","SRI","04 San Cristóbal"]
[1480,2022,"NOVIEMBRE","2022-11-24","10:53:00","CRISTHIAN CAMILO MONTAÑA HERNANDEZ","VIRTUAL","Correo electrónico","cdi.tunjuelito@gobiernobogota.gov.co","Entidades y Organismos Distritales","Secretaría de Gobierno","Entidades y Organismos Distritales","CDI Tunjuelito","Masculino","Hombre ","Sin datos","Sin datos","Sin datos","Sin datos","PETICIONES ENTRE ENTIDADES","Consulta general","Peticiones entre entidades","20225620479481 - CONTRATO DE CONCESIÓN 110-00129-186-0-2020","Radicar en ORFEO","SGI","06 Tunjuelito"]
[1481,2022,"NOVIEMBRE","2022-11-24","10:56:00","CRISTHIAN CAMILO MONTAÑA HERNANDEZ","VIRTUAL","Correo electrónico","idrdcorrespondencia@idrd.gov.co","Entidades y Organismos Distritales","Instituto Distrital de Recreación y Deportes","Entidades y Organismos Distritales","Correspondencia","Femenino","Mujer","Sin datos","Sin datos","Sin datos","Sin datos","PETICIONES ENTRE ENTIDADES","Consulta general","Peticiones entre entidades","20224100252541 - Solicitud de información","Radicar en ORFEO","SRI","No Registra"]
[1482,2022,"NOVIEMBRE","2022-11-24","10:58:00","CRISTHIAN CAMILO MONTAÑA HERNANDEZ","VIRTUAL","Correo electrónico","idrdcorrespondencia@idrd.gov.co","Entidades y Organismos Distritales","Instituto Distrital de Recreación y Deportes","Entidades y Organismos Distritales","Correspondencia","Femenino","Mujer","Sin datos","Sin datos","Sin datos","Sin datos","PETICIONES ENTRE ENTIDADES","Consulta general","Peticiones entre entidades","20224100253951 - Proyecto Específico de la zona de cesión para parque producto de la Urbanización “La Reserva de Fontibón” de la localidad de Fontibón. Expediente Virtual No. 2022410660300034E","Radicar en ORFEO","SRI","09 Fontibón"]
[1483,2022,"NOVIEMBRE","2022-11-24","11:16:00","CRISTHIAN CAMILO MONTAÑA HERNANDEZ","VIRTUAL","Correo electrónico","correspondencia.i.dadep247@interdisenos.com.co","Empresas privadas","interdisenos","Empresas Privadas","Correspondencia","Femenino","Mujer","Sin datos","Sin datos","Sin datos","Sin datos","NOTIFICACIONES","Estudio de la viabilidad de las solicitudes de administración de bienes públicos","CAMEP Contrato de administración y mantenimiento","GDADEP-981-22 DADEP Respuesta Museo Nacional","Radicar en ORFEO","SGI","No Registra"]
[1484,2022,"NOVIEMBRE","2022-11-24","11:17:00","CRISTHIAN CAMILO MONTAÑA HERNANDEZ","VIRTUAL","Correo electrónico","darp.generalsantander@gmail.com","Empresas privadas","De arquitectura y paisaje","Empresas Privadas","Ciudadanía","Masculino","Hombre ","Sin datos","Sin datos","Sin datos","Sin datos","CONSULTA","Certificación de la propiedad inmobiliaria distrital","Certificación de la propiedad inmobiliaria","DARP-CGS 195 SOLICITUD CERTIFIADO DE BIENES DEL PATRIMONIO INMOBILIARIA","Radicar en ORFEO","SRI","No Registra"]
[1485,2022,"NOVIEMBRE","2022-11-24","11:19:00","CRISTHIAN CAMILO MONTAÑA HERNANDEZ","VIRTUAL","Correo electrónico","notificacion@curaduria1bogota.com","Entidades y Organismos Distritales","Curaduría 1","Entidades y Organismos Distritales","Curaduría 1","Masculino","Hombre ","Sin datos","Sin datos","Sin datos","Sin datos","PETICIONES ENTRE ENTIDADES","Consulta general","Peticiones entre entidades","NOTIFICACION A.A. 11001-1-22-3723 DE FECHA 18-11-2022 EXP 4144","Radicar en ORFEO","SRI","No Registra"]
[1486,2022,"NOVIEMBRE","2022-11-24","11:37:00","CRISTHIAN CAMILO MONTAÑA HERNANDEZ","VIRTUAL","Correo electrónico","cvpgestiondocumental@cajaviviendapopular.gov.co","Entidades y Organismos Distritales","Caja de vivienda popular","Entidades y Organismos Distritales","gestión documental","Masculino","Hombre ","Sin datos","Sin datos","Sin datos","Sin datos","PETICIONES ENTRE ENTIDADES","Consulta general","Peticiones entre entidades","RAD 202214000238081 Solicitud de certificación para trámites de Actos de reconocimiento UPZ 54- MARRUECOS, UPZ 55 DIANA TURBAY, UPZ 56 DANUBIO.","Radicar en ORFEO","SRI","No Registra"]
[1487,2022,"NOVIEMBRE","2022-11-24","11:46:00","CRISTHIAN CAMILO MONTAÑA HERNANDEZ","VIRTUAL","Correo electrónico","cvpgestiondocumental@cajaviviendapopular.gov.co","Entidades y Organismos Distritales","Caja de vivienda popular","Entidades y Organismos Distritales","gestión documental","Masculino","Hombre ","Sin datos","Sin datos","Sin datos","Sin datos","PETICIONES ENTRE ENTIDADES","Consulta general","Peticiones entre entidades","RAD 202214000235181 Solicitud de certificación para trámites de Actos de reconocimiento del predio con Chip Catastral AAA0146BKPP.","Radicar en ORFEO","SRI","No Registra"]
[1488,2022,"NOVIEMBRE","2022-11-24","11:49:00","CRISTHIAN CAMILO MONTAÑA HERNANDEZ","VIRTUAL","Correo electrónico","notificaciones_catastro@catastrobogota.gov.co","Entidades y Organismos Distritales","Catastro de Bogotá","Entidades y Organismos Distritales","Notificaciones","Femenino","Mujer","Sin datos","Sin datos","Sin datos","Sin datos","PETICIONES ENTRE ENTIDADES","Consulta general","Peticiones entre entidades","UAECD 2022 EE 86647 (uaecd 2022 er 41908)","Radicar en ORFEO","SRI","No Registra"]
[1489,2022,"NOVIEMBRE","2022-11-24","12:04:00","CRISTHIAN CAMILO MONTAÑA HERNANDEZ","VIRTUAL","Correo electrónico","Carmen.Castro@gobiernobogota.gov.co","Entidades y Organismos Distritales","Secretaría de Gobierno","Entidades y Organismos Distritales","Funcionario","Masculino","Hombre ","Sin datos","Sin datos","Sin datos","Sin datos","PETICIONES ENTRE ENTIDADES","Consulta general","Peticiones entre entidades","RADICADO 20226620662201","Radicar en ORFEO","SGI","16 Puente Aranda"]
[1490,2022,"NOVIEMBRE","2022-11-24","12:06:00","CRISTHIAN CAMILO MONTAÑA HERNANDEZ","VIRTUAL","Correo electrónico","administradorsiga@alcaldiabogota.gov.co","Entidades y Organismos Distritales","Alcaldía Mayor de Bogotá","Entidades y Organismos Distritales","Administrador SIGA","Femenino","Mujer","Sin datos","Sin datos","Sin datos","Sin datos","PETICIONES ENTRE ENTIDADES","Consulta general","Peticiones entre entidades","Comunicación Oficial N° 2-2022-33693","Radicar en ORFEO","DIRECCIÓN","No Registra"]
[1491,2022,"NOVIEMBRE","2022-11-24","12:15:00","CRISTHIAN CAMILO MONTAÑA HERNANDEZ","VIRTUAL","Correo electrónico","administradorsiga@alcaldiabogota.gov.co","Entidades y Organismos Distritales","Alcaldía Mayor de Bogotá","Entidades y Organismos Distritales","Administrador SIGA","Femenino","Mujer","Sin datos","Sin datos","Sin datos","Sin datos","PETICIONES ENTRE ENTIDADES","Consulta general","Peticiones entre entidades","Comunicación Oficial N° 2-2022-33708","Radicar en ORFEO","DIRECCIÓN","No Registra"]
[1492,2022,"NOVIEMBRE","2022-11-24","12:20:00","CRISTHIAN CAMILO MONTAÑA HERNANDEZ","VIRTUAL","Correo electrónico","sirius2@personeriabogota.gov.co","Entidades y Organismos Distritales","personeria de bogota","Entidades y Organismos Distritales","Sirius 2","Masculino","Hombre ","Sin datos","Sin datos","Sin datos","Sin datos","PETICIONES ENTRE ENTIDADES","Consulta general","Peticiones entre entidades","Respuesta 2022-EE-0571220 2022-11-24","Radicar en ORFEO","DIRECCIÓN","No Registra"]
[1493,2022,"NOVIEMBRE","2022-11-24","12:21:00","CRISTHIAN CAMILO MONTAÑA HERNANDEZ","VIRTUAL","Correo electrónico","notificaciones_catastro@catastrobogota.gov.co","Entidades y Organismos Distritales","Catastro de Bogotá","Entidades y Organismos Distritales","Notificaciones","Masculino","Hombre ","Sin datos","Sin datos","Sin datos","Sin datos","PETICIONES ENTRE ENTIDADES","Consulta general","Peticiones entre entidades","RAD 2022-852193 OFICIO 2022-49526 NOTIFICACIÓN ELECTRÓNICA AUTORIZADA","Radicar en ORFEO","SRI","No Registra"]
[1494,2022,"NOVIEMBRE","2022-11-24","12:28:00","CRISTHIAN CAMILO MONTAÑA HERNANDEZ","VIRTUAL","Correo electrónico","cegral@notificacionesrj.gov.co","Entidades y Organismos Nacionales","Ministerio de Justicia","Entidades y Orgamismos Distritales","Notificaciones","N/A","N/A","Sin datos","Sin datos","Sin datos","Sin datos","PETICIONES ENTRE ENTIDADES","Consulta general","Peticiones entre entidades","NOTIFICA ACTUACION PROCESAL RAD 2022-04747-00","Radicar en ORFEO","OJ","No Registra"]
[1495,2022,"NOVIEMBRE","2022-11-24","12:31:00","CRISTHIAN CAMILO MONTAÑA HERNANDEZ","VIRTUAL","Correo electrónico","ralarcon@acueducto.com.co","Entidades y Organismos Distritales","Acueducto","Entidades y Organismos Distritales","Funcionario","Masculino","Hombre ","Sin datos","Sin datos","Sin datos","Sin datos","PETICIONES ENTRE ENTIDADES","Consulta general","Peticiones entre entidades","Respuesta Radicado DADEP","Radicar en ORFEO","SRI","No Registra"]
[1496,2022,"NOVIEMBRE","2022-11-24","12:44:00","CRISTHIAN CAMILO MONTAÑA HERNANDEZ","VIRTUAL","Correo electrónico","asozonarosa@gmail.com","Empresas privadas","Asociación Zona Rosa ","Empresas Privadas","Ciudadanía","N/A","N/A","Sin datos","Sin datos","Sin datos","Sin datos","NOTIFICACIONES","Estudio de la viabilidad de las solicitudes de administración de bienes públicos","CAMEP Contrato de administración y mantenimiento","Derechos de petición que no han sido contestados por el DADEP dentro del término legal e información sobre instalación de mogadores M160 y M180 con innovación tecnológica en los espacios delimitados por la Resolución DADEP 238 de 2020 (DEMOS ZONA ROSA).","Radicar en ORFEO","SGI","02 Chapinero"]
[1497,2022,"NOVIEMBRE","2022-11-24","12:59:00","CRISTHIAN CAMILO MONTAÑA HERNANDEZ","VIRTUAL","Correo electrónico","notificaciones_catastro@catastrobogota.gov.co","Entidades y Organismos Distritales","Catastro de Bogotá","Entidades y Organismos Distritales","Notificaciones","Femenino","Mujer","Sin datos","Sin datos","Sin datos","Sin datos","PETICIONES ENTRE ENTIDADES","Consulta general","Peticiones entre entidades","UAECD 2022 EE 87110 (uaecd 2022 er 41535)","Radicar en ORFEO","SRI","No Registra"]
[1498,2022,"NOVIEMBRE","2022-11-24","13:04:00","CRISTHIAN CAMILO MONTAÑA HERNANDEZ","VIRTUAL","Correo electrónico","notificaciones_catastro@catastrobogota.gov.co","Entidades y Organismos Distritales","Catastro de Bogotá","Entidades y Organismos Distritales","Notificaciones","Femenino","Mujer","Sin datos","Sin datos","Sin datos","Sin datos","PETICIONES ENTRE ENTIDADES","Consulta general","Peticiones entre entidades","UAECD 2022 EE 87119 (uaecd 2022 er 41952)","Radicar en ORFEO","SRI","No Registra"]
[1499,2022,"NOVIEMBRE","2022-11-24","13:09:00","CRISTHIAN CAMILO MONTAÑA HERNANDEZ","VIRTUAL","Correo electrónico","notificaciones_catastro@catastrobogota.gov.co","Entidades y Organismos Distritales","Catastro de Bogotá","Entidades y Organismos Distritales","Notificaciones","Femenino","Mujer","Sin datos","Sin datos","Sin datos","Sin datos","PETICIONES ENTRE ENTIDADES","Consulta general","Peticiones entre entidades","UAECD 2022 EE 87330 (uaecd 2022 er 41948)","Radicar en ORFEO","SRI","No Registra"]
[1500,2022,"NOVIEMBRE","2022-11-24","13:13:00","CRISTHIAN CAMILO MONTAÑA HERNANDEZ","VIRTUAL","Correo electrónico","j11pqccmbta@cendoj.ramajudicial.gov.co","Entidades y Organismos Nacionales","Juzgado 12 Civil Circuito - Bogota - Bogota D.C. ","Entidades y Orgamismos Distritales","Juzgado 12 Civil Circuito","N/A","N/A","Sin datos","Sin datos","Sin datos","Sin datos","NOTIFICACIONES","Consulta general","Asuntos Jurídicos","NOTIFICACION FALLO TUTELA 2022-01524","Radicar en ORFEO","OJ","No Registra"]
[1501,2022,"NOVIEMBRE","2022-11-24","15:09:00","CRISTHIAN CAMILO MONTAÑA HERNANDEZ","VIRTUAL","Correo electrónico","cdi.santafe@gobiernobogota.gov.co","Entidades y Organismos Distritales","Secretaría de Gobierno","Entidades y Organismos Distritales","CDI Santa fe","Masculino","Hombre ","Sin datos","Sin datos","Sin datos","Sin datos","PETICIONES ENTRE ENTIDADES","Consulta general","Peticiones entre entidades",20225300000000,"Radicar en ORFEO","SGI","03 Santa fe"]
[1502,2022,"NOVIEMBRE","2022-11-24","15:12:00","CRISTHIAN CAMILO MONTAÑA HERNANDEZ","VIRTUAL","Correo electrónico","correspondencia.cau@promoambientaldistrito.com","Empresas privadas","Promoambiental Distrito","Empresas Privadas","Correspondencia","Femenino","Mujer","Sin datos","Sin datos","Sin datos","Sin datos","PETICIONES ENTRE ENTIDADES","Consulta general","Peticiones entre entidades","Traslado por competencia PQR-2022-2092","Radicar en ORFEO","SGI","No Registra"]
[1503,2022,"NOVIEMBRE","2022-11-24","15:28:00","CRISTHIAN CAMILO MONTAÑA HERNANDEZ","VIRTUAL","Correo electrónico","profesionalapoyo.diradministrativa@subredsur.gov.co","Entidades y Organismos Distritales","Subred sur","Entidades y Organismos Distritales","Funcionario","Masculino","Hombre ","Sin datos","Sin datos","Sin datos","Sin datos","PETICIONES ENTRE ENTIDADES","Consulta general","Peticiones entre entidades","RESPUESTA RADICADO DADEP 20223050160681. RESPUESTA REQUERIMIENTO TECNICO CONVENIO 26-10","Radicar en ORFEO","SGI","No Registra"]
[1504,2022,"NOVIEMBRE","2022-11-25","16:07:00","CRISTHIAN CAMILO MONTAÑA HERNANDEZ","VIRTUAL","Correo electrónico","cdi.kennedy@gobiernobogota.gov.co","Entidades y Organismos Distritales","Secretaría de Gobierno","Entidades y Organismos Distritales","CDI Kennedy","Femenino","Mujer","Sin datos","Sin datos","Sin datos","Sin datos","PETICIONES ENTRE ENTIDADES","Consulta general","Peticiones entre entidades","Remito oficio No 20225833222961","Radicar en ORFEO","SGI","08 Kennedy"]
[1505,2022,"NOVIEMBRE","2022-11-25","16:07:00","CRISTHIAN CAMILO MONTAÑA HERNANDEZ","VIRTUAL","Correo electrónico","cdi.engativa@gobiernobogota.gov.co","Entidades y Organismos Distritales","Secretaría de Gobierno","Entidades y Organismos Distritales","CDI Engativá","Masculino","Hombre ","Sin datos","Sin datos","Sin datos","Sin datos","PETICIONES ENTRE ENTIDADES","Consulta general","Peticiones entre entidades","Radicado DADEP No. 20224080137222 DEL 17/06/2022, SDQS No. 2327942022.","Radicar en ORFEO","SGI","10 Engativá"]
[1506,2022,"NOVIEMBRE","2022-11-25","16:07:00","CRISTHIAN CAMILO MONTAÑA HERNANDEZ","VIRTUAL","Correo electrónico","cdi.engativa@gobiernobogota.gov.co","Entidades y Organismos Distritales","Secretaría de Gobierno","Entidades y Organismos Distritales","CDI Engativá","Masculino","Hombre ","Sin datos","Sin datos","Sin datos","Sin datos","PETICIONES ENTRE ENTIDADES","Consulta general","Peticiones entre entidades","20226040949281 - Respuesta radicado DADEP No. 20224080164402 del 21-07-2022, SDQS 2667152022.","Radicar en ORFEO","SGI","10 Engativá"]
[1507,2022,"NOVIEMBRE","2022-11-25","16:08:00","CRISTHIAN CAMILO MONTAÑA HERNANDEZ","VIRTUAL","Correo electrónico","kbermudez@vlex.com","Empresas privadas","Vlex","Empresas Privadas","Ciudadanía","Femenino","Mujer","Sin datos","Sin datos","Sin datos","Sin datos","CONSULTA","Consulta general","Oferta de servicios","vLex: Solicitud de Audiencia Presencial para Socialización de Proyecto de Transformación Legal y Digital ante el Departamento Administrativo de la Defensoría del Espacio Público, República de Colombia","Radicar en ORFEO","DIRECCIÓN","No Registra"]
[1508,2022,"NOVIEMBRE","2022-11-25","16:24:00","CRISTHIAN CAMILO MONTAÑA HERNANDEZ","VIRTUAL","Correo electrónico","salidascdi.suba@gobiernobogota.gov.co","Entidades y Organismos Distritales","Secretaría de Gobierno","Entidades y Organismos Distritales","salidas cdi suba","Masculino","Hombre ","Sin datos","Sin datos","Sin datos","Sin datos","PETICIONES ENTRE ENTIDADES","Consulta general","Peticiones entre entidades","Contrato de concesión 110-00129-186-0-2020 ","Radicar en ORFEO","SGI","11 Suba"]
[1509,2022,"NOVIEMBRE","2022-11-25","17:46:00","CRISTHIAN CAMILO MONTAÑA HERNANDEZ","VIRTUAL","Correo electrónico","correspondencia@secretariajuridica.gov.co","Entidades y Organismos Distritales","Secretaría juridica Distrital","Entidades y Organismos Distritales","Correspondencia","Femenino","Mujer","Sin datos","Sin datos","Sin datos","Sin datos","PETICIONES ENTRE ENTIDADES","Consulta general","Peticiones entre entidades","Comunicación Oficial N° 2-2022-24647","Radicar en ORFEO","OJ","No Registra"]
[1510,2022,"NOVIEMBRE","2022-11-25","18:06:00","CRISTHIAN CAMILO MONTAÑA HERNANDEZ","VIRTUAL","Correo electrónico","correspondencia@secretariajuridica.gov.co","Entidades y Organismos Distritales","Secretaría juridica Distrital","Entidades y Organismos Distritales","Correspondencia","Femenino","Mujer","Sin datos","Sin datos","Sin datos","Sin datos","PETICIONES ENTRE ENTIDADES","Consulta general","Peticiones entre entidades","Comunicación Oficial N° 2-2022-24655","Radicar en ORFEO","OJ","No Registra"]
[1511,2022,"NOVIEMBRE","2022-11-25","18:07:00","CRISTHIAN CAMILO MONTAÑA HERNANDEZ","VIRTUAL","Correo electrónico","ccto30bt@cendoj.ramajudicial.gov.co","Entidades y Organismos Nacionales","Juzgado 12 Civil Circuito - Bogota - Bogota D.C. ","Entidades y Orgamismos Distritales","Juzgado 12 Civil Circuito","N/A","N/A","Sin datos","Sin datos","Sin datos","Sin datos","NOTIFICACIONES","Consulta general","Asuntos Jurídicos","REMISIÓN OFICIOS 0778, 0779, 0780, 0781, 0782, 0783 Y FOMATOS CERTIFICADOS CONVENIO RAMA JUDICIAL - VERBAL No. 11001310303020220041800","Radicar en ORFEO","OJ","No Registra"]
[1512,2022,"NOVIEMBRE","2022-11-25","18:13:00","CRISTHIAN CAMILO MONTAÑA HERNANDEZ","VIRTUAL","Correo electrónico","servicioalciudadano@sena.edu.co","Universidades / Estudiantes","SENA","Universidades / Estudiantes","Servicio al ciudadano","Masculino","Hombre ","Sin datos","Sin datos","Sin datos","Sin datos","PETICIONES ENTRE ENTIDADES","Consulta general","Peticiones entre entidades","Respuesta Ciudadana 11-9-2022-060204 No. 7-2022-297919","Radicar en ORFEO","SGI","No Registra"]
[1513,2022,"NOVIEMBRE","2022-11-25","19:45:00","CRISTHIAN CAMILO MONTAÑA HERNANDEZ","VIRTUAL","Correo electrónico","siga@habitatbogota.gov.co","Entidades y Organismos Distritales","Secretaría de Habitat","Entidades y Organismos Distritales","SIGA","Masculino","Hombre ","Sin datos","Sin datos","Sin datos","Sin datos","PETICIONES ENTRE ENTIDADES","Consulta general","Peticiones entre entidades","Comunicación Oficial N° 2-2022-72068","Radicar en ORFEO","DIRECCIÓN","No Registra"]
[1514,2022,"NOVIEMBRE","2022-11-25","20:07:00","CRISTHIAN CAMILO MONTAÑA HERNANDEZ","VIRTUAL","Correo electrónico","correspondencia@concejobogota.gov.co","Entidades y Organismos Distritales","Concejo de Bogotá","Entidades y Organismos Distritales","correspondencia","Masculino","Hombre ","Sin datos","Sin datos","Sin datos","Sin datos","PETICIONES ENTRE ENTIDADES","Consulta general","Peticiones entre entidades","Acompañamiento en la instalación de la conmemoración anual de las madrinas de banderas","Radicar en ORFEO","DIRECCIÓN","No Registra"]
[1515,2022,"NOVIEMBRE","2022-11-25","20:09:00","CRISTHIAN CAMILO MONTAÑA HERNANDEZ","VIRTUAL","Correo electrónico","sonia.santos@gobiernobogota.gov.co","Entidades y Organismos Distritales","Secretaría de Gobierno","Entidades y Organismos Distritales","Funcionario","Masculino","Hombre ","Sin datos","Sin datos","Sin datos","Sin datos","PETICIONES ENTRE ENTIDADES","Consulta general","Peticiones entre entidades","Envío oficio No 20225920814201 Traslado por competencia","Radicar en ORFEO","SGI","09 Fontibón"]
[1516,2022,"NOVIEMBRE","2022-11-25","21:22:00","CRISTHIAN CAMILO MONTAÑA HERNANDEZ","VIRTUAL","Correo electrónico","jmedina@ivicsa.com.co","Empresas privadas","IVICSA – Ingenieros Consultores","Empresas Privadas","Ciudadanía","Femenino","Mujer","Sin datos","Sin datos","Sin datos","Sin datos","ASESORÍA","Asesoría en administración y sostenibilidad del espacio público","Asesoría en temas de espacio público","CAI2 - 529/2022 – C139 - Reiteración Solicitud de información para la elaboración del proyecto de referencia.","Radicar en ORFEO","SGI","No Registra"]
[1517,2022,"NOVIEMBRE","2022-11-25","21:31:00","CRISTHIAN CAMILO MONTAÑA HERNANDEZ","VIRTUAL","Correo electrónico","jaime.tenorio@scrd.gov.co","Entidades y Organismos Distritales","Secretaría de Cultura, Recreación y Deporte","Entidades y Organismos Distritales","Funcionario","Masculino","Hombre ","Sin datos","Sin datos","Sin datos","Sin datos","PETICIONES ENTRE ENTIDADES","Consulta general","Peticiones entre entidades","20223100136651 - Remisión de observaciones proyecto de decreto modificación Decreto 552 y propuesta mesa de trabajo","Radicar en ORFEO","DIRECCIÓN","No Registra"]
[1518,2022,"NOVIEMBRE","2022-11-25","06:44:00","CRISTHIAN CAMILO MONTAÑA HERNANDEZ","VIRTUAL","Correo electrónico","correspondencia.enviada2@idu.gov.co","Entidades y Organismos Distritales","Instituto de Desarrollo Urbano","Entidades y Organismos Distritales","correspondencia","Masculino","Hombre ","Sin datos","Sin datos","Sin datos","Sin datos","PETICIONES ENTRE ENTIDADES","Consulta general","Peticiones entre entidades","RADICADO IDU N° 20223751823511 DEL 24 DE NOVIEMBRE 2022","Radicar en ORFEO","SGI","02 Chapinero"]
[1519,2022,"NOVIEMBRE","2022-11-25","06:45:00","CRISTHIAN CAMILO MONTAÑA HERNANDEZ","VIRTUAL","Correo electrónico","sednotificaciones@educacionbogota.edu.co","Entidades y Organismos Distritales","Secretaría de Educación","Entidades y Organismos Distritales","Notificaciones","Femenino","Mujer","Sin datos","Sin datos","Sin datos","Sin datos","PETICIONES ENTRE ENTIDADES","Consulta general","Peticiones entre entidades","S-2022-360989","Radicar en ORFEO","SGI","No Registra"]
[1520,2022,"NOVIEMBRE","2022-11-25","06:45:00","CRISTHIAN CAMILO MONTAÑA HERNANDEZ","VIRTUAL","Correo electrónico","cdi.despacho@gobiernobogota.gov.co","Entidades y Organismos Distritales","Secretaría de Gobierno","Entidades y Organismos Distritales","CDI Despacho","Masculino","Hombre ","Sin datos","Sin datos","Sin datos","Sin datos","PETICIONES ENTRE ENTIDADES","Consulta general","Peticiones entre entidades","20225320778611 - RESPUESTA SOLICITUD PROGRAMACIÓN VISITA PARA UBICACIÓN DE MOBILIARIO","Radicar en ORFEO","SGI","03 Santa fe"]
[1521,2022,"NOVIEMBRE","2022-11-25","06:45:00","CRISTHIAN CAMILO MONTAÑA HERNANDEZ","VIRTUAL","Correo electrónico","buzoncomunicaciones@sdp.gov.co","Entidades y Organismos Distritales","Secretaría Distrital de Planeación","Entidades y Organismos Distritales","buzon comunicaciones","Femenino","Mujer","Sin datos","Sin datos","Sin datos","Sin datos","PETICIONES ENTRE ENTIDADES","Consulta general","Peticiones entre entidades","2-2022-172141","Radicar en ORFEO","SRI","No Registra"]
[1522,2022,"NOVIEMBRE","2022-11-25","08:38:00","CRISTHIAN CAMILO MONTAÑA HERNANDEZ","VIRTUAL","Correo electrónico","juanmiguelal@gmail.com","Ciudadanía","juan miguel alvarez lyescoski ","Entidades y Orgamismos Distritales","Ciudadanía","Masculino","Hombre ","Sin datos","Sin datos","Sin datos","Sin datos","ASESORÍA","Asesoría en administración y sostenibilidad del espacio público","Asesoría en temas de espacio público","Supuesta huerta nueva castilla","Radicar en ORFEO","SGI","No Registra"]
[1523,2022,"NOVIEMBRE","2022-11-25","08:42:00","CRISTHIAN CAMILO MONTAÑA HERNANDEZ","VIRTUAL","Correo electrónico","correspondenciaexternaenviada@participacionbogota.gov.co","Entidades y Organismos Distritales","Participación Bogotá","Entidades y Organismos Distritales","Correspondencia","Masculino","Hombre ","Sin datos","Sin datos","Sin datos","Sin datos","PETICIONES ENTRE ENTIDADES","Consulta general","Peticiones entre entidades","RADICADO 20223000198371","Radicar en ORFEO","SGI","No Registra"]
[1524,2022,"NOVIEMBRE","2022-11-25","08:43:00","CRISTHIAN CAMILO MONTAÑA HERNANDEZ","VIRTUAL","Correo electrónico","abenitezm@movilidadbogota.gov.co","Entidades y Organismos Distritales","Secretaría de Movilidad","Entidades y Organismos Distritales","Notificaciones","Femenino","Mujer","Sin datos","Sin datos","Sin datos","Sin datos","PETICIONES ENTRE ENTIDADES","Consulta general","Peticiones entre entidades","Respuesta a Radicado DADEP No. 20223050182061 - Radicado SDM- 202261203575652","Radicar en ORFEO","SGI","No Registra"]
[1525,2022,"NOVIEMBRE","2022-11-25","09:14:00","CRISTHIAN CAMILO MONTAÑA HERNANDEZ","VIRTUAL","Correo electrónico","notificaciones_catastro@catastrobogota.gov.co","Entidades y Organismos Distritales","Catastro de Bogotá","Entidades y Organismos Distritales","Notificaciones","Masculino","Hombre ","Sin datos","Sin datos","Sin datos","Sin datos","PETICIONES ENTRE ENTIDADES","Consulta general","Peticiones entre entidades","RAD 2022-303468 OFICIO 2022EE86629 Y ANEXOS 2022-49345 DEL 19-11-2022","Radicar en ORFEO","SRI","No Registra"]
[1526,2022,"NOVIEMBRE","2022-11-25","09:21:00","CRISTHIAN CAMILO MONTAÑA HERNANDEZ","VIRTUAL","Correo electrónico","nhuertas@shd.gov.co","Entidades y Organismos Distritales","Secretaría de Hacienda Distrital","Entidades y Organismos Distritales","Correspondencia","Femenino","Mujer","Sin datos","Sin datos","Sin datos","Sin datos","PETICIONES ENTRE ENTIDADES","Consulta general","Peticiones entre entidades","APLICACIÓN INSTRUMENTO AUTO DIAGNOSTICO INSTANCIAS DE COORDINACIÓN","Radicar en ORFEO","SRI","No Registra"]
[1527,2022,"NOVIEMBRE","2022-11-25","09:55:00","CRISTHIAN CAMILO MONTAÑA HERNANDEZ","VIRTUAL","Correo electrónico","cdi.engativa@gobiernobogota.gov.co","Entidades y Organismos Distritales","Secretaría de Gobierno","Entidades y Organismos Distritales","CDI Engativá","Masculino","Hombre ","Sin datos","Sin datos","Sin datos","Sin datos","PETICIONES ENTRE ENTIDADES","Consulta general","Peticiones entre entidades","20226020928711 - Reagendamiento Mesa de Trabajo","Radicar en ORFEO","SGI","10 Engativá"]
[1528,2022,"NOVIEMBRE","2022-11-25","09:59:00","CRISTHIAN CAMILO MONTAÑA HERNANDEZ","VIRTUAL","Correo electrónico","buzoncomunicaciones@sdp.gov.co","Entidades y Organismos Distritales","Secretaría Distrital de Planeación","Entidades y Organismos Distritales","buzon comunicaciones","Femenino","Mujer","Sin datos","Sin datos","Sin datos","Sin datos","PETICIONES ENTRE ENTIDADES","Consulta general","Peticiones entre entidades","2-2022-172660","Radicar en ORFEO","SRI","01 Usaquén"]
[1529,2022,"NOVIEMBRE","2022-11-25","10:01:00","CRISTHIAN CAMILO MONTAÑA HERNANDEZ","VIRTUAL","Correo electrónico","cdi.engativa@gobiernobogota.gov.co","Entidades y Organismos Distritales","Secretaría de Gobierno","Entidades y Organismos Distritales","CDI Engativá","Femenino","Mujer","Sin datos","Sin datos","Sin datos","Sin datos","PETICIONES ENTRE ENTIDADES","Consulta general","Peticiones entre entidades","20226020942441 - Solicitud certificación parques 10-070, 10-160, 10-259, 10-099 y 10-167","Radicar en ORFEO","SRI","10 Engativá"]
[1530,2022,"NOVIEMBRE","2022-11-25","10:05:00","CRISTHIAN CAMILO MONTAÑA HERNANDEZ","VIRTUAL","Correo electrónico","acmiradorlaesperanza@gmail.com","Juntas de Acción Comunal (JAC)","JAC MIRADOR DE LA ESPERANZA","Juntas de Acción Comunal (JAC)","Ciudadanía","N/A","N/A","Sin datos","Sin datos","Sin datos","Sin datos","ASESORÍA","Asesoría en administración y sostenibilidad del espacio público","Asesoría en temas de espacio público","Solicitud de información Me permito solicitar, se me informe, si la dirección TV 75G No. 75B - 73 SUR se encuentra ubicada en espacio publico","Radicar en ORFEO","SGI","No Registra"]
[1531,2022,"NOVIEMBRE","2022-11-25","10:19:00","CRISTHIAN CAMILO MONTAÑA HERNANDEZ","VIRTUAL","Correo electrónico","notificacionesjudiciales@idartes.gov.co","Entidades y Organismos Distritales","IDARTES","Entidades y Organismos Distritales","Notificaciones","N/A","N/A","Sin datos","Sin datos","Sin datos","Sin datos","PETICIONES ENTRE ENTIDADES","Consulta general","Peticiones entre entidades","Remisión documentos radicado DADEP N° 20223060090071 COMODADO GALERÍA SANTA FE","Radicar en ORFEO","SGI","No Registra"]
[1532,2022,"NOVIEMBRE","2022-11-25","10:24:00","CRISTHIAN CAMILO MONTAÑA HERNANDEZ","VIRTUAL","Correo electrónico","cdi.engativa@gobiernobogota.gov.co","Entidades y Organismos Distritales","Secretaría de Gobierno","Entidades y Organismos Distritales","CDI Engativá","Femenino","Mujer","Sin datos","Sin datos","Sin datos","Sin datos","PETICIONES ENTRE ENTIDADES","Consulta general","Peticiones entre entidades","20226020949481 - Solicitud suscripción nuevo contrato o convenio interadministrativo de comodato","Radicar en ORFEO","SGI","10 Engativá"]
[1533,2022,"NOVIEMBRE","2022-11-25","10:25:00","CRISTHIAN CAMILO MONTAÑA HERNANDEZ","VIRTUAL","Correo electrónico","direccion.oasisurbano@zonah.co","Empresas privadas","Dirección - Hayuelos C.C. y Empresarial ","Empresas Privadas","Ciudadanía","N/A","N/A","Sin datos","Sin datos","Sin datos","Sin datos","ASESORÍA","Asesoría en administración y sostenibilidad del espacio público","Asesoría en temas de espacio público","Radicación legal y debida forma para conformación de un Distrito Especial de Mejoramiento y Organización Sectorial Oasis Urbano - Hayuelos","Radicar en ORFEO","SGI","09 Fontibón"]
[1534,2022,"NOVIEMBRE","2022-11-25","10:35:00","CRISTHIAN CAMILO MONTAÑA HERNANDEZ","VIRTUAL","Correo electrónico","hrodriguez@dadep.gov.co","Entidades y Organismos Distritales","DADEP","Entidades y Organismos Distritales","Comuncaciones internas","Masculino","Hombre ","Sin datos","Sin datos","Sin datos","Sin datos","PETICIONES ENTRE ENTIDADES","Consulta general","Peticiones entre entidades","Audiencia Publica H.C. Carlos Carrillo - Invitación Audiencia Pública Contrato IDU 1647 de 2020 “Construcción para la adecuación al sistema Transmilenio de la Troncal Avenida Ciudad de Cali Tramo 1 - entre la Avenida Circunvalar del Sur y la Avenida Manuel Cepeda Vargas y obras complementarias en Bogotá D.C.”","Radicar en ORFEO","DIRECCIÓN","No Registra"]
[1535,2022,"NOVIEMBRE","2022-11-25","10:40:00","CRISTHIAN CAMILO MONTAÑA HERNANDEZ","VIRTUAL","Correo electrónico","jal.cbolivar@gobiernobogota.gov.co","Juntas Administradoras Locales (JAL)","Secretaría de Gobierno","Juntas Administradoras Locales (JAL)","JAL Cbolivar","N/A","N/A","Sin datos","Sin datos","Sin datos","Sin datos","PETICIONES ENTRE ENTIDADES","Consulta general","Peticiones entre entidades","JAL CB 478-2022 Citación mesa de trabajo 02 de diciembre","Radicar en ORFEO","DIRECCIÓN","19 Ciudad Bolívar"]
[1536,2022,"NOVIEMBRE","2022-11-25","10:55:00","CRISTHIAN CAMILO MONTAÑA HERNANDEZ","VIRTUAL","Correo electrónico","ragonzalez@concejobogota.gov.co","Entidades y Organismos Distritales","Concejo de Bogotá","Entidades y Organismos Distritales","Funcionario","Masculino","Hombre ","Sin datos","Sin datos","Sin datos","Sin datos","PETICIONES ENTRE ENTIDADES","Consulta general","Peticiones entre entidades","Mesa de Seguridad Barrios Tunal y el Carmen Localidad Tunjuelito-DADEP","Radicar en ORFEO","DIRECCIÓN","No Registra"]
[1537,2022,"NOVIEMBRE","2022-11-25","11:06:00","CRISTHIAN CAMILO MONTAÑA HERNANDEZ","VIRTUAL","Correo electrónico","conjuntor1@gmail.com","Empresas privadas","RECODO DEL COUNTRY ETAPA 1 PH ","Empresas Privadas","Ciudadanía","N/A","N/A","Sin datos","Sin datos","Sin datos","Sin datos","NOTIFICACIONES","Estudio de la viabilidad de las solicitudes de administración de bienes públicos","CAMEP Contrato de administración y mantenimiento","Documentos Dadep","Radicar en ORFEO","SGI","09 Fontibón"]
[1538,2022,"NOVIEMBRE","2022-11-25","11:31:00","CRISTHIAN CAMILO MONTAÑA HERNANDEZ","VIRTUAL","Correo electrónico","correspondencia.i.dadep247@interdisenos.com.co","Empresas privadas","interdisenos","Empresas Privadas","Correspondencia","Femenino","Mujer","Sin datos","Sin datos","Sin datos","Sin datos","NOTIFICACIONES","Estudio de la viabilidad de las solicitudes de administración de bienes públicos","CAMEP Contrato de administración y mantenimiento","GDADEP-982-22 DADEP Rta oficio N° 20223080180431 - Planos de Diseño - Requerimientos TMSA","Radicar en ORFEO","SGI","No Registra"]
[1539,2022,"NOVIEMBRE","2022-11-25","11:37:00","CRISTHIAN CAMILO MONTAÑA HERNANDEZ","VIRTUAL","Correo electrónico","correspondencia.i.dadep247@interdisenos.com.co","Empresas privadas","interdisenos","Empresas Privadas","Correspondencia","Femenino","Mujer","Sin datos","Sin datos","Sin datos","Sin datos","NOTIFICACIONES","Estudio de la viabilidad de las solicitudes de administración de bienes públicos","CAMEP Contrato de administración y mantenimiento","GDADEP-983-22 DADEP Rta oficio N° 20223080180401 - Retiro Mobiliario Afectado Contrato IDU 347 de 2020","Radicar en ORFEO","SGI","No Registra"]
[1540,2022,"NOVIEMBRE","2022-11-25","11:45:00","CRISTHIAN CAMILO MONTAÑA HERNANDEZ","VIRTUAL","Correo electrónico","SECRETARIAJALSANTAFE@hotmail.es","Juntas Administradoras Locales (JAL)","JAL SANTA FE","Juntas Administradoras Locales (JAL)","Funcionario","N/A","N/A","Sin datos","Sin datos","Sin datos","Sin datos","PETICIONES ENTRE ENTIDADES","Consulta general","Peticiones entre entidades","Oficio JAL 293 de 2022 - Reunión seguimiento problemática parque de los periodistas","Radicar en ORFEO","DIRECCIÓN","03 Santa fe"]
[1541,2022,"NOVIEMBRE","2022-11-25","11:48:00","CRISTHIAN CAMILO MONTAÑA HERNANDEZ","VIRTUAL","Correo electrónico","correspondencia.i.dadep247@interdisenos.com.co","Empresas privadas","interdisenos","Empresas Privadas","Correspondencia","Femenino","Mujer","Sin datos","Sin datos","Sin datos","Sin datos","NOTIFICACIONES","Estudio de la viabilidad de las solicitudes de administración de bienes públicos","CAMEP Contrato de administración y mantenimiento","GDADEP-985-22 DADEP Recomendación Aprobación Volantes","Radicar en ORFEO","SGI","No Registra"]
[1542,2022,"NOVIEMBRE","2022-11-25","11:50:00","CRISTHIAN CAMILO MONTAÑA HERNANDEZ","VIRTUAL","Correo electrónico","correspondencia.i.dadep247@interdisenos.com.co","Empresas privadas","interdisenos","Empresas Privadas","Correspondencia","Femenino","Mujer","Sin datos","Sin datos","Sin datos","Sin datos","NOTIFICACIONES","Estudio de la viabilidad de las solicitudes de administración de bienes públicos","CAMEP Contrato de administración y mantenimiento","GDADEP-986-22 DADEP Rta oficio N° 20223080165351- Asignacion de Puntos Contrato IDU 351 de 2020 Grupo 7","Radicar en ORFEO","SGI","No Registra"]
[1543,2022,"NOVIEMBRE","2022-11-25","12:15:00","CRISTHIAN CAMILO MONTAÑA HERNANDEZ","VIRTUAL","Correo electrónico","correspondencia.i.dadep378@interdisenos.com.co","Empresas privadas","interdisenos","Empresas Privadas","Correspondencia","Femenino","Mujer","Sin datos","Sin datos","Sin datos","Sin datos","NOTIFICACIONES","Estudio de la viabilidad de las solicitudes de administración de bienes públicos","CAMEP Contrato de administración y mantenimiento","GDADEP06-0572-22 DADEP Notificación Plazo de Cura Publicidad valla","Radicar en ORFEO","SGI","No Registra"]
[1544,2022,"NOVIEMBRE","2022-11-25","12:19:00","CRISTHIAN CAMILO MONTAÑA HERNANDEZ","VIRTUAL","Correo electrónico","envionotificaciones@ipes.gov.co","Entidades y Organismos Distritales","Instituto Para la Economía Social - IPES","Entidades y Organismos Distritales","envío notificaciones","Femenino","Mujer","Sin datos","Sin datos","Sin datos","Sin datos","PETICIONES ENTRE ENTIDADES","Consulta general","Peticiones entre entidades","00110-816-032178 - Respuesta al Derecho de petición con Radicado IPES N° 00110-812-022603 del 10 de noviembre de 2022","Radicar en ORFEO","DIRECCIÓN","No Registra"]
[1545,2022,"NOVIEMBRE","2022-11-25","12:30:00","CRISTHIAN CAMILO MONTAÑA HERNANDEZ","VIRTUAL","Correo electrónico","carlosg.rodriguez@scrd.gov.co","Entidades y Organismos Distritales","Secretaría de Cultura, Recreación y Deporte","Entidades y Organismos Distritales","Funcionario","Masculino","Hombre ","Sin datos","Sin datos","Sin datos","Sin datos","PETICIONES ENTRE ENTIDADES","Consulta general","Peticiones entre entidades","20229000136121 - Invitación a la cuarta sesión 2022 del Comité Comité Interinstitucional de protección del espacio público en condiciones de salubridad - AP 25000231500020050234516","Radicar en ORFEO","SGI","No Registra"]
[1546,2022,"NOVIEMBRE","2022-11-25","12:39:00","CRISTHIAN CAMILO MONTAÑA HERNANDEZ","VIRTUAL","Correo electrónico","ivethmc29@hotmail.com","Ciudadanía","Anónimo","Anónimo","Anónimo","N/A","N/A","Sin datos","Sin datos","Sin datos","Sin datos","ASESORÍA","Asesoría en administración y sostenibilidad del espacio público","Asesoría en temas de espacio público","Parqueadero la capilla bosa centro","Radicar en ORFEO","SGI","No Registra"]
[1547,2022,"NOVIEMBRE","2022-11-25","13:29:00","CRISTHIAN CAMILO MONTAÑA HERNANDEZ","VIRTUAL","Correo electrónico","correspondencia.enviada2@idu.gov.co","Entidades y Organismos Distritales","Instituto de Desarrollo Urbano","Entidades y Organismos Distritales","correspondencia","Masculino","Hombre ","Sin datos","Sin datos","Sin datos","Sin datos","PETICIONES ENTRE ENTIDADES","Consulta general","Peticiones entre entidades","RADICADO IDU N° 20223751827941 DEL 24 DE NOVIEMBRE 2022","Radicar en ORFEO","SRI","No Registra"]
[1548,2022,"NOVIEMBRE","2022-11-25","13:35:00","CRISTHIAN CAMILO MONTAÑA HERNANDEZ","VIRTUAL","Correo electrónico","conjuntosenderosdecastilla1@gmail.com","Empresas privadas","Conjunto Senderos de Castilla 1 ","Empresas Privadas","Ciudadanía","N/A","N/A","Sin datos","Sin datos","Sin datos","Sin datos","ASESORÍA","Incorporación y entrega de las áreas de cesión a favor del municipio","Entrega de zonas de cesión","Derecho de peticion","Radicar en ORFEO","SRI","No Registra"]
[1549,2022,"NOVIEMBRE","2022-11-25","14:11:00","CRISTHIAN CAMILO MONTAÑA HERNANDEZ","VIRTUAL","Correo electrónico","notificaciones@thefactoryhka.com.co","Empresas privadas","PROEXEQUIAL SAS","Empresas Privadas","Ciudadanía","N/A","N/A","Sin datos","Sin datos","Sin datos","Sin datos","NOTIFICACIONES","Consulta general","Gestión financiera","800187479; PROEXEQUIAL SAS; FE4466; 01; PROEXEQUIAL SAS;","Radicar en ORFEO","SGC","No Registra"]
[1550,2022,"NOVIEMBRE","2022-11-25","14:17:00","CRISTHIAN CAMILO MONTAÑA HERNANDEZ","VIRTUAL","Correo electrónico","correspondencia.i.dadep378@interdisenos.com.co","Empresas privadas","interdisenos","Empresas Privadas","Correspondencia","Femenino","Mujer","Sin datos","Sin datos","Sin datos","Sin datos","NOTIFICACIONES","Estudio de la viabilidad de las solicitudes de administración de bienes públicos","CAMEP Contrato de administración y mantenimiento","GDADEP-0573-22 Reintegro octubre - septiembre Impuestos, GMF y gastos bancarios","Radicar en ORFEO","SGI","No Registra"]
[1551,2022,"NOVIEMBRE","2022-11-25","14:21:00","CRISTHIAN CAMILO MONTAÑA HERNANDEZ","VIRTUAL","Correo electrónico","i.molina@vegetarianoshoy.org","Empresas privadas","Vegetarianos hoy","Empresas Privadas","Ciudadanía","Masculino","Hombre ","Sin datos","Sin datos","Sin datos","Sin datos","ASESORÍA","Estudio de la viabilidad de las solicitudes de administración de bienes públicos","Viabilidad Decreto 070 / 2022 BACA 2.0","SOLICITUD PERMISO USO ESPACIO PUBLICO","Radicar en ORFEO","SGI","No Registra"]
[1552,2022,"NOVIEMBRE","2022-11-28","14:40:00","CRISTHIAN CAMILO MONTAÑA HERNANDEZ","VIRTUAL","Correo electrónico","cdiusaquen.salidas@gobiernobogota.gov.co","Entidades y Organismos Distritales","Secretaría de Gobierno","Entidades y Organismos Distritales","CDIUSAQUEN Usaquén","Masculino","Hombre ","Sin datos","Sin datos","Sin datos","Sin datos","PETICIONES ENTRE ENTIDADES","Consulta general","Peticiones entre entidades","20225121105661 - Respuesta solicitud mantenimiento del parque ubicado en la Cra 1 este # 163 – 60.","Radicar en ORFEO","SGI","01 Usaquén"]
[1553,2022,"NOVIEMBRE","2022-11-28","15:29:00","CRISTHIAN CAMILO MONTAÑA HERNANDEZ","VIRTUAL","Correo electrónico","jadmin06bta@notificacionesrj.gov.co","Entidades y Organismos Nacionales","Ministerio de Justicia","Entidades y Orgamismos Distritales","Funcionario","N/A","N/A","Sin datos","Sin datos","Sin datos","Sin datos","NOTIFICACIONES","Consulta general","Asuntos Jurídicos","TUTELA_Notificacion Sentencia 006-2022-00552-00","Radicar en ORFEO","SRI","No Registra"]
[1554,2022,"NOVIEMBRE","2022-11-28","15:52:00","CRISTHIAN CAMILO MONTAÑA HERNANDEZ","VIRTUAL","Correo electrónico","correspondencia.enviada2@idu.gov.co","Entidades y Organismos Distritales","Instituto de Desarrollo Urbano","Entidades y Organismos Distritales","correspondencia","Masculino","Hombre ","Sin datos","Sin datos","Sin datos","Sin datos","PETICIONES ENTRE ENTIDADES","Consulta general","Peticiones entre entidades","RADICADO IDU N° 20223751828011 DEL 24 DE NOVIEMBRE 2022","Radicar en ORFEO","SRI","No Registra"]
[1555,2022,"NOVIEMBRE","2022-11-28","15:57:00","CRISTHIAN CAMILO MONTAÑA HERNANDEZ","VIRTUAL","Correo electrónico","ingconsa.interventoria@gmail.com","Empresas privadas","Interventoría INGCONSA ","Empresas Privadas","Ciudadanía","N/A","N/A","Sin datos","Sin datos","Sin datos","Sin datos","ASESORÍA","Asesoría en administración y sostenibilidad del espacio público","Asesoría en temas de espacio público","Radicación Oficio SOC–2060 Solicitud Edificio Avenida 85 – Retiro de armarios de telecomunicaciones","Radicar en ORFEO","SGI","No Registra"]
[1556,2022,"NOVIEMBRE","2022-11-28","16:15:00","CRISTHIAN CAMILO MONTAÑA HERNANDEZ","VIRTUAL","Correo electrónico","mliliasolano005@yahoo.es","Ciudadanía","lilia solano ","Entidades y Orgamismos Distritales","Ciudadanía","Femenino","Mujer","Sin datos","Sin datos","Sin datos","Sin datos","DERECHO DE PETICIÓN DE INTERÉS PARTICULAR","Asesoría en administración y sostenibilidad del espacio público","Asesoría en temas de espacio público","Derecho de Petición Bachue 1er S. ","Radicar en ORFEO","SGI","10 Engativá"]
[1557,2022,"NOVIEMBRE","2022-11-28","16:31:00","CRISTHIAN CAMILO MONTAÑA HERNANDEZ","VIRTUAL","Correo electrónico","lforerot@shd.gov.co","Entidades y Organismos Distritales","Secretaría de Hacienda Distrital","Entidades y Organismos Distritales","Correspondencia","Femenino","Mujer","Sin datos","Sin datos","Sin datos","Sin datos","PETICIONES ENTRE ENTIDADES","Consulta general","Peticiones entre entidades","ENVIAR 2022EE572975O1 - DEPARTAMENTO ADMINISTRATIVO DE LA DEFENSORÍA Y DEL ESPACIO PÚBLICO- DADEP","Radicar en ORFEO","DIRECCIÓN","No Registra"]
[1558,2022,"NOVIEMBRE","2022-11-28","16:52:00","CRISTHIAN CAMILO MONTAÑA HERNANDEZ","VIRTUAL","Correo electrónico","correspondencia@secretariajuridica.gov.co","Entidades y Organismos Distritales","Secretaría juridica Distrital","Entidades y Organismos Distritales","Correspondencia","Femenino","Mujer","Sin datos","Sin datos","Sin datos","Sin datos","PETICIONES ENTRE ENTIDADES","Consulta general","Peticiones entre entidades","2-2022-24044 - Circular # 057-2022 - Metodología del proceso disciplinario - Guía básica sobre el procedimiento contenido en la Ley 1952 de 2019","Radicar en ORFEO","DIRECCIÓN","No Registra"]
[1559,2022,"NOVIEMBRE","2022-11-28","16:54:00","CRISTHIAN CAMILO MONTAÑA HERNANDEZ","VIRTUAL","Correo electrónico","correspondencia.i.dadep247@interdisenos.com.co","Empresas privadas","interdisenos","Empresas Privadas","Correspondencia","Femenino","Mujer","Sin datos","Sin datos","Sin datos","Sin datos","NOTIFICACIONES","Estudio de la viabilidad de las solicitudes de administración de bienes públicos","CAMEP Contrato de administración y mantenimiento","GDADEP-987-22 DADEP Rta oficio N° 20223080172091- Mobiliario instalado en proyectos de infraestructura IDU.","Radicar en ORFEO","SGI","No Registra"]
[1560,2022,"NOVIEMBRE","2022-11-28","16:54:00","CRISTHIAN CAMILO MONTAÑA HERNANDEZ","VIRTUAL","Correo electrónico","Externa_Enviada_Virtual@shd.gov.co","Entidades y Organismos Distritales","Secretaría de Hacienda Distrital","Entidades y Organismos Distritales","Correspondencia","Femenino","Mujer","Sin datos","Sin datos","Sin datos","Sin datos","PETICIONES ENTRE ENTIDADES","Consulta general","Peticiones entre entidades","(R2022EE572942O1) 2022EE572942O1 YC","Radicar en ORFEO","SGI","No Registra"]
[1561,2022,"NOVIEMBRE","2022-11-28","16:56:00","CRISTHIAN CAMILO MONTAÑA HERNANDEZ","VIRTUAL","Correo electrónico","correspondencia.i.dadep247@interdisenos.com.co","Empresas privadas","interdisenos","Empresas Privadas","Correspondencia","Femenino","Mujer","Sin datos","Sin datos","Sin datos","Sin datos","NOTIFICACIONES","Estudio de la viabilidad de las solicitudes de administración de bienes públicos","CAMEP Contrato de administración y mantenimiento","GDADEP-988-22 DADEP Rta oficio No. 20223080167171 – Afectación a obras ejecutadas en espacio público","Radicar en ORFEO","SGI","No Registra"]
[1562,2022,"NOVIEMBRE","2022-11-28","16:58:00","CRISTHIAN CAMILO MONTAÑA HERNANDEZ","VIRTUAL","Correo electrónico","correspondencia.i.dadep247@interdisenos.com.co","Empresas privadas","interdisenos","Empresas Privadas","Correspondencia","Femenino","Mujer","Sin datos","Sin datos","Sin datos","Sin datos","NOTIFICACIONES","Estudio de la viabilidad de las solicitudes de administración de bienes públicos","CAMEP Contrato de administración y mantenimiento","GDADEP-989-22-Compromiso Tic – Entrega De Documentos Actualizados","Radicar en ORFEO","SGI","No Registra"]
[1563,2022,"NOVIEMBRE","2022-11-28","17:03:00","CRISTHIAN CAMILO MONTAÑA HERNANDEZ","VIRTUAL","Correo electrónico","jacelpoa2022@gmail.com","Juntas de Acción Comunal (JAC)","jac poa ","Juntas de Acción Comunal (JAC)","Ciudadanía","N/A","N/A","Sin datos","Sin datos","Sin datos","Sin datos","ASESORÍA","Asesoría en administración y sostenibilidad del espacio público","Asesoría en temas de espacio público","Solicitud cita DADEP","Radicar en ORFEO","SGI","11 Suba"]
[1564,2022,"NOVIEMBRE","2022-11-28","17:30:00","CRISTHIAN CAMILO MONTAÑA HERNANDEZ","VIRTUAL","Correo electrónico","sednotificaciones@educacionbogota.edu.co","Entidades y Organismos Distritales","Secretaría de Educación","Entidades y Organismos Distritales","Notificaciones","Masculino","Hombre ","Sin datos","Sin datos","Sin datos","Sin datos","PETICIONES ENTRE ENTIDADES","Consulta general","Peticiones entre entidades","S-2022-360647","Radicar en ORFEO","SGI","No Registra"]
[1565,2022,"NOVIEMBRE","2022-11-28","17:52:00","CRISTHIAN CAMILO MONTAÑA HERNANDEZ","VIRTUAL","Correo electrónico","buzoncomunicaciones@sdp.gov.co","Entidades y Organismos Distritales","Secretaría Distrital de Planeación","Entidades y Organismos Distritales","buzon comunicaciones","Femenino","Mujer","Sin datos","Sin datos","Sin datos","Sin datos","PETICIONES ENTRE ENTIDADES","Consulta general","Peticiones entre entidades","2-2022-173116","Radicar en ORFEO","SGI","No Registra"]
[1566,2022,"NOVIEMBRE","2022-11-28","17:55:00","CRISTHIAN CAMILO MONTAÑA HERNANDEZ","VIRTUAL","Correo electrónico","sednotificaciones@educacionbogota.edu.co","Entidades y Organismos Distritales","Secretaría de Educación","Entidades y Organismos Distritales","Notificaciones","Masculino","Hombre ","Sin datos","Sin datos","Sin datos","Sin datos","PETICIONES ENTRE ENTIDADES","Consulta general","Peticiones entre entidades","S-2022-361270","Radicar en ORFEO","DIRECCIÓN","No Registra"]
[1567,2022,"NOVIEMBRE","2022-11-28","17:55:00","CRISTHIAN CAMILO MONTAÑA HERNANDEZ","VIRTUAL","Correo electrónico","sednotificaciones@educacionbogota.edu.co","Entidades y Organismos Distritales","Secretaría de Educación","Entidades y Organismos Distritales","Notificaciones","Masculino","Hombre ","Sin datos","Sin datos","Sin datos","Sin datos","PETICIONES ENTRE ENTIDADES","Consulta general","Peticiones entre entidades","S-2022-361238","Responder a correo electronico","AREA DE ATENCION A LA CIUDADANIA","No Registra"]
[1568,2022,"NOVIEMBRE","2022-11-28","17:55:00","CRISTHIAN CAMILO MONTAÑA HERNANDEZ","VIRTUAL","Correo electrónico","sednotificaciones@educacionbogota.edu.co","Entidades y Organismos Distritales","Secretaría de Educación","Entidades y Organismos Distritales","Notificaciones","Masculino","Hombre ","Sin datos","Sin datos","Sin datos","Sin datos","PETICIONES ENTRE ENTIDADES","Consulta general","Peticiones entre entidades","S-2022-361168","Responder a correo electronico","AREA DE ATENCION A LA CIUDADANIA","No Registra"]
[1569,2022,"NOVIEMBRE","2022-11-28","19:27:00","CRISTHIAN CAMILO MONTAÑA HERNANDEZ","VIRTUAL","Correo electrónico","andres.montealegre@gobiernobogota.gov.co","Entidades y Organismos Distritales","Secretaría de Gobierno","Entidades y Organismos Distritales","ANDRES Fontibón","Masculino","Hombre ","Sin datos","Sin datos","Sin datos","Sin datos","PETICIONES ENTRE ENTIDADES","Consulta general","Peticiones entre entidades","Solicitud de información","Radicar en ORFEO","SGI","09 Fontibón"]
[1570,2022,"NOVIEMBRE","2022-11-28","20:23:00","CRISTHIAN CAMILO MONTAÑA HERNANDEZ","VIRTUAL","Correo electrónico","andres.fg_p@hotmail.com","Ciudadanía","ANDRÉS FERNANDO GRAJALES PRIETO ","Entidades y Orgamismos Distritales","Ciudadanía","Masculino","Hombre ","Sin datos","Sin datos","Sin datos","Sin datos","CONSULTA","Certificación de la propiedad inmobiliaria distrital","Certificación de la propiedad inmobiliaria","DERECHO DE PETICIÓN CERTIFICACIÓN PREDIO NO ES UN INMUEBLE DE USO PUBLICO","Radicar en ORFEO","SRI","No Registra"]
[1571,2022,"NOVIEMBRE","2022-11-28","07:58:00","CRISTHIAN CAMILO MONTAÑA HERNANDEZ","VIRTUAL","Correo electrónico","mari-aes61@hotmail.com","Ciudadanía","MARIA ELENA SANCHEZ DIAZ ","Entidades y Orgamismos Distritales","Ciudadanía","Femenino","Mujer","Sin datos","Sin datos","Sin datos","Sin datos","ASESORÍA","Asesoría en administración y sostenibilidad del espacio público","Asesoría en temas de espacio público","AGENDAR CITA URGENTE CON DIRECTOR DADEP","Radicar en ORFEO","SGI","No Registra"]
[1572,2022,"NOVIEMBRE","2022-11-28","08:09:00","CRISTHIAN CAMILO MONTAÑA HERNANDEZ","VIRTUAL","Correo electrónico","alvaro.cortes@supernotariado.gov.co","Entidades y Organismos Nacionales","Supernotariado","Entidades y Orgamismos Distritales","Funcionario","Masculino","Hombre ","Sin datos","Sin datos","Sin datos","Sin datos","PETICIONES ENTRE ENTIDADES","Consulta general","Peticiones entre entidades","50S2022ER13810 DEL 24-11-2022 CONTESTADO 50S2022EE27048","Responder a correo electronico","AREA DE ATENCION A LA CIUDADANIA","No Registra"]
[1573,2022,"NOVIEMBRE","2022-11-28","08:56:00","CRISTHIAN CAMILO MONTAÑA HERNANDEZ","VIRTUAL","Correo electrónico","notificaciones_catastro@catastrobogota.gov.co","Entidades y Organismos Distritales","Catastro de Bogotá","Entidades y Organismos Distritales","Notificaciones","Femenino","Mujer","Sin datos","Sin datos","Sin datos","Sin datos","PETICIONES ENTRE ENTIDADES","Consulta general","Peticiones entre entidades","UAECD 2022 EE 87327 (uaecd 2022 er 40875 )","Radicar en ORFEO","SRI","No Registra"]
[1574,2022,"NOVIEMBRE","2022-11-28","09:08:00","CRISTHIAN CAMILO MONTAÑA HERNANDEZ","VIRTUAL","Correo electrónico","oscar.cardenas@uaesp.gov.co","Entidades y Organismos Distritales","Unidad Administrativa Especial de Servicios Públicos","Entidades y Organismos Distritales","Funcionario","Femenino","Mujer","Sin datos","Sin datos","Sin datos","Sin datos","PETICIONES ENTRE ENTIDADES","Consulta general","Peticiones entre entidades","Oficio UAESP 20224000 266531-Solicitud visita entrega simplificada Cesion Tipo A (CESION SUPERMANZANA 3A) -Etapa 1B - proyecto Las Margaritas.","Radicar en ORFEO","SRI","No Registra"]
[1575,2022,"NOVIEMBRE","2022-11-28","09:13:00","CRISTHIAN CAMILO MONTAÑA HERNANDEZ","VIRTUAL","Correo electrónico","cdi.engativa@gobiernobogota.gov.co","Entidades y Organismos Distritales","Secretaría de Gobierno","Entidades y Organismos Distritales","CDI Kennedy","Masculino","Hombre ","Sin datos","Sin datos","Sin datos","Sin datos","PETICIONES ENTRE ENTIDADES","Consulta general","Peticiones entre entidades","20226040953481 - Respuesta Respuesta radicado DADEP N° 20214000180712 del 06 de septiembre de 2021.","Radicar en ORFEO","SGI","08 Kennedy"]
[1576,2022,"NOVIEMBRE","2022-11-28","09:22:00","CRISTHIAN CAMILO MONTAÑA HERNANDEZ","VIRTUAL","Correo electrónico","oscar.cardenas@uaesp.gov.co","Entidades y Organismos Distritales","Unidad Administrativa Especial de Servicios Públicos","Entidades y Organismos Distritales","Funcionario","Femenino","Mujer","Sin datos","Sin datos","Sin datos","Sin datos","PETICIONES ENTRE ENTIDADES","Consulta general","Peticiones entre entidades","Oficio UAESP 20224000 265311-Infraestructura alumbrado publico - centro comercial multiplaza y los conjuntos residenciales - Fontibon.","Radicar en ORFEO","SRI","09 Fontibón"]
[1577,2022,"NOVIEMBRE","2022-11-28","09:24:00","CRISTHIAN CAMILO MONTAÑA HERNANDEZ","VIRTUAL","Correo electrónico","siga@serviciocivil.gov.co","Entidades y Organismos Distritales","Servicio Civil Distrital","Entidades y Organismos Distritales","Funcionario","Femenino","Mujer","Sin datos","Sin datos","Sin datos","Sin datos","PETICIONES ENTRE ENTIDADES","Consulta general","Peticiones entre entidades","Comunicación Oficial N° 2-2022-10689","Radicar en ORFEO","DIRECCIÓN","No Registra"]
[1578,2022,"NOVIEMBRE","2022-11-28","09:29:00","CRISTHIAN CAMILO MONTAÑA HERNANDEZ","VIRTUAL","Correo electrónico","notificacionelectronica@movilidadbogota.gov.co","Entidades y Organismos Distritales","Secretaría de Movilidad","Entidades y Organismos Distritales","Notificaciones","Masculino","Hombre ","Sin datos","Sin datos","Sin datos","Sin datos","PETICIONES ENTRE ENTIDADES","Consulta general","Peticiones entre entidades","RADICADO SDM N°202222310019611","Radicar en ORFEO","SGI","No Registra"]
[1579,2022,"NOVIEMBRE","2022-11-28","09:29:00","CRISTHIAN CAMILO MONTAÑA HERNANDEZ","VIRTUAL","Correo electrónico","notificacionelectronica@movilidadbogota.gov.co","Entidades y Organismos Distritales","Secretaría de Movilidad","Entidades y Organismos Distritales","Notificaciones","Masculino","Hombre ","Sin datos","Sin datos","Sin datos","Sin datos","PETICIONES ENTRE ENTIDADES","Consulta general","Peticiones entre entidades","RADICADO SDM N°202222310019941","Radicar en ORFEO","SGI","No Registra"]
[1580,2022,"NOVIEMBRE","2022-11-28","09:39:00","CRISTHIAN CAMILO MONTAÑA HERNANDEZ","VIRTUAL","Correo electrónico","notificacion@curaduria1bogota.com","Entidades y Organismos Distritales","Curaduría 1","Entidades y Organismos Distritales","Funcionario","Masculino","Hombre ","Sin datos","Sin datos","Sin datos","Sin datos","PETICIONES ENTRE ENTIDADES","Consulta general","Peticiones entre entidades","NOTIFICACION A.A. 11001-1-22-3723 DE FECHA 18-11-2022 EXP 4144","Radicar en ORFEO","SRI","No Registra"]
[1581,2022,"NOVIEMBRE","2022-11-28","13:39:00","CRISTHIAN CAMILO MONTAÑA HERNANDEZ","VIRTUAL","Correo electrónico","cdi.ruribe@gobiernobogota.gov.co","Entidades y Organismos Distritales","Secretaría de Gobierno","Entidades y Organismos Distritales","CDI Ruribe","Femenino","Mujer","Sin datos","Sin datos","Sin datos","Sin datos","PETICIONES ENTRE ENTIDADES","Consulta general","Peticiones entre entidades","Remito comunicado con radicado 20226841511101","Radicar en ORFEO","SGI","18 Rafael Uribe Uribe"]
[1582,2022,"NOVIEMBRE","2022-11-28","11:14:00","CRISTHIAN CAMILO MONTAÑA HERNANDEZ","VIRTUAL","Correo electrónico","notificacionesjudiciales@terminaldetransporte.gov.co","Entidades y Organismos Distritales","Terminal de transporte","Entidades y Organismos Distritales","Notificaciones","Masculino","Hombre ","Sin datos","Sin datos","Sin datos","Sin datos","PETICIONES ENTRE ENTIDADES","Consulta general","Peticiones entre entidades","Respuesta a sus Derechos de Petición del 17 de octubre de 2022, radicados a través de la Plataforma “Bogotá Te Escucha” bajo los radicados Nos. 3721342022 del 31 de octubre de 2022 y 3922352022 del 8 de noviembre de 2022, respectivamente","Radicar en ORFEO","OJ","No Registra"]
[1583,2022,"NOVIEMBRE","2022-11-28","14:50:00","CRISTHIAN CAMILO MONTAÑA HERNANDEZ","VIRTUAL","Correo electrónico","correspondencia@secretariajuridica.gov.co","Entidades y Organismos Distritales","Secretaría juridica Distrital","Entidades y Organismos Distritales","Correspondencia","Femenino","Mujer","Sin datos","Sin datos","Sin datos","Sin datos","PETICIONES ENTRE ENTIDADES","Consulta general","Peticiones entre entidades","Comunicación Oficial N° 2-2022-23473","Radicar en ORFEO","OJ","No Registra"]
[1584,2022,"NOVIEMBRE","2022-11-28","07:57:00","CRISTHIAN CAMILO MONTAÑA HERNANDEZ","VIRTUAL","Correo electrónico","asisadministrativo038@ginprosacol.com","Empresas privadas","Ginprosa Colombia S.A.S","Empresas Privadas","Ciudadanía","Masculino","Hombre ","Sin datos","Sin datos","Sin datos","Sin datos","ASESORÍA","Asesoría en administración y sostenibilidad del espacio público","Asesoría en temas de espacio público","Respuesta a comunicado SDM SI 202222409306431 - Alcance a comunicados Interventoría No. GIN-SAS-COS-CO1515-4246 (IDU 20225261277532) y No. GIN-SAS-COS-CO1515-4247 (IDU 20225261277462) – Seguimiento a oficios DADEP No. 20223080050211, TRANSMILENIO No. 20224000079772 y 20224000074152, IDU STESV 20223360523751, DADEP 20223080032441 - “UBICACIÓN DEFINITIVA DE PARADEROS UBICADOS EN LA ZONA DE INTERVENCIÓN DEL CONTRATO DE OBRA","Radicar en ORFEO","SGI","No Registra"]
[1585,2022,"NOVIEMBRE","2022-11-28","09:12:00","CRISTHIAN CAMILO MONTAÑA HERNANDEZ","VIRTUAL","Correo electrónico","julian.rios@elranchodejonas.com","Empresas privadas","El rancho de Jonas","Empresas Privadas","Ciudadanía","Masculino","Hombre ","Sin datos","Sin datos","Sin datos","Sin datos","ASESORÍA","Estudio de la viabilidad de las solicitudes de administración de bienes públicos","Viabilidad Decreto 070 / 2022 BACA 2.0","DESESTIMACION PERMISO DADEP BACA 2.0","Radicar en ORFEO","SGC","No Registra"]
[1586,2022,"NOVIEMBRE","2022-11-28","22:21:00","CRISTHIAN CAMILO MONTAÑA HERNANDEZ","VIRTUAL","Correo electrónico","correspondencia@jbb.gov.co","Entidades y Organismos Distritales","Jardín Botánico de Bogotá","Entidades y Organismos Distritales","Correspondencia","Masculino","Hombre ","Sin datos","Sin datos","Sin datos","Sin datos","PETICIONES ENTRE ENTIDADES","Consulta general","Peticiones entre entidades","2022JBB400067552 - Solicitud autorización huerta en espacio público - Huerta Aselmut","Radicar en ORFEO","SGI","No Registra"]
[1587,2022,"NOVIEMBRE","2022-11-28","04:49:00","CRISTHIAN CAMILO MONTAÑA HERNANDEZ","VIRTUAL","Correo electrónico","danielramirez00260@gmail.com","Servidores públicos (funcionarios y contratistas)","Daniel Ramírez ","Servidores públicos (funcionarios y contratistas)","Servidor público","Masculino","Hombre ","Sin datos","Sin datos","Sin datos","Sin datos","CONSULTA","Consulta general","Contratos jurídica","Alcance radicado no. 20224000279592 - solicitud suspensión de contrato","Radicar en ORFEO","SRI","No Registra"]
[1588,2022,"NOVIEMBRE","2022-11-28","06:45:00","CRISTHIAN CAMILO MONTAÑA HERNANDEZ","VIRTUAL","Correo electrónico","notificaciones_catastro@catastrobogota.gov.co","Entidades y Organismos Distritales","Catastro de Bogotá","Entidades y Organismos Distritales","Notificaciones","Femenino","Mujer","Sin datos","Sin datos","Sin datos","Sin datos","PETICIONES ENTRE ENTIDADES","Consulta general","Peticiones entre entidades","UAECD 2022 EE 86581 (uaecd 2022 er 41932)","Radicar en ORFEO","SRI","No Registra"]
[1589,2022,"NOVIEMBRE","2022-11-28","06:45:00","CRISTHIAN CAMILO MONTAÑA HERNANDEZ","VIRTUAL","Correo electrónico","cdi.ruribe@gobiernobogota.gov.co","Entidades y Organismos Distritales","Secretaría de Gobierno","Entidades y Organismos Distritales","CDI Ruribe","Femenino","Mujer","Sin datos","Sin datos","Sin datos","Sin datos","PETICIONES ENTRE ENTIDADES","Consulta general","Peticiones entre entidades","Remito comunicado con radicado 20226831543631","Radicar en ORFEO","SGI","18 Rafael Uribe Uribe"]
[1590,2022,"NOVIEMBRE","2022-11-28","07:00:00","CRISTHIAN CAMILO MONTAÑA HERNANDEZ","VIRTUAL","Correo electrónico","mariargeniardila08@hotmail.com","Ciudadanía","María Argeni Ardila Trujillo ","Entidades y Orgamismos Distritales","Ciudadanía","Femenino","Mujer","Sin datos","Sin datos","Sin datos","Sin datos","ASESORÍA","Asesoría en administración y sostenibilidad del espacio público","Asesoría en temas de espacio público","Solicitud reunion","Radicar en ORFEO","SGI","07 Bosa"]
[1591,2022,"NOVIEMBRE","2022-11-28","07:37:00","CRISTHIAN CAMILO MONTAÑA HERNANDEZ","VIRTUAL","Correo electrónico","edgar.ramos@medicinalegal.gov.co","Entidades y Organismos Nacionales","Medicinal Legal","Entidades y Orgamismos Nacionales","Funcionario","Masculino","Hombre ","Sin datos","Sin datos","Sin datos","Sin datos","PETICIONES ENTRE ENTIDADES","Consulta general","Peticiones entre entidades","Oficio DADEP 20223050160491 del 11-10-2022","Radicar en ORFEO","SGI","No Registra"]
[1592,2022,"NOVIEMBRE","2022-11-28","08:00:00","CRISTHIAN CAMILO MONTAÑA HERNANDEZ","VIRTUAL","Correo electrónico","envionotificaciones@ipes.gov.co","Entidades y Organismos Distritales","Instituto Para la Economía Social - IPES","Entidades y Organismos Distritales","envío notificaciones","Femenino","Mujer","Sin datos","Sin datos","Sin datos","Sin datos","PETICIONES ENTRE ENTIDADES","Consulta general","Peticiones entre entidades","00110-816-031731 - Respuesta Radicado IPES No. 00110-812-018859, Traslados por competencia. Radicado DADEP 20223060141261 y Radicado Concejo de Bogota 2022EE12328.","Radicar en ORFEO","SGI","No Registra"]
[1593,2022,"NOVIEMBRE","2022-11-28","08:11:00","CRISTHIAN CAMILO MONTAÑA HERNANDEZ","VIRTUAL","Correo electrónico","envionotificaciones@ipes.gov.co","Entidades y Organismos Distritales","Instituto Para la Economía Social - IPES","Entidades y Organismos Distritales","envío notificaciones","Femenino","Mujer","Sin datos","Sin datos","Sin datos","Sin datos","PETICIONES ENTRE ENTIDADES","Consulta general","Peticiones entre entidades","00110-816-0,31946 - Respuesta al traslado por competencia del requerimiento ciudadano radicado IPES No. 00110-812-021395. Radicado DADEP No. 20224000229202 de 28/9/2022 y 20223010157611 de 6/10/2022","Radicar en ORFEO","SGI","No Registra"]
[1594,2022,"NOVIEMBRE","2022-11-28","08:42:00","CRISTHIAN CAMILO MONTAÑA HERNANDEZ","VIRTUAL","Correo electrónico","sednotificaciones@educacionbogota.edu.co","Entidades y Organismos Distritales","Secretaría de Educación","Entidades y Organismos Distritales","Notificaciones","Masculino","Hombre ","Sin datos","Sin datos","Sin datos","Sin datos","PETICIONES ENTRE ENTIDADES","Consulta general","Peticiones entre entidades","S-2022-361277","Radicar en ORFEO","SRI","No Registra"]
[1595,2022,"NOVIEMBRE","2022-11-28","08:47:00","CRISTHIAN CAMILO MONTAÑA HERNANDEZ","VIRTUAL","Correo electrónico","notificaciones_catastro@catastrobogota.gov.co","Entidades y Organismos Distritales","Catastro de Bogotá","Entidades y Organismos Distritales","Notificaciones","Masculino","Hombre ","Sin datos","Sin datos","Sin datos","Sin datos","PETICIONES ENTRE ENTIDADES","Consulta general","Peticiones entre entidades","RAD 2022-459754 OFICIO 2022EE87749 RES. 2022-57463 23/11/22 NOTIFICACIÓN ELECTRÓNICA AUTORIZADA","Radicar en ORFEO","SRI","No Registra"]
[1596,2022,"NOVIEMBRE","2022-11-28","11:03:00","CRISTHIAN CAMILO MONTAÑA HERNANDEZ","VIRTUAL","Correo electrónico","gmarulanda@contraloriabogota.gov.co","Entidades y Organismos Distritales","Contraloría de Bogotá","Entidades y Organismos Distritales","Funcionario","Femenino","Mujer","Sin datos","Sin datos","Sin datos","Sin datos","PETICIONES ENTRE ENTIDADES","Consulta general","Peticiones entre entidades","Radicado No. 110100-055-012 del 28-nov-2022-Solicitud relacionada con el Derecho de petición 1318-22 Visita Fiscal 505 DADEP. ","Radicar en ORFEO","DIRECCIÓN","No Registra"]
[1597,2022,"NOVIEMBRE","2022-11-28","11:34:00","CRISTHIAN CAMILO MONTAÑA HERNANDEZ","VIRTUAL","Correo electrónico","cruzmarlonedil@gmail.com","Juntas Administradoras Locales (JAL)","EDIL Marlon Cruz","Juntas Administradoras Locales (JAL)","Funcionario","Masculino","Hombre ","Sin datos","Sin datos","Sin datos","Sin datos","PETICIONES ENTRE ENTIDADES","Consulta general","Peticiones entre entidades","EDIL - DERECHO DE PETICION","Radicar en ORFEO","DIRECCIÓN","03 Santa fe"]
[1598,2022,"NOVIEMBRE","2022-11-28","11:35:00","CRISTHIAN CAMILO MONTAÑA HERNANDEZ","VIRTUAL","Correo electrónico","Carmen.Castro@gobiernobogota.gov.co","Entidades y Organismos Distritales","Secretaría de Gobierno","Entidades y Organismos Distritales","CARMEN Castro","Masculino","Hombre ","Sin datos","Sin datos","Sin datos","Sin datos","PETICIONES ENTRE ENTIDADES","Consulta general","Peticiones entre entidades","RADICADO 20226630654271","Radicar en ORFEO","SGI","16 Puente Aranda"]
[1599,2022,"NOVIEMBRE","2022-11-28","11:41:00","CRISTHIAN CAMILO MONTAÑA HERNANDEZ","VIRTUAL","Correo electrónico","consulcanoas@gmail.com","Empresas privadas","Consultoria Canoas ","Empresas Privadas","Ciudadanía","N/A","N/A","Sin datos","Sin datos","Sin datos","Sin datos","ASESORÍA","Asesoría en administración y sostenibilidad del espacio público","Asesoría en temas de espacio público","OF-V&G-ETC-0268 - SOLICITUD DE CERTIFICACIONES DE PREDIOS DE PROPIEDAD - LOCALIDAD DE BOSA Y FONTIBON","Radicar en ORFEO","SGI","09 Fontibón"]
[1600,2022,"NOVIEMBRE","2022-11-28","11:42:00","CRISTHIAN CAMILO MONTAÑA HERNANDEZ","VIRTUAL","Correo electrónico","correspondencia.i.dadep378@interdisenos.com.co","Empresas privadas","interdisenos","Empresas Privadas","Correspondencia","Femenino","Mujer","Sin datos","Sin datos","Sin datos","Sin datos","NOTIFICACIONES","Estudio de la viabilidad de las solicitudes de administración de bienes públicos","CAMEP Contrato de administración y mantenimiento","GDADEP06-0575-22 DADEP Remisión Informe Mensual No.10 v1","Radicar en ORFEO","SGI","No Registra"]
[1601,2022,"NOVIEMBRE","2022-11-28","11:45:00","CRISTHIAN CAMILO MONTAÑA HERNANDEZ","VIRTUAL","Correo electrónico","vcanon@catastrobogota.gov.co","Entidades y Organismos Distritales","Catastro de Bogotá","Entidades y Organismos Distritales","Funcionario","Femenino","Mujer","Sin datos","Sin datos","Sin datos","Sin datos","PETICIONES ENTRE ENTIDADES","Consulta general","Peticiones entre entidades","Respuesta 2022EE88219C1","Radicar en ORFEO","SRI","No Registra"]
[1602,2022,"NOVIEMBRE","2022-11-28","11:48:00","CRISTHIAN CAMILO MONTAÑA HERNANDEZ","VIRTUAL","Correo electrónico","paseodeluz@gmail.com","Empresas privadas","Paseo de Luz","Empresas Privadas","Ciudadanía","N/A","N/A","Sin datos","Sin datos","Sin datos","Sin datos","NOTIFICACIONES","Estudio de la viabilidad de las solicitudes de administración de bienes públicos","CAMEP Contrato de administración y mantenimiento","Radiación documentos Demos Paseo de Luz","Radicar en ORFEO","SGI","No Registra"]
[1603,2022,"NOVIEMBRE","2022-11-28","12:00:00","CRISTHIAN CAMILO MONTAÑA HERNANDEZ","VIRTUAL","Correo electrónico","cdi.ruribe@gobiernobogota.gov.co","Entidades y Organismos Distritales","Secretaría de Gobierno","Entidades y Organismos Distritales","CDI Ruribe","Femenino","Mujer","Sin datos","Sin datos","Sin datos","Sin datos","PETICIONES ENTRE ENTIDADES","Consulta general","Peticiones entre entidades","ENVIO OFICIO 20226841560181 SOLICITUD URGENTE DE INFORME TECNICO","Radicar en ORFEO","SGI","18 Rafael Uribe Uribe"]
[1604,2022,"NOVIEMBRE","2022-11-28","12:03:00","CRISTHIAN CAMILO MONTAÑA HERNANDEZ","VIRTUAL","Correo electrónico","correspondencia.i.dadep247@interdisenos.com.co","Empresas privadas","interdisenos","Empresas Privadas","Correspondencia","Femenino","Mujer","Sin datos","Sin datos","Sin datos","Sin datos","NOTIFICACIONES","Estudio de la viabilidad de las solicitudes de administración de bienes públicos","CAMEP Contrato de administración y mantenimiento","GDADEP-991-22 DADEP Rta oficio N° 20223080182781 - Alcance Informe Mensual Interventoria N° 27 V0","Radicar en ORFEO","SGI","No Registra"]
[1605,2022,"NOVIEMBRE","2022-11-28","12:06:00","CRISTHIAN CAMILO MONTAÑA HERNANDEZ","VIRTUAL","Correo electrónico","correspondencia.i.dadep247@interdisenos.com.co","Empresas privadas","interdisenos","Empresas Privadas","Correspondencia","Femenino","Mujer","Sin datos","Sin datos","Sin datos","Sin datos","NOTIFICACIONES","Estudio de la viabilidad de las solicitudes de administración de bienes públicos","CAMEP Contrato de administración y mantenimiento","GDADEP-990-22 EUCOL Traslado radicado N° 20223080177041 - Disposicion final de mobiliario instalacion prototipos","Radicar en ORFEO","SGI","No Registra"]
[1606,2022,"NOVIEMBRE","2022-11-28","12:08:00","CRISTHIAN CAMILO MONTAÑA HERNANDEZ","VIRTUAL","Correo electrónico","mesasgestionterritorial@gobiernobogota.gov.co","Entidades y Organismos Distritales","Secretaría de Gobierno","Entidades y Organismos Distritales","MESASGESTIONTERRITORIAL@GOBIERNOBOGOTA Gobiernobogota","Femenino","Mujer","Sin datos","Sin datos","Sin datos","Sin datos","PETICIONES ENTRE ENTIDADES","Consulta general","Peticiones entre entidades","CONVOCATORIA MGT- Control a la movilidad y seguridad del barrio El Campín HC Gomez RADICADO: 20224213809992","Radicar en ORFEO","DIRECCIÓN","No Registra"]
[1607,2022,"NOVIEMBRE","2022-11-28","12:26:00","CRISTHIAN CAMILO MONTAÑA HERNANDEZ","VIRTUAL","Correo electrónico","monica.caicedo@gobiernobogota.gov.co","Entidades y Organismos Distritales","Secretaría de Gobierno","Entidades y Organismos Distritales","MONICA Usaquén","Masculino","Hombre ","Sin datos","Sin datos","Sin datos","Sin datos","PETICIONES ENTRE ENTIDADES","Consulta general","Peticiones entre entidades","20225141113851 - RESPUESTA DADEP N. 20223010178511","Radicar en ORFEO","SGI","01 Usaquén"]
[1608,2022,"NOVIEMBRE","2022-11-28","12:27:00","CRISTHIAN CAMILO MONTAÑA HERNANDEZ","VIRTUAL","Correo electrónico","cdi.ruribe@gobiernobogota.gov.co","Entidades y Organismos Distritales","Secretaría de Gobierno","Entidades y Organismos Distritales","CDI Ruribe","Femenino","Mujer","Sin datos","Sin datos","Sin datos","Sin datos","PETICIONES ENTRE ENTIDADES","Consulta general","Peticiones entre entidades","ENVIO OFICIO 20226841560201 SOLICITUD URGENTE DE INFORME TECNICO","Radicar en ORFEO","SGI","18 Rafael Uribe Uribe"]
[1609,2022,"NOVIEMBRE","2022-11-28","12:37:00","CRISTHIAN CAMILO MONTAÑA HERNANDEZ","VIRTUAL","Correo electrónico","cdi.ruribe@gobiernobogota.gov.co","Entidades y Organismos Distritales","Secretaría de Gobierno","Entidades y Organismos Distritales","CDI Ruribe","Femenino","Mujer","Sin datos","Sin datos","Sin datos","Sin datos","PETICIONES ENTRE ENTIDADES","Consulta general","Peticiones entre entidades","ENVIO OFICIO 20226841560231 SOLICITUD URGENTE DE INFORME TECNICO","Radicar en ORFEO","SGI","18 Rafael Uribe Uribe"]
[1610,2022,"NOVIEMBRE","2022-11-28","12:42:00","CRISTHIAN CAMILO MONTAÑA HERNANDEZ","VIRTUAL","Correo electrónico","cdi.ruribe@gobiernobogota.gov.co","Entidades y Organismos Distritales","Secretaría de Gobierno","Entidades y Organismos Distritales","CDI Ruribe","Femenino","Mujer","Sin datos","Sin datos","Sin datos","Sin datos","PETICIONES ENTRE ENTIDADES","Consulta general","Peticiones entre entidades","ENVIO OFICIO 20226841560251 SOLICITUD URGENTE DE INFORME TECNICO ","Radicar en ORFEO","SGI","18 Rafael Uribe Uribe"]
[1611,2022,"NOVIEMBRE","2022-11-28","12:43:00","CRISTHIAN CAMILO MONTAÑA HERNANDEZ","VIRTUAL","Correo electrónico","respuestasrbl@uaesp.gov.co","Entidades y Organismos Distritales","Unidad Administrativa Especial de Servicios Públicos","Entidades y Organismos Distritales","Respuestas RBL","Masculino","Hombre ","Sin datos","Sin datos","Sin datos","Sin datos","PETICIONES ENTRE ENTIDADES","Consulta general","Peticiones entre entidades","Remito radicado UAESP 20222000270201 ","Radicar en ORFEO","SRI","11 Suba"]
[1612,2022,"NOVIEMBRE","2022-11-28","12:45:00","CRISTHIAN CAMILO MONTAÑA HERNANDEZ","VIRTUAL","Correo electrónico","cdi.ruribe@gobiernobogota.gov.co","Entidades y Organismos Distritales","Secretaría de Gobierno","Entidades y Organismos Distritales","CDI Ruribe","Femenino","Mujer","Sin datos","Sin datos","Sin datos","Sin datos","PETICIONES ENTRE ENTIDADES","Consulta general","Peticiones entre entidades","ENVIO OFICIO 20226841560271 SOLICITUD URGENTE DE INFORME TECNICO","Radicar en ORFEO","SGI","18 Rafael Uribe Uribe"]
[1613,2022,"NOVIEMBRE","2022-11-28","12:49:00","CRISTHIAN CAMILO MONTAÑA HERNANDEZ","VIRTUAL","Correo electrónico","cdi.ruribe@gobiernobogota.gov.co","Entidades y Organismos Distritales","Secretaría de Gobierno","Entidades y Organismos Distritales","CDI Ruribe","Femenino","Mujer","Sin datos","Sin datos","Sin datos","Sin datos","PETICIONES ENTRE ENTIDADES","Consulta general","Peticiones entre entidades","ENVIO OFICIO 20226841560291 SOLICITUD URGENTE DE INFORME TECNICO","Radicar en ORFEO","SGI","18 Rafael Uribe Uribe"]
[1614,2022,"NOVIEMBRE","2022-11-28","12:51:00","CRISTHIAN CAMILO MONTAÑA HERNANDEZ","VIRTUAL","Correo electrónico","cdi.ruribe@gobiernobogota.gov.co","Entidades y Organismos Distritales","Secretaría de Gobierno","Entidades y Organismos Distritales","CDI Ruribe","Femenino","Mujer","Sin datos","Sin datos","Sin datos","Sin datos","PETICIONES ENTRE ENTIDADES","Consulta general","Peticiones entre entidades","ENVIO OFICIO 20226841560311 SOLICITUD URGENTE DE INFORME TECNICO ","Radicar en ORFEO","SGI","18 Rafael Uribe Uribe"]
[1615,2022,"NOVIEMBRE","2022-11-28","12:55:00","CRISTHIAN CAMILO MONTAÑA HERNANDEZ","VIRTUAL","Correo electrónico","cdi.ruribe@gobiernobogota.gov.co","Entidades y Organismos Distritales","Secretaría de Gobierno","Entidades y Organismos Distritales","CDI Ruribe","Femenino","Mujer","Sin datos","Sin datos","Sin datos","Sin datos","PETICIONES ENTRE ENTIDADES","Consulta general","Peticiones entre entidades","ENVIO OFICIO 20226841560331 SOLICITUD URGENTE DE INFORME TECNICO ","Radicar en ORFEO","SGI","18 Rafael Uribe Uribe"]
[1616,2022,"NOVIEMBRE","2022-11-28","12:57:00","CRISTHIAN CAMILO MONTAÑA HERNANDEZ","VIRTUAL","Correo electrónico","cdi.ruribe@gobiernobogota.gov.co","Entidades y Organismos Distritales","Secretaría de Gobierno","Entidades y Organismos Distritales","CDI Ruribe","Femenino","Mujer","Sin datos","Sin datos","Sin datos","Sin datos","PETICIONES ENTRE ENTIDADES","Consulta general","Peticiones entre entidades","ENVIO OFICIO 20226841560351 SOLICITUD URGENTE DE INFORME TECNICO","Radicar en ORFEO","SGI","18 Rafael Uribe Uribe"]
[1617,2022,"NOVIEMBRE","2022-11-28","13:06:00","CRISTHIAN CAMILO MONTAÑA HERNANDEZ","VIRTUAL","Correo electrónico","cdi.ruribe@gobiernobogota.gov.co","Entidades y Organismos Distritales","Secretaría de Gobierno","Entidades y Organismos Distritales","CDI Ruribe","Femenino","Mujer","Sin datos","Sin datos","Sin datos","Sin datos","PETICIONES ENTRE ENTIDADES","Consulta general","Peticiones entre entidades","ENVIO OFICIO 20226841560391 SOLICITUD URGENTE DE INFORME TECNICO","Radicar en ORFEO","SGI","18 Rafael Uribe Uribe"]
[1618,2022,"NOVIEMBRE","2022-11-28","13:06:00","CRISTHIAN CAMILO MONTAÑA HERNANDEZ","VIRTUAL","Correo electrónico","christianpinzonsa@hotmail.com","Ciudadanía","Christian Alexis Pinzon Sanchez ","Entidades y Orgamismos Distritales","Ciudadanía","Masculino","Hombre ","Sin datos","Sin datos","Sin datos","Sin datos","ASESORÍA","Asesoría en administración y sostenibilidad del espacio público","Asesoría en temas de espacio público","ALCANCE SECRETARIA DE MOVILIDAD  - ALCANCE RESPUESTA 202222209996691","Radicar en ORFEO","SGI","No Registra"]
[1619,2022,"NOVIEMBRE","2022-11-28","13:07:00","CRISTHIAN CAMILO MONTAÑA HERNANDEZ","VIRTUAL","Correo electrónico","correspondencia@idiger.gov.co","Entidades y Organismos Distritales","Instituto Distrital de Gestión de Riesgos y Cambio Climático","Entidades y Organismos Distritales","Correspondencia","Femenino","Mujer","Sin datos","Sin datos","Sin datos","Sin datos","PETICIONES ENTRE ENTIDADES","Consulta general","Peticiones entre entidades","Radicado Idiger 2022ER18017 / 2022EE19774","Radicar en ORFEO","SRI","No Registra"]
[1620,2022,"NOVIEMBRE","2022-11-28","13:08:00","CRISTHIAN CAMILO MONTAÑA HERNANDEZ","VIRTUAL","Correo electrónico","servicioalciudadanogel@sdp.gov.co","Entidades y Organismos Distritales","Secretaría Distrital de Planeación","Entidades y Organismos Distritales","buzon comunicaciones","Femenino","Mujer","Sin datos","Sin datos","Sin datos","Sin datos","PETICIONES ENTRE ENTIDADES","Consulta general","Peticiones entre entidades","2-2022-172141","Radicar en ORFEO","SRI","No Registra"]
[1621,2022,"NOVIEMBRE","2022-11-28","13:41:00","CRISTHIAN CAMILO MONTAÑA HERNANDEZ","VIRTUAL","Correo electrónico","correspondencia@idiger.gov.co","Entidades y Organismos Distritales","Instituto Distrital de Gestión de Riesgos y Cambio Climático","Entidades y Organismos Distritales","Correspondencia","Femenino","Mujer","Sin datos","Sin datos","Sin datos","Sin datos","PETICIONES ENTRE ENTIDADES","Consulta general","Peticiones entre entidades","Radicado Idiger 2022ER18020 /2022EE19775","Radicar en ORFEO","SRI","No Registra"]
[1622,2022,"NOVIEMBRE","2022-11-28","13:51:00","CRISTHIAN CAMILO MONTAÑA HERNANDEZ","VIRTUAL","Correo electrónico","cdi.engativa@gobiernobogota.gov.co","Entidades y Organismos Distritales","Secretaría de Gobierno","Entidades y Organismos Distritales","CDI Engativá","Femenino","Mujer","Sin datos","Sin datos","Sin datos","Sin datos","PETICIONES ENTRE ENTIDADES","Consulta general","Peticiones entre entidades","20226040958061 - Expediente No. 2021604490100720E","Radicar en ORFEO","SGI","10 Engativá"]
[1623,2022,"NOVIEMBRE","2022-11-28","13:55:00","CRISTHIAN CAMILO MONTAÑA HERNANDEZ","VIRTUAL","Correo electrónico","correspondencia@concejobogota.gov.co","Entidades y Organismos Distritales","Concejo de Bogotá","Entidades y Organismos Distritales","Correspondencia","Femenino","Mujer","Sin datos","Sin datos","Sin datos","Sin datos","PETICIONES ENTRE ENTIDADES","Consulta general","Peticiones entre entidades","Invitación Mesa de Trabajo - Hotel Vilar América ubicado en la Calle 66 No. 8-34 el día 05 de diciembre de 2022, a las 3:00 p.m. ","Radicar en ORFEO","DIRECCIÓN","No Registra"]
[1624,2022,"NOVIEMBRE","2022-11-28","13:55:00","CRISTHIAN CAMILO MONTAÑA HERNANDEZ","VIRTUAL","Correo electrónico","contactenos@metrodebogota.gov.co","Entidades y Organismos Distritales","Metro de Bogotá","Entidades y Organismos Distritales","Funcionario","Masculino","Hombre ","Sin datos","Sin datos","Sin datos","Sin datos","PETICIONES ENTRE ENTIDADES","Consulta general","Peticiones entre entidades","Respuesta PQRSD-E22-02160 - Referencia: Radicado No. 20223080170351","Radicar en ORFEO","SGI","No Registra"]
[1625,2022,"NOVIEMBRE","2022-11-28","14:03:00","CRISTHIAN CAMILO MONTAÑA HERNANDEZ","VIRTUAL","Correo electrónico","comisiondelplan@concejobogota.gov.co","Entidades y Organismos Distritales","Concejo de Bogotá","Entidades y Organismos Distritales","comisión del plan","Femenino","Mujer","Sin datos","Sin datos","Sin datos","Sin datos","PETICIONES ENTRE ENTIDADES","Consulta general","Peticiones entre entidades","ENVIÓ CUESTIONARIO CITADOS E INVITADOS PROPOSICIÓN No. 677 DE 2022","Radicar en ORFEO","DIRECCIÓN","No Registra"]
[1626,2022,"NOVIEMBRE","2022-11-28","14:12:00","CRISTHIAN CAMILO MONTAÑA HERNANDEZ","VIRTUAL","Correo electrónico","notificaciones_catastro@catastrobogota.gov.co","Entidades y Organismos Distritales","Catastro de Bogotá","Entidades y Organismos Distritales","Notificaciones","Femenino","Mujer","Sin datos","Sin datos","Sin datos","Sin datos","PETICIONES ENTRE ENTIDADES","Consulta general","Peticiones entre entidades","UAECD 2022 EE 87268 (uaecd 2022 er 41080) ","Radicar en ORFEO","SRI","No Registra"]
[1627,2022,"NOVIEMBRE","2022-11-28","14:25:00","CRISTHIAN CAMILO MONTAÑA HERNANDEZ","VIRTUAL","Correo electrónico","correspondencia@concejobogota.gov.co","Entidades y Organismos Distritales","Concejo de Bogotá","Entidades y Organismos Distritales","Correspondencia","Femenino","Mujer","Sin datos","Sin datos","Sin datos","Sin datos","PETICIONES ENTRE ENTIDADES","Consulta general","Peticiones entre entidades","Convocatoria mesa de trabajo con ciudadanía de los barrios ubicados entre la Autopista y la Av Boyacá por la 138.","Radicar en ORFEO","DIRECCIÓN","No Registra"]
[1628,2022,"NOVIEMBRE","2022-11-28","14:36:00","CRISTHIAN CAMILO MONTAÑA HERNANDEZ","VIRTUAL","Correo electrónico","notificacionessuba@gobiernobogota.gov.co","Entidades y Organismos Distritales","Secretaría de Gobierno","Entidades y Organismos Distritales","salidas cdi suba","Femenino","Mujer","Sin datos","Sin datos","Sin datos","Sin datos","PETICIONES ENTRE ENTIDADES","Consulta general","Peticiones entre entidades","20226142131541 - CITACIÓN AL DADEP POR A.P. 05/12/22 A LAS 10:00AM. EXP: 2019614490118591E","Radicar en ORFEO","SGI","11 Suba"]
[1629,2022,"NOVIEMBRE","2022-11-28","14:38:00","CRISTHIAN CAMILO MONTAÑA HERNANDEZ","VIRTUAL","Correo electrónico","cdi.engativa@gobiernobogota.gov.co","Entidades y Organismos Distritales","Secretaría de Gobierno","Entidades y Organismos Distritales","CDI Engativá","Masculino","Hombre ","Sin datos","Sin datos","Sin datos","Sin datos","PETICIONES ENTRE ENTIDADES","Consulta general","Peticiones entre entidades","20226040958531 - Respuesta Radicado DADEP No. 20223010124321.","Radicar en ORFEO","SGI","10 Engativá"]
[1630,2022,"NOVIEMBRE","2022-11-28","14:40:00","CRISTHIAN CAMILO MONTAÑA HERNANDEZ","VIRTUAL","Correo electrónico","notificacionessuba@gobiernobogota.gov.co","Entidades y Organismos Distritales","Secretaría de Gobierno","Entidades y Organismos Distritales","salidas cdi suba","Femenino","Mujer","Sin datos","Sin datos","Sin datos","Sin datos","PETICIONES ENTRE ENTIDADES","Consulta general","Peticiones entre entidades","20226142131741 - CITACIÓN DADEP A.P. 06/12/22 A LAS 10:00AM- EXP: 2019614490118600E","Radicar en ORFEO","SGI","11 Suba"]
[1631,2022,"NOVIEMBRE","2022-11-28","14:40:00","CRISTHIAN CAMILO MONTAÑA HERNANDEZ","VIRTUAL","Correo electrónico","igil@dadep.gov.co","Servidores públicos (funcionarios y contratistas)","DADEP","Servidores públicos (funcionarios y contratistas)","Servidor público","Femenino","Mujer","Sin datos","Sin datos","Sin datos","Sin datos","CONSULTA","Consulta general","Contratos jurídica","Solicitud certificado contractual 110-00129-338-0-2022","Radicar en ORFEO","OJ","No Registra"]
[1632,2022,"NOVIEMBRE","2022-11-28","14:42:00","CRISTHIAN CAMILO MONTAÑA HERNANDEZ","VIRTUAL","Correo electrónico","cdi.ruribe@gobiernobogota.gov.co","Entidades y Organismos Distritales","Secretaría de Gobierno","Entidades y Organismos Distritales","CDI Ruribe","Femenino","Mujer","Sin datos","Sin datos","Sin datos","Sin datos","PETICIONES ENTRE ENTIDADES","Consulta general","Peticiones entre entidades","ENVIO OFICIO 20226841560411 SOLICITUD URGENTE DE INFORME TECNICO","Radicar en ORFEO","SGI","18 Rafael Uribe Uribe"]
[1633,2022,"NOVIEMBRE","2022-11-28","14:49:00","CRISTHIAN CAMILO MONTAÑA HERNANDEZ","VIRTUAL","Correo electrónico","cdi.ruribe@gobiernobogota.gov.co","Entidades y Organismos Distritales","Secretaría de Gobierno","Entidades y Organismos Distritales","CDI Ruribe","Femenino","Mujer","Sin datos","Sin datos","Sin datos","Sin datos","PETICIONES ENTRE ENTIDADES","Consulta general","Peticiones entre entidades","ENVIO OFICIO 20226841560431 SOLICITUD URGENTE DE INFORME TECNICO","Radicar en ORFEO","SGI","18 Rafael Uribe Uribe"]
[1634,2022,"NOVIEMBRE","2022-11-28","14:54:00","CRISTHIAN CAMILO MONTAÑA HERNANDEZ","VIRTUAL","Correo electrónico","cdi.ruribe@gobiernobogota.gov.co","Entidades y Organismos Distritales","Secretaría de Gobierno","Entidades y Organismos Distritales","CDI Ruribe","Femenino","Mujer","Sin datos","Sin datos","Sin datos","Sin datos","PETICIONES ENTRE ENTIDADES","Consulta general","Peticiones entre entidades","ENVIO OFICIO 20226841560461 SOLICITUD URGENTE DE INFORME TECNICO","Radicar en ORFEO","SGI","18 Rafael Uribe Uribe"]
[1635,2022,"NOVIEMBRE","2022-11-28","14:56:00","CRISTHIAN CAMILO MONTAÑA HERNANDEZ","VIRTUAL","Correo electrónico","cdi.ruribe@gobiernobogota.gov.co","Entidades y Organismos Distritales","Secretaría de Gobierno","Entidades y Organismos Distritales","CDI Ruribe","Femenino","Mujer","Sin datos","Sin datos","Sin datos","Sin datos","PETICIONES ENTRE ENTIDADES","Consulta general","Peticiones entre entidades","ENVIO OFICIO 20226841560481 SOLICITUD URGENTE DE INFORME TECNICO","Radicar en ORFEO","SGI","18 Rafael Uribe Uribe"]
[1636,2022,"NOVIEMBRE","2022-11-28","14:59:00","CRISTHIAN CAMILO MONTAÑA HERNANDEZ","VIRTUAL","Correo electrónico","cdi.ruribe@gobiernobogota.gov.co","Entidades y Organismos Distritales","Secretaría de Gobierno","Entidades y Organismos Distritales","CDI Ruribe","Femenino","Mujer","Sin datos","Sin datos","Sin datos","Sin datos","PETICIONES ENTRE ENTIDADES","Consulta general","Peticiones entre entidades","ENVIO OFICIO 20226841560501 SOLIICTUD URGENTE DE INFORME TECNICO","Radicar en ORFEO","SGI","18 Rafael Uribe Uribe"]
[1637,2022,"NOVIEMBRE","2022-11-28","15:00:00","CRISTHIAN CAMILO MONTAÑA HERNANDEZ","VIRTUAL","Correo electrónico","cdi.ruribe@gobiernobogota.gov.co","Entidades y Organismos Distritales","Secretaría de Gobierno","Entidades y Organismos Distritales","CDI Ruribe","Femenino","Mujer","Sin datos","Sin datos","Sin datos","Sin datos","PETICIONES ENTRE ENTIDADES","Consulta general","Peticiones entre entidades","ENVIO OFICIO 20226841560511 SOLICITUD URGENTE DE INFORME TECNICO","Radicar en ORFEO","SGI","18 Rafael Uribe Uribe"]
[1638,2022,"NOVIEMBRE","2022-11-28","15:01:00","CRISTHIAN CAMILO MONTAÑA HERNANDEZ","VIRTUAL","Correo electrónico","cdi.ruribe@gobiernobogota.gov.co","Entidades y Organismos Distritales","Secretaría de Gobierno","Entidades y Organismos Distritales","CDI Ruribe","Femenino","Mujer","Sin datos","Sin datos","Sin datos","Sin datos","PETICIONES ENTRE ENTIDADES","Consulta general","Peticiones entre entidades","ENVIO OFICIO 20226841560521 SOLICITUD URGENTE DE INFORME TECNICO","Radicar en ORFEO","SGI","18 Rafael Uribe Uribe"]
[1639,2022,"NOVIEMBRE","2022-11-28","15:02:00","CRISTHIAN CAMILO MONTAÑA HERNANDEZ","VIRTUAL","Correo electrónico","notificacionesadministrativas@contraloriabogota.gov.co","Entidades y Organismos Distritales","Contraloría de Bogotá","Entidades y Organismos Distritales","Notificaciones","Masculino","Hombre ","Sin datos","Sin datos","Sin datos","Sin datos","PETICIONES ENTRE ENTIDADES","Consulta general","Peticiones entre entidades","REMISIÓN DE COMUNICACIÓN - (0308-21) - 2-2022-25254 - DEPARTAMENTO ADMINISTRATIVO DEL ESPACIO PUBLICO","Radicar en ORFEO","DIRECCIÓN","No Registra"]
[1640,2022,"NOVIEMBRE","2022-11-28","15:03:00","CRISTHIAN CAMILO MONTAÑA HERNANDEZ","VIRTUAL","Correo electrónico","cdi.ruribe@gobiernobogota.gov.co","Entidades y Organismos Distritales","Secretaría de Gobierno","Entidades y Organismos Distritales","CDI Ruribe","Femenino","Mujer","Sin datos","Sin datos","Sin datos","Sin datos","PETICIONES ENTRE ENTIDADES","Consulta general","Peticiones entre entidades","ENVIO OFICIO 20226841560531 SOLICITUD URGENTE DE INFORME TECNICO","Radicar en ORFEO","SGI","18 Rafael Uribe Uribe"]
[1641,2022,"NOVIEMBRE","2022-11-28","15:05:00","CRISTHIAN CAMILO MONTAÑA HERNANDEZ","VIRTUAL","Correo electrónico","cdi.ruribe@gobiernobogota.gov.co","Entidades y Organismos Distritales","Secretaría de Gobierno","Entidades y Organismos Distritales","CDI Ruribe","Femenino","Mujer","Sin datos","Sin datos","Sin datos","Sin datos","PETICIONES ENTRE ENTIDADES","Consulta general","Peticiones entre entidades","ENVIO OFICIO 20226841560551 SOLICITUD URGENTE DE INFORME TECNICO","Radicar en ORFEO","SGI","18 Rafael Uribe Uribe"]
[1642,2022,"NOVIEMBRE","2022-11-28","15:06:00","CRISTHIAN CAMILO MONTAÑA HERNANDEZ","VIRTUAL","Correo electrónico","kvilla@dadep.gov.co","Empresas privadas","DADEP","Empresas Privadas","Comunicaciones internas","N/A","N/A","Sin datos","Sin datos","Sin datos","Sin datos","NOTIFICACIONES","Estudio de la viabilidad de las solicitudes de administración de bienes públicos","CAMEP Contrato de administración y mantenimiento","0898045-8 - SOLICITUD RADICACIÓN FACTURA ENEL ","Radicar en ORFEO","SGI","No Registra"]
[1643,2022,"NOVIEMBRE","2022-11-28","15:10:00","CRISTHIAN CAMILO MONTAÑA HERNANDEZ","VIRTUAL","Correo electrónico","cdi.ruribe@gobiernobogota.gov.co","Entidades y Organismos Distritales","Secretaría de Gobierno","Entidades y Organismos Distritales","CDI Ruribe","Femenino","Mujer","Sin datos","Sin datos","Sin datos","Sin datos","PETICIONES ENTRE ENTIDADES","Consulta general","Peticiones entre entidades","ENVIO OFICIO 20226841560571 SOLICITUD URGENTE DE INFORME TECNICO","Radicar en ORFEO","SGI","18 Rafael Uribe Uribe"]
[1644,2022,"NOVIEMBRE","2022-11-28","15:12:00","CRISTHIAN CAMILO MONTAÑA HERNANDEZ","VIRTUAL","Correo electrónico","cdi.kennedy@gobiernobogota.gov.co","Entidades y Organismos Distritales","Secretaría de Gobierno","Entidades y Organismos Distritales","CDI Kennedy","Femenino","Mujer","Sin datos","Sin datos","Sin datos","Sin datos","PETICIONES ENTRE ENTIDADES","Consulta general","Peticiones entre entidades","Remito oficio No 20225823426961","Radicar en ORFEO","SGI","08 Kennedy"]
[1645,2022,"NOVIEMBRE","2022-11-28","15:13:00","CRISTHIAN CAMILO MONTAÑA HERNANDEZ","VIRTUAL","Correo electrónico","idrdcorrespondencia@idrd.gov.co","Entidades y Organismos Distritales","Instituto Distrital de Recreación y Deportes","Entidades y Organismos Distritales","Correspondencia","Masculino","Hombre ","Sin datos","Sin datos","Sin datos","Sin datos","PETICIONES ENTRE ENTIDADES","Consulta general","Peticiones entre entidades","20224100256121 - Entrega Simplificada de las zonas de cesión para parque producto de la Unidad de Gestión 3 de la Urbanización La Felicidad de la localidad de Fontibón.- Expediente Virtual No. 2022410660300080E.","Radicar en ORFEO","SRI","09 Fontibón"]
[1646,2022,"NOVIEMBRE","2022-11-28","15:16:00","CRISTHIAN CAMILO MONTAÑA HERNANDEZ","VIRTUAL","Correo electrónico","cdi.ruribe@gobiernobogota.gov.co","Entidades y Organismos Distritales","Secretaría de Gobierno","Entidades y Organismos Distritales","CDI Ruribe","Femenino","Mujer","Sin datos","Sin datos","Sin datos","Sin datos","PETICIONES ENTRE ENTIDADES","Consulta general","Peticiones entre entidades","ENVIO OFICIO 20226841560601 SOLICITUD URGENTE DE INFORME TECNICO","Radicar en ORFEO","SGI","18 Rafael Uribe Uribe"]
[1647,2022,"NOVIEMBRE","2022-11-28","15:21:00","CRISTHIAN CAMILO MONTAÑA HERNANDEZ","VIRTUAL","Correo electrónico","cdi.ruribe@gobiernobogota.gov.co","Entidades y Organismos Distritales","Secretaría de Gobierno","Entidades y Organismos Distritales","CDI Ruribe","Femenino","Mujer","Sin datos","Sin datos","Sin datos","Sin datos","PETICIONES ENTRE ENTIDADES","Consulta general","Peticiones entre entidades","ENVIO 20226841560621 SOLICITUD URGENTE DE INFORME TECNICO","Radicar en ORFEO","SGI","18 Rafael Uribe Uribe"]
[1648,2022,"NOVIEMBRE","2022-11-28","15:22:00","CRISTHIAN CAMILO MONTAÑA HERNANDEZ","VIRTUAL","Correo electrónico","notificacionessuba@gobiernobogota.gov.co","Entidades y Organismos Distritales","Secretaría de Gobierno","Entidades y Organismos Distritales","salidas cdi suba","Femenino","Mujer","Sin datos","Sin datos","Sin datos","Sin datos","PETICIONES ENTRE ENTIDADES","Consulta general","Peticiones entre entidades","20226142131331 - CITACIÓN DADEP POR A.P. 01/12/22 A LAS 10:00AM EXP: 2019614490118587E","Radicar en ORFEO","SGI","11 Suba"]
[1649,2022,"NOVIEMBRE","2022-11-28","15:26:00","CRISTHIAN CAMILO MONTAÑA HERNANDEZ","VIRTUAL","Correo electrónico","cdi.engativa@gobiernobogota.gov.co","Entidades y Organismos Distritales","Secretaría de Gobierno","Entidades y Organismos Distritales","CDI Engativá","Masculino","Hombre ","Sin datos","Sin datos","Sin datos","Sin datos","PETICIONES ENTRE ENTIDADES","Consulta general","Peticiones entre entidades","20226040956361 - Respuesta radicado No. 20224080192272 del 18-08-2022 — SDQS - 2992012022","Radicar en ORFEO","SGI","10 Engativá"]
[1650,2022,"NOVIEMBRE","2022-11-28","15:27:00","CRISTHIAN CAMILO MONTAÑA HERNANDEZ","VIRTUAL","Correo electrónico","cdi.ruribe@gobiernobogota.gov.co","Entidades y Organismos Distritales","Secretaría de Gobierno","Entidades y Organismos Distritales","CDI Ruribe","Femenino","Mujer","Sin datos","Sin datos","Sin datos","Sin datos","PETICIONES ENTRE ENTIDADES","Consulta general","Peticiones entre entidades","ENVIO OFICIO 20226841560641 SOLICITUD URGENTE DE INFORME TECNICO","Radicar en ORFEO","SGI","18 Rafael Uribe Uribe"]
[1651,2022,"NOVIEMBRE","2022-11-28","15:30:00","CRISTHIAN CAMILO MONTAÑA HERNANDEZ","VIRTUAL","Correo electrónico","cdi.ruribe@gobiernobogota.gov.co","Entidades y Organismos Distritales","Secretaría de Gobierno","Entidades y Organismos Distritales","CDI Ruribe","Femenino","Mujer","Sin datos","Sin datos","Sin datos","Sin datos","PETICIONES ENTRE ENTIDADES","Consulta general","Peticiones entre entidades","ENVIO OFICIO 20226841560661 SOLICITUD URGENTE DE INFORME TECNICO","Radicar en ORFEO","SGI","18 Rafael Uribe Uribe"]
[1652,2022,"NOVIEMBRE","2022-11-29","15:38:00","CRISTHIAN CAMILO MONTAÑA HERNANDEZ","VIRTUAL","Correo electrónico","correspondencia.i.dadep247@interdisenos.com.co","Empresas privadas","interdisenos","Empresas Privadas","Correspondencia","Femenino","Mujer","Sin datos","Sin datos","Sin datos","Sin datos","NOTIFICACIONES","Estudio de la viabilidad de las solicitudes de administración de bienes públicos","CAMEP Contrato de administración y mantenimiento","GDADEP-992-22 DADEP Rta oficio N° 20223080173521- Solicitud de Ajuste 22 traslados Paraderos","Radicar en ORFEO","SGI","No Registra"]
[1653,2022,"NOVIEMBRE","2022-11-29","15:45:00","CRISTHIAN CAMILO MONTAÑA HERNANDEZ","VIRTUAL","Correo electrónico","jennifer.quintana@ambientebogota.gov.co","Entidades y Organismos Distritales","Secretaría de Ambiente","Entidades y Organismos Distritales","Funcionario","Masculino","Hombre ","Sin datos","Sin datos","Sin datos","Sin datos","PETICIONES ENTRE ENTIDADES","Consulta general","Peticiones entre entidades","RESPUESTA A RADICADO SDA No. 2022EE298905 SECRETARIA DISTRITAL DE AMBIENTE","Radicar en ORFEO","SGI","No Registra"]
[1654,2022,"NOVIEMBRE","2022-11-29","15:51:00","CRISTHIAN CAMILO MONTAÑA HERNANDEZ","VIRTUAL","Correo electrónico","ccto38bt@cendoj.ramajudicial.gov.co","Entidades y Organismos Nacionales","Juzgado 12 Civil Circuito - Bogota - Bogota D.C. ","Entidades y Orgamismos Distritales","Juzgado 12 Civil Circuito","N/A","N/A","Sin datos","Sin datos","Sin datos","Sin datos","NOTIFICACIONES","Consulta general","Asuntos Jurídicos","NOTIFICACIÓN OFICIO No. 1726 PROCESO No. 110013103038-2022-00175-00","Radicar en ORFEO","SRI","No Registra"]
[1655,2022,"NOVIEMBRE","2022-11-29","17:57:00","CRISTHIAN CAMILO MONTAÑA HERNANDEZ","VIRTUAL","Correo electrónico","Cdi.Radicador8@gobiernobogota.gov.co","Entidades y Organismos Distritales","Secretaría de Gobierno","Entidades y Organismos Distritales","CDI Engativá","Masculino","Hombre ","Sin datos","Sin datos","Sin datos","Sin datos","PETICIONES ENTRE ENTIDADES","Consulta general","Peticiones entre entidades","20221209293401 - EXPEDIENTE No 5014-2005 ALCALDIA LOCAL DE ENGATIVA","Radicar en ORFEO","SGI","10 Engativá"]
[1656,2022,"NOVIEMBRE","2022-11-29","15:58:00","CRISTHIAN CAMILO MONTAÑA HERNANDEZ","VIRTUAL","Correo electrónico","mayala@veeduriadistrital.gov.co","Entidades y Organismos Distritales","veeduría distrital","Entidades y Organismos Distritales","Funcionario","Femenino","Mujer","Sin datos","Sin datos","Sin datos","Sin datos","PETICIONES ENTRE ENTIDADES","Consulta general","Peticiones entre entidades","Acualización datos referentes Herramienta de seguimiento a la gestión pública local y distrital","Radicar en ORFEO","DIRECCIÓN","No Registra"]
[1657,2022,"NOVIEMBRE","2022-11-29","15:59:00","CRISTHIAN CAMILO MONTAÑA HERNANDEZ","VIRTUAL","Correo electrónico","correspondencia.i.dadep378@interdisenos.com.co","Empresas privadas","interdisenos","Empresas Privadas","Correspondencia","Femenino","Mujer","Sin datos","Sin datos","Sin datos","Sin datos","NOTIFICACIONES","Estudio de la viabilidad de las solicitudes de administración de bienes públicos","CAMEP Contrato de administración y mantenimiento","GDADEP06-0576-21 HUB Solicitud Pólizas","Radicar en ORFEO","SGI","No Registra"]
[1658,2022,"NOVIEMBRE","2022-11-29","16:01:00","CRISTHIAN CAMILO MONTAÑA HERNANDEZ","VIRTUAL","Correo electrónico","cdi.ruribe@gobiernobogota.gov.co","Entidades y Organismos Distritales","Secretaría de Gobierno","Entidades y Organismos Distritales","CDI Ruribe","Femenino","Mujer","Sin datos","Sin datos","Sin datos","Sin datos","PETICIONES ENTRE ENTIDADES","Consulta general","Peticiones entre entidades","ENVIO OFICIO 20226841560681 SOLICITUD URGENTE DE INFORME TECNICO","Radicar en ORFEO","SGI","18 Rafael Uribe Uribe"]
[1659,2022,"NOVIEMBRE","2022-11-29","16:03:00","CRISTHIAN CAMILO MONTAÑA HERNANDEZ","VIRTUAL","Correo electrónico","cdi.ruribe@gobiernobogota.gov.co","Entidades y Organismos Distritales","Secretaría de Gobierno","Entidades y Organismos Distritales","CDI Ruribe","Femenino","Mujer","Sin datos","Sin datos","Sin datos","Sin datos","PETICIONES ENTRE ENTIDADES","Consulta general","Peticiones entre entidades","ENVIO OFICIO 20226841560701 SOLICITUD URGENTE DE INFORME TECNICO","Radicar en ORFEO","SGI","18 Rafael Uribe Uribe"]
[1660,2022,"NOVIEMBRE","2022-11-29","16:07:00","CRISTHIAN CAMILO MONTAÑA HERNANDEZ","VIRTUAL","Correo electrónico","cdi.ruribe@gobiernobogota.gov.co","Entidades y Organismos Distritales","Secretaría de Gobierno","Entidades y Organismos Distritales","CDI Ruribe","Femenino","Mujer","Sin datos","Sin datos","Sin datos","Sin datos","PETICIONES ENTRE ENTIDADES","Consulta general","Peticiones entre entidades","ENVIO OFICIO 20226841560721 SOLICITUD URGENTE DE INFORME TECNICO","Radicar en ORFEO","SGI","18 Rafael Uribe Uribe"]
[1661,2022,"NOVIEMBRE","2022-11-29","16:08:00","CRISTHIAN CAMILO MONTAÑA HERNANDEZ","VIRTUAL","Correo electrónico","asopro2y3@gmail.com","Empresas privadas","Asopro cabañas del Norte II y III","Empresas Privadas","Ciudadanía","N/A","N/A","Sin datos","Sin datos","Sin datos","Sin datos","ASESORÍA","Asesoría en administración y sostenibilidad del espacio público","Asesoría en temas de espacio público","Contrato CAMEP No. 110-00129-293-0-2015. Suscrito con la asociación “ASOPRO CABAÑAS DEL NORTE II Y III”","Radicar en ORFEO","SGI","No Registra"]
[1662,2022,"NOVIEMBRE","2022-11-29","16:10:00","CRISTHIAN CAMILO MONTAÑA HERNANDEZ","VIRTUAL","Correo electrónico","cdi.ruribe@gobiernobogota.gov.co","Entidades y Organismos Distritales","Secretaría de Gobierno","Entidades y Organismos Distritales","CDI Ruribe","Femenino","Mujer","Sin datos","Sin datos","Sin datos","Sin datos","PETICIONES ENTRE ENTIDADES","Consulta general","Peticiones entre entidades","ENVIO OFICIO 20226841560741 SOLICITUD URGENTE DE INFORME TECNICO","Radicar en ORFEO","SGI","18 Rafael Uribe Uribe"]
[1663,2022,"NOVIEMBRE","2022-11-29","16:11:00","CRISTHIAN CAMILO MONTAÑA HERNANDEZ","VIRTUAL","Correo electrónico","cdi.ruribe@gobiernobogota.gov.co","Entidades y Organismos Distritales","Secretaría de Gobierno","Entidades y Organismos Distritales","CDI Ruribe","Femenino","Mujer","Sin datos","Sin datos","Sin datos","Sin datos","PETICIONES ENTRE ENTIDADES","Consulta general","Peticiones entre entidades","ENVIO OFICIO 20226841560751 SOLICITUD URGENTE DE INFORME TECNICO","Radicar en ORFEO","SGI","18 Rafael Uribe Uribe"]
[1664,2022,"NOVIEMBRE","2022-11-29","16:12:00","CRISTHIAN CAMILO MONTAÑA HERNANDEZ","VIRTUAL","Correo electrónico","correspondencia@idiger.gov.co","Entidades y Organismos Distritales","Instituto Distrital de Gestión de Riesgos y Cambio Climático","Entidades y Organismos Distritales","Correspondencia","Masculino","Hombre ","Sin datos","Sin datos","Sin datos","Sin datos","PETICIONES ENTRE ENTIDADES","Consulta general","Peticiones entre entidades","Radicado Idiger 2022ER17971 / 2022EE18063/ 2022EE19826","Radicar en ORFEO","SRI","No Registra"]
[1665,2022,"NOVIEMBRE","2022-11-29","16:14:00","CRISTHIAN CAMILO MONTAÑA HERNANDEZ","VIRTUAL","Correo electrónico","cdi.ruribe@gobiernobogota.gov.co","Entidades y Organismos Distritales","Secretaría de Gobierno","Entidades y Organismos Distritales","CDI Ruribe","Femenino","Mujer","Sin datos","Sin datos","Sin datos","Sin datos","PETICIONES ENTRE ENTIDADES","Consulta general","Peticiones entre entidades","ENVIO OFICIO 20226841560781 SOLICITUD URGENTE DE INFORME TECNICO","Radicar en ORFEO","SGI","18 Rafael Uribe Uribe"]
[1666,2022,"NOVIEMBRE","2022-11-29","16:15:00","CRISTHIAN CAMILO MONTAÑA HERNANDEZ","VIRTUAL","Correo electrónico","cdi.ruribe@gobiernobogota.gov.co","Entidades y Organismos Distritales","Secretaría de Gobierno","Entidades y Organismos Distritales","CDI Ruribe","Femenino","Mujer","Sin datos","Sin datos","Sin datos","Sin datos","PETICIONES ENTRE ENTIDADES","Consulta general","Peticiones entre entidades","ENVIO OFICIO 20226841560791 SOLICITUD URGENTE DE INFORME TECNICO i","Radicar en ORFEO","SGI","18 Rafael Uribe Uribe"]
[1667,2022,"NOVIEMBRE","2022-11-29","16:18:00","CRISTHIAN CAMILO MONTAÑA HERNANDEZ","VIRTUAL","Correo electrónico","bosques2.jac@gmail.com","Juntas de Acción Comunal (JAC)","JAC Bosques Granada","Juntas de Acción Comunal (JAC)","Ciudadanía","N/A","N/A","Sin datos","Sin datos","Sin datos","Sin datos","NOTIFICACIONES","Estudio de la viabilidad de las solicitudes de administración de bienes públicos","CAMEP Contrato de administración y mantenimiento","Solicitud Dictamen","Radicar en ORFEO","SGI","10 Engativá"]
[1668,2022,"NOVIEMBRE","2022-11-29","16:18:00","CRISTHIAN CAMILO MONTAÑA HERNANDEZ","VIRTUAL","Correo electrónico","cdi.ruribe@gobiernobogota.gov.co","Entidades y Organismos Distritales","Secretaría de Gobierno","Entidades y Organismos Distritales","CDI Ruribe","Femenino","Mujer","Sin datos","Sin datos","Sin datos","Sin datos","PETICIONES ENTRE ENTIDADES","Consulta general","Peticiones entre entidades","ENVIO OFICIO 20226841561431 SOLICITUD URGENTE DE INFORME TECNICO","Radicar en ORFEO","SGI","18 Rafael Uribe Uribe"]
[1669,2022,"NOVIEMBRE","2022-11-29","16:24:00","CRISTHIAN CAMILO MONTAÑA HERNANDEZ","VIRTUAL","Correo electrónico","Externa_Enviada_Virtual@shd.gov.co","Entidades y Organismos Distritales","Secretaría de Hacienda Distrital","Entidades y Organismos Distritales","Correspondencia","Masculino","Hombre ","Sin datos","Sin datos","Sin datos","Sin datos","PETICIONES ENTRE ENTIDADES","Consulta general","Peticiones entre entidades","(R2022EE575335O1) 2022EE575335O1 LEBP","Radicar en ORFEO","SGI","No Registra"]
[1670,2022,"NOVIEMBRE","2022-11-29","16:27:00","CRISTHIAN CAMILO MONTAÑA HERNANDEZ","VIRTUAL","Correo electrónico","victorupegui0@gmail.com","Ciudadanía","Víctor Upegui ","Entidades y Orgamismos Distritales","Ciudadanía","Masculino","Hombre ","Sin datos","Sin datos","Sin datos","Sin datos","ASESORÍA","Asesoría en administración y sostenibilidad del espacio público","Asesoría en temas de espacio público","Salón comunal","Radicar en ORFEO","SGI","No Registra"]
[1671,2022,"NOVIEMBRE","2022-11-29","16:32:00","CRISTHIAN CAMILO MONTAÑA HERNANDEZ","VIRTUAL","Correo electrónico","notificaciones_catastro@catastrobogota.gov.co","Entidades y Organismos Distritales","Catastro de Bogotá","Entidades y Organismos Distritales","Notificaciones","Masculino","Hombre ","Sin datos","Sin datos","Sin datos","Sin datos","PETICIONES ENTRE ENTIDADES","Consulta general","Peticiones entre entidades","RAD 2022-419998 OFICIO 2022EE87381 Y ANEXOS 2022-48307, 48309 13-11-2022, RES (S) 2022-48315, 48316 14-11-2022 NOTIFICACIÓN ELECTRÓNICA AUTORIZADA","Radicar en ORFEO","SRI","No Registra"]
[1672,2022,"NOVIEMBRE","2022-11-29","16:35:00","CRISTHIAN CAMILO MONTAÑA HERNANDEZ","VIRTUAL","Correo electrónico","correspondencia.i.dadep378@interdisenos.com.co","Empresas privadas","interdisenos","Empresas Privadas","Correspondencia","Femenino","Mujer","Sin datos","Sin datos","Sin datos","Sin datos","NOTIFICACIONES","Estudio de la viabilidad de las solicitudes de administración de bienes públicos","CAMEP Contrato de administración y mantenimiento","GDADEP06-0577-22 DADEP Rta a 20223080177541 Pago de Estampillas acta 5 6 y 7","Radicar en ORFEO","SGI","No Registra"]
[1673,2022,"NOVIEMBRE","2022-11-29","16:40:00","CRISTHIAN CAMILO MONTAÑA HERNANDEZ","VIRTUAL","Correo electrónico","adriana.hernandez@idartes.gov.co","Entidades y Organismos Distritales","IDARTES","Entidades y Organismos Distritales","Funcionario","Femenino","Mujer","Sin datos","Sin datos","Sin datos","Sin datos","PETICIONES ENTRE ENTIDADES","Consulta general","Peticiones entre entidades","20223000114591 - Respuesta al traslado D.P # 20224600117732","Radicar en ORFEO","SGI","No Registra"]
[1674,2022,"NOVIEMBRE","2022-11-29","16:48:00","CRISTHIAN CAMILO MONTAÑA HERNANDEZ","VIRTUAL","Correo electrónico","mdfranco@shd.gov.co","Entidades y Organismos Distritales","Secretaría de Hacienda Distrital","Entidades y Organismos Distritales","Correspondencia","Masculino","Hombre ","Sin datos","Sin datos","Sin datos","Sin datos","PETICIONES ENTRE ENTIDADES","Consulta general","Peticiones entre entidades","2022EE577456O1 O-Apoyo_comedores-DADEP","Radicar en ORFEO","SGC","No Registra"]
[1675,2022,"NOVIEMBRE","2022-11-29","17:12:00","CRISTHIAN CAMILO MONTAÑA HERNANDEZ","VIRTUAL","Correo electrónico","buzoncomunicaciones@sdp.gov.co","Entidades y Organismos Distritales","Secretaría Distrital de Planeación","Entidades y Organismos Distritales","buzon comunicaciones","Masculino","Hombre ","Sin datos","Sin datos","Sin datos","Sin datos","PETICIONES ENTRE ENTIDADES","Consulta general","Peticiones entre entidades","2-2022-174204","Radicar en ORFEO","SRI","No Registra"]
[1676,2022,"NOVIEMBRE","2022-11-29","17:22:00","CRISTHIAN CAMILO MONTAÑA HERNANDEZ","VIRTUAL","Correo electrónico","buzoncomunicaciones@sdp.gov.co","Entidades y Organismos Distritales","Secretaría Distrital de Planeación","Entidades y Organismos Distritales","buzon comunicaciones","Masculino","Hombre ","Sin datos","Sin datos","Sin datos","Sin datos","PETICIONES ENTRE ENTIDADES","Consulta general","Peticiones entre entidades","2-2022-174207","Radicar en ORFEO","SRI","No Registra"]
[1677,2022,"NOVIEMBRE","2022-11-29","17:24:00","CRISTHIAN CAMILO MONTAÑA HERNANDEZ","VIRTUAL","Correo electrónico","sednotificaciones@educacionbogota.edu.co","Entidades y Organismos Distritales","Secretaría de Educación","Entidades y Organismos Distritales","Notificaciones","Masculino","Hombre ","Sin datos","Sin datos","Sin datos","Sin datos","PETICIONES ENTRE ENTIDADES","Consulta general","Peticiones entre entidades","S-2022-361270","Radicar en ORFEO","SRI","No Registra"]
[1678,2022,"NOVIEMBRE","2022-11-29","17:24:00","CRISTHIAN CAMILO MONTAÑA HERNANDEZ","VIRTUAL","Correo electrónico","sednotificaciones@educacionbogota.edu.co","Entidades y Organismos Distritales","Secretaría de Educación","Entidades y Organismos Distritales","Notificaciones","Masculino","Hombre ","Sin datos","Sin datos","Sin datos","Sin datos","PETICIONES ENTRE ENTIDADES","Consulta general","Peticiones entre entidades","S-2022-361168","Responder a correo electronico","AREA DE ATENCION A LA CIUDADANIA","No Registra"]
[1679,2022,"NOVIEMBRE","2022-11-29","17:24:00","CRISTHIAN CAMILO MONTAÑA HERNANDEZ","VIRTUAL","Correo electrónico","sednotificaciones@educacionbogota.edu.co","Entidades y Organismos Distritales","Secretaría de Educación","Entidades y Organismos Distritales","Notificaciones","Masculino","Hombre ","Sin datos","Sin datos","Sin datos","Sin datos","PETICIONES ENTRE ENTIDADES","Consulta general","Peticiones entre entidades","S-2022-361238","Responder a correo electronico","AREA DE ATENCION A LA CIUDADANIA","No Registra"]
[1680,2022,"NOVIEMBRE","2022-11-29","17:34:00","CRISTHIAN CAMILO MONTAÑA HERNANDEZ","VIRTUAL","Correo electrónico","correspondencia.i.dadep247@interdisenos.com.co","Empresas privadas","interdisenos","Empresas Privadas","Correspondencia","Femenino","Mujer","Sin datos","Sin datos","Sin datos","Sin datos","NOTIFICACIONES","Estudio de la viabilidad de las solicitudes de administración de bienes públicos","CAMEP Contrato de administración y mantenimiento","GDADEP-993-22 DADEP Rta Oficio N° Radicado No. 110100-055-012 del 28-nov-2022-Solicitud relacionada","Radicar en ORFEO","SGI","No Registra"]
[1681,2022,"NOVIEMBRE","2022-11-29","17:38:00","CRISTHIAN CAMILO MONTAÑA HERNANDEZ","VIRTUAL","Correo electrónico","envionotificaciones@ipes.gov.co","Entidades y Organismos Distritales","Instituto Para la Economía Social - IPES","Entidades y Organismos Distritales","envío notificaciones","Femenino","Mujer","Sin datos","Sin datos","Sin datos","Sin datos","PETICIONES ENTRE ENTIDADES","Consulta general","Peticiones entre entidades","00110-816-032205 - Respuesta Radicado externo IPES N° 0110-812-011385 REFERENCIA: SDQS 2187092022 RADICADO DADEP No. 20224080127212 del 07/06/2022","Radicar en ORFEO","SGI","No Registra"]
[1682,2022,"NOVIEMBRE","2022-11-29","17:55:00","CRISTHIAN CAMILO MONTAÑA HERNANDEZ","VIRTUAL","Correo electrónico","unidadcorrespondencia@cnsc.gov.co","Entidades y Organismos Nacionales","Comisión Nacional del Servicio Civil ","Entidades y Orgamismos Distritales","Correspondencia","Femenino","Mujer","Sin datos","Sin datos","Sin datos","Sin datos","PETICIONES ENTRE ENTIDADES","Consulta general","Peticiones entre entidades","2022RS128755 - Remisión de Comunicación: 2022RS128755","Radicar en ORFEO","DIRECCIÓN","No Registra"]
[1683,2022,"NOVIEMBRE","2022-11-29","18:32:00","CRISTHIAN CAMILO MONTAÑA HERNANDEZ","VIRTUAL","Correo electrónico","notificaciones_catastro@catastrobogota.gov.co","Entidades y Organismos Distritales","Catastro de Bogotá","Entidades y Organismos Distritales","Notificaciones","Masculino","Hombre ","Sin datos","Sin datos","Sin datos","Sin datos","PETICIONES ENTRE ENTIDADES","Consulta general","Peticiones entre entidades","TERCERO RAD 2022-341941 OFICIO 2022EE87625 Y ANEXOS 2022-57426 DEL 23/11/2022 NOTIFICACIÓN ELECTRÓNICA AUTORIZADA","Radicar en ORFEO","SRI","No Registra"]
[1684,2022,"NOVIEMBRE","2022-11-29","18:54:00","CRISTHIAN CAMILO MONTAÑA HERNANDEZ","VIRTUAL","Correo electrónico","notificaciones_catastro@catastrobogota.gov.co","Entidades y Organismos Distritales","Catastro de Bogotá","Entidades y Organismos Distritales","Notificaciones","Masculino","Hombre ","Sin datos","Sin datos","Sin datos","Sin datos","PETICIONES ENTRE ENTIDADES","Consulta general","Peticiones entre entidades","Notificación del tramite 2022 - 750623","Radicar en ORFEO","SRI","No Registra"]
[1685,2022,"NOVIEMBRE","2022-11-29","21:56:00","CRISTHIAN CAMILO MONTAÑA HERNANDEZ","VIRTUAL","Correo electrónico","lumaro1994@hotmail.com","Juntas de Acción Comunal (JAC)","JAC Urbanización Villa de los Alpes","Juntas de Acción Comunal (JAC)","Ciudadanía","N/A","N/A","Sin datos","Sin datos","Sin datos","Sin datos","ASESORÍA","Asesoría en administración y sostenibilidad del espacio público","Asesoría en temas de espacio público","ADMON PARQUEADEROS Y SALONES COMUNALES","Radicar en ORFEO","SGI","No Registra"]
[1686,2022,"NOVIEMBRE","2022-11-29","22:52:00","CRISTHIAN CAMILO MONTAÑA HERNANDEZ","VIRTUAL","Correo electrónico","correspondencia.enviada2@idu.gov.co","Entidades y Organismos Distritales","Instituto de Desarrollo Urbano","Entidades y Organismos Distritales","correspondencia","Femenino","Mujer","Sin datos","Sin datos","Sin datos","Sin datos","PETICIONES ENTRE ENTIDADES","Consulta general","Peticiones entre entidades","RADICADO IDU N° 20223251841321 DEL 28 DE NOVIEMBRE 2022","Radicar en ORFEO","SGI","09 Fontibón"]
[1687,2022,"NOVIEMBRE","2022-11-29","00:39:00","CRISTHIAN CAMILO MONTAÑA HERNANDEZ","VIRTUAL","Correo electrónico","sjabisambra@concejobogota.gov.co","Entidades y Organismos Distritales","Concejo de Bogotá","Entidades y Organismos Distritales","Funcionario","Masculino","Hombre ","Sin datos","Sin datos","Sin datos","Sin datos","PETICIONES ENTRE ENTIDADES","Consulta general","Peticiones entre entidades","Quinta reunión, seguimiento a la solicitud de devolución del predio al DADEP, calle 2 # 6-29 este. Seguimiento a la respuesta de la SDIS para la gestión del comodato del predio y la adecuación de una casa de la cultura en el barrio Santa Rosa de Lima.","Radicar en ORFEO","DIRECCIÓN","No Registra"]
[1688,2022,"NOVIEMBRE","2022-11-29","04:52:00","CRISTHIAN CAMILO MONTAÑA HERNANDEZ","VIRTUAL","Correo electrónico","cmpl19bt@cendoj.ramajudicial.gov.co","Entidades y Organismos Nacionales","Juzgado 12 Civil Circuito - Bogota - Bogota D.C. ","Entidades y Orgamismos Distritales","Juzgado 12 Civil Circuito","N/A","N/A","Sin datos","Sin datos","Sin datos","Sin datos","NOTIFICACIONES","Consulta general","Asuntos Jurídicos","Proceso 11001400301920220114800 Oficios ","Radicar en ORFEO","SRI","No Registra"]
[1689,2022,"NOVIEMBRE","2022-11-29","06:53:00","CRISTHIAN CAMILO MONTAÑA HERNANDEZ","VIRTUAL","Correo electrónico","Externa_Enviada_Virtual@shd.gov.co","Entidades y Organismos Distritales","Secretaría de Hacienda Distrital","Entidades y Organismos Distritales","Correspondencia","Masculino","Hombre ","Sin datos","Sin datos","Sin datos","Sin datos","PETICIONES ENTRE ENTIDADES","Consulta general","Peticiones entre entidades","(R2022EE577456O1) 2022EE577456O1 AE","Responder a correo electronico","AREA DE ATENCION A LA CIUDADANIA","No Registra"]
[1690,2022,"NOVIEMBRE","2022-11-29","07:06:00","CRISTHIAN CAMILO MONTAÑA HERNANDEZ","VIRTUAL","Correo electrónico","respuestasrbl@uaesp.gov.co","Entidades y Organismos Distritales","Unidad Administrativa Especial de Servicios Públicos","Entidades y Organismos Distritales","Respuestas RBL","Masculino","Hombre ","Sin datos","Sin datos","Sin datos","Sin datos","PETICIONES ENTRE ENTIDADES","Consulta general","Peticiones entre entidades","Remito radicado UAESP 20222000270201 ","Responder a correo electronico","AREA DE ATENCION A LA CIUDADANIA","11 Suba"]
[1691,2022,"NOVIEMBRE","2022-11-29","07:07:00","CRISTHIAN CAMILO MONTAÑA HERNANDEZ","VIRTUAL","Correo electrónico","correspondencia.enviada2@idu.gov.co","Entidades y Organismos Distritales","Instituto de Desarrollo Urbano","Entidades y Organismos Distritales","correspondencia","Femenino","Mujer","Sin datos","Sin datos","Sin datos","Sin datos","PETICIONES ENTRE ENTIDADES","Consulta general","Peticiones entre entidades","RADICADO IDU N° 20223251841321 DEL 28 DE NOVIEMBRE 2022","Responder a correo electronico","AREA DE ATENCION A LA CIUDADANIA","No Registra"]
[1692,2022,"NOVIEMBRE","2022-11-29","08:18:00","CRISTHIAN CAMILO MONTAÑA HERNANDEZ","VIRTUAL","Correo electrónico","correspondenciaexternaenviada@participacionbogota.gov.co","Entidades y Organismos Distritales","Participación Bogotá","Entidades y Organismos Distritales","Correspondencia","Masculino","Hombre ","Sin datos","Sin datos","Sin datos","Sin datos","PETICIONES ENTRE ENTIDADES","Consulta general","Peticiones entre entidades","RADICADO 20223000205291","Radicar en ORFEO","DIRECCIÓN","No Registra"]
[1693,2022,"NOVIEMBRE","2022-11-29","08:24:00","CRISTHIAN CAMILO MONTAÑA HERNANDEZ","VIRTUAL","Correo electrónico","correspondenciaexternaenviada@participacionbogota.gov.co","Entidades y Organismos Distritales","Participación Bogotá","Entidades y Organismos Distritales","Correspondencia","Masculino","Hombre ","Sin datos","Sin datos","Sin datos","Sin datos","PETICIONES ENTRE ENTIDADES","Consulta general","Peticiones entre entidades","RADICADO 20223000202631","Radicar en ORFEO","DIRECCIÓN","No Registra"]
[1694,2022,"NOVIEMBRE","2022-11-29","08:35:00","CRISTHIAN CAMILO MONTAÑA HERNANDEZ","VIRTUAL","Correo electrónico","ana.cortes@gobiernobogota.gov.co","Entidades y Organismos Distritales","Secretaría de Gobierno","Entidades y Organismos Distritales","ANA Cortes","Femenino","Mujer","Sin datos","Sin datos","Sin datos","Sin datos","PETICIONES ENTRE ENTIDADES","Consulta general","Peticiones entre entidades","NOTIFICACION ACTO ADMINISTRATIVO EXP. 232 DE 2007","Radicar en ORFEO","SGI","No Registra"]
[1695,2022,"NOVIEMBRE","2022-11-29","08:48:00","CRISTHIAN CAMILO MONTAÑA HERNANDEZ","VIRTUAL","Correo electrónico","correspondencia@concejobogota.gov.co","Entidades y Organismos Distritales","Concejo de Bogotá","Entidades y Organismos Distritales","Correspondencia","Femenino","Mujer","Sin datos","Sin datos","Sin datos","Sin datos","PETICIONES ENTRE ENTIDADES","Consulta general","Peticiones entre entidades","Mesa de trabajo desalojo del predio donde funciona el proceso comunitario \"Huerto El Castillo\" en la localidad de Santa Fe","Radicar en ORFEO","DIRECCIÓN","03 Santa fe"]
[1696,2022,"NOVIEMBRE","2022-11-29","09:10:00","CRISTHIAN CAMILO MONTAÑA HERNANDEZ","VIRTUAL","Correo electrónico","notificaciones_catastro@catastrobogota.gov.co","Entidades y Organismos Distritales","Catastro de Bogotá","Entidades y Organismos Distritales","Notificaciones","Femenino","Mujer","Sin datos","Sin datos","Sin datos","Sin datos","PETICIONES ENTRE ENTIDADES","Consulta general","Peticiones entre entidades","UAECD 2022 EE 87897 (uaecd 2022 er 42934)","Radicar en ORFEO","SRI","No Registra"]
[1697,2022,"NOVIEMBRE","2022-11-29","09:17:00","CRISTHIAN CAMILO MONTAÑA HERNANDEZ","VIRTUAL","Correo electrónico","notificaciones_catastro@catastrobogota.gov.co","Entidades y Organismos Distritales","Catastro de Bogotá","Entidades y Organismos Distritales","Notificaciones","Femenino","Mujer","Sin datos","Sin datos","Sin datos","Sin datos","PETICIONES ENTRE ENTIDADES","Consulta general","Peticiones entre entidades","UAECD 2022 EE 87913 (uaecd 2022 er 42931)","Radicar en ORFEO","SRI","No Registra"]
[1698,2022,"NOVIEMBRE","2022-11-29","09:27:00","CRISTHIAN CAMILO MONTAÑA HERNANDEZ","VIRTUAL","Correo electrónico","cmpl19bt@cendoj.ramajudicial.gov.co","Entidades y Organismos Nacionales","Juzgado 12 Civil Circuito - Bogota - Bogota D.C. ","Entidades y Orgamismos Distritales","Juzgado 12 Civil Circuito","N/A","N/A","Sin datos","Sin datos","Sin datos","Sin datos","NOTIFICACIONES","Consulta general","Asuntos Jurídicos","Proceso 11001400301920220114800 Oficios","Radicar en ORFEO","SRI","No Registra"]
[1699,2022,"NOVIEMBRE","2022-11-29","09:28:00","CRISTHIAN CAMILO MONTAÑA HERNANDEZ","VIRTUAL","Correo electrónico","ccto12bt@cendoj.ramajudicial.gov.co","Entidades y Organismos Nacionales","Juzgado 12 Civil Circuito - Bogota - Bogota D.C. ","Entidades y Orgamismos Distritales","Juzgado 12 Civil Circuito","N/A","N/A","Sin datos","Sin datos","Sin datos","Sin datos","NOTIFICACIONES","Consulta general","Asuntos Jurídicos","REMITO OFICIO 1393 PROCESO VERBAL DE MAYOR CUANTIA PERTENENCIA POR PRESCRIPCION EXTRAORDINARIA ADQUISITIVA DE DOMINIO NO. 1100131030122022 00434 00 DE JOSE JAIME PORRAS PIÑEROS, CC. 14.206.059 CONTRA HEREDEROS INDETERMINADOS DE ANA CELMIRA PIÑEROS","Radicar en ORFEO","SRI","No Registra"]
[1700,2022,"NOVIEMBRE","2022-11-29","09:29:00","CRISTHIAN CAMILO MONTAÑA HERNANDEZ","VIRTUAL","Correo electrónico","correspondencia@ambientebogota.gov.co","Entidades y Organismos Distritales","Secretaría de Ambiente","Entidades y Organismos Distritales","Correspondencia","Femenino","Mujer","Sin datos","Sin datos","Sin datos","Sin datos","PETICIONES ENTRE ENTIDADES","Consulta general","Peticiones entre entidades","Envio documento Secretaria distrital de ambiente Radicado No. 2022EE307656","Radicar en ORFEO","SRI","No Registra"]
[1701,2022,"NOVIEMBRE","2022-11-29","09:34:00","CRISTHIAN CAMILO MONTAÑA HERNANDEZ","VIRTUAL","Correo electrónico","cmpl09bt@cendoj.ramajudicial.gov.co","Entidades y Organismos Nacionales","Juzgado 12 Civil Circuito - Bogota - Bogota D.C. ","Entidades y Orgamismos Distritales","Juzgado 12 Civil Circuito","N/A","N/A","Sin datos","Sin datos","Sin datos","Sin datos","NOTIFICACIONES","Consulta general","Asuntos Jurídicos","REMISIÓN OFICIO 2017 PROCESO 2022-1099","Radicar en ORFEO","SRI","No Registra"]
[1702,2022,"NOVIEMBRE","2022-11-29","09:34:00","CRISTHIAN CAMILO MONTAÑA HERNANDEZ","VIRTUAL","Correo electrónico","cmpl09bt@cendoj.ramajudicial.gov.co","Entidades y Organismos Nacionales","Juzgado 12 Civil Circuito - Bogota - Bogota D.C. ","Entidades y Orgamismos Distritales","Juzgado 12 Civil Circuito","N/A","N/A","Sin datos","Sin datos","Sin datos","Sin datos","NOTIFICACIONES","Consulta general","Asuntos Jurídicos","REMISIÓN OFICIO 1436 PROCESO 2017-870","Radicar en ORFEO","SRI","No Registra"]
[1703,2022,"NOVIEMBRE","2022-11-29","09:34:00","CRISTHIAN CAMILO MONTAÑA HERNANDEZ","VIRTUAL","Correo electrónico","cmpl09bt@cendoj.ramajudicial.gov.co","Entidades y Organismos Nacionales","Juzgado 12 Civil Circuito - Bogota - Bogota D.C. ","Entidades y Orgamismos Distritales","Juzgado 12 Civil Circuito","N/A","N/A","Sin datos","Sin datos","Sin datos","Sin datos","NOTIFICACIONES","Consulta general","Asuntos Jurídicos","REMISIÓN OFICIO 2017 PROCESO 2022-1099","Radicar en ORFEO","SRI","No Registra"]
[1704,2022,"NOVIEMBRE","2022-11-29","09:39:00","CRISTHIAN CAMILO MONTAÑA HERNANDEZ","VIRTUAL","Correo electrónico","admlumbogota@gmail.com","Empresas privadas","SERGIO VEGA ","Empresas Privadas","Ciudadanía","Masculino","Hombre ","Sin datos","Sin datos","Sin datos","Sin datos","ASESORÍA","Asesoría en administración y sostenibilidad del espacio público","Asesoría en temas de espacio público","solicitud información bahía de parqueo ubicada en la cra 7 # 34-17","Radicar en ORFEO","SGI","13 Teusaquillo"]
[1705,2022,"NOVIEMBRE","2022-11-29","10:07:00","CRISTHIAN CAMILO MONTAÑA HERNANDEZ","VIRTUAL","Correo electrónico","tramites@vallascar.com","Empresas privadas","Inversiones Vallascar S A S","Empresas Privadas","Ciudadanía","Masculino","Hombre ","Sin datos","Sin datos","Sin datos","Sin datos","CONSULTA","Certificación de la propiedad inmobiliaria distrital","Consulta predio","SOLICITUD CONCEPTO FAVORABLE VIABILIDAD ZONA DE AMENAZA PARA INSTALACIÓN DE ESTACIÓN RADIOELÉCTRICA","Radicar en ORFEO","SRI","No Registra"]
[1706,2022,"NOVIEMBRE","2022-11-29","10:21:00","CRISTHIAN CAMILO MONTAÑA HERNANDEZ","VIRTUAL","Correo electrónico","siga@habitatbogota.gov.co","Entidades y Organismos Distritales","Secretaría de Habitat","Entidades y Organismos Distritales","SIGA","Femenino","Mujer","Sin datos","Sin datos","Sin datos","Sin datos","PETICIONES ENTRE ENTIDADES","Consulta general","Peticiones entre entidades","Comunicación Oficial N° 2-2022-72669","Radicar en ORFEO","OJ","No Registra"]
[1707,2022,"NOVIEMBRE","2022-11-29","10:24:00","CRISTHIAN CAMILO MONTAÑA HERNANDEZ","VIRTUAL","Correo electrónico","marielagomez.a@hotmail.com","Entidades y Organismos Nacionales","JUZGADO 29 CIVIL MUNICIPAL DE BOGOTÁ.","Entidades y Orgamismos Distritales","Juzgado 29","N/A","N/A","Sin datos","Sin datos","Sin datos","Sin datos","NOTIFICACIONES","Consulta general","Asuntos Jurídicos","Remisión oficio No. 3865 - Juzgado 29 Civil Municipal Bogotá","Radicar en ORFEO","SRI","No Registra"]
[1708,2022,"NOVIEMBRE","2022-11-29","10:26:00","CRISTHIAN CAMILO MONTAÑA HERNANDEZ","VIRTUAL","Correo electrónico","cmpl17bt@cendoj.ramajudicial.gov.co","Entidades y Organismos Nacionales","Juzgado 12 Civil Circuito - Bogota - Bogota D.C. ","Entidades y Orgamismos Distritales","Juzgado 12 Civil Circuito","N/A","N/A","Sin datos","Sin datos","Sin datos","Sin datos","NOTIFICACIONES","Consulta general","Asuntos Jurídicos","DEMANDA DECLARATIVA DE PRESCRIPCION EXTRAORDINARIA ADQUISITIVA DE DOMINIO No. 11001 40 03 017 2021 00775 00","Radicar en ORFEO","SRI","No Registra"]
[1709,2022,"NOVIEMBRE","2022-11-29","10:26:00","CRISTHIAN CAMILO MONTAÑA HERNANDEZ","VIRTUAL","Correo electrónico","cmpl17bt@cendoj.ramajudicial.gov.co","Entidades y Organismos Nacionales","Juzgado 12 Civil Circuito - Bogota - Bogota D.C. ","Entidades y Orgamismos Distritales","Juzgado 12 Civil Circuito","N/A","N/A","Sin datos","Sin datos","Sin datos","Sin datos","NOTIFICACIONES","Consulta general","Asuntos Jurídicos","DEMANDA DECLARATIVA DE PRESCRIPCION EXTRAORDINARIA ADQUISITIVA DEDOMINIO No. 11001 40 03 017 2021 00869 00","Radicar en ORFEO","SRI","No Registra"]
[1710,2022,"NOVIEMBRE","2022-11-29","10:26:00","CRISTHIAN CAMILO MONTAÑA HERNANDEZ","VIRTUAL","Correo electrónico","cmpl17bt@cendoj.ramajudicial.gov.co","Entidades y Organismos Nacionales","Juzgado 12 Civil Circuito - Bogota - Bogota D.C. ","Entidades y Orgamismos Distritales","Juzgado 12 Civil Circuito","N/A","N/A","Sin datos","Sin datos","Sin datos","Sin datos","NOTIFICACIONES","Consulta general","Asuntos Jurídicos","DECLARATIVA DE PERTENENCIA POR PRESCRIPCIÓN ADQUISITIVA EXTRAORDINARIA DE DOMINIO No. 11001 40 03 017 2021 00623 00","Radicar en ORFEO","SRI","No Registra"]
[1711,2022,"NOVIEMBRE","2022-11-29","10:31:00","CRISTHIAN CAMILO MONTAÑA HERNANDEZ","VIRTUAL","Correo electrónico","carmen.castro@gobiernobogota.gov.co","Entidades y Organismos Distritales","Secretaría de Gobierno","Entidades y Organismos Distritales","CARMEN Castro","Masculino","Hombre ","Sin datos","Sin datos","Sin datos","Sin datos","PETICIONES ENTRE ENTIDADES","Consulta general","Peticiones entre entidades","RADICADO 20226630663271","Radicar en ORFEO","SGI","16 Puente Aranda"]
[1712,2022,"NOVIEMBRE","2022-11-29","10:33:00","CRISTHIAN CAMILO MONTAÑA HERNANDEZ","VIRTUAL","Correo electrónico","notificacionesorfeo@efr-cundinamarca.gov.co","Entidades y Organismos Nacionales","Empresa Férrea Regional","Entidades y Orgamismos Distritales","Notificaciones","Femenino","Mujer","Sin datos","Sin datos","Sin datos","Sin datos","PETICIONES ENTRE ENTIDADES","Consulta general","Peticiones entre entidades","Radicado 2022103300007551 Traslado por Competencia Proyecto Regiotram de Occidente. Remisión de la solicitud con radicado No. 22022100000047132.","Radicar en ORFEO","SGI","No Registra"]
[1713,2022,"NOVIEMBRE","2022-11-29","10:34:00","CRISTHIAN CAMILO MONTAÑA HERNANDEZ","VIRTUAL","Correo electrónico","dtorresg@marval.com.co","Empresas privadas","MARVAL","Empresas Privadas","Ciudadanía","Femenino","Mujer","Sin datos","Sin datos","Sin datos","Sin datos","ASESORÍA","Incorporación y entrega de las áreas de cesión a favor del municipio","Entrega de zonas de cesión","ENTREGA AREAS DE CESION DE LA ETAPA 2 (ENTREGA SIMPLIFICADA) DE LA URBANIZACION PROVENZA, LOCALIDAD DE SUBA","Radicar en ORFEO","SRI","11 Suba"]
[1714,2022,"NOVIEMBRE","2022-11-29","10:34:00","CRISTHIAN CAMILO MONTAÑA HERNANDEZ","VIRTUAL","Correo electrónico","cmpl17bt@cendoj.ramajudicial.gov.co","Entidades y Organismos Nacionales","Juzgado 12 Civil Circuito - Bogota - Bogota D.C. ","Entidades y Orgamismos Distritales","Juzgado 12 Civil Circuito","N/A","N/A","Sin datos","Sin datos","Sin datos","Sin datos","NOTIFICACIONES","Consulta general","Asuntos Jurídicos","VERBAL ESPECIAL DE PRESCRIPCION EXTRAORDINARIA SOBRE INMUEBLE URBANO DE PEQUEÑA ENTIDAD ECONOMICA DE MENOR CUANTIA No. 11001 40 03 070 2018 00429 00","Radicar en ORFEO","SRI","No Registra"]
[1715,2022,"NOVIEMBRE","2022-11-29","10:34:00","CRISTHIAN CAMILO MONTAÑA HERNANDEZ","VIRTUAL","Correo electrónico","cmpl17bt@cendoj.ramajudicial.gov.co","Entidades y Organismos Nacionales","Juzgado 12 Civil Circuito - Bogota - Bogota D.C. ","Entidades y Orgamismos Distritales","Juzgado 12 Civil Circuito","N/A","N/A","Sin datos","Sin datos","Sin datos","Sin datos","NOTIFICACIONES","Consulta general","Asuntos Jurídicos","DEMANDA DECLARATIVA DE PRESCRIPCION EXTRAORDINARIA ADQUISITIVA DE DOMINIO No. 11001 40 03 070 2017 00118 00","Radicar en ORFEO","SRI","No Registra"]
[1716,2022,"NOVIEMBRE","2022-11-29","10:35:00","CRISTHIAN CAMILO MONTAÑA HERNANDEZ","VIRTUAL","Correo electrónico","buzonjudicial@sdp.gov.co","Entidades y Organismos Distritales","Secretaría Distrital de Planeación","Entidades y Organismos Distritales","buzon comunicaciones","Femenino","Mujer","Sin datos","Sin datos","Sin datos","Sin datos","PETICIONES ENTRE ENTIDADES","Consulta general","Peticiones entre entidades","2-2022-173087","Radicar en ORFEO","SRI","No Registra"]
[1717,2022,"NOVIEMBRE","2022-11-29","10:37:00","CRISTHIAN CAMILO MONTAÑA HERNANDEZ","VIRTUAL","Correo electrónico","buzonjudicial@sdp.gov.co","Entidades y Organismos Distritales","Secretaría Distrital de Planeación","Entidades y Organismos Distritales","buzon comunicaciones","Femenino","Mujer","Sin datos","Sin datos","Sin datos","Sin datos","PETICIONES ENTRE ENTIDADES","Consulta general","Peticiones entre entidades","2-2022-173078","Radicar en ORFEO","SRI","No Registra"]
[1718,2022,"NOVIEMBRE","2022-11-29","10:37:00","CRISTHIAN CAMILO MONTAÑA HERNANDEZ","VIRTUAL","Correo electrónico","buzonjudicial@sdp.gov.co","Entidades y Organismos Distritales","Secretaría Distrital de Planeación","Entidades y Organismos Distritales","buzon comunicaciones","Femenino","Mujer","Sin datos","Sin datos","Sin datos","Sin datos","PETICIONES ENTRE ENTIDADES","Consulta general","Peticiones entre entidades","2-2022-173056","Radicar en ORFEO","SRI","No Registra"]
[1719,2022,"NOVIEMBRE","2022-11-29","10:38:00","CRISTHIAN CAMILO MONTAÑA HERNANDEZ","VIRTUAL","Correo electrónico","cmpl17bt@cendoj.ramajudicial.gov.co","Entidades y Organismos Nacionales","Juzgado 12 Civil Circuito - Bogota - Bogota D.C. ","Entidades y Orgamismos Distritales","Juzgado 12 Civil Circuito","N/A","N/A","Sin datos","Sin datos","Sin datos","Sin datos","NOTIFICACIONES","Consulta general","Asuntos Jurídicos","Oficio No. 3003 - 2022 Proceso Pertenencia No. 11001400301720180050100","Radicar en ORFEO","SRI","No Registra"]
[1720,2022,"NOVIEMBRE","2022-11-29","10:38:00","CRISTHIAN CAMILO MONTAÑA HERNANDEZ","VIRTUAL","Correo electrónico","cmpl17bt@cendoj.ramajudicial.gov.co","Entidades y Organismos Nacionales","Juzgado 12 Civil Circuito - Bogota - Bogota D.C. ","Entidades y Orgamismos Distritales","Juzgado 12 Civil Circuito","N/A","N/A","Sin datos","Sin datos","Sin datos","Sin datos","NOTIFICACIONES","Consulta general","Asuntos Jurídicos","Oficio No. 2990 - 2022 Proceso Pertenencia No. 11001400301720180094800","Radicar en ORFEO","SRI","No Registra"]
[1721,2022,"NOVIEMBRE","2022-11-29","10:39:00","CRISTHIAN CAMILO MONTAÑA HERNANDEZ","VIRTUAL","Correo electrónico","cmpl17bt@cendoj.ramajudicial.gov.co","Entidades y Organismos Nacionales","Juzgado 12 Civil Circuito - Bogota - Bogota D.C. ","Entidades y Orgamismos Distritales","Juzgado 12 Civil Circuito","N/A","N/A","Sin datos","Sin datos","Sin datos","Sin datos","NOTIFICACIONES","Consulta general","Asuntos Jurídicos","Oficio No. 3024 - 2022 Proceso Pertenencia No. 11001400301720210057600","Radicar en ORFEO","SRI","No Registra"]
[1722,2022,"NOVIEMBRE","2022-11-29","10:49:00","CRISTHIAN CAMILO MONTAÑA HERNANDEZ","VIRTUAL","Correo electrónico","restauranterescoldos@gmail.com","Empresas privadas","Restaurante Rescoldos ","Empresas Privadas","Ciudadanía","N/A","N/A","Sin datos","Sin datos","Sin datos","Sin datos","ASESORÍA","Estudio de la viabilidad de las solicitudes de administración de bienes públicos","Viabilidad Decreto 070 / 2022 BACA 2.0","Desistimiento solicitud espacio BACA 2.0","Radicar en ORFEO","SGI","No Registra"]
[1723,2022,"NOVIEMBRE","2022-11-29","10:53:00","CRISTHIAN CAMILO MONTAÑA HERNANDEZ","VIRTUAL","Correo electrónico","idrdcorrespondencia@idrd.gov.co","Entidades y Organismos Distritales","Instituto Distrital de Recreación y Deportes","Entidades y Organismos Distritales","Correspondencia","Masculino","Hombre ","Sin datos","Sin datos","Sin datos","Sin datos","PETICIONES ENTRE ENTIDADES","Consulta general","Peticiones entre entidades","20224100256511 - Consulta sobre predios identificados con RUPI 4269-2 y 4269-3","Radicar en ORFEO","SRI","11 Suba"]
[1724,2022,"NOVIEMBRE","2022-11-29","10:59:00","CRISTHIAN CAMILO MONTAÑA HERNANDEZ","VIRTUAL","Correo electrónico","correspondencia@idiger.gov.co","Entidades y Organismos Distritales","Instituto Distrital de Gestión de Riesgos y Cambio Climático","Entidades y Organismos Distritales","Correspondencia","Femenino","Mujer","Sin datos","Sin datos","Sin datos","Sin datos","PETICIONES ENTRE ENTIDADES","Consulta general","Peticiones entre entidades","Radicado idiger 2022ER18137/ 2022EE19981","Radicar en ORFEO","DIRECCIÓN","No Registra"]
[1725,2022,"NOVIEMBRE","2022-11-29","11:25:00","CRISTHIAN CAMILO MONTAÑA HERNANDEZ","VIRTUAL","Correo electrónico","jamba518@hotmail.com","Organizaciones Sociales","ASOCIACIÓN DE PROPIETARIOS RESIDENTES DE ALCAPARROS DE SUBA","Organizaciones Sociales","Ciudadanía","N/A","N/A","Sin datos","Sin datos","Sin datos","Sin datos","ASESORÍA","Asesoría en administración y sostenibilidad del espacio público","Asesoría en temas de espacio público","carta de peticion","Radicar en ORFEO","SGI","11 Suba"]
[1726,2022,"NOVIEMBRE","2022-11-29","11:27:00","CRISTHIAN CAMILO MONTAÑA HERNANDEZ","VIRTUAL","Correo electrónico","davidbuitrago61@gmail.com","Ciudadanía","David Buitrago","Entidades y Orgamismos Distritales","Ciudadanía","Masculino","Hombre ","Sin datos","Sin datos","Sin datos","Sin datos","ASESORÍA","Incorporación y entrega de las áreas de cesión a favor del municipio","Entrega de zonas de cesión","ENVIO MINUTA CESION ZONAS PUBLICAS URBANIZACION PRADO GRANDE - PROMOCIONES SAN ALEJO LTDA EN LIQUIDACION","Radicar en ORFEO","SRI","No Registra"]
[1727,2022,"NOVIEMBRE","2022-11-29","11:34:00","CRISTHIAN CAMILO MONTAÑA HERNANDEZ","VIRTUAL","Correo electrónico","correspondencia.enviada2@idu.gov.co","Entidades y Organismos Distritales","Instituto de Desarrollo Urbano","Entidades y Organismos Distritales","correspondencia","Masculino","Hombre ","Sin datos","Sin datos","Sin datos","Sin datos","PETICIONES ENTRE ENTIDADES","Consulta general","Peticiones entre entidades","RADICADO IDU N° 20225651839621 DEL 28 DE NOVIEMBRE 2022","Radicar en ORFEO","DIRECCIÓN","No Registra"]
[1728,2022,"NOVIEMBRE","2022-11-29","11:46:00","CRISTHIAN CAMILO MONTAÑA HERNANDEZ","VIRTUAL","Correo electrónico","Externa_Enviada_Virtual@shd.gov.co","Entidades y Organismos Distritales","Secretaría de Hacienda Distrital","Entidades y Organismos Distritales","Correspondencia","Masculino","Hombre ","Sin datos","Sin datos","Sin datos","Sin datos","PETICIONES ENTRE ENTIDADES","Consulta general","Peticiones entre entidades","(R2022EE583831O1) 2022EE583831O1 YC","Radicar en ORFEO","SGI","No Registra"]
[1729,2022,"NOVIEMBRE","2022-11-29","11:50:00","CRISTHIAN CAMILO MONTAÑA HERNANDEZ","VIRTUAL","Correo electrónico","correspondencia@secretariajuridica.gov.co","Entidades y Organismos Distritales","Secretaría juridica Distrital","Entidades y Organismos Distritales","Correspondencia","Masculino","Hombre ","Sin datos","Sin datos","Sin datos","Sin datos","PETICIONES ENTRE ENTIDADES","Consulta general","Peticiones entre entidades","2-2022-24957 - CONCEPTO PARA UNIFICACION DE POSICION JURIDICA","Radicar en ORFEO","OJ","No Registra"]
[1730,2022,"NOVIEMBRE","2022-11-29","11:54:00","CRISTHIAN CAMILO MONTAÑA HERNANDEZ","VIRTUAL","Correo electrónico","notificaciones_catastro@catastrobogota.gov.co","Entidades y Organismos Distritales","Catastro de Bogotá","Entidades y Organismos Distritales","Notificaciones","Masculino","Hombre ","Sin datos","Sin datos","Sin datos","Sin datos","PETICIONES ENTRE ENTIDADES","Consulta general","Peticiones entre entidades","RAD 2022-1001612 OFICIO 2022EE87862 Y ANEXOS 2022-60673 DEL 23-11-2022 NOTIFICACIÓN ELECTRÓNICA AUTORIZADA","Radicar en ORFEO","SRI","No Registra"]
[1731,2022,"NOVIEMBRE","2022-11-29","12:05:00","CRISTHIAN CAMILO MONTAÑA HERNANDEZ","VIRTUAL","Correo electrónico","sirius2@personeriabogota.gov.co","Entidades y Organismos Distritales","personeria de bogota","Entidades y Organismos Distritales","Sirius 2","Femenino","Mujer","Sin datos","Sin datos","Sin datos","Sin datos","PETICIONES ENTRE ENTIDADES","Consulta general","Peticiones entre entidades","Respuesta 2022-EE-0572882 2022-11-29","Radicar en ORFEO","DIRECCIÓN","No Registra"]
[1732,2022,"NOVIEMBRE","2022-11-29","12:06:00","CRISTHIAN CAMILO MONTAÑA HERNANDEZ","VIRTUAL","Correo electrónico","cdi.kennedy@gobiernobogota.gov.co","Entidades y Organismos Distritales","Secretaría de Gobierno","Entidades y Organismos Distritales","CDI Kennedy","Femenino","Mujer","Sin datos","Sin datos","Sin datos","Sin datos","PETICIONES ENTRE ENTIDADES","Consulta general","Peticiones entre entidades","Remito oficio No 20225833122601","Radicar en ORFEO","SGI","08 Kennedy"]
[1733,2022,"NOVIEMBRE","2022-11-29","12:14:00","CRISTHIAN CAMILO MONTAÑA HERNANDEZ","VIRTUAL","Correo electrónico","ragonzalez@concejobogota.gov.co","Entidades y Organismos Distritales","Concejo de Bogotá","Entidades y Organismos Distritales","Funcionario","Masculino","Hombre ","Sin datos","Sin datos","Sin datos","Sin datos","PETICIONES ENTRE ENTIDADES","Consulta general","Peticiones entre entidades","Mesa de Seguridad Localidad de Suba – Barrio Tierra Linda DADEP","Radicar en ORFEO","DIRECCIÓN","No Registra"]
[1734,2022,"NOVIEMBRE","2022-11-29","12:16:00","CRISTHIAN CAMILO MONTAÑA HERNANDEZ","VIRTUAL","Correo electrónico","gilabogados@hotmail.com","Ciudadanía","Gil Abogados","Entidades y Orgamismos Distritales","Ciudadanía","Masculino","Hombre ","Sin datos","Sin datos","Sin datos","Sin datos","NOTIFICACIONES","Consulta general","Asuntos Jurídicos","RADICADO 2014-00133","Radicar en ORFEO","SRI","No Registra"]
[1735,2022,"NOVIEMBRE","2022-11-29","12:36:00","CRISTHIAN CAMILO MONTAÑA HERNANDEZ","VIRTUAL","Correo electrónico","correspondencia@concejobogota.gov.co","Entidades y Organismos Distritales","Concejo de Bogotá","Entidades y Organismos Distritales","correspondencia","Masculino","Hombre ","Sin datos","Sin datos","Sin datos","Sin datos","PETICIONES ENTRE ENTIDADES","Consulta general","Peticiones entre entidades","predio ubicado entre la calle 163B y la calle 164 A entre la carrera 11 y carrera 12","Radicar en ORFEO","DIRECCIÓN","01 Usaquén"]
[1736,2022,"NOVIEMBRE","2022-11-29","12:45:00","CRISTHIAN CAMILO MONTAÑA HERNANDEZ","VIRTUAL","Correo electrónico","correspondenciaexternaenviada@participacionbogota.gov.co","Entidades y Organismos Distritales","Participación Bogotá","Entidades y Organismos Distritales","Correspondencia","Masculino","Hombre ","Sin datos","Sin datos","Sin datos","Sin datos","PETICIONES ENTRE ENTIDADES","Consulta general","Peticiones entre entidades","RADICADO 20223000201041","Responder a correo electronico","AREA DE ATENCION A LA CIUDADANIA","No Registra"]
[1737,2022,"NOVIEMBRE","2022-11-29","12:46:00","CRISTHIAN CAMILO MONTAÑA HERNANDEZ","VIRTUAL","Correo electrónico","correspondencia@jbb.gov.co","Entidades y Organismos Distritales","Jardín Botánico de Bogotá","Entidades y Organismos Distritales","Correspondencia","Masculino","Hombre ","Sin datos","Sin datos","Sin datos","Sin datos","PETICIONES ENTRE ENTIDADES","Consulta general","Peticiones entre entidades","2022JBB400068072 - Solicitud Certificación Espacio expedida por el DADEP.","Radicar en ORFEO","SGI","No Registra"]
[1738,2022,"NOVIEMBRE","2022-11-29","19:10:00","CRISTHIAN CAMILO MONTAÑA HERNANDEZ","VIRTUAL","Correo electrónico","oava98@yahoo.es","Ciudadanía","omar augusto velasquez ardila ","Entidades y Orgamismos Distritales","Ciudadanía","Masculino","Hombre ","Sin datos","Sin datos","Sin datos","Sin datos","ASESORÍA","Asesoría en administración y sostenibilidad del espacio público","Asesoría en temas de espacio público","Identificación y naturaleza de espacio local","Radicar en ORFEO","SGI","No Registra"]
[1739,2022,"NOVIEMBRE","2022-11-29","12:58:00","CRISTHIAN CAMILO MONTAÑA HERNANDEZ","VIRTUAL","Correo electrónico","asistente@parque93.com","Empresas privadas","Asociación Amigos del Parque 93","Empresas Privadas","Asistente","N/A","N/A","Sin datos","Sin datos","Sin datos","Sin datos","NOTIFICACIONES","Estudio de la viabilidad de las solicitudes de administración de bienes públicos","CAMEP Contrato de administración y mantenimiento","solicitud reunión ","Radicar en ORFEO","SGI","02 Chapinero"]
[1740,2022,"NOVIEMBRE","2022-11-29","13:19:00","CRISTHIAN CAMILO MONTAÑA HERNANDEZ","VIRTUAL","Correo electrónico","marcelaospinaedil2@gmail.com","Juntas Administradoras Locales (JAL)","EDIL Marcelo Ospina","Juntas Administradoras Locales (JAL)","Funcionario","Femenino","Mujer","Sin datos","Sin datos","Sin datos","Sin datos","PETICIONES ENTRE ENTIDADES","Consulta general","Peticiones entre entidades","MESA DE TRABAJO","Radicar en ORFEO","DIRECCIÓN","11 Suba"]
[1741,2022,"NOVIEMBRE","2022-11-29","13:37:00","CRISTHIAN CAMILO MONTAÑA HERNANDEZ","VIRTUAL","Correo electrónico","administradorsiga@alcaldiabogota.gov.co","Entidades y Organismos Distritales","Alcaldía Mayor de Bogotá","Entidades y Organismos Distritales","Administrador SIGA","Femenino","Mujer","Sin datos","Sin datos","Sin datos","Sin datos","PETICIONES ENTRE ENTIDADES","Consulta general","Peticiones entre entidades","Comunicación Oficial N° 2-2022-34083","Radicar en ORFEO","SGC","No Registra"]
[1742,2022,"NOVIEMBRE","2022-11-29","14:00:00","CRISTHIAN CAMILO MONTAÑA HERNANDEZ","VIRTUAL","Correo electrónico","correspondencia.cau@promoambientaldistrito.com","Empresas privadas","Promoambiental Distrito","Empresas Privadas","Correspondencia","Femenino","Mujer","Sin datos","Sin datos","Sin datos","Sin datos","PETICIONES ENTRE ENTIDADES","Consulta general","Peticiones entre entidades","Traslado por competencia PQR-2022-2103","Radicar en ORFEO","SGI","No Registra"]
[1743,2022,"NOVIEMBRE","2022-11-29","14:04:00","CRISTHIAN CAMILO MONTAÑA HERNANDEZ","VIRTUAL","Correo electrónico","notificacionelectronica@movilidadbogota.gov.co","Entidades y Organismos Distritales","Secretaría de Movilidad","Entidades y Organismos Distritales","Notificaciones","Masculino","Hombre ","Sin datos","Sin datos","Sin datos","Sin datos","PETICIONES ENTRE ENTIDADES","Consulta general","Peticiones entre entidades","RADICADO SDM N° 202222410057611","Radicar en ORFEO","SGI","No Registra"]
[1744,2022,"NOVIEMBRE","2022-11-29","14:06:00","CRISTHIAN CAMILO MONTAÑA HERNANDEZ","VIRTUAL","Correo electrónico","Nereida.Hernandez@gobiernobogota.gov.co","Entidades y Organismos Distritales","Secretaría de Gobierno","Entidades y Organismos Distritales","NEREIDA Hernandez","Femenino","Mujer","Sin datos","Sin datos","Sin datos","Sin datos","PETICIONES ENTRE ENTIDADES","Consulta general","Peticiones entre entidades","Respuesta Rad. 20225310073122","Radicar en ORFEO","SGI","No Registra"]
[1745,2022,"NOVIEMBRE","2022-11-29","14:31:00","CRISTHIAN CAMILO MONTAÑA HERNANDEZ","VIRTUAL","Correo electrónico","administradorsiga@alcaldiabogota.gov.co","Entidades y Organismos Distritales","Alcaldía Mayor de Bogotá","Entidades y Organismos Distritales","Administrador SIGA","Femenino","Mujer","Sin datos","Sin datos","Sin datos","Sin datos","PETICIONES ENTRE ENTIDADES","Consulta general","Peticiones entre entidades","Comunicación Oficial N° 2-2022-34108","Radicar en ORFEO","DIRECCIÓN","No Registra"]
[1746,2022,"NOVIEMBRE","2022-11-29","15:03:00","CRISTHIAN CAMILO MONTAÑA HERNANDEZ","VIRTUAL","Correo electrónico","pmartinez@dadep.gov.co","Servidores públicos (funcionarios y contratistas)","DADEP","Servidores públicos (funcionarios y contratistas)","Servidor público","Femenino","Mujer","Sin datos","Sin datos","Sin datos","Sin datos","NOTIFICACIONES","Consulta general","Talento humano","Reporta Incapacidad 29/11/2022 - 03/12/2022.","Radicar en ORFEO","SGC","No Registra"]
[1747,2022,"NOVIEMBRE","2022-11-29","15:05:00","CRISTHIAN CAMILO MONTAÑA HERNANDEZ","VIRTUAL","Correo electrónico","mofajardo@alianza.com.co","Empresas privadas","Alianza Fiduciaria","Empresas Privadas","Ciudadanía","Femenino","Mujer","Sin datos","Sin datos","Sin datos","Sin datos","NOTIFICACIONES","Estudio de la viabilidad de las solicitudes de administración de bienes públicos","CAMEP Contrato de administración y mantenimiento","Notificación Aportes Equity – Cuenta Proyecto FIDEICOMISO HUB MOVILIDAD CALLE 136 ALIANZA FIDUCIARIA S.A","Radicar en ORFEO","SGI","01 Usaquén"]
[1748,2022,"NOVIEMBRE","2022-11-29","15:34:00","CRISTHIAN CAMILO MONTAÑA HERNANDEZ","VIRTUAL","Correo electrónico","notificaciones_catastro@catastrobogota.gov.co","Entidades y Organismos Distritales","Catastro de Bogotá","Entidades y Organismos Distritales","Notificaciones","Femenino","Mujer","Sin datos","Sin datos","Sin datos","Sin datos","PETICIONES ENTRE ENTIDADES","Consulta general","Peticiones entre entidades","UAECD 2022 EE 88154 (uaecd 2022 er 43085)","Radicar en ORFEO","SRI","No Registra"]
[1749,2022,"NOVIEMBRE","2022-11-29","15:38:00","CRISTHIAN CAMILO MONTAÑA HERNANDEZ","VIRTUAL","Correo electrónico","oscar.cardenas@uaesp.gov.co","Entidades y Organismos Distritales","Unidad Administrativa Especial de Servicios Públicos","Entidades y Organismos Distritales","Funcionario","Femenino","Mujer","Sin datos","Sin datos","Sin datos","Sin datos","PETICIONES ENTRE ENTIDADES","Consulta general","Peticiones entre entidades","Oficio UAESP 20224000 266191-Infraestructura del servicio de alumbrado público en el sector de la Carrera 1 D entre Calle 97 F Bis Sur y Calle 97 G Sur de Usme.","Radicar en ORFEO","SRI","05 Usme"]
[1750,2022,"NOVIEMBRE","2022-11-30","15:45:00","CRISTHIAN CAMILO MONTAÑA HERNANDEZ","VIRTUAL","Correo electrónico","Externa_Enviada_Virtual@shd.gov.co","Entidades y Organismos Distritales","Secretaría de Hacienda Distrital","Entidades y Organismos Distritales","Correspondencia","Femenino","Mujer","Sin datos","Sin datos","Sin datos","Sin datos","PETICIONES ENTRE ENTIDADES","Consulta general","Peticiones entre entidades","(R2022EE584174O1) 2022EE584174O1 YC","Radicar en ORFEO","SGI","No Registra"]
[1751,2022,"NOVIEMBRE","2022-11-30","15:46:00","CRISTHIAN CAMILO MONTAÑA HERNANDEZ","VIRTUAL","Correo electrónico","cdi.tunjuelito@gobiernobogota.gov.co","Entidades y Organismos Distritales","Secretaría de Gobierno","Entidades y Organismos Distritales","CDI Tunjuelito","Masculino","Hombre ","Sin datos","Sin datos","Sin datos","Sin datos","PETICIONES ENTRE ENTIDADES","Consulta general","Peticiones entre entidades","20225630456131 - Respuesta a solicitud de alcance de información entregada sobre predio Carrera 18 C # 59 – 79 sur. ","Radicar en ORFEO","SRI","06 Tunjuelito"]
[1752,2022,"NOVIEMBRE","2022-11-30","15:59:00","CRISTHIAN CAMILO MONTAÑA HERNANDEZ","VIRTUAL","Correo electrónico","sindistritales@outlook.com","Empresas privadas","SINDISTRITALES SINDISTRITALES ","Empresas Privadas","Ciudadanía","N/A","N/A","Sin datos","Sin datos","Sin datos","Sin datos","NOTIFICACIONES","Estudio de la viabilidad de las solicitudes de administración de bienes públicos","CAMEP Contrato de administración y mantenimiento","Compromisos mesa de trabajo del 29 de julio de 2022. ","Radicar en ORFEO","SGI","No Registra"]
[1753,2022,"NOVIEMBRE","2022-11-30","16:04:00","CRISTHIAN CAMILO MONTAÑA HERNANDEZ","VIRTUAL","Correo electrónico","puntoiduav68tramo7@gmail.com","Empresas privadas","Consorcio Av 68","Empresas Privadas","Tramo 7","N/A","N/A","Sin datos","Sin datos","Sin datos","Sin datos","ASESORÍA","Asesoría en administración y sostenibilidad del espacio público","Asesoría en temas de espacio público","Radicado E-IDU-351-1689-22 - Solicitud Gestión para Recuperación del Espacio público","Radicar en ORFEO","SGI","No Registra"]
[1754,2022,"NOVIEMBRE","2022-11-30","16:21:00","CRISTHIAN CAMILO MONTAÑA HERNANDEZ","VIRTUAL","Correo electrónico","correspondencia.i.dadep378@interdisenos.com.co","Empresas privadas","interdisenos","Empresas Privadas","Correspondencia","Femenino","Mujer","Sin datos","Sin datos","Sin datos","Sin datos","NOTIFICACIONES","Estudio de la viabilidad de las solicitudes de administración de bienes públicos","CAMEP Contrato de administración y mantenimiento","GDADEP06-0581-22 - RTA A 20223080179321. INFORME TRIMESTRAL N5 VERSIÓN CERO.","Radicar en ORFEO","SGI","No Registra"]
[1755,2022,"NOVIEMBRE","2022-11-30","16:46:00","CRISTHIAN CAMILO MONTAÑA HERNANDEZ","VIRTUAL","Correo electrónico","buzoncomunicaciones@sdp.gov.co","Entidades y Organismos Distritales","Secretaría Distrital de Planeación","Entidades y Organismos Distritales","buzon comunicaciones","Masculino","Hombre ","Sin datos","Sin datos","Sin datos","Sin datos","PETICIONES ENTRE ENTIDADES","Consulta general","Peticiones entre entidades","2-2022-174999","Radicar en ORFEO","SRI","09 Fontibón"]
[1756,2022,"NOVIEMBRE","2022-11-30","17:13:00","CRISTHIAN CAMILO MONTAÑA HERNANDEZ","VIRTUAL","Correo electrónico","gerenciaingcap@gmail.com","Empresas privadas","Gerencia INGCAP","Empresas Privadas","Ciudadanía","N/A","N/A","Sin datos","Sin datos","Sin datos","Sin datos","ASESORÍA","Asesoría en administración y sostenibilidad del espacio público","Asesoría en temas de espacio público","BAC-FON-010 - Solicitud de Certificación de bien de uso público","Radicar en ORFEO","SRI","No Registra"]
[1757,2022,"NOVIEMBRE","2022-11-30","17:38:00","CRISTHIAN CAMILO MONTAÑA HERNANDEZ","VIRTUAL","Correo electrónico","mcarrillo@dadep.gov.co","Servidores públicos (funcionarios y contratistas)","DADEP","Servidores públicos (funcionarios y contratistas)","Servidor público","Femenino","Mujer","Sin datos","Sin datos","Sin datos","Sin datos","CONSULTA","Consulta general","Contratos jurídica","Solicitud de certificación - 110-00129-102-0-2021  - 110-00129-277-0-2022 ","Radicar en ORFEO","OJ","No Registra"]
[1758,2022,"NOVIEMBRE","2022-11-30","17:48:00","CRISTHIAN CAMILO MONTAÑA HERNANDEZ","VIRTUAL","Correo electrónico","correspondenciaexternaenviada@participacionbogota.gov.co","Entidades y Organismos Distritales","Participación Bogotá","Entidades y Organismos Distritales","Correspondencia","Masculino","Hombre ","Sin datos","Sin datos","Sin datos","Sin datos","PETICIONES ENTRE ENTIDADES","Consulta general","Peticiones entre entidades","ALCANCE A RADICADO RADICADO 20223000202631 CON EL ANEXO","Radicar en ORFEO","SGI","No Registra"]
[1759,2022,"NOVIEMBRE","2022-11-30","17:52:00","CRISTHIAN CAMILO MONTAÑA HERNANDEZ","VIRTUAL","Correo electrónico","correspondenciaexternaenviada@participacionbogota.gov.co","Entidades y Organismos Distritales","Participación Bogotá","Entidades y Organismos Distritales","Correspondencia","Masculino","Hombre ","Sin datos","Sin datos","Sin datos","Sin datos","PETICIONES ENTRE ENTIDADES","Consulta general","Peticiones entre entidades","ALCANCE A RADICADO 20223000198761 ANEXO ","responder a correo electronico","AREA DE ATENCION A LA CIUDADANIA","No Registra"]
[1760,2022,"NOVIEMBRE","2022-11-30","17:55:00","CRISTHIAN CAMILO MONTAÑA HERNANDEZ","VIRTUAL","Correo electrónico","millerdsg@gmail.com","Ciudadanía","Miller David Saavedra Garcia ","Entidades y Orgamismos Distritales","Ciudadanía","Masculino","Hombre ","Sin datos","Sin datos","Sin datos","Sin datos","CONSULTA","Consulta general","Contratos jurídica","Solicitud de certificaciones contractuales - Solicitud de certificaciones contractuales","Radicar en ORFEO","OJ","No Registra"]
[1761,2022,"NOVIEMBRE","2022-11-30","18:08:00","CRISTHIAN CAMILO MONTAÑA HERNANDEZ","VIRTUAL","Correo electrónico","sirius2@personeriabogota.gov.co","Entidades y Organismos Distritales","personeria de bogota","Entidades y Organismos Distritales","Sirius 2","Masculino","Hombre ","Sin datos","Sin datos","Sin datos","Sin datos","PETICIONES ENTRE ENTIDADES","Consulta general","Peticiones entre entidades","Respuesta 2022-EE-0573198 2022-11-29","Radicar en ORFEO","DIRECCIÓN","No Registra"]
[1762,2022,"NOVIEMBRE","2022-11-30","20:47:00","CRISTHIAN CAMILO MONTAÑA HERNANDEZ","VIRTUAL","Correo electrónico","correspondencia@jbb.gov.co","Entidades y Organismos Distritales","Jardín Botánico de Bogotá","Entidades y Organismos Distritales","Correspondencia","Femenino","Mujer","Sin datos","Sin datos","Sin datos","Sin datos","PETICIONES ENTRE ENTIDADES","Consulta general","Peticiones entre entidades","Respuesta al radicado 2022JBB410076661. Radicado DADEP No. 20224000254662 del 25/10/2022. Traslado de derecho de petición, comunidad barrio la Candelaria la Nueva, Localidad 19 de Ciudad Bolívar.","Radicar en ORFEO","SGI","19 Ciudad Bolívar"]
[1763,2022,"NOVIEMBRE","2022-11-30","21:01:00","CRISTHIAN CAMILO MONTAÑA HERNANDEZ","VIRTUAL","Correo electrónico","gmarulanda@contraloriabogota.gov.co","Entidades y Organismos Distritales","Contraloría de Bogotá","Entidades y Organismos Distritales","Funcionario","Femenino","Mujer","Sin datos","Sin datos","Sin datos","Sin datos","PETICIONES ENTRE ENTIDADES","Consulta general","Peticiones entre entidades","Requerimiento 13 Solicitud de información Visita Control Fiscal Código 505 – PAD 2022, DPC 1045 ","Radicar en ORFEO","DIRECCIÓN","No Registra"]
[1764,2022,"NOVIEMBRE","2022-11-30","21:18:00","CRISTHIAN CAMILO MONTAÑA HERNANDEZ","VIRTUAL","Correo electrónico","jaccalvosur@gmail.com","Juntas de Acción Comunal (JAC)","junta de accion comunal barrio calvo sur","Juntas de Acción Comunal (JAC)","Ciudadanía","N/A","N/A","Sin datos","Sin datos","Sin datos","Sin datos","NOTIFICACIONES","Estudio de la viabilidad de las solicitudes de administración de bienes públicos","CAMEP Contrato de administración y mantenimiento","JAC-4013-2022-15 - Su comunicación # 20223060185221 del 22-XI-2022","Radicar en ORFEO","SGI","No Registra"]
[1765,2022,"NOVIEMBRE","2022-11-30","22:42:00","CRISTHIAN CAMILO MONTAÑA HERNANDEZ","VIRTUAL","Correo electrónico","administradorsiga@alcaldiabogota.gov.co","Entidades y Organismos Distritales","Alcaldía Mayor de Bogotá","Entidades y Organismos Distritales","Administrador SIGA","Femenino","Mujer","Sin datos","Sin datos","Sin datos","Sin datos","PETICIONES ENTRE ENTIDADES","Consulta general","Peticiones entre entidades","Comunicación Oficial N° 2-2022-34233","Radicar en ORFEO","SGC","No Registra"]
[1766,2022,"NOVIEMBRE","2022-11-30","07:14:00","CRISTHIAN CAMILO MONTAÑA HERNANDEZ","VIRTUAL","Correo electrónico","buzoncomunicaciones@sdp.gov.co","Entidades y Organismos Distritales","Secretaría Distrital de Planeación","Entidades y Organismos Distritales","buzon comunicaciones","Femenino","Mujer","Sin datos","Sin datos","Sin datos","Sin datos","PETICIONES ENTRE ENTIDADES","Consulta general","Peticiones entre entidades","2-2022-175099","Radicar en ORFEO","SRI","02 Chapinero"]
[1767,2022,"NOVIEMBRE","2022-11-30","07:51:00","CRISTHIAN CAMILO MONTAÑA HERNANDEZ","VIRTUAL","Correo electrónico","correspondencia.i.dadep247@interdisenos.com.co","Empresas privadas","interdisenos","Empresas Privadas","Correspondencia","Femenino","Mujer","Sin datos","Sin datos","Sin datos","Sin datos","NOTIFICACIONES","Estudio de la viabilidad de las solicitudes de administración de bienes públicos","CAMEP Contrato de administración y mantenimiento","GDADEP-994-22 DADEP Rta Oficio N° Radicado N° 20223080181191 - Plano de Diseño Requerimientos de TMSA","Radicar en ORFEO","SGI","No Registra"]
[1768,2022,"NOVIEMBRE","2022-11-30","07:55:00","CRISTHIAN CAMILO MONTAÑA HERNANDEZ","VIRTUAL","Correo electrónico","correspondencia.i.dadep247@interdisenos.com.co","Empresas privadas","interdisenos","Empresas Privadas","Correspondencia","Femenino","Mujer","Sin datos","Sin datos","Sin datos","Sin datos","NOTIFICACIONES","Estudio de la viabilidad de las solicitudes de administración de bienes públicos","CAMEP Contrato de administración y mantenimiento","GDADEP-995-22 - Marca JCD plazo1","Radicar en ORFEO","SGI","No Registra"]
[1769,2022,"NOVIEMBRE","2022-11-30","08:01:00","CRISTHIAN CAMILO MONTAÑA HERNANDEZ","VIRTUAL","Correo electrónico","mfrojas@concejobogota.gov.co","Entidades y Organismos Distritales","Concejo de Bogotá","Entidades y Organismos Distritales","Funcionario","Masculino","Hombre ","Sin datos","Sin datos","Sin datos","Sin datos","PETICIONES ENTRE ENTIDADES","Consulta general","Peticiones entre entidades","Mesa Intersectorial Huerta El Castillo - Solicitud suspensión de desalojo la Huerta El Castillo y mesa intersectorial de concertación.","Radicar en ORFEO","DIRECCIÓN","No Registra"]
[1770,2022,"NOVIEMBRE","2022-11-30","08:20:00","CRISTHIAN CAMILO MONTAÑA HERNANDEZ","VIRTUAL","Correo electrónico","correspondencia@secretariajuridica.gov.co","Entidades y Organismos Distritales","Secretaría juridica Distrital","Entidades y Organismos Distritales","Correspondencia","Femenino","Mujer","Sin datos","Sin datos","Sin datos","Sin datos","PETICIONES ENTRE ENTIDADES","Consulta general","Peticiones entre entidades","2-2022-24957 - CONCEPTO PARA UNIFICACION DE POSICION JURIDICA","Radicar en ORFEO","OJ","No Registra"]
[1771,2022,"NOVIEMBRE","2022-11-30","08:22:00","CRISTHIAN CAMILO MONTAÑA HERNANDEZ","VIRTUAL","Correo electrónico","Correspondencia@jbb.gov.co","Entidades y Organismos Distritales","Jardín Botánico de Bogotá","Entidades y Organismos Distritales","Correspondencia","Femenino","Mujer","Sin datos","Sin datos","Sin datos","Sin datos","PETICIONES ENTRE ENTIDADES","Consulta general","Peticiones entre entidades","Respuesta al radicado 2022JBB410076661. Radicado DADEP No. 20224000254662 del 25/10/2022. Traslado de derecho de petición, comunidad barrio la Candelaria la Nueva, Localidad 19 de Ciudad Bolívar.","Radicar en ORFEO","SGI","19 Ciudad Bolívar"]
[1772,2022,"NOVIEMBRE","2022-11-30","09:02:00","CRISTHIAN CAMILO MONTAÑA HERNANDEZ","VIRTUAL","Correo electrónico","cvasqueza@educacionbogota.gov.co","Entidades y Organismos Distritales","Secretaría de Educación","Entidades y Organismos Distritales","Notificaciones","Femenino","Mujer","Sin datos","Sin datos","Sin datos","Sin datos","PETICIONES ENTRE ENTIDADES","Consulta general","Peticiones entre entidades","Radicado S-2022-368222","Radicar en ORFEO","SGC","No Registra"]
[1773,2022,"NOVIEMBRE","2022-11-30","09:02:00","CRISTHIAN CAMILO MONTAÑA HERNANDEZ","VIRTUAL","Correo electrónico","notificaciones_catastro@catastrobogota.gov.co","Entidades y Organismos Distritales","Catastro de Bogotá","Entidades y Organismos Distritales","Notificaciones","Masculino","Hombre ","Sin datos","Sin datos","Sin datos","Sin datos","PETICIONES ENTRE ENTIDADES","Consulta general","Peticiones entre entidades","RAD 2022-472428 OFICIO 2022EE88416 Y ANEXOS 2022-104554 DEL 24-11-2022 NOTIFICACIÓN ELECTRÓNICA AUTORIZADA","Radicar en ORFEO","SRI","No Registra"]
[1774,2022,"NOVIEMBRE","2022-11-30","09:08:00","CRISTHIAN CAMILO MONTAÑA HERNANDEZ","VIRTUAL","Correo electrónico","cdiusaquen.salidas@gobiernobogota.gov.co","Entidades y Organismos Distritales","Secretaría de Gobierno","Entidades y Organismos Distritales","CDIUSAQUEN Usaquén","Masculino","Hombre ","Sin datos","Sin datos","Sin datos","Sin datos","PETICIONES ENTRE ENTIDADES","Consulta general","Peticiones entre entidades","20225131106011 - Traslado Derechos de Petición","Radicar en ORFEO","SGI","01 Usaquén"]
[1775,2022,"NOVIEMBRE","2022-11-30","09:23:00","CRISTHIAN CAMILO MONTAÑA HERNANDEZ","VIRTUAL","Correo electrónico","cdiusaquen.salidas@gobiernobogota.gov.co","Entidades y Organismos Distritales","Secretaría de Gobierno","Entidades y Organismos Distritales","CDIUSAQUEN Usaquén","Masculino","Hombre ","Sin datos","Sin datos","Sin datos","Sin datos","PETICIONES ENTRE ENTIDADES","Consulta general","Peticiones entre entidades","20225131109571 - Traslado Derecho de Petición","Radicar en ORFEO","SGI","01 Usaquén"]
[1776,2022,"NOVIEMBRE","2022-11-30","09:41:00","CRISTHIAN CAMILO MONTAÑA HERNANDEZ","VIRTUAL","Correo electrónico","cdi.ruribe@gobiernobogota.gov.co","Entidades y Organismos Distritales","Secretaría de Gobierno","Entidades y Organismos Distritales","CDI Ruribe","Masculino","Hombre ","Sin datos","Sin datos","Sin datos","Sin datos","PETICIONES ENTRE ENTIDADES","Consulta general","Peticiones entre entidades","ENVIO OFICIO 20226831559091 RECORRIDO DE VERIFICACION ","Radicar en ORFEO","SGI","18 Rafael Uribe Uribe"]
[1777,2022,"NOVIEMBRE","2022-11-30","09:46:00","CRISTHIAN CAMILO MONTAÑA HERNANDEZ","VIRTUAL","Correo electrónico","vcanon@catastrobogota.gov.co","Entidades y Organismos Distritales","Catastro de Bogotá","Entidades y Organismos Distritales","Funcionario","Femenino","Mujer","Sin datos","Sin datos","Sin datos","Sin datos","PETICIONES ENTRE ENTIDADES","Consulta general","Peticiones entre entidades","Oficio 2022EE88815","Radicar en ORFEO","SRI","No Registra"]
[1778,2022,"NOVIEMBRE","2022-11-30","10:19:00","CRISTHIAN CAMILO MONTAÑA HERNANDEZ","VIRTUAL","Correo electrónico","julianprieto@galias.com.co","Empresas privadas","Las Galias","Empresas Privadas","Ciudadanía","Masculino","Hombre ","Sin datos","Sin datos","Sin datos","Sin datos","ASESORÍA","Incorporación y entrega de las áreas de cesión a favor del municipio","Entrega de zonas de cesión","SOLICITUD REVISION ESCRITURACIÓN ZONAS DE CESIÓN FIDEICOMISO EQUIPAMIENTO COMUNAL SENDEROS DE CASTILLA","Radicar en ORFEO","SRI","No Registra"]
[1779,2022,"NOVIEMBRE","2022-11-30","10:27:00","CRISTHIAN CAMILO MONTAÑA HERNANDEZ","VIRTUAL","Correo electrónico","doctoradiana.lopez@hotmail.com","Ciudadanía","Diana Carolina Lopez Cubides","Entidades y Orgamismos Distritales","Ciudadanía","Masculino","Hombre ","Sin datos","Sin datos","Sin datos","Sin datos","ASESORÍA","Estudio de la viabilidad de las solicitudes de administración de bienes públicos","Viabilidad Decreto 070 / 2022 BACA 2.0","RADICACION SOLICITUD PERMISO CIELOS ABIERTOS BACA 2.0 CENTRO HISTORICO DE USAQUEN DOCUEMNTO PARA DIEGO PARRA DEL DADEP","Radicar en ORFEO","SGI","No Registra"]
[1780,2022,"NOVIEMBRE","2022-11-30","10:31:00","CRISTHIAN CAMILO MONTAÑA HERNANDEZ","VIRTUAL","Correo electrónico","correspondencia.enviada2@idu.gov.co","Entidades y Organismos Distritales","Instituto de Desarrollo Urbano","Entidades y Organismos Distritales","correspondencia","Masculino","Hombre ","Sin datos","Sin datos","Sin datos","Sin datos","PETICIONES ENTRE ENTIDADES","Consulta general","Peticiones entre entidades","RADICADO IDU N° 20223851846151 DEL 29 DE NOVIEMBRE 2022","Radicar en ORFEO","SGI","No Registra"]
[1781,2022,"NOVIEMBRE","2022-11-30","10:44:00","CRISTHIAN CAMILO MONTAÑA HERNANDEZ","VIRTUAL","Correo electrónico","correspondencia.enviada2@idu.gov.co","Entidades y Organismos Distritales","Instituto de Desarrollo Urbano","Entidades y Organismos Distritales","correspondencia","Femenino","Mujer","Sin datos","Sin datos","Sin datos","Sin datos","PETICIONES ENTRE ENTIDADES","Consulta general","Peticiones entre entidades","RADICADO IDU N° 20222351846391 DEL 29 DE NOVIEMBRE 2022","Radicar en ORFEO","SGI","08 Kennedy"]
[1782,2022,"NOVIEMBRE","2022-11-30","00:00:00","CRISTHIAN CAMILO MONTAÑA HERNANDEZ","VIRTUAL","Correo electrónico","correspondenciabogotacentro@supernotariado.gov.co","Entidades y Organismos Nacionales","Supernotariado","Entidades y Orgamismos Distritales","Correspondencia","Masculino","Hombre ","Sin datos","Sin datos","Sin datos","Sin datos","PETICIONES ENTRE ENTIDADES","Consulta general","Peticiones entre entidades","50C2022EE26155","Radicar en ORFEO","SRI","No Registra"]
[1783,2022,"NOVIEMBRE","2022-11-30","11:34:00","CRISTHIAN CAMILO MONTAÑA HERNANDEZ","VIRTUAL","Correo electrónico","correspondencia@ambientebogota.gov.co","Entidades y Organismos Distritales","Secretaría de Ambiente","Entidades y Organismos Distritales","Correspondencia","Masculino","Hombre ","Sin datos","Sin datos","Sin datos","Sin datos","PETICIONES ENTRE ENTIDADES","Consulta general","Peticiones entre entidades","Envio documento Secretaria distrital de ambiente Radicado No. 2022EE309059","Radicar en ORFEO","SGI","03 Santa fe"]
[1784,2022,"NOVIEMBRE","2022-11-30","11:35:00","CRISTHIAN CAMILO MONTAÑA HERNANDEZ","VIRTUAL","Correo electrónico","correspondencia.i.dadep378@interdisenos.com.co","Empresas privadas","interdisenos","Empresas Privadas","Correspondencia","Femenino","Mujer","Sin datos","Sin datos","Sin datos","Sin datos","NOTIFICACIONES","Estudio de la viabilidad de las solicitudes de administración de bienes públicos","CAMEP Contrato de administración y mantenimiento","GDADEP06-0584-22 DADEP Constancia de conocimiento del Otrosí 4 en las Garantías del Contrato de Concesión","Radicar en ORFEO","SGI","No Registra"]
[1785,2022,"NOVIEMBRE","2022-11-30","11:40:00","CRISTHIAN CAMILO MONTAÑA HERNANDEZ","VIRTUAL","Correo electrónico","Gestion.Operaciones@lime.com.co","Empresas privadas","LIME","Empresas Privadas","gestión de Operaciones","Masculino","Hombre ","Sin datos","Sin datos","Sin datos","Sin datos","PETICIONES ENTRE ENTIDADES","Consulta general","Peticiones entre entidades","Solicitud corte de césped - DG 72 F SUR CON TV 32 Referencia: Radicado PQR SIGAB 1199035 – CAJA DE LA VIVIENDA POPULAR 202215000178051","Radicar en ORFEO","SGI","19 Ciudad Bolívar"]
[1786,2022,"NOVIEMBRE","2022-11-30","11:44:00","CRISTHIAN CAMILO MONTAÑA HERNANDEZ","VIRTUAL","Correo electrónico","oscar.cardenas@uaesp.gov.co","Entidades y Organismos Distritales","Unidad Administrativa Especial de Servicios Públicos","Entidades y Organismos Distritales","Funcionario","Femenino","Mujer","Sin datos","Sin datos","Sin datos","Sin datos","PETICIONES ENTRE ENTIDADES","Consulta general","Peticiones entre entidades","Oficio UAESP 20224000 269421-Aprobación de incorporación de infraestructura de alumbrado público, Proyecto Urbanización Portón de la Sabana.","Radicar en ORFEO","SRI","No Registra"]
[1787,2022,"NOVIEMBRE","2022-11-30","11:57:00","CRISTHIAN CAMILO MONTAÑA HERNANDEZ","VIRTUAL","Correo electrónico","correspondencia.cau@promoambientaldistrito.com","Empresas privadas","Promoambiental Distrito","Empresas Privadas","Correspondencia","Femenino","Mujer","Sin datos","Sin datos","Sin datos","Sin datos","PETICIONES ENTRE ENTIDADES","Consulta general","Peticiones entre entidades","Traslado por competencia PQR-2022-2111","Radicar en ORFEO","SGI","No Registra"]
[1788,2022,"NOVIEMBRE","2022-11-30","11:59:00","CRISTHIAN CAMILO MONTAÑA HERNANDEZ","VIRTUAL","Correo electrónico","jalchapinero.2020@gmail.com","Juntas Administradoras Locales (JAL)","JAL DE CHAPINERO","Juntas Administradoras Locales (JAL)","Funcionario","N/A","N/A","Sin datos","Sin datos","Sin datos","Sin datos","PETICIONES ENTRE ENTIDADES","Consulta general","Peticiones entre entidades","OFICIO Nº 703-2022 - Derecho de petición solicitud de información.","Radicar en ORFEO","DIRECCIÓN","02 Chapinero"]
[1789,2022,"NOVIEMBRE","2022-11-30","12:05:00","CRISTHIAN CAMILO MONTAÑA HERNANDEZ","VIRTUAL","Correo electrónico","controlciudadano@contraloriabogota.gov.co","Entidades y Organismos Distritales","Contraloría de Bogotá","Entidades y Organismos Distritales","Control Ciudadano","Masculino","Hombre ","Sin datos","Sin datos","Sin datos","Sin datos","PETICIONES ENTRE ENTIDADES","Consulta general","Peticiones entre entidades","2-2022-25508 - Traslado por competencia Derecho de Petición DPC-2037/22, radicado en este Ente de Control con No.1-2022-28452 de fecha 28 de noviembre de 2022. ","Radicar en ORFEO","DIRECCIÓN","No Registra"]
[1790,2022,"NOVIEMBRE","2022-11-30","12:26:00","CRISTHIAN CAMILO MONTAÑA HERNANDEZ","VIRTUAL","Correo electrónico","control.scristobal@gobiernobogota.gov.co","Entidades y Organismos Distritales","Secretaría de Gobierno","Entidades y Organismos Distritales","CONTROL Scristobal","Masculino","Hombre ","Sin datos","Sin datos","Sin datos","Sin datos","PETICIONES ENTRE ENTIDADES","Consulta general","Peticiones entre entidades","20225440797811 - SOLICITUD DE INFORMACIÓN CONCERNIENTE AL PREDIO AAA0001DFHK, UBICADO EN LAS DIRECCIONES CARRERA 13 ESTE # 26 B -80 SUR Y CARRERA 13 ESTE # 29 A -04 SUR","Radicar en ORFEO","SGI","04 San Cristóbal"]
[1791,2022,"NOVIEMBRE","2022-11-30","12:33:00","CRISTHIAN CAMILO MONTAÑA HERNANDEZ","VIRTUAL","Correo electrónico","sirius2@personeriabogota.gov.co","Entidades y Organismos Distritales","personeria de bogota","Entidades y Organismos Distritales","Sirius 2","Masculino","Hombre ","Sin datos","Sin datos","Sin datos","Sin datos","PETICIONES ENTRE ENTIDADES","Consulta general","Peticiones entre entidades","Respuesta 2022-EE-0573450 2022-11-30","Radicar en ORFEO","DIRECCIÓN","No Registra"]
[1792,2022,"NOVIEMBRE","2022-11-30","12:49:00","CRISTHIAN CAMILO MONTAÑA HERNANDEZ","VIRTUAL","Correo electrónico","reinaldo.suarez@gobiernobogota.gov.co","Entidades y Organismos Distritales","Secretaría de Gobierno","Entidades y Organismos Distritales","REINALDO Suarez","Femenino","Mujer","Sin datos","Sin datos","Sin datos","Sin datos","PETICIONES ENTRE ENTIDADES","Consulta general","Peticiones entre entidades","20226841544271 - Solicitud de acompañamiento en audiencia pública e información de propiedad de predio.","Radicar en ORFEO","SGI","18 Rafael Uribe Uribe"]
[1793,2022,"NOVIEMBRE","2022-11-30","13:28:00","CRISTHIAN CAMILO MONTAÑA HERNANDEZ","VIRTUAL","Correo electrónico","reinaldo.suarez@gobiernobogota.gov.co","Entidades y Organismos Distritales","Secretaría de Gobierno","Entidades y Organismos Distritales","REINALDO Suarez","Femenino","Mujer","Sin datos","Sin datos","Sin datos","Sin datos","PETICIONES ENTRE ENTIDADES","Consulta general","Peticiones entre entidades","20226841546451 - Solicitud información de RUPI.","Radicar en ORFEO","SGI","18 Rafael Uribe Uribe"]
[1794,2022,"NOVIEMBRE","2022-11-30","14:15:00","CRISTHIAN CAMILO MONTAÑA HERNANDEZ","VIRTUAL","Correo electrónico","externa_enviada_virtual@shd.gov.co","Entidades y Organismos Distritales","Secretaría de Hacienda Distrital","Entidades y Organismos Distritales","Correspondencia","Femenino","Mujer","Sin datos","Sin datos","Sin datos","Sin datos","PETICIONES ENTRE ENTIDADES","Consulta general","Peticiones entre entidades","2022EE583875O1 DD","Radicar en ORFEO","SGI","No Registra"]
[1795,2022,"NOVIEMBRE","2022-11-30","14:31:00","CRISTHIAN CAMILO MONTAÑA HERNANDEZ","VIRTUAL","Correo electrónico","siga@habitatbogota.gov.co","Entidades y Organismos Distritales","Secretaría de Habitat","Entidades y Organismos Distritales","SIGA","Masculino","Hombre ","Sin datos","Sin datos","Sin datos","Sin datos","PETICIONES ENTRE ENTIDADES","Consulta general","Peticiones entre entidades","Comunicación Oficial N° 2-2022-73233","Radicar en ORFEO","SRI","08 Kennedy"]
[1796,2022,"NOVIEMBRE","2022-11-30","14:44:00","CRISTHIAN CAMILO MONTAÑA HERNANDEZ","VIRTUAL","Correo electrónico","notificaciones_catastro@catastrobogota.gov.co","Entidades y Organismos Distritales","Catastro de Bogotá","Entidades y Organismos Distritales","Notificaciones","Femenino","Mujer","Sin datos","Sin datos","Sin datos","Sin datos","PETICIONES ENTRE ENTIDADES","Consulta general","Peticiones entre entidades","UAECD 2022 EE 87378 (uaecd 2022 er 38055)","Radicar en ORFEO","SRI","No Registra"]
[1797,2022,"NOVIEMBRE","2022-11-30","15:03:00","CRISTHIAN CAMILO MONTAÑA HERNANDEZ","VIRTUAL","Correo electrónico","cdi.engativa@gobiernobogota.gov.co","Entidades y Organismos Distritales","Secretaría de Gobierno","Entidades y Organismos Distritales","CDI Engativá","Femenino","Mujer","Sin datos","Sin datos","Sin datos","Sin datos","PETICIONES ENTRE ENTIDADES","Consulta general","Peticiones entre entidades","20226040961531 - Solicitud de informacion para expediente 2022 604 490 100 394E -CASO EMAUS-.","Radicar en ORFEO","SGI","10 Engativá"]
[1798,2022,"NOVIEMBRE","2022-11-30","15:04:00","CRISTHIAN CAMILO MONTAÑA HERNANDEZ","VIRTUAL","Correo electrónico","correspondencia.enviada2@idu.gov.co","Entidades y Organismos Distritales","Instituto de Desarrollo Urbano","Entidades y Organismos Distritales","correspondencia","Femenino","Mujer","Sin datos","Sin datos","Sin datos","Sin datos","PETICIONES ENTRE ENTIDADES","Consulta general","Peticiones entre entidades","RADICADO IDU N° 20223861853931 DEL 30 DE NOVIEMBRE 2022","Radicar en ORFEO","SGI","No Registra"]
[1799,2022,"NOVIEMBRE","2022-11-30","15:18:00","CRISTHIAN CAMILO MONTAÑA HERNANDEZ","VIRTUAL","Correo electrónico","gerenciaartesplasticas@idartes.gov.co","Entidades y Organismos Distritales","IDARTES","Entidades y Organismos Distritales","Gerencia","Femenino","Mujer","Sin datos","Sin datos","Sin datos","Sin datos","PETICIONES ENTRE ENTIDADES","Consulta general","Peticiones entre entidades","20223300107261 - Respuesta radicado 20224600119332","Responder a correo electronico","AREA DE ATENCION A LA CIUDADANIA","No Registra"]
[1800,2022,"NOVIEMBRE","2022-11-30","15:22:00","CRISTHIAN CAMILO MONTAÑA HERNANDEZ","VIRTUAL","Correo electrónico","notificaciones_catastro@catastrobogota.gov.co","Entidades y Organismos Distritales","Catastro de Bogotá","Entidades y Organismos Distritales","Notificaciones","Femenino","Mujer","Sin datos","Sin datos","Sin datos","Sin datos","PETICIONES ENTRE ENTIDADES","Consulta general","Peticiones entre entidades","UAECD 2022 EE 88225 (uaecd 2022 er 30870)","Radicar en ORFEO","SRI","No Registra"]
[1801,2022,"NOVIEMBRE","2022-11-01","03:47:42","OLGA LUCÍA MESA MORENO","VIRTUAL","Bogotá te Escucha","germanvargas68@yahoo.com","Ciudadanía","GERMÁN VARGAS MALAGÓN","Ciudadanía","Ciudadanía","Masculino","Hombre ","Sin datos","Sin datos","Sin datos","Sin datos","DERECHO DE PETICIÓN DE INTERÉS PARTICULAR","Asesoría en administración y sostenibilidad del espacio público","Asesoría en temas de espacio público","Radicado Orfeo Dadep No  20224000261312  Asunto  VIRTUAL--SOLICITUD DE PROTECCION DE TERRENO UBICADO EN LA CL 67 SUR CON CR 47  POR ABANDONO Y DETERIORO DE PREDIO.","Solucionado - Registro con preclasificacion","SUBDIRECCION DE GESTION INMOBILIARIA Y DEL ESPACIO PUBLICO","No Registra"]
[1802,2022,"NOVIEMBRE","2022-11-01","04:44:38","OLGA LUCÍA MESA MORENO","VIRTUAL","Bogotá te Escucha","L.RIANO@UNIANDES.EDU.CO","Ciudadanía","LORENZO  RIAÑO SILVA","Ciudadanía","Ciudadanía","Masculino","Hombre ","Sin datos","Sin datos","Sin datos","Sin datos","CONSULTA","Asesoría en administración y sostenibilidad del espacio público","Asesoría en temas de espacio público","BOGOTA  (1  11  2022)  SENORES  DEFENSORIA DEL ESPACIO PUBLICO.   ASUNTO  DERECHO DE PETICION EN INTERES PARTICULAR  YO  LORENZO RIANO SILVA  IDENTIFICADO CON CEDULA DE CIUDADANIA NUMERO 1136889715  EXPEDIDA EN EL MUNICIPIO DE BOGOTA DC Y DOMICILIADO EN LA CALLE CALLE 88#12-26 DE LA CIUDAD DE BOGOTA DC  EN EJERCICIO DEL DERECHO DE PETICION QUE CONSAGRA EL ARTICULO 23 DE LA CONSTITUCION POLITICA DE COLOMBIA  LEY 1755 DEL 30 DE JUNIO DE 2015 Y DEMAS NORMAS CONCORDANTES  POR MEDIO DEL PRESENTE ME PERMITO SOLICITAR SE ATIENDA LA PETICION QUE MAS ADELANTE FORMULARE  DE CONFORMIDAD A LOS SIGUIENTES   HECHOS  EN LA CALLE 88 CON 12 HAY NUMEROSOS ESPACIOS RESTRINGIDOS CON LINEAS AMARILLAS Y BOLARDOS. (ADJUNTO LAS FOTOS) DICHOS ESPACIOS FUERON ADECUADOS ASI DE UN DIA PARA OTRO. RECUERDO QUE EN ESA BAHIA (LA CALLE 88) FUNCIONABA UN SERVICIO DE PARQUEO ILEGAL EL CUAL FUE SUPRIMIDO ANOS ATRAS. HOY EN DIA ESTA PROHIBIDO PARQUEAR EN DICHOS ESPACIOS Y DICHOS ESPACIOS NO TIENEN UN USO DETERMINADO.  POR LO TANTO  CON BASE EN LO ESBOZADO EN EL ACAPITE ANTERIOR  SOLICITO LO SIGUIENTE   PETICION   SOLICITO BAJO EL AMPARO DEL ARTICULO 74 DE LA CONSTITUCION POLITICA DE 1991  (EL DERECHO AL ACCESO A LA INFORMACION) LA INFORMACION  RELEVANTE PARA CONOCER LA PROCEDENCIA JURIDICA DE DICHOS ESPACIOS. ESTO CON EL FIN DE PODER INFORMAR TANTO A MI COMO A LOS RESIDENTES DEL BARRIO CUAL ES LA UTILIDAD Y FUNCION DE DICHOS ESPACIOS.   EN SEGUNDO LUGAR    ANEXOS  PARA LOS EFECTOS PERTINENTES  ANEXO LOS SIGUIENTES SOPORTES Y DOCUMENTOS    NOTIFICACIONES  RECIBIRE NOTIFICACIONES EN LA CALLE 88 # 12 -26 (EDIFICIO RESTREPO) (APARTAMENTO 404) CORREO ELECTRONICO  L.RIANO@UNIANDES.EDU.CO  CELULAR 3502826755.  NOMBRE DEL PETICIONARIO  LORENZO RIANO SILVA CEDULA  1136889715DE BOGOTA D.C  ","Solucionado - Por traslado","AREA DE ATENCION A LA CIUDADANIA","02 Chapinero"]
[1803,2022,"NOVIEMBRE","2022-11-01","07:47:11","OLGA LUCÍA MESA MORENO","VIRTUAL","Bogotá te Escucha","yudicjimenezf@hotmail.com","Ciudadanía","YUDI CAROLINA JIMENEZ JIMENEZ","Ciudadanía","Ciudadanía","Femenino","Mujer","Sin datos","Sin datos","Sin datos","Sin datos","QUEJA","Consulta general","Competencia otras entidades","INVASION Y AFECTACION DE ESPACIO PUBLICO  POR PARTE DE LOS HABITANTES DEL INMUEBLE UBICADO EN LA CALLE 11 C SUR # 23-12 ESTE. LA COMUNIDAD ADECUO ESCALERAS PARA LA MOVILIDAD DE LOS TRANSEUNTES  MIENTRAS SE EJECUTA LA PAVIMENTACION DE LAS VIAS PUBLICAS DEL SECTOR  SIN EMBARGO  LA SENORA CELENE MUNOZ JUNTO CON EL SENOR WILLIAM ARIAS MODIFICARON LA VIA PUBLICA  APLANANDO LAS ESCALERAS PARA FACILITAR LA SALIDA DE UNA MOTO DE SU PROPIEDAD. ESTA MODIFICACION  TENIENDO EN CUENTA EL ALTO NIVEL DE LA PENDIENTE DE LA VIA  Y EL MATERIAL EN EL QUE SE ENCUENTRA ACTUALMENTE (TIERRA  MATERIA ORGANICA Y ARENA)  PRESUME UN RIESGO NO SOLO PARA LOS TRANSEUNTES (QUIENES YA EN OCASIONES HAN SUFRIDO RESBALONES Y CAIDAS)  SINO PARA LAS VIVIENDAS QUE SE ENCUENTRAN AL BORDE DE LA MODIFICACION DE LAS ESCALERAS  A LAS CUALES  DEBIDO A LAS FUERTES PRECIPITACIONES  POR LA ESCORRENTIA  LES INGRESA MATERIAL COMO LODO Y ESCOMBROS A LAS VIVIENDAS. ADICIONAL A LO ANTERIOR  LAS PERSONAS EN CUESTION  LEVANTARON UNA ESTRUCTURA EN MADERA Y PIEDRA  SOBRE LA VIA PUBLICA  QUE IMPIDE EL PASO SEGURO Y BLOQUEA EN GRAN PARTE LA VIA. PARA EVIDENCIA DE LO AQUI EXPUESTO  SE ADJUNTAN EVIDENCIA FOTOGRAFICA  QUE DA FE DE LOS HECHOS. SOLICITAMOS  POR FAVOR  SE REALICE UNA VISITA  Y SE TOMEN LAS MEDIDAS PERTINENTES RESPECTO A ESTE CASO  HACIENDO QUE SE RETIRE LA ESTRUCTURA Y LOS MATERIALES QUE SE COLOCARON EN EL ESPACIO PUBLICO  Y EN LO POSIBLE  VER ESTE SECTOR PARA SU PAVIMENTACION Y ASI PREVENIR FUTUROS INCONVENIENTES Y/O ACCIDENTES.","Solucionado - Por traslado","AREA DE ATENCION A LA CIUDADANIA","No Registra"]
[1804,2022,"NOVIEMBRE","2022-11-01","08:21:52","OLGA LUCÍA MESA MORENO","VIRTUAL","Bogotá te Escucha",0,"Anónimo","ANONIMO  ","Anónimo","Anónimo","N/A","N/A","Sin datos","Sin datos","Sin datos","Sin datos","QUEJA","Asesoría en administración y sostenibilidad del espacio público","Asesoría en temas de espacio público","POR MEDIO DE LA PRESENTE  MUY RESPETUOSAMENTE SOLICITAMOS ORDEN A QUIEN CORRESPONDA  SE NOS INFORME Y SE NOS ENVIE COPIA DEL OFICIO DONDE LA ALCALDIA LOCAL DE CIUDAD BOLIVAR Y EL INSTITUTO DISTRITAL DEL ESPACIO PUBLICO DESIGNARON A LA SENORA AIDA ZORAIDA ROZO SABOGAL  CON CEDULA CIUDANIA NUMERO 51766951 DE BOGOTA  COMO LA ENCARGADA DE ALQUILAR O PRESTAR LOS ESPACIOS PUBLICOS Y RECOGER DINERO POR LA UTILIZACION DE LOS MISMO.","Solucionado por asignar - Trasladar","SUBDIRECCION DE GESTION INMOBILIARIA Y DEL ESPACIO PUBLICO","No Registra"]
[1805,2022,"NOVIEMBRE","2022-11-02","08:45:01","OLGA LUCÍA MESA MORENO","VIRTUAL","Bogotá te Escucha","Mantenimiento@castroardilaph.com","Empresas privadas","ENTIDAD PRIVADA","Empresas privadas","Empresas privadas","N/A","N/A","Sin datos","Sin datos","Sin datos","Sin datos","QUEJA","Consulta general","Competencia otras entidades","FRENTE AL EDIFICIO PORTICO VI  SE UBICA UNA SENORA A VENDER ALIMENTOS  HAY QUE TENER EN.CUENTA QUE ESTA UBICADA EN UN AREA RESIDENCIAL. EN ESTE MOMENTO ESTA  CAUSADO INSEGURIDAD A LA COMUNIDAD  ASI MISMO ESTA PETURBANDO LA TRANQUILADAD  EL SUENO DE LOS RESIDENTES  SOLICITAMOS A USTEDES DE SU COLABORACION PARA REALIZAR LA REUBICACION DE LA PERSONA.","Solucionado - Por traslado","AREA DE ATENCION A LA CIUDADANIA","01 Usaquén"]
[1806,2022,"NOVIEMBRE","2022-11-02","08:52:51","OLGA LUCÍA MESA MORENO","VIRTUAL","Bogotá te Escucha",0,"Anónimo","ANONIMO  ","Anónimo","Anónimo","N/A","N/A","Sin datos","Sin datos","Sin datos","Sin datos","DERECHO DE PETICIÓN DE INTERÉS GENERAL","Consulta general","Competencia otras entidades","SOLICITAMOS SE RETIRE DEL ESPACIO PUBLICO LA VENTA DE FRUTAS QUE TIENEN ESTABLECIDA UNAS CAMIONETAS QUE SE SUBEN AL ANDEN SUR DE LA CALLE 187 ENTRE AUTOPISTA NORTE Y CARRERA 23.  DESCARGAN BULTOS AL REDEDOR  RODEADOS DE BASURA EN EL ANDEN  INVADEN EL ESPACIO DEL PEATON  LLEVAN SU VENTA HASTA LA VIA  GENERANDO TRANCON. FRECUENTEMENTE SE VE PASAR POLICIAS POR EL LUGAR SIN QUE HAGAN RESPETAR LA LEY","Solucionado - Por traslado","AREA DE ATENCION A LA CIUDADANIA","No Registra"]
[1807,2022,"NOVIEMBRE","2022-11-02","09:16:28","OLGA LUCÍA MESA MORENO","VIRTUAL","Bogotá te Escucha",0,"Anónimo","ANONIMO  ","Anónimo","Anónimo","N/A","N/A","Sin datos","Sin datos","Sin datos","Sin datos","SUGERENCIA","Consulta general","Competencia otras entidades","BUENOS DIAS. COMO OBSERVAMOS EN LA FOTO ESTOS SENORES SE PARQUEAN TODOS LOS DIAS SOBRE EL  ANDEN  LE TOCA A UNO HACER MAROMAS  BAJAR DEL ANDEN Y ENCUENTRA CARROS ESTACIONADOS EN CONTRAVIA COMO SE  VE EN LA FOTO  LE TOCA ARRIESGAR LA VIDA PARA PODER PASAR PUES LA CALLE SE CONVIRTIO MUY CONCURRIDA DE CARROS ESTACIONADOS EN TODA LA CRA 57. ESTO OCURRE EN LA CAR 57 # 174- 85. POR FAVOR NECESITAMOS LOS ANDENES PARA LOS PEATONES NO PARA QUE LOS CARROS Y MOTOS SE ESTACIONEN EN LOS ANDENES Y NO DEJAN QUE LOS PEATONES CIRCULEN LIBREMENTE SIN NINGUN OBSTACULO.  QUEREMOS LOS ANDENES SIN CARROS Y MOTOS ESTACIONADOS EN LOS ANDENES. GRACIAS.","Solucionado - Por traslado","AREA DE ATENCION A LA CIUDADANIA","No Registra"]
[1808,2022,"NOVIEMBRE","2022-11-02","11:10:57","OLGA LUCÍA MESA MORENO","VIRTUAL","Bogotá te Escucha","marthajuyom@gmail.com","Ciudadanía","MARTHA JUYO ISABEL MELO","Ciudadanía","Ciudadanía","Femenino","Mujer","Sin datos","Sin datos","Sin datos","Sin datos","QUEJA","Consulta general","Competencia otras entidades","EL DIA DE HOY 2 DE NOVIEMBRE A LAS 5 50 AM EN LA BOYACA CON PRIMERO DE MAYO IBA EN EL BUS DE SITP G137 CON NUMERO Z34-7109 PARA EL HOSPITAL DE KENNEDY Y EL SENOR PARO PORQUE EN EL COSTADO CONTRARIO ESTABA UN SITP Z25-7009 DE LA EMPRESA MASIVO CAPITAL PARADO PORQUE UNA PAREJA DE UNA MOTO LO TENIA TRANCADO EN ESE MOMENTO EL SENOR DE LA MOTO SE METIO A LA VENTANA DEL SITP Z25 -7009 Y LE ARRANCO LA MALETA AL SENOR CONDUCTOR BOTANDOLA A LA CALLE AL COSTADO DONDE VENIA MI BUS Z34-7109 A LO CUAL EL SENOR FRENO SE BAJO Y LE ENVIO LA MALETA AL SENOR DEL OTRO SITP QUE SE BAJO Y MIENTRASTANTO LO EMPEZO A GOLPEAR EL SENOR DE LA MOTO  EL SENOR DEL SITP Z34-7109 SE SUBIO AL BUS A REPORTALO Y MIENTRASTANTO LA SENORA DE LA MOTO LE TIRO ALGO A ESTE BUS ROMPIENDOLE LA VENTANA DEL LADO DEL CONDUCTOR  EN ESE MOMENTO EL SENOR REPORTO A LA RADIO OPERERADORA LO QUE ESTABA PASANDO A LO CUAL EL TRATO DE ESTA FUE TERRIBLEMENTE DESPECTIVO Y CLARO TODOS ESTABAMOS ASUSTADOS POR LO QUE ESTABA PASANDO CON EL OTRO SENOR Y LE DIJO QUE ESO ESTABA PROHIBIDO Y POR ESO LO SANCIONARIAN PORQUE NO PUEDE AYUDAR A SUS COMPANEROS Y MUCHO MENOS BAJARSE Y POR TAL MOTIVO ME PARECE INJUSTO ESTE ACTO YA QUE POR LA PRIMERA DE MAYO CON BOYACA ESTA CERRADO CON UNA MAYA Y EL OTRO SENOR DEL SITP NO TENIA MANERA DE RECUPERARLA YA QUE EN ESE LUGAR A ESA HORA ES MUY PELIGROSO  Y EL SENOR NOS BAJO Y EL OTRO SENOR SE QUEDO AFRONTANDO SOLO LA SITUACION PORQUE LA POLICIA NO LLEGO","Solucionado - Por traslado","AREA DE ATENCION A LA CIUDADANIA","No Registra"]
[1809,2022,"NOVIEMBRE","2022-11-02","12:00:31","OLGA LUCÍA MESA MORENO","VIRTUAL","Bogotá te Escucha","conjuntoaltosdegalicia@gmail.com","Ciudadanía","CONJUNTO RESIDENCIAL ALTOS DE GALICIA P.H.","Ciudadanía","Ciudadanía","N/A","N/A","Sin datos","Sin datos","Sin datos","Sin datos","DERECHO DE PETICIÓN DE INTERÉS PARTICULAR","Asesoría en administración y sostenibilidad del espacio público","Parqueaderos","SOLICITUD VERIFICACION DE DOCUMENTACION Y PERMISOS DE CONSTRUCCION O LICIENCIAS-USO DE SUELO  LEGALIDAD PARQUEADERO","Solucionado - Por asignacion","SUBDIRECCION DE GESTION INMOBILIARIA Y DEL ESPACIO PUBLICO","19 Ciudad Bolívar"]
[1810,2022,"NOVIEMBRE","2022-11-02","01:18:08","OLGA LUCÍA MESA MORENO","VIRTUAL","Bogotá te Escucha","dipao.barrero@yahoo.es","Ciudadanía","DIANA PAOLA BARRERO TORRES","Ciudadanía","Ciudadanía","Femenino","Mujer","Sin datos","Sin datos","Sin datos","Sin datos","CONSULTA","Asesoría en administración y sostenibilidad del espacio público","Asesoría en temas de espacio público","SOLICITUD FORMAL DE ADMINISTRACION.","Solucionado - Por asignacion","SUBDIRECCION DE GESTION INMOBILIARIA Y DEL ESPACIO PUBLICO","No Registra"]
[1811,2022,"NOVIEMBRE","2022-11-02","08:00:02","OLGA LUCÍA MESA MORENO","VIRTUAL","Bogotá te Escucha",0,"Anónimo","ANONIMO  ","Anónimo","Anónimo","N/A","N/A","Sin datos","Sin datos","Sin datos","Sin datos","QUEJA","Consulta general","Competencia otras entidades","ES INCREIBLE COMO LAS CALLES DE LA 163A CON 8F SE HAN LLENADO DE VENDEDORES DE COMIDA AMBULANTES Y SON EXTRANJEROS QUE NO RESPETAN A NADIE  TAMBIEN POR LA CALLE 165 ESTACIONAN CARROS EN EL ANDEN Y PASAN BICICLETAS POR LOS ANDENES SIN CONTROL ALGUNO  EN EL PARQUE QUE QUEDA POR LA CARRERA 8F CON 164 ES UN FUMADERO DE MARIHUANA Y NO LES IMPORTA SI HAY MENORES ALLI   TODO ESTO ESTA DESMEJORANDO EL BARRIO NOTABLEMENTE Y OJALA SE PUDIERA HACER ALGO AL RESPECTO. AGRADEZCO SU ATENCION","Solucionado - Por traslado","AREA DE ATENCION A LA CIUDADANIA","No Registra"]
[1812,2022,"NOVIEMBRE","2022-11-02","08:17:05","OLGA LUCÍA MESA MORENO","VIRTUAL","Bogotá te Escucha","fenixpahedi@outlook.com","Ciudadanía","PABLO CÉSAR HERNÁNDEZ DIAZ","Ciudadanía","Ciudadanía","Masculino","Hombre ","Sin datos","Sin datos","Sin datos","Sin datos","QUEJA","Consulta general","Competencia otras entidades","HACE MUCHOS ANOS PUSE ESTA MISMA QUEJA Y  AUNQUE LA RESPUESTA FUE QUE IBAN A HACER ALGO AL RESPECTO  NUNCA PASO NADA. COMO SE VE EN LAS FOTOS  LA SALIDA PEATONAL DEL PARQUE MOLINOS NORTE POR LA CARRERA 11 CON CALLE 112 SIGUE ESTANDO BLOQUEADO Y USADO COMO JARDIN PRIVADO POR EL EDIFICIO DE LA IMAGEN. SEGUN MAPAS Y DATOS DEL DISTRITO  ESE SEGMENTO VERDE ES PUBLICO Y DEBERIA SERVIR PARA EL DISFRUTE DE TODOS LOS USUARIOS DEL PARQUE Y NO SOLO DE UN EDIFICIO. ES URGENTE QUE SE TOMEN MEDIDAS PARA GARANTIZAR EL DERECHO DE TODOS AL ACCESO AL ESPACIO PUBLICO.","Solucionado - Por traslado","AREA DE ATENCION A LA CIUDADANIA","01 Usaquén"]
[1813,2022,"NOVIEMBRE","2022-11-02","08:23:06","OLGA LUCÍA MESA MORENO","VIRTUAL","Bogotá te Escucha","fenixpahedi@outlook.com","Ciudadanía","PABLO CÉSAR HERNÁNDEZ DIAZ","Ciudadanía","Ciudadanía","Masculino","Hombre ","Sin datos","Sin datos","Sin datos","Sin datos","QUEJA","Consulta general","Competencia otras entidades","A TRAVES DE ESTE MEDIO QUIERO DENUNCIAR EL HORRIBLE ESTADO DE LOS ANDENES DE LA CARRERA 11 ENTRE CALLES 82 Y 100  PUNTUALMENTE EL COSTADO OCCIDENTAL. POR MUCHO TIEMPO HUBO UNA CICLORUTA EN ESE COSTADO  SOBRE EL ANDEN  PERJUDICANDO A LOS PEATONES POR EL POBRE ANCHO DE LA ZONA PEATONAL. DURANTE LA ALCALDIA DE ENRIQUE PENALOSA  SE CONSTRUYO EL BICICARRIL QUE HAY SOBRE LA 11 PERO NUNCA SE LE HIZO LA REMODELACION DEBIDA AL COSTADO OCCIDENTAL DE LA VIA. COMO SE VE EN LAS IMAGENES  LAS MATERAS NO SON SUFICIENTES PARA QUE LOS CICLISTAS ENTIENDAN QUE ESTE ANDEN YA NO LES PERTENECEN. PASAN A TODA VELOCIDAD Y CAUSAN CON FRECUENCIA ACCIDENTES CON PEATONES. ES URGENTE QUE SE INTERVENGA EL ANDEN PARA GARANTIZAR UNA ZONA PEATONAL SEGURA. ADEMAS  EL ANDEN LLEVA ANOS SIN MANTENIMIENTO Y HAY MUCHOS PUNTOS CON LOSAS LEVANTADAS  SIN BANCAS NI CANECAS NI BOLARDOS QUE BLOQUEEN CARROS Y BICICLETAS. URGE UNA INTERVENCION INTEGRAL DE TODO ESTE SEGMENTO Y LA REMOCION DEL ASFALTO DE LA CICLORUTA QUE TODAVIA EXISTE  SIN SER NECESARIA  ENTRE LA CALLE 82 Y LA 109  SOBRE EL COSTADO OCCIDENTAL.","Solucionado - Por traslado","AREA DE ATENCION A LA CIUDADANIA","01 Usaquén"]
[1814,2022,"NOVIEMBRE","2022-11-02","08:49:10","OLGA LUCÍA MESA MORENO","VIRTUAL","Bogotá te Escucha",0,"Ciudadanía","ANONIMO  ","Ciudadanía","Ciudadanía","Masculino","Hombre ","Sin datos","Sin datos","Sin datos","Sin datos","DERECHO DE PETICIÓN DE INTERÉS GENERAL","Asesoría en administración y sostenibilidad del espacio público","Parqueaderos","QUIERO REALIZAR UNA DENUNCIA AL PARQUEADERO UBICADO EN LA CALLE 42B SUR # 72L YA QUE LOS ADMINISTRADORES SE HAN APROPIADO DE ESTE  EL ACCESO AL PARQUEADERO NO ESTA PERMITIDO Y LOS HABITANTES DEL SECTOR NOS VEMOS AFECTADOS YA QUE EL PARQUEADERO PUEDE ESTAR VACIO PERO TENEMOS QUE DEJAR NUESTROS VEHICULOS EN LA VIA PUBLICA  QUEREMOS TENER ACCESO AL ESPACIO YA QUE ESTE ES UN ESPACIO PARA EL PUBLICO EN GENERAL.","Solucionado - Por asignacion","SUBDIRECCION DE GESTION INMOBILIARIA Y DEL ESPACIO PUBLICO","No Registra"]
[1815,2022,"NOVIEMBRE","2022-11-03","09:38:05","OLGA LUCÍA MESA MORENO","VIRTUAL","Bogotá te Escucha",0,"Anónimo","ANONIMO  ","Anónimo","Anónimo","N/A","N/A","Sin datos","Sin datos","Sin datos","Sin datos","SOLICITUD DE ACCESO A LA INFORMACION","Consulta general","Competencia otras entidades","SENORES  DESARROLLO ECONOMICO PERSONERIA DE BOGOTA QUEREMOS PREGUNTARLE A DESARROLLO ECONOMICO SOBRE LA FERIA QUE INSTALARON EL PASADO 31 DE OCTUBRE DEL 2022 EN EL PARQUE FUNDACIONAL DE FONTIBON QUISIERAMOS SABER SOBRE QUE FIGURA SE ESTABLECIO Y LA DURACION DE LA MISMA FERIA O MERCADO Y QUE PERSONA ES LA ENCARGADA DE LA FERIA O DEL PERMISO. HAGO UNA DENUNCIA A LA PERSONERIA YA QUE SOY RESIDENTE DEL BARRIO FONTIBON CENTRO Y LA ALCALDIA LOCAL SE HABIA PRONUNCIADO SOBRE EL PARQUE FUNDACIONAL DE FONTIBON Y SE HABIA DICHO LA COMUNIDAD POR PARTE DE LA PERSONERIA QUE EL ESPACIO DEL PARQUE NO SE IBA PRESTAR HASTA QUE SE HICIERA UNA REMODELACION DEL MISMO Y SORPRESA NOS LLEVAMOS LOS VECINOS EL PASADO LUNES SE VOLVIO A INSTALAR UNA FERIA LA CUAL DETERIORA EL PARQUE Y TRAE INSEGURIDAD Y MUCHAS PROBLEMATICAS QUE YA HABIAMOS DENUNCIADO CON ANTERIORIDAD Y ME PARECE UNA FALTA DE RESPETO QUE SE APROVECHEN DEL CAMBIO DE ADMINISTRADOR Y ALCALDE Y DANEN LOS ACUERDOS QUE HABIA Y VOLVAMOS A RETROCEDER EN ESTE TEMA NECESITAMOS SOLUCIONES Y CADA DIA ES MAS EL DESORDEN EN ESTA LOCALIDAD  NECESITAMOS QUE LOS ENTES DE CONTROL SE PRONUNCIEN AL RESPECTO GRACIAS YA HEMOS ESCRITO INFINIDAD DE CARTAS Y NO HAY UNA RESPUESTA SERIA DE PARTE DE LAS ENTIDADES  ","Solucionado - Por traslado","AREA DE ATENCION A LA CIUDADANIA","No Registra"]
[1816,2022,"NOVIEMBRE","2022-11-03","09:38:38","OLGA LUCÍA MESA MORENO","VIRTUAL","Bogotá te Escucha","coordinadorjuridico@diagnostiya.com","Ciudadanía","CESAR ALBERTO AREVALO PRIETO","Ciudadanía","Ciudadanía","Masculino","Hombre ","Sin datos","Sin datos","Sin datos","Sin datos","DERECHO DE PETICIÓN DE INTERÉS PARTICULAR","Asesoría en administración y sostenibilidad del espacio público","Asesoría en temas de espacio público","DERECHO DE PETICION SOLICITUD DE APROVECHAMIENTO DEL ESPACIO PUBLICO","Solucionado - Por asignacion","SUBDIRECCION DE GESTION INMOBILIARIA Y DEL ESPACIO PUBLICO","01 Usaquén"]
[1817,2022,"NOVIEMBRE","2022-11-03","11:26:50","OLGA LUCÍA MESA MORENO","VIRTUAL","Bogotá te Escucha","fatiabogada@gmail.com","Ciudadanía","FATIMA  RODRIGUEZ ","Ciudadanía","Ciudadanía","Femenino","Mujer","Sin datos","Sin datos","Sin datos","Sin datos","DERECHO DE PETICIÓN DE INTERÉS PARTICULAR","Consulta general","Solicitud acceso a la información","REITERACION DE DERECHO DE PETICION RADICADO ANTERIOR SDQS 3551952022. EN FECHA 5 DE OCTUBRE DE 2022 REALICE UNA PETICION AL DADEP Y EN LA CONTESTACION ADJUNTA EN BOGOTA TE ESCUCHA INFORMAN QUE SE DEBE CONSULTAR LA RESPUESTA EN LA PAGINA WEB DE LA ENTIDAD  SIN EMBARGO  EN EL ENLACE O LA PAGINA WEB NO ES POSIBLE DESCARGAR LA RESPUESTA. ES IMPORTANTE QUE SE ADJUNTE LA RESPUESTA A LA SOLICITUD DE MANERA CLARA Y CONCRETA  CASO EN CONTRARIO SE ESTARIA EN CONTRAVIA A LA LEY 1755 DE 2015. ES DECIR NUNCA SE RESPONDE DE FONDO A LA PETICION  RAZON POR LA CUAL REITERO MI SOLICITUD EN EL DOCUMENTO ADJUNTO Y SOLICITO A CONTROL INTERNO DISCIPLINARIO REALIZAR LA INVESTIGACION RESPECTIVA AL FUNCIONARIO QUE ATENDIO EL REQUERIMIENTO CON RADICADO 3551952022.  PETICION  REMITIR LA RESPUESTA AL CORREO ELECTRONICO FATIABOGADA@GMAIL.COM TAL Y COMO SE ESTABLECE EL MECANISMO PARA NOTIFICACION. ","Solucionado - Por asignacion","SUBDIRECCION DE GESTION CORPORATIVA","No Registra"]
[1818,2022,"NOVIEMBRE","2022-11-03","03:57:29","OLGA LUCÍA MESA MORENO","VIRTUAL","Bogotá te Escucha","juliohernanpc1@gmail.com","Ciudadanía","JULIO HERNAN PEÑA CASTAÑEDA","Ciudadanía","Ciudadanía","Masculino","Hombre ","Sin datos","Sin datos","Sin datos","Sin datos","CONSULTA","Certificación de la propiedad inmobiliaria distrital","Información pública","POR MEDIO DE LA PRESENTE SOLICITAMOS INFORMACION DEL TITULAR DEL PREDIO CON DIRECCION CALLE 36 I SUR NO. 10 ? 24 ESTE.","Solucionado - Por asignacion","SUBDIRECCION DE REGISTRO INMOBILIARIO","08 Kennedy"]
[1819,2022,"NOVIEMBRE","2022-11-03","04:58:21","OLGA LUCÍA MESA MORENO","VIRTUAL","Bogotá te Escucha",0,"Anónimo","ANONIMO  ","Anónimo","Anónimo","N/A","N/A","Sin datos","Sin datos","Sin datos","Sin datos","DERECHO DE PETICIÓN DE INTERÉS GENERAL","Asesoría en administración y sostenibilidad del espacio público","Asesoría en temas de espacio público","EN EL BARRIO JAIME BERMEO  UBICADO EN LA LOCALIDAD DE SUBA ENTRE LAS CALLES 99 Y 99ª Y LA AV CIUDAD DE CALI Y LA CARRERA 91  EN EL PREDIO ALTAMAR (CRA 89ª 99-10) COMO CONSTA EN LOS LINDEROS Y DISTRIBUCION DE LOS LOTES QUE APARECEN EN LA RESOLUCION 05-2-0341 DE OCTUBRE 27 DE 2005  SE HA INVADIDO LA ZONA DE MANEJO Y PROTECCION AMBIENTAL DEL CANAL SALITRE Y LA CESION TIPO A. LA CESION FUE REALIZADA POR LOS SENORES BECERRA GOMEZ  DUENOS EN ESA EPOCA DE ESE TERRENO  AHORA PROPIEDAD DEL DISTRITO  COMO CONSTA EN EL PLANO DE LA CURADURIA URBANA N°4 CU4-S157/4-12. LA INVASION LA REALIZO UNA MISMA FAMILIA QUE A LA FECHA HAN CONSTRUIDO CUATRO PREDIOS DE DOS Y TRES PISOS. RECIENTEMENTE  EN COMUNICADO OFICIAL DE LA EAAB (ADJUNTADO AL FINAL DE ESTE DERECHO DE PETICION) INFORMO QUE  ?POR ULTIMO Y COMO SE PUEDE OBSERVAR EN LA IMAGEN SE ENCUENTRA UN AREA QUE SE ENCUENTRA EN EL INVENTARIO DEL DADEP COMO CERTIFICADO  CODIGO RUPI 4377-2 CESION DE TIPO A ? ZONA VERDE CON RESOLUCION NO. 420261 DE 30/07/2002 CURADURIA URBANA 4 35497540- 6 PLANO CU4-S.157/4-12 DE LA URBANIZACION ALTAMAR. EN LA IMAGEN SE IDENTIFICA CON COLOR VERDE?. ES DECIR QUE  FRENTE A LA INVESTIGACION QUE ESTA REALIZANDO LA EMPRESA DE ACUEDUCTO Y ALCANTARILLADO DE BOGOTA  EL DADEP DEBE TOMAR MEDIDAS CORRESPONDIENTES A LA PARTE DEL TERRENO QUE ES DE SU INJERENCIA. FINALMENTE  SOLICITO QUE  ASI COMO LA EAB ESTA REALIZANDO EL PROCEDIMIENTO CORRESPONDIENTE PARA LA RECUPERACION DEL TERRENO  EL DADEP REALICE SU LABOR CORRESPONDIENTE PARA QUE  EN CONSONANCIA CON LA EAB  SE RECUPERE LA ZONA DE PROTECCION DEL CANAL SALITRE Y EL TERRENO DE CESION TIPO A. ESTA DENUNCIA SE REALIZA DE FORMA ANONIMA POR TEMOR. LA FAMILIA INVASORA HA SIDO DEMASIADO PROBLEMATICA Y ESTO REPRESENTA ADEMAS DE UNA DENUNCIA UNA SUPLICA PARA QUE LAS AUTORIDADES COMPETENTES SOLUCIONEN ESTE PROBLEMA DEL QUE SE HA DENUNCIADO HACE ANOS Y NO HA PASADO NADA. LAS DENUNCIAS SE REALIZARON DESDE QUE NO HABIA PREDIOS DE DOS Y TRES PISOS  SIN EMBARGO  CREEMOS EN SU GESTION Y DEL RESPETO A LOS DERECHOS Y LOS PROYECTOS COMO ALTAMAR QUE HIZO UNA CESION PARA LA PROTECCION AMBIENTAL. AGRADECEMOS SU ATENCION Y PRONTA SOLUCION.","Solucionado - Por asignacion","SUBDIRECCION DE GESTION INMOBILIARIA Y DEL ESPACIO PUBLICO","No Registra"]
[1820,2022,"NOVIEMBRE","2022-11-03","05:04:26","OLGA LUCÍA MESA MORENO","VIRTUAL","Bogotá te Escucha","coordinadorjuridico@diagnostiya.com","Ciudadanía","CESAR ALBERTO AREVALO PRIETO","Ciudadanía","Ciudadanía","Masculino","Hombre ","Sin datos","Sin datos","Sin datos","Sin datos","DERECHO DE PETICIÓN DE INTERÉS PARTICULAR","Asesoría en administración y sostenibilidad del espacio público","Asesoría en temas de espacio público","APROVECHAMIENTO ECONOMICO DEL ESPACIO PUBLICO DE LA ACTIVIDAD DE VALET PARKING EN VIA PUBLICA EN MODALIDAD DE CORTO PLAZO","Solucionado - Por asignacion","SUBDIRECCION DE GESTION INMOBILIARIA Y DEL ESPACIO PUBLICO","01 Usaquén"]
[1821,2022,"NOVIEMBRE","2022-11-03","05:57:21","OLGA LUCÍA MESA MORENO","VIRTUAL","Bogotá te Escucha",0,"Anónimo","ANONIMO  ","Anónimo","Anónimo","N/A","N/A","Sin datos","Sin datos","Sin datos","Sin datos","QUEJA","Consulta general","Competencia otras entidades","QUEJA POR OCUPACION DE ESPACIO PUBLICO CERROS DE SUBA CARRERA 80 CALLE 127B HACIA EL NORTE POR LA CRA 80 URBANIZACION MONTICELLO II CERRO LA ZONA PUBLICA CON REJAS EN LA VIA.","Solucionado - Por traslado","AREA DE ATENCION A LA CIUDADANIA","No Registra"]
[1822,2022,"NOVIEMBRE","2022-11-03","07:07:29","OLGA LUCÍA MESA MORENO","VIRTUAL","Bogotá te Escucha",0,"Anónimo","ANONIMO  ","Anónimo","Anónimo","N/A","N/A","Sin datos","Sin datos","Sin datos","Sin datos","RECLAMO","Consulta general","Competencia otras entidades","ME DIRIJO RESPETUOSAMENTE A USTEDES PARA SOLICITAR UNA REVISION DE LOS ESTABLECIMIENTOS DE VENTA DE LICOR QUE ESTAN UTILIZANDO EL ESPACIO PUBLICO PARA UBICAR MOBILIARIO EN LOS ANDENES OBSTRUYENDO EL PASO DEL PEATON Y A PARTE TAMBIEN ESTAN PERMITIENDO QUE LA GENTE SUBA MOTOS A LOS ANDENES MIENTRAS INGIEREN BEBIDAS OBSTACULIZANDO EL TRANSITO DE PEATONES  YA QUE SE ENCUENTRAN UBICADOS EN ZONAS RESIDENCIALES. NO SE SI TAMBIEN SEA DE SU COMPETENCIA LAS PERSONAS QUE INGIEREN LICOR EN LUGARES PUBLICOS COMO PARQUES Y PLAZOLETAS  LO HACEN LOS DIAS DOMINGOS A PLENA LUZ DEL DIA CUANDO HAY FAMILIAS UTILIZANDO LOS ESPACIOS DE RECREACION. SOLICITO POR FAVOR SE ATIENDA MI REQUERIMIENTO ANTES DE QUE OCURRA UN SUCESO QUE LAMENTAR  ESPERO POR FAVOR SU PRONTA RESPUESTA.","Solucionado - Por traslado","AREA DE ATENCION A LA CIUDADANIA","No Registra"]
[1823,2022,"NOVIEMBRE","2022-11-04","09:43:14","OLGA LUCÍA MESA MORENO","VIRTUAL","Bogotá te Escucha",0,"Ciudadanía","ANONIMO  ","Ciudadanía","Ciudadanía","Femenino","Mujer","Sin datos","Sin datos","Sin datos","Sin datos","DERECHO DE PETICIÓN DE INTERÉS PARTICULAR","Incorporación y entrega de las áreas de cesión a favor del municipio","Información de zonas de cesión","BOGOTA D.C.  2 DE NOVIEMBRE DE 2022  SENORES   DEPARTAMENTO ADMINISTRATIVO DE LA DEFENSORIA DEL ESPACIO PUBLICO ? DADEP DADEPBOGOTA@DADEP.GOV.CO COMISION INTERSECTORIAL PARA LA GESTION HABITACIONAL Y EL MEJORAMIENTO INTEGRAL DE LOS ASENTAMIENTOS HUMANOS DEL DISTRITO CAPITAL CIUDAD   REF.   DERECHO DE PETICION DE INTERES PARTICULAR  RESPETADOS SENORES   FRANCIA TATIANA RAMIREZ YACUMA  MAYOR DE EDAD  RESIDENTE Y DOMICILIADA EN LA CIUDAD DE BOGOTA D.C.  IDENTIFICADA CIVIL Y PROFESIONALMENTE COMO APARECE AL PIE DE MI FIRMA  QUIEN PARA TODOS LOS EFECTOS RECIBE NOTIFICACIONES EN EL CORREO ELECTRONICO FRAMIREZ@IDENTIFICATUDERECHO.COM.CO  ACTUANDO EN CALIDAD DE APODERADA DE LA SENORA LAURA ALEJANDRA LUGO VILLAMIL  MAYOR DE EDAD  RESIDENTE Y DOMICILIADA EN LA CIUDAD DE BOGOTA  IDENTIFICADA CON C.C. NO. 1.023.023.836 DE BOGOTA  DE MANERA RESPETUOSA Y EN EJERCICIO DEL PRECEPTO CONSTITUCIONAL DEL DERECHO DE PETICION CONSAGRADO EN EL ARTICULO 23  CONCORDANTE CON EL CAPITULO I DE LA LEY 1755 DE 2015  EN OBSERVANCIA DE LOS REQUISITOS CONTENIDOS EN EL ART. 16 DE LA MENCIONADA LEY  ME PERMITO ANEXAR DERECHO DE PETICION Y ANEXOS.  ","Solucionado - Por asignacion","SUBDIRECCION DE REGISTRO INMOBILIARIO","No Registra"]
[1824,2022,"NOVIEMBRE","2022-11-04","01:27:53","OLGA LUCÍA MESA MORENO","VIRTUAL","Bogotá te Escucha","anita_vallejo@hotmail.com","Ciudadanía","ALBERTO  IGNACIO PINO","Ciudadanía","Ciudadanía","N/A","N/A","Sin datos","Sin datos","Sin datos","Sin datos","DERECHO DE PETICIÓN DE INTERÉS PARTICULAR","Consulta general","Sin información de fondo","SOLICITUD","Solucionado por asignar - Trasladar","SUBDIRECCION DE REGISTRO INMOBILIARIO","No Registra"]
[1825,2022,"NOVIEMBRE","2022-11-04","01:41:17","OLGA LUCÍA MESA MORENO","VIRTUAL","Bogotá te Escucha","nah02196@gmail.com","Ciudadanía","NELSON ANDRES HERNANDEZ ORTEGA","Ciudadanía","Ciudadanía","Masculino","Hombre ","Sin datos","Sin datos","Sin datos","Sin datos","DERECHO DE PETICIÓN DE INTERÉS PARTICULAR","Asesoría en administración y sostenibilidad del espacio público","Asesoría en temas de espacio público","DERECHO DE PETICION SOBRE EL ESTADO DEL TRAMITE DEL PACEP DE LA URBANIZACION DE CASAS ENTRE RIOS","Solucionado - Por asignacion","SUBDIRECCION DE GESTION INMOBILIARIA Y DEL ESPACIO PUBLICO","02 Chapinero"]
[1826,2022,"NOVIEMBRE","2022-11-04","02:20:23","OLGA LUCÍA MESA MORENO","VIRTUAL","Bogotá te Escucha",0,"Anónimo","ANONIMO  ","Anónimo","Anónimo","N/A","N/A","Sin datos","Sin datos","Sin datos","Sin datos","DERECHO DE PETICIÓN DE INTERÉS GENERAL","Certificación de la propiedad inmobiliaria distrital","Certificación de la propiedad inmobiliaria","APROVECHAMIENTO DEL ESPACIO PUBLICO","Solucionado - Por asignacion","SUBDIRECCION DE REGISTRO INMOBILIARIO","No Registra"]
[1827,2022,"NOVIEMBRE","2022-11-04","03:14:23","OLGA LUCÍA MESA MORENO","VIRTUAL","Bogotá te Escucha","yohanabuitrago07@hotmail.com","Entidades y Organismos Distritales","YOHANA MIDRED BUITRAGO","Entidades y Organismos Distritales","Ciudadanía","Femenino","Mujer","Sin datos","Sin datos","Sin datos","Sin datos","DERECHO DE PETICIÓN DE INTERÉS GENERAL","Asesoría en administración y sostenibilidad del espacio público","Asesoría en temas de espacio público","RADICADO DADEP N° 20224000267152  VIRTUAL PQR-2022-2038. TRASLADO POR COMPETENCIA. SOLICITUD DE INTERVENCION POR PROBLEMATICA DE BASURAS EN LA CR 7F 154-06.","Solucionado - Registro con preclasificacion","SUBDIRECCION DE GESTION INMOBILIARIA Y DEL ESPACIO PUBLICO","01 Usaquén"]
[1828,2022,"NOVIEMBRE","2022-11-04","04:12:47","CRISTHIAN CAMILO MONTAÑA HERNANDEZ","VIRTUAL","Bogotá te Escucha",0,"Ciudadanía","CARDENAS_TATTO","Ciudadanía","Ciudadanía","Masculino","Hombre ","Sin datos","Sin datos","Sin datos","Sin datos","DERECHO DE PETICIÓN DE INTERÉS PARTICULAR","Asesoría en administración y sostenibilidad del espacio público","Asesoría en temas de espacio público","Radicado Orfeo Dadep No  20224080267552  Asunto  -VIRTUAL- Derecho de peticion - Redes Sociales - Twitter @cardenas_tatto - denuncia por instalaci??n de caseta e invasi??n de espacio p??blico en la localidad de Kennedy.","Solucionado - Registro con preclasificacion","SUBDIRECCION DE GESTION INMOBILIARIA Y DEL ESPACIO PUBLICO","No Registra"]
[1829,2022,"NOVIEMBRE","2022-11-04","04:40:38","OLGA LUCÍA MESA MORENO","VIRTUAL","Bogotá te Escucha","gonza2076.dg@gmail.com","Ciudadanía","DANIEL MAURICIO GONZALEZ ZEA","Ciudadanía","Ciudadanía","Masculino","Hombre ","Sin datos","Sin datos","Sin datos","Sin datos","CONSULTA","Consulta general","Competencia otras entidades","BUEN DIA MI NOMBRE ES DANIEL GONZALEZ  QUIERO HACERLES SABER MI INQUIETUD  EN CONSECUENCIA DE LAS EPOCAS DE LLUVIA QUE ESTAN PRESENTANDO EN LA CIUDAD  ME HE VISTO AFECTADO DEBIDO A QUE VIVO ENFRENTE A UNA ZONA VERDE  LA CUAL SE EXTIENDE POR TODO EL VECINDARIO  DE UNA FORMA MAS SENCILLA LAS CASAS ESTAN CONSTRUIDAS EN UNA ZONA VERDE QUE LAS RODEA  SOY PROPIETARIO DE UN VEHICULO EN EL QUE ME TRANSPORTO DIARIAMENTE A MI EMPLEO  EL PROBLEMA SE PRESENTA DEBIDO A QUE AL PASAR CON MI VEHICULO ENCIMA DE LA ZONA VERDE  ESTA HA IDO CREANDO UNA ESPECIE DE *TROCHA* QUE ME DIFICULTA TANTO EL ACCESO COMO EL TIEMPO QUE DEBO DESTINAR A PODER SALIR EN MI AUTO  SURGIO EN MI UNA IDEA DE COLOCAR UNAS PLACAS DE CEMENTO YA PREFABRICADAS SON LLEGAR A AFECTAR LA ZONA  QUE NO DANE LA ZONA VERDE Y SE USEN UNICAMENTE EN ESTOS PEDIDOS DE INVIERNO  REPITO  LAS PLACAS YA ESTAN FABRICADAS Y NO SE GENERA NINGUN DANO A LA ZONA VERDE  BASICAMENTE SERIA QUITAR Y PONER SEGUN MI NECESIDAD  AHORA TOME LA DESICION DE UBICARLAS PERO ENCUENTRO DISGUSTO POR PARTE DE ALGUNOS VECINOS QUE CREEN QUE AFECTARA LA ZONA Y QUE ES ILEGAL HACER ESTE PROCESO  ME DIRIJO A USTEDES QUERIENDO SABER SI EXISTE ALGUN PERMISO QUE ME PUEDA SUMINISTRAR O UNA NORMA CON LA CUAL PUEDA ARGUMENTAR MI ACTO Y ASI PODER TENER LA TRANQUILIDAD DE MI TRANSPORTE COMO LA CORDIALIDAD CON MIS VECINOS  GRACIAS POR SU ATENCION.","Solucionado - Por traslado","AREA DE ATENCION A LA CIUDADANIA","10 Engativá"]
[1830,2022,"NOVIEMBRE","2022-11-05","10:38:35","OLGA LUCÍA MESA MORENO","VIRTUAL","Bogotá te Escucha",0,"Anónimo","ANONIMO  ","Anónimo","Anónimo","N/A","N/A","Sin datos","Sin datos","Sin datos","Sin datos","QUEJA","Consulta general","Competencia otras entidades","EN CALLE 75  NO. 70 A 04 FUNCIONA UN ESTABLECIMIENTO DE VENTA Y CONSUMO DE BEBIDAS ALCOHOLICAS DESDE HACE MAS  8 MESES EN UN SITIO QUE POR USO DE SUELO NO ES PERMITIDO.  ADICIONAL A ESCASOS 18 METROS SE ENCUENTRA UN COLEGIO Y UN JARDIN (LOS CUALES FUNCIONAN HACEN MAS DE 15 ANOS)POR LEY NO SE DEBE UBICAR ESTE TIPO DE ESTABLECIMIENTOS A MENOS DE 200 METROS DE ESTABLECIMIENTOS EDUCATIVOS.  POR LEY ESTA RESTRINGIDO EL EXPENDIO Y CONSUMO DE BEBIDAS ALCOHOLICAS EN EL ESPACIO PUBLICO  ( UBICAN MESAS SILLAS CARPA ESTUFA EN EL ANDEN IMPIDIENDO LA CIRCULACION) PONEN MUSICA DURISIMO GRITAN CHIFLAN CANTAN A VOZ EN CUELLO HACEN BULLICIO BASICAMENTE DE MIERCOLES A DOMINGO (A VECES TAMBIEN LUNES Y MARTES) DESDE LA 1 PM HASTA LA MADRUGADANO RESPETAN EL SUENO Y LA TRANQUILIDAD DE LOS RESIDENTES ESTA ES UN AREA RESIDENCIAL.  PARQUEAN CARROS DE SUS CLIENTES EN LA VIA POR HORAS OBSTRUYENDO LA VIA.  EN RESUMEN UN COMPLETO DESORDEN Y DESACATO DE LEYES Y NO PASA NADA.  SERA QUE EXISTE COMPLICIDAD DE ENTES???","Solucionado - Por traslado","AREA DE ATENCION A LA CIUDADANIA","No Registra"]
[1831,2022,"NOVIEMBRE","2022-11-05","10:54:40","OLGA LUCÍA MESA MORENO","VIRTUAL","Bogotá te Escucha",0,"Anónimo","ANONIMO  ","Anónimo","Anónimo","N/A","N/A","Sin datos","Sin datos","Sin datos","Sin datos","QUEJA","Consulta general","Competencia otras entidades","EN BONANZA EN AVENIDA ROJAS ENTRE CALLE 75 A 72 B EN SEPARADOR  EN AVENIDA ROJAS FRENTE A CASA 77-67 COSTADO COLEGIO GUATEMALA  EN CANO UBICADO ENTRE CARRERA 70 F Y AVENIDA BOYACA  Y EN LOTE VACIO FRENTE A KUTTY CALLE 75 CON CARRERA 70 F SE HAN UBICADO VARIOS INDIGENTES ARMADOS CON CUCHILLOS PEINILLAS TIENEN PERROS BRAVOS ATRACAN ROBAN APUNALAN  CONSUMEN Y EXPENDEN DROGA  TIENEN INVADIDO EL ESPACIO POR BASURA CICLAS CARRETAS  ENSERES QUE HAN ROBADO  HAY PRESENCIA DE RATAS MOSCOS Y HUELE HEDIONDO  LA POLICIA TIENE  CONOCIMIENTO PERO NO ACTUA SOLO PIDIENDO DOCUMENTOS ENCONTRARAN Q ESTAN FICHADOS Y ESTAN EVADIDOS","Solucionado - Por traslado","AREA DE ATENCION A LA CIUDADANIA","No Registra"]
[1832,2022,"NOVIEMBRE","2022-11-05","07:50:22","OLGA LUCÍA MESA MORENO","VIRTUAL","Bogotá te Escucha",0,"Anónimo","ANONIMO  ","Anónimo","Anónimo","N/A","N/A","Sin datos","Sin datos","Sin datos","Sin datos","QUEJA","Consulta general","Competencia otras entidades","EXISTE UN LICORERA QUE ESTA UBICADA EN KA CALKE 23A#96G11 DEL BARRIO EL RUBI DE FONTIBON DONDE SE VENDE LICOR Y SE CONSUME EN EL ESPACIO PUBLICO GENERANDO PROBLEMAS DE CONVIVENCIA PUES LLEGAN CON VEHICULOS OCUPANDO TODA LA VIA PUBLICA LO CUAL AL QUERER ENTRAR LOS VEHICULOS DE LAS VIVIENDAS DEL SECTIR SE ESTEN GENERANDO RINAS. ADICIONAL A ESTO LOS SENORES QYE CONSUMEN EL LICIR UTILIZAN LAS ESQUINAS Y TIDA KAS PARTES DE LAS CASAS DONDE PUEDAN ORINAR GENERANDO MALIS OLORES Y PROBLEMAS CON LOS DUUNOS DE LAS CASAS LO CUAL SE ESTA VOLVIENDO REPETITIVO Y CADA VEZ MAS LATENTE UNA RINA DONDE PUEDA HABER HERIDOS O DIOS NO LO QUERA UN MUERTO.","Solucionado - Por traslado","AREA DE ATENCION A LA CIUDADANIA","No Registra"]
[1833,2022,"NOVIEMBRE","2022-11-05","08:25:14","OLGA LUCÍA MESA MORENO","VIRTUAL","Bogotá te Escucha",0,"Anónimo","ANONIMO  ","Anónimo","Anónimo","N/A","N/A","Sin datos","Sin datos","Sin datos","Sin datos","QUEJA","Consulta general","Competencia otras entidades","TENEMOS PROBLEMAS PERMANENTES CON UNA CIGARRERA EN LA DIRECCION ANTES MENCIONADA.","Solucionado - Por traslado","AREA DE ATENCION A LA CIUDADANIA","No Registra"]
[1834,2022,"NOVIEMBRE","2022-11-05","08:27:48","OLGA LUCÍA MESA MORENO","VIRTUAL","Bogotá te Escucha",0,"Anónimo","ANONIMO  ","Anónimo","Anónimo","N/A","N/A","Sin datos","Sin datos","Sin datos","Sin datos","QUEJA","Consulta general","Competencia otras entidades","TENEMOS PROBLEMAS PERMANENTES CON UNA CIGARRERA EN LA DIRECCION ANTES MENCIONADA.  INVASION DE ESPACIO PUBLICO BORRACHOS AGRESIVOS MUSICA ALTO VOLUMEN  INVASION DE ESPACIO PUBLICO Y LA CALLE LA TOMAN DE BANO  LLEVAMOS MAS DE 1 ANO Y SE HAN GENERADO MUCHOS PROBLEMAS.","Solucionado - Por traslado","AREA DE ATENCION A LA CIUDADANIA","No Registra"]
[1835,2022,"NOVIEMBRE","2022-11-05","08:42:42","OLGA LUCÍA MESA MORENO","VIRTUAL","Bogotá te Escucha",0,"Anónimo","ANONIMO  ","Anónimo","Anónimo","N/A","N/A","Sin datos","Sin datos","Sin datos","Sin datos","QUEJA","Consulta general","Competencia otras entidades","VECINOS AGRESIVOS  AMENAZAS DE MUERTE  INVASION DEL ESPACIO PUBLICO  MUSICA A TODO VOLUMEN  ESCANDALO PUBLICO  BORRACHOS DEFECAN EN LAS CASAS AJENAS  REGUERO DE LATAS Y BOTELLAS DE CERVEZA  INVASION DE GARAGES DE OTRAS CASAS  GRITOS  INSULTOS DE CARACTER PERSONAL  LUCES MOLESTAS  CARROS PARQUEADOS DE FORMA INADECUADA","Solucionado - Por traslado","AREA DE ATENCION A LA CIUDADANIA","No Registra"]
[1836,2022,"NOVIEMBRE","2022-11-07","06:44:46","OLGA LUCÍA MESA MORENO","VIRTUAL","Bogotá te Escucha",0,"Anónimo","ANONIMO  ","Anónimo","Anónimo","N/A","N/A","Sin datos","Sin datos","Sin datos","Sin datos","DERECHO DE PETICIÓN DE INTERÉS GENERAL","Consulta general","Competencia otras entidades","ACCESO A VIVIENDAS BLOQUEADO POR CARROS DE IGLESIA LA CASA  MOVILIDAD DEMARCO HACE 2 MESES QUITARON SENALIZACION PARQUEAN ENCIMA Y ENCIMA DE  ANDENES. SE SOLICITA RETIRO DE VEHICULOS LOS DOMINGOS Y APLICAR SANCIONES SEGUN ARTICULO 76 CODIGO DE TRANSITO","Solucionado - Por traslado","AREA DE ATENCION A LA CIUDADANIA","No Registra"]
[1837,2022,"NOVIEMBRE","2022-11-07","08:12:55","OLGA LUCÍA MESA MORENO","VIRTUAL","Bogotá te Escucha","doul14d@hotmail.com","Ciudadanía","DANIEL ANDRES TRIVIÑO TEJEDOR","Ciudadanía","Ciudadanía","Masculino","Hombre ","Sin datos",{"$f":"+'[7]BTE Noviembre 2022'!W43","v":"No brinda informacion"},"Sin datos","Sin datos","DERECHO DE PETICIÓN DE INTERÉS PARTICULAR","Consulta general","Competencia otras entidades","SOLICITUD CONTROL SOBRE EL ESPACIO PUBLICO","Solucionado - Por traslado","AREA DE ATENCION A LA CIUDADANIA","05 Usme"]
[1838,2022,"NOVIEMBRE","2022-11-08","03:29:20","OLGA LUCÍA MESA MORENO","VIRTUAL","Bogotá te Escucha","oromero@ienercom.com","Ciudadanía","OMAIRA  ROMERO MARTINEZ","Ciudadanía","Ciudadanía","Femenino","Mujer","Sin datos","Sin datos","Sin datos","Sin datos","RECLAMO","Consulta general","Competencia otras entidades","EL DIA 5 DE NOVIEMBRE  SIENDO LAS 5.40","Solucionado - Por traslado","AREA DE ATENCION A LA CIUDADANIA","10 Engativá"]
[1839,2022,"NOVIEMBRE","2022-11-08","03:40:05","OLGA LUCÍA MESA MORENO","VIRTUAL","Bogotá te Escucha","oromero@ienercom.com","Ciudadanía","OMAIRA  ROMERO MARTINEZ","Ciudadanía","Ciudadanía","Femenino","Mujer","Sin datos","Sin datos","Sin datos","Sin datos","RECLAMO","Consulta general","Competencia otras entidades","EL DIA 5 DE NOVIEMBRE  SIENDO LAS 17 20 LA CONSTRUCTORA JYF CONSTRUCCIONES SAS NIT 900.337.567-6 REPRESENTANTE LEGAL LUIS ARCENIO MORA RIPE OSTACULIZO LA SALIDA DEL VEHICULOS DEL EDIFICIO JYF 96-75  UBICADO EN LA AVENIDA CARRERA 96 NO 765A-40. POR OBRA QUE ESTAN HACIENDO AL LADO DEL EDIFICIO. QUE HASTA QUE TERMINARA DE DESCARGAR EL CAMION DEL MATERIAL  QUE LE TRAIA PARA HECHAR LA PLACA. EN HORARIO NO AUTORIZADO. MI HIJO  DE 10 ANOS SE VIO AFECTADO POR COMO LES DIJE. POR FALTA DE HUMANIDAD. YA QUE PARA ELLOS ES MAS IMPORTANTE EL HECHAR UNA PLACA QUE HABER AVISADO DE LA OSTRUCCION DE LA SALIDA DEL PARQUEDERO DEL EDIFICIO.","Solucionado - Por traslado","AREA DE ATENCION A LA CIUDADANIA","10 Engativá"]
[1840,2022,"NOVIEMBRE","2022-11-09","12:11:51","OLGA LUCÍA MESA MORENO","VIRTUAL","Bogotá te Escucha",0,"Anónimo","ANONIMO  ","Anónimo","Anónimo","N/A","N/A","Sin datos","Sin datos","Sin datos","Sin datos","DERECHO DE PETICIÓN DE INTERÉS GENERAL","Consulta general","Competencia otras entidades","POR FAVOR SOLICITARLE AL AACUEDUCTO QUE COLOQUEN LA SIGUIENTE TAPA FALTANATE AL FRENTE DE UN PREDIO  ESTO QUEDA JUSTO EN EL ANDEN Y ALGUIEN PUEDE CAER AHI.           DADEP CALLE 33A # 20-41 B TEUSAQUILLO  LIMPIAR CAMARA DE PASO DOBLE Y COLOCARLE LA FALTANTE TAPA DE 1METRO POR 1 METROS SOBRE EL ANDEN  PPOR FAVOR CONVENIR CON EL ACUEDUCTO LA POSTURA DE ESTA TAPA  AL PARECER E S UNA TAPA   DOMICIALIRIA PERO EL PREDIO ESTA INHABITADO Y TIENE UNA PANCARTA DE ESAS QUE PARECE DE PROCESO DE SUCESION.   SIN EMBARGO EL PELIGRO ESTA AHI. ","Solucionado - Por traslado","AREA DE ATENCION A LA CIUDADANIA","No Registra"]
[1841,2022,"NOVIEMBRE","2022-11-09","12:40:07","OLGA LUCÍA MESA MORENO","VIRTUAL","Bogotá te Escucha","olgaluciaabril@gmail.com","Ciudadanía","OLGA LUCIA ABRIL ","Ciudadanía","Ciudadanía","Femenino","Mujer","Sin datos","Sin datos","Sin datos","Sin datos","DERECHO DE PETICIÓN DE INTERÉS GENERAL","Consulta general","Competencia otras entidades","REF.  SOLICITUD PODA Y TALA DE ARBOLES UBICADOS A LO LARGO DEL KM 1 AL 5 VIA LA CALERA DE ACUERDO AL INFORME TECNICO DRBC NO 0376 DE JUNIO DE 2018 Y INFORME TECNICO DRBC NO 15 DE FEBRERO DE 2021.","Solucionado - Por traslado","AREA DE ATENCION A LA CIUDADANIA","No Registra"]
[1842,2022,"NOVIEMBRE","2022-11-09","03:04:32","OLGA LUCÍA MESA MORENO","VIRTUAL","Bogotá te Escucha",0,"Anónimo","ANONIMO  ","Anónimo","Anónimo","N/A","N/A","Sin datos","Sin datos","Sin datos","Sin datos","QUEJA","Consulta general","Competencia otras entidades","OCUPACION DE ESPACIO PUBLICO EN ESTE BARRIO ES  MUY COMPLICADO EL TEMA DE LA MOVILIDAD  FRENTE AL CONJUNTO RESIDENCIAL TORRES DE TINTALA FASE 8  SE INSTALO  PEGADO A LA REJA UN CONTAINER PARA UN NEGOCIO  ESTO AFECTA AL CONJUNTO YA QUE   ESTA PEGADO A LA REJA  LO QUE OCASIONA QUE POR AHI SE PUEDAN METER LOS LADRONES 2. LA FORMA DE LA UBICACION DEJA ESPACIOS PARA QUE SE PRESENTEN OTRAS SITUACIONES COMO LAS DE LA FORO ADJUNTO  CREANDO FOCOS DE INSEGURIDAD.","Solucionado - Por traslado","AREA DE ATENCION A LA CIUDADANIA","No Registra"]
[1843,2022,"NOVIEMBRE","2022-11-09","03:17:27","OLGA LUCÍA MESA MORENO","VIRTUAL","Bogotá te Escucha","mebernal@hotmail.com","Ciudadanía","MARI ELISA BERNAL VARELA","Ciudadanía","Ciudadanía","Femenino","Mujer","Sin datos","Sin datos","Sin datos","Sin datos","QUEJA","Asesoría en administración y sostenibilidad del espacio público","Asesoría en temas de espacio público","CERCA VIVA UBICADA EN LA CALLE 109 A NO 17 MUY ALTA Y ANCHA AFECTANDO LA MOVILIDAD PEATONAL Y LA ILUMINACION DEL SECTOR","Solucionado por asignar - Trasladar","SUBDIRECCION DE GESTION INMOBILIARIA Y DEL ESPACIO PUBLICO","01 Usaquén"]
[1844,2022,"NOVIEMBRE","2022-11-09","03:46:22","OLGA LUCÍA MESA MORENO","VIRTUAL","Bogotá te Escucha","arqalexfonseca@gmail.com","Ciudadanía","ALEXANDER  FONSECA CASTILLO","Ciudadanía","Ciudadanía","Masculino","Hombre ","Sin datos","Sin datos","Sin datos","Sin datos","CONSULTA","Certificación de la propiedad inmobiliaria distrital","Certificación de la propiedad inmobiliaria","DATOS PREDIO INTERES DIRECCION TV 5 M 48 C 11 SUR - CHIP AAA0166DUPP - PLANO URBANISTICO RU/4-02 - CL 48 G BIS SUR VIA PEATONAL - PARCELA 14 -  BARRIO LA CAROLINA ? LOCALIDAD RAFAEL URIBE - RESOLUCION 813 DEL 11/11/2005 - RUPI 3560 ? 13 - ACTA DE RECIBO 167 DEL 29/12/2006  TEMA ASUNTO   SOLICITUD ACLARACION TIPO Y CARACTER VIAL E INDICACION SI EL PREDIO ES PUBLICO O PRIVADO","Solucionado - Por asignacion","SUBDIRECCION DE REGISTRO INMOBILIARIO","10 Engativá"]
[1845,2022,"NOVIEMBRE","2022-11-09","03:49:25","OLGA LUCÍA MESA MORENO","VIRTUAL","Bogotá te Escucha","arqalexfonseca@gmail.com","Ciudadanía","ALEXANDER  FONSECA CASTILLO","Ciudadanía","Ciudadanía","Masculino","Hombre ","Sin datos","Sin datos","Sin datos","Sin datos","CONSULTA","Certificación de la propiedad inmobiliaria distrital","Certificación de la propiedad inmobiliaria","DATOS PREDIO INTERES DIRECCION TV 5 M 48 C 11 SUR - CHIP AAA0166DUPP - PLANO URBANISTICO RU/4-02 - CL 48 G BIS SUR VIA PEATONAL - PARCELA 14 -  BARRIO LA CAROLINA ? LOCALIDAD RAFAEL URIBE - RESOLUCION 813 DEL 11/11/2005 - RUPI 3560 ? 13 - ACTA DE RECIBO 167 DEL 29/12/2006  TEMA ASUNTO   SOLICITUD COPIA ACTA DE RECIBO 167 DEL 29/12/2006 RUPI 3560 ? 13.","Solucionado - Por asignacion","SUBDIRECCION DE REGISTRO INMOBILIARIO","10 Engativá"]
[1846,2022,"NOVIEMBRE","2022-11-09","05:34:36","OLGA LUCÍA MESA MORENO","VIRTUAL","Bogotá te Escucha","lhriosda@gmail.com","Ciudadanía","LASCARIO  HINESTROZA  RIOS","Ciudadanía","Ciudadanía","Masculino","Hombre ","Sin datos","Sin datos","Sin datos","Sin datos","CONSULTA","Consulta general","Competencia otras entidades","SOLICITUD LICENCIA DE INTERVENCION Y OCUPACION DE ESPACIO PUBLICO","Solucionado - Por traslado","AREA DE ATENCION A LA CIUDADANIA","18 Rafael Uribe Uribe"]
[1847,2022,"NOVIEMBRE","2022-11-10","07:38:53","OLGA LUCÍA MESA MORENO","VIRTUAL","Bogotá te Escucha","aberdugo01@gmail.com","Ciudadanía","ANGELA  BERDUGO PENAGOS","Ciudadanía","Ciudadanía","Femenino","Mujer","Sin datos","Sin datos","Sin datos","Sin datos","CONSULTA","Asesoría en administración y sostenibilidad del espacio público","Salones comunales","CONSULTA SALONES COMUNALES","Solucionado - Por asignacion","SUBDIRECCION DE GESTION INMOBILIARIA Y DEL ESPACIO PUBLICO","16 Puente Aranda"]
[1848,2022,"NOVIEMBRE","2022-11-10","09:27:00","OLGA LUCÍA MESA MORENO","VIRTUAL","Bogotá te Escucha",0,"Anónimo","ANONIMO  ","Anónimo","Anónimo","N/A","N/A","Sin datos","Sin datos","Sin datos","Sin datos","DERECHO DE PETICIÓN DE INTERÉS GENERAL","Consulta general","Competencia otras entidades","SIMEPRE SE HA SOLICITADO PRESENCIA E INTERVENCION FRENTE A LA PROBLEMATICA DE MOVILIDAD QUE SE PRESENTA EN LA CALLE 187 CON CARRERA 20   DONDE FRECUENTEMENTE HAY ACCIDENTES. EN ESTA VIA EN HORAS DE LA MADRUGADA HAY UN TRAFICO MUY ALTO DE VOLQUETAS A ALTAS VELOCIDADES PRODUCIENDO RUIDOS Y VIBRACIONES MUY FUERTES EN UNA ZONA QUE ES RESIDENCIAL. EN LAS MANANAS LOS BUSES INTERMUNICIPALES TRANSITAN POR ESA VIA POR EVITAR EL TRANCON DE LA AUTOPISTA NORTE  SIENDO ESTA UNA RUTA QUE NO DEBEN TOMAR Y QUE ES RESIDENCIAL LAS MOTOS PASAN TODO EL TIEMPO A ALTAS VELOCIDADES SIN NINGUN CONTROL Y GENERANDO RUIDOS QUE TRASPASAN LA TRANQUILIDAD DE LOS RESIDENTES LOS BUSES ILEGALES QUE TRANSITAN DESDE Y HACIA MIRADOR Y CODITO A VELOCIDADES MUY PELIGROSAS   GENERAN PELIGROS EN LA VIA SUMADO AL RUIDO QUE PRODUCEN YA QUE EVIDENTEMENTE SON VEHICULOS EN MAL ESTADO. LA ALTA PRESENCIA DE BUSES QUE CONGESTIONAN LA VIA A LA QUE LE FUE QUITADO UN CARRIL PARA CICLORRUTA QUE NO ES UTILIZADA POR QUE LAS BICICLETAS INVADEN EL CARRIL DE LOS VEHICULOS. LOS VENDEDORES AMBULANTES QUE INVADEN LOS ANDENES Y LLEVAN SUS PRODUCTOS HASTA LOS CARROS QUE SE PARAN A HACER LA COMPRA SIN IMPORTAR EL TRANCON QUE ARMAN LA DIFICULTAD Y PELIGRO DE LOS PEATONES PARA PASAR LA VIA TENIENDO EN CUENTA LO ANTES MENCIONADO LOS CARROS QUE INVADEN EL CARRIL CONTRARIO  PARA EVADIR LO ANTES MENCIONADO EL MAL ESTADO DE LA VIA Y LOS ANDENES ESPECIALMENTE CUANDO LLUEVE A PESAR DE LAS SOLICITUDES ELEVADAS NUNCA SE HACEN OPERATIVOS DE CONTROL  O SE REVISA COMO MEJORAR LA SITUACION Y DISMINUIR LOS ACCIDENTES Y LOS PROBLEMAS PARA LOS RESIDENTES DE LA ZONA","Solucionado - Por traslado","AREA DE ATENCION A LA CIUDADANIA","No Registra"]
[1849,2022,"NOVIEMBRE","2022-11-10","11:35:18","OLGA LUCÍA MESA MORENO","VIRTUAL","Bogotá te Escucha","rolanquitek@hotmail.com","Ciudadanía","Edgar Rolando Vargas Gama","Ciudadanía","Ciudadanía","Masculino","Hombre ","Sin datos","Sin datos","Sin datos","Sin datos","CONSULTA","Consulta general","Competencia otras entidades","BUENA TARDE  SOY EL ARQUITECTO APODERADO EN EL TRAMITE DE UNA LICENCIA DE CONSTRUCCION EN MODALIDAD DE OBRA NUEVA PARA UN PREDIO UBICADO EN LA AVENIDA CARRERA  58 # 129 B - 22  QUISIERA CONSULTAR CON USTEDES EL TRAMITE REQUERIDO PARA LA MODIFICACION EN EL ESPACIO PUBLICO PARA EL ACCESO VEHICULAR QUE TENDRA LA NUEVA EDIFICACION  APRECIO SU GRAN COLABORACION AL RESPECTO. ASI COMO SABER QUIEN HACE LA MODIFICACION SI USTEDES O EL PROPIETARIO. MUCHAS GRACIAS","Solucionado - Por traslado","AREA DE ATENCION A LA CIUDADANIA","No Registra"]
[1850,2022,"NOVIEMBRE","2022-11-10","01:24:49","OLGA LUCÍA MESA MORENO","VIRTUAL","Bogotá te Escucha","ruthguzman1106@hotmail.com","Entidades y Organismos Distritales","RUPERTA CAPERA GUZMAN","Entidades y Organismos Distritales","Ciudadanía","Femenino","Mujer","Sin datos",{"$f":"+'[7]BTE Noviembre 2022'!W56","v":"Victimas - Conflicto Armado"},"Sin datos","Sin datos","DERECHO DE PETICIÓN DE INTERÉS GENERAL","Asesoría en administración y sostenibilidad del espacio público","Asesoría en temas de espacio público","RADICADO DADEP 20224000271092  VIRTUAL--PQR-2022-2050. TRASLADO POR COMPETENCIA  SOLICITUD DE INTERVENCION POR PROBLEMATICAS E INSEGURIDAD EN LA CR 147 CON CL 132B.","Solucionado - Registro con preclasificacion","SUBDIRECCION DE GESTION INMOBILIARIA Y DEL ESPACIO PUBLICO","11 Suba"]
[1851,2022,"NOVIEMBRE","2022-11-10","03:03:45","OLGA LUCÍA MESA MORENO","VIRTUAL","Bogotá te Escucha","incognito12@hotmail.com","Ciudadanía","Incognito 12","Ciudadanía","Incognito 12","N/A","N/A","Sin datos","Sin datos","Sin datos","Sin datos","DERECHO DE PETICIÓN DE INTERÉS PARTICULAR","Asesoría en administración y sostenibilidad del espacio público","Denuncia ventas informales","DENUNCIA POR INVASION DE ESPACIO PUBLICO YA QUE LOS COMERCIANTES DEL SECTOR A TOMADO LOS ANDENES COMO EXTENCION DE SUS PUNTOS DE TRABAJO GENERANDO UNA OBSTRUCCION  TOTAL DEL ESPACIO POR LO CUAL LOS PEATONES DEBEMOS TRANSITAR POR LAS CALLES LAS CUALES TAMBIEN SE UTILIZAN COMO PARQUEO EN LOS DOS COSTADOS  POR LO TANTO SE PRESENTA  UN CAOS VEHICULAR QUE NO DEJA INGRESAR AL BARRIO","Solucionado - Por traslado","AREA DE ATENCION A LA CIUDADANIA","12 Barrios Unidos"]
[1852,2022,"NOVIEMBRE","2022-11-10","03:19:38","OLGA LUCÍA MESA MORENO","VIRTUAL","Bogotá te Escucha",0,"Anónimo","Anónimo","Anónimo","Anónimo","N/A","N/A","Sin datos","Sin datos","Sin datos","Sin datos","DERECHO DE PETICIÓN DE INTERÉS GENERAL","Asesoría en administración y sostenibilidad del espacio público","Denuncia cerramiento","CARRO MATERA 7 AGOSTO","Solucionado - Por traslado","AREA DE ATENCION A LA CIUDADANIA","No Registra"]
[1853,2022,"NOVIEMBRE","2022-11-10","04:21:43","OLGA LUCÍA MESA MORENO","VIRTUAL","Bogotá te Escucha","asobel.gerente@gmail.com","Ciudadanía","EDINSO  CONTRERAS ","Ciudadanía","Ciudadanía","Masculino","Hombre ","Sin datos","Sin datos","Sin datos","Sin datos","DERECHO DE PETICIÓN DE INTERÉS PARTICULAR","Asesoría en administración y sostenibilidad del espacio público","Asesoría en temas de espacio público","MATENIMIENTO PARQUE JOSE JOAQUIN VARGAS CALLE 22B NO 54-21 TAPONAMIENTO DE DESAGUES Y EN CONSECUENCIA SE INUNDA LA PISTA DE PATINAJE","Solucionado por asignar - Trasladar","SUBDIRECCION DE GESTION INMOBILIARIA Y DEL ESPACIO PUBLICO","No Registra"]
[1854,2022,"NOVIEMBRE","2022-11-11","07:27:12","OLGA LUCÍA MESA MORENO","VIRTUAL","Bogotá te Escucha","felipelozano84@gmail.com","Entidades y Organismos Distritales","FELIPE ANDRES LOZANO ORTEGA","Entidades y Organismos Distritales","Ciudadanía","Masculino","Hombre ","Sin datos","Sin datos","Sin datos","Sin datos","DERECHO DE PETICIÓN DE INTERÉS GENERAL","Asesoría en administración y sostenibilidad del espacio público","Asesoría en temas de espacio público","RADICADO DADEP 20224000271202  VIRTUAL--PQR-2022-2053. TRASLADO POR COMPETENCIA. SOLICITUD DE INTERVENCION POR VENTAS AMBULANTES CENTRO HISTORICO DE BOGOTA.","Solucionado - Registro con preclasificacion","SUBDIRECCION DE GESTION INMOBILIARIA Y DEL ESPACIO PUBLICO","No Registra"]
[1855,2022,"NOVIEMBRE","2022-11-11","07:48:18","OLGA LUCÍA MESA MORENO","VIRTUAL","Bogotá te Escucha","olgaluciaabril@gmail.com","Entidades y Organismos Distritales","OLGA LUCIA ABRIL","Entidades y Organismos Distritales","Ciudadanía","Femenino","Mujer","Sin datos","Sin datos","Sin datos","Sin datos","DERECHO DE PETICIÓN DE INTERÉS PARTICULAR","Asesoría en administración y sostenibilidad del espacio público","Asesoría en temas de espacio público","RADICADO DADEP 20224000271222  VIRTUAL--PQR-2022-2054. TRASLADO POR COMPETENCIA. SOLICITUD DE PODA Y TALA DE ARBOLES BICADOS A LO LARGO DEL KM 1 AL 5 VIA LA CALERA.","Solucionado - Registro con preclasificacion","SUBDIRECCION DE GESTION INMOBILIARIA Y DEL ESPACIO PUBLICO","No Registra"]
[1856,2022,"NOVIEMBRE","2022-11-11","08:00:00","OLGA LUCÍA MESA MORENO","VIRTUAL","Bogotá te Escucha","edil_mariocordoba@hotmail.com","Ciudadanía"," MARIO CORDOBA CORDOBA","Ciudadanía","Ciudadanía","Masculino","Hombre ","Sin datos","Sin datos","Sin datos","Sin datos","DERECHO DE PETICIÓN DE INTERÉS PARTICULAR","Asesoría en administración y sostenibilidad del espacio público","Asesoría en temas de espacio público","Radicado Orfeo Dadep No  20224000271352  Asunto  VIRTUAL--SOLICITUD DE RECUPERACION ESPACIO PUBLICO (ANDEN) INDEBIDAMENTE OCUPADO POR ESTABLECIMIENTO DE COMERCIO.","Solucionado - Registro con preclasificacion","SUBDIRECCION DE GESTION INMOBILIARIA Y DEL ESPACIO PUBLICO","12 Barrios Unidos"]
[1857,2022,"NOVIEMBRE","2022-11-11","09:00:38","OLGA LUCÍA MESA MORENO","VIRTUAL","Bogotá te Escucha",0,"Anónimo","ANONIMO  ","Anónimo","Anónimo","N/A","N/A","Sin datos","Sin datos","Sin datos","Sin datos","DERECHO DE PETICIÓN DE INTERÉS PARTICULAR","Consulta general","Competencia otras entidades","DENUNCIO LA OCUPACION ILEGAL Y ABUSIVA DEL ESPACIO PUBLICO EN TODO EL BARRIO PRADO VERANIEGO  PERO ESPECIALMENTE EN LA CALLE 132 ENTRE CARRERAS 45 (AUTOPISTA NORTE) Y 50. EN DICHA CALLE LOS LOCALES COMERCIALES PARQUEAN UTILIZANDO LOS ANDENES EN PERJUICIO DE LOS PEATONES Y LAS VIAS EN AMBOS COSTADSO LLEGANDO AL DESCARO DE DEJAR VEHICULOS EN LAS NOCHES Y MUY SEGURAMENTE PERMITIR EL LUCRO DE ALGUNAS PERSONAS A TRAVES DE DICHA ACTIVIDAD. SOLICITO LA VISITA URGENTE DE LAS AUTORIDADES PARA ORGANIZAR Y RESTAURAR LOS DERECHOS DE LOS CIUDADNOS QUE TRANSITAN DE MANERA PEATONAL POR LOS ANDENES EN PRODE SU SEGURIDAD Y DE LOS VEHICULOS QUE TRANSITAN POR EL BARRIO.","Solucionado - Por traslado","AREA DE ATENCION A LA CIUDADANIA","No Registra"]
[1858,2022,"NOVIEMBRE","2022-11-11","09:37:15","OLGA LUCÍA MESA MORENO","VIRTUAL","Bogotá te Escucha",0,"Anónimo","ANONIMO  ","Anónimo","Anónimo","N/A","N/A","Sin datos","Sin datos","Sin datos","Sin datos","QUEJA","Consulta general","Competencia otras entidades","SOLICITO VERIFICACION SOBRE LA CARRERA 51G # 42 52 SUR  DONDE ACABAN DE CONSTRUIR CON REJAS UN PARQUEADERO EN ESPACIO PUBLICO  OBSTACULIZANDO LA LIBRE CIRCULACION Y REDUCIENDO LA VISUAL CON LO QUE SE GENERA UN AMBIENTE DE INSEGURIDAD.","Solucionado - Por traslado","AREA DE ATENCION A LA CIUDADANIA","No Registra"]
[1859,2022,"NOVIEMBRE","2022-11-11","09:43:56","OLGA LUCÍA MESA MORENO","VIRTUAL","Bogotá te Escucha","gestionambiental@ropsohnlab.com.co","Empresas privadas","ROPSOHN LABORATORIOS SAS","Empresas privadas","Empresas privadas","N/A","N/A","Sin datos","Sin datos","Sin datos","Sin datos","QUEJA","Consulta general","Competencia otras entidades","QUEJA POR INDEBIDA OCUPACION DEL ESPACIO PUBLICO","Solucionado - Por traslado","AREA DE ATENCION A LA CIUDADANIA","No Registra"]
[1860,2022,"NOVIEMBRE","2022-11-11","12:48:52","OLGA LUCÍA MESA MORENO","VIRTUAL","Bogotá te Escucha","apoyo@apoyo24horas.co","Ciudadanía","Diego Zambrano","Ciudadanía","Ciudadanía","Masculino","Hombre ","Sin datos","Sin datos","Sin datos","Sin datos","DERECHO DE PETICIÓN DE INTERÉS PARTICULAR","Consulta general","Competencia otras entidades","BUENAS TARDES  AGRADECEMOS SU INTERVENCION CON LA NO INSTALACION DE VOLARDOS FRENTE A NUESTRO ESTABLECIMIENTO  DADO QUE MANEJANOS FLUJO VEHICULAR PARA LA INSTALACION DE NUESTROS SERVICIOS Y ASI MISMO ZONA DE PARQUE  DE ACUERDO A LAS IMAGENES PRESENTADAS ESTO AFECTARA EL ACCESO DE NUSTROS CLIENTES A NUESTRA EMPRESA.","Solucionado - Por traslado","AREA DE ATENCION A LA CIUDADANIA","No Registra"]
[1861,2022,"NOVIEMBRE","2022-11-11","02:01:36","OLGA LUCÍA MESA MORENO","VIRTUAL","Bogotá te Escucha",0,"Anónimo","ANONIMO  ","Anónimo","Anónimo","N/A","N/A","Sin datos","Sin datos","Sin datos","Sin datos","CONSULTA","Consulta general","Competencia otras entidades","BUENAS TARDES VIVO EN CIUDAD BOLIVAR Y VEO QUE CADA DIA SE ESTAN APROPIANDO DE LOS ESPACIOS PUBLICOS VIAS PUBLICAS Y NO PASA NADA UN EJEMPLO CALLE 68C #41-23 SUR DETRAS DEL COLEGIO DISTRITAL RODRIGO LARA BONILLA SE APROPIARON DE LA ESCALERA Y VIAS DE ACCESO ENCERRARON CON REJAS PUERTAS Y MALLA DE SEGURIDAD ANTI ROBO Y ASI SUCEDE EN ESTA CUADRA  LA MAYORIA DE HABITANTES QUE TIENEN CASA ESQUINERA  BLOQUEARON LAS ESCALERAS Y ESPACIO PUBLICO DE LIBRE LOCOMOCION Y  NO PASA NADA QUE ACCIONES PUEDE EJERCER LA ALCALDIA? INTENTARA RECUPERAR EL ESPACIO PUBLICO? O YA SE ADUENARON DE LAS ESCALERAS Y ZONAS VERDES? ","Solucionado - Por traslado","AREA DE ATENCION A LA CIUDADANIA","No Registra"]
[1862,2022,"NOVIEMBRE","2022-11-11","03:52:11","OLGA LUCÍA MESA MORENO","VIRTUAL","Bogotá te Escucha","nherrera1187@gmail.com","Entidades y Organismos Distritales","NESTOR HERRERA","Entidades y Organismos Distritales","Ciudadanía","Masculino","Hombre ","Sin datos","Sin datos","Sin datos","Sin datos","DERECHO DE PETICIÓN DE INTERÉS PARTICULAR","Consulta general","Asesoría en temas de espacio público","RADICADO DADEP 20224000272322  VIRTUAL--20225410651071. TRASLADO POR COMPETENCIA. SDQS 3829082022. SOLICITUD DE COMPARENDO AMBIENTAL POR INADECUADA DISPOSICION DE RESIDUOS EN LA CR 77M 51 A-00 SUR.","Solucionado - Registro con preclasificacion","SUBDIRECCION DE GESTION INMOBILIARIA Y DEL ESPACIO PUBLICO","09 Fontibón"]
[1863,2022,"NOVIEMBRE","2022-11-11","03:55:05","OLGA LUCÍA MESA MORENO","VIRTUAL","Bogotá te Escucha","nestorguevarasas@gmail.com","Ciudadanía","CLARA INES CARDENAS GONZALEZ","Ciudadanía","Ciudadanía","Femenino","Mujer","Sin datos","Sin datos","Sin datos","Sin datos","DERECHO DE PETICIÓN DE INTERÉS GENERAL","Consulta general","Competencia otras entidades","QUEJA POR CABLES CAIDOS EN ZONA PEATONAL RIESGO ALTO DE ACCIDENTES.","Solucionado - Por traslado","AREA DE ATENCION A LA CIUDADANIA","No Registra"]
[1864,2022,"NOVIEMBRE","2022-11-11","06:44:53","OLGA LUCÍA MESA MORENO","VIRTUAL","Bogotá te Escucha",0,"Anónimo","ANONIMO  ","Anónimo","Anónimo","N/A","N/A","Sin datos","Sin datos","Sin datos","Sin datos","DERECHO DE PETICIÓN DE INTERÉS GENERAL","Consulta general","Competencia otras entidades","SE ESTAN APODERANDO DE LAS ZONAS VERDE  PARQUEAN CARROS DIA Y NOCHE  OBSTACULIZANDO EL PASO PEATONAL Y DANANDO LA PARTE  EXCLUSIVA PARA ARBOLES Y PASTO","Solucionado - Por traslado","AREA DE ATENCION A LA CIUDADANIA","No Registra"]
[1865,2022,"NOVIEMBRE","2022-11-11","08:21:04","OLGA LUCÍA MESA MORENO","VIRTUAL","Bogotá te Escucha","rollbag@gmail.com","Ciudadanía","LUZ OMAIRA RIOS ","Ciudadanía","Ciudadanía","Femenino","Mujer","Sin datos","Sin datos","Sin datos","Sin datos","QUEJA","Consulta general","Competencia otras entidades","QUEJA POR NO MANTENIMIENTO DE BALDOSAS EN PARQUES Y ANDENES  HAN COLOCADO ADOQUIN A LOS SENDEROS DE LOS PARQUE Y ESTOS SE LEVANTAN OCASIONANDO LESIONES A LOS NINOS Y PERSONAS QUE TRANSITAN POR ALLI  HOY 11 NOVIEMBRE 2022 A LAS 18 00 HORAS MI HIJA MENOR DE 8 ANOS ESTABA CORRIENDO EN EL PARQUE SANTA MATILDE  LOCALIDAD  PUENTE ARANDA DIRECCION CALLE 8 SUR #35-71Y UNA BALDOSA SE LEVANTO Y SE HA RASPADO SU CARITA  Y LA MANO   ME PARECE QUE DEBERIAN TENER EN CUENTA ESE MATERIAL.NO ES EL CORRECTO PARA LOS PARQUES Y ANDENES NO ES LA PRIMERA VEZ QUE PASA ALGO ASI  ENVIO FOTOS DE LAS LESIONES QUE SUFRIO LA NINA POR LA IRRESPONSABILIDAD AL NO TENER EN CUENTA LOS MATERIALES QUE UTILIZAN PARA ESTOS LUGARES","Solucionado - Por traslado","AREA DE ATENCION A LA CIUDADANIA","15 Antonio Nariño"]
[1866,2022,"NOVIEMBRE","2022-11-12","06:50:46","OLGA LUCÍA MESA MORENO","VIRTUAL","Bogotá te Escucha","maparrasa@hotmail.com","Ciudadanía","ANGEL MAURICIO PARRA SAENZ","Ciudadanía","Ciudadanía","Masculino","Hombre ","Sin datos","Sin datos","Sin datos","Sin datos","QUEJA","Consulta general","Competencia otras entidades","HACE MAS DE 5 ANOS UN TIPO QUE HABITA EN LA CUADRA PARQUEA DOS BUSES FRENTE AL CONJUNTO DONDE HABITAMOS POR QUE EN ESTA ACERA HAY UN PARQUE  LOS INCONVENIENTES SON  CUANDO SALEN LOS VEHICULOS LO HACEN MUY TEMPRANO Y GENERAN DEMASIADO RUIDO  OBSTACULIZAN LA VISION DE LOS SENORES DE SEGURIDAD Y HAN OCURRIDO ROBOS A LAS PERSONAS QUE INGRESAN AL PARQUE A HACER EJERCICIO O A SACAR A SUS MASCOTAS  OBSTACULIZA LA ENTRADA Y SALIDA DE LOS VEHICULOS AL CONJUNTO  EN CASO DE UNA EMERGENCIA UN CARRO DE BOMBEROS O UNA AMBULANCIA NO PUEDE INGRESAR. EN FOTOS ADJUNTAS SE VE CLARAMENTE QUE ESTE VEHICULO OBSTACULIZA LA LABOR DE LOS SENORES DE LA ALCALDIA CON ARREGLO DEL PARQUE. POR FAVOR NECESITAMOS UNA SOLUCION DEFINITIVA  MUCHAS GRACIAS.","Solucionado - Por traslado","AREA DE ATENCION A LA CIUDADANIA","10 Engativá"]
[1867,2022,"NOVIEMBRE","2022-11-12","09:03:18","OLGA LUCÍA MESA MORENO","VIRTUAL","Bogotá te Escucha",0,"Anónimo","ANONIMO  ","Anónimo","Anónimo","N/A","N/A","Sin datos","Sin datos","Sin datos","Sin datos","DERECHO DE PETICIÓN DE INTERÉS GENERAL","Consulta general","Competencia otras entidades","SE APROPIARON DE ESPACIO PUBLICO DESTINADO A UNA AVENIDA  CERCARON CON MALLA PARA UTILIZARLO COMO PARQUEADERO Y SE ESTAN LUCRANDO CON ESO  LA UBICACION ES EN FRENTE DE LA ENTRADA PRINCIPAL DEL PARQUE FONTANAR  AL LADO DEL CAI FONTANAR","Solucionado - Por traslado","AREA DE ATENCION A LA CIUDADANIA","No Registra"]
[1868,2022,"NOVIEMBRE","2022-11-12","03:25:04","OLGA LUCÍA MESA MORENO","VIRTUAL","Bogotá te Escucha","HAROLDGUYAUX@GMAIL.COM","Ciudadanía","HAROLD  GUYAUX ","Ciudadanía","Ciudadanía","Masculino","Hombre ","Sin datos","Sin datos","Sin datos","Sin datos","DERECHO DE PETICIÓN DE INTERÉS PARTICULAR","Consulta general","Competencia otras entidades","ESTIMADOS Y ESTIMADAS  MEDIANTE ESTE DERECHO DE PETICION SE LES SOLICITA LA INFORMACION SIGUIENTE ¿CUAL SON LAS CONDICIONES DE USO DE SUELO Y DE PROPIEDAD DE LA PLAZOLETA DENOMINADA PLAZOLETA TELECOMO  UBICADA EN EL BARRIO LA ALAMEDA DE LA LOCALIDAD DE SANTA FE  SITUADA EN EL CRUCE ENTRE LA CARRERA 13 Y LA CALLE 23. GRACIAS DE ANTEMANO.","Solucionado - Por traslado","AREA DE ATENCION A LA CIUDADANIA","No Registra"]
[1869,2022,"NOVIEMBRE","2022-11-13","05:49:28","OLGA LUCÍA MESA MORENO","VIRTUAL","Bogotá te Escucha",0,"Anónimo","ANONIMO  ","Anónimo","Anónimo","N/A","N/A","Sin datos","Sin datos","Sin datos","Sin datos","DERECHO DE PETICIÓN DE INTERÉS GENERAL","Consulta general","Competencia otras entidades","EN LA CARRERA 12 K FRENTE A LAS PLACAS 27 A 14 Y 27 A 20 SUR SE CONSTRUYERON SOBRE EL ANDEN UNAS RAMPLAS IMPOSIBILITAN PASAR POR ALLI OBLIGANDO AL TRANSEUNTE A UTILIZAR LA CALLE CON EL RIESGO DE QUE ALGO LE PASE Y ESE CASO QUE RESPONDE ANTE UN ACCIDENTE DE CUALESQUIERA INDOLE  IGUAL LOS ANDENES ACASO NO SON PARA EL PASO DE LOS PEATONES? ASI COMO ESTA CASO SE VIENE PRESENTANDO EN BOGOTA POR ADECUAR EL INGRESO DE SUS VEHICULOS   NO LE PERMITEN AL PEATON UTILIZAR LOS MEDIOS LE SON HABILITADOS PARA ELLO Y NADIE HACE NI DICE NADA Y PEOR AUN PARA LOS DISCAPACITADOS QUE DICEN SE LES ESTAN CREANDO FACILIDADES PARA SU DESPLAZAMIENTO PERO LA REALIDAD ES BIEN DIFERENTE.","Solucionado - Por traslado","AREA DE ATENCION A LA CIUDADANIA","No Registra"]
[1870,2022,"NOVIEMBRE","2022-11-13","10:12:59","OLGA LUCÍA MESA MORENO","VIRTUAL","Bogotá te Escucha","sandrapatriciasanchez@gmail.com","Ciudadanía","SANDRA PATRICIA SANCHEZ ","Ciudadanía","Ciudadanía","Femenino","Mujer","Sin datos","Sin datos","Sin datos","Sin datos","DERECHO DE PETICIÓN DE INTERÉS PARTICULAR","Consulta general","Competencia otras entidades","DEBIDO A QUE POR RAZONES AJENAS A MI VOLUNTAD LA PLATAFORMA O EL APLICATIVO DE USTEDES ZPP  MEDIANTE EL CUAL SE PAGAN LOS ESPACIOS DE ESTACIONAMIENTO EN LA CIUDAD DE BOGOTA NO ESTABA FUNCIONANDO EL DIA 10/09/2022  SEGUN SE DEMUESTRA EN LAS FOTOS ANEXAS  Y QUE AL MOMENTO DE LLEGADA MIA AL SITIO DE ESTACIONAMIENTO NO SE ENCONTRABA NINGUNO DE SUS EMPLEADOS  LES SOLICITO DEVOLVERME EL VALOR CORRESPONDIENTE A $90.000.00 MONEDA CORRIENTE QUE TUVE QUE PAGAR PARA RECUPERAR LA MOVILIDAD DE MI CARRO","Solucionado - Por traslado","AREA DE ATENCION A LA CIUDADANIA","11 Suba"]
[1871,2022,"NOVIEMBRE","2022-11-14","01:05:47","OLGA LUCÍA MESA MORENO","VIRTUAL","Bogotá te Escucha","jelomasu@gmail.com","Ciudadanía","JESSICA LORENA MARTIN SUAREZ","Ciudadanía","Ciudadanía","Femenino","Mujer","Sin datos","Sin datos","Sin datos","Sin datos","QUEJA","Incorporación y entrega de las áreas de cesión a favor del municipio","Información de zonas de cesión","BUENAS TARDES ADJUNTO COMUNICADO SOLICITANDO POR FAVOR RESPUESTA Y ACCION INMEDIATA POR PARTE DEL DADEP. GRACIAS.","Solucionado - Por asignacion","SUBDIRECCION DE REGISTRO INMOBILIARIO","No Registra"]
[1872,2022,"NOVIEMBRE","2022-11-14","02:18:35","OLGA LUCÍA MESA MORENO","VIRTUAL","Bogotá te Escucha",0,"Anónimo","ANONIMO  ","Anónimo","Anónimo","N/A","N/A","Sin datos","Sin datos","Sin datos","Sin datos","RECLAMO","Consulta general","Competencia otras entidades","HACE VARIOS ANOS UN CIUDADANO TIENE UBICADO UN VEHICULO QUE ESTA OBSTRUYENDO EL ALCANTARILLADO Y POR LA TEMPORADA DE LLUVIA LA CUADRA SE HA VISTO AFECTADA. AL PARECER EL VEHICULO ES CONSIDERADO CHATARRA PORQUE NO LO MOVILIZA. SOLO SE ESTA SOLICITANDO QUE LO UBIQUE EN OTRA ZONA O LUGAR QUE NO OBSTRUYA EL ALCANTARILLADO. GRACIAS. ESPERO UNA PRONTA Y POSITIVA ACTUACION FRENTE AL CASO.","Solucionado - Por traslado","AREA DE ATENCION A LA CIUDADANIA","No Registra"]
[1873,2022,"NOVIEMBRE","2022-11-15","11:09:38","OLGA LUCÍA MESA MORENO","VIRTUAL","Bogotá te Escucha",0,"Anónimo","ANONIMO  ","Anónimo","Anónimo","N/A","N/A","Sin datos","Sin datos","Sin datos","Sin datos","QUEJA","Consulta general","Competencia otras entidades","BUEN DIA ME DIRIJO A USTEDES EN BUSCA DE UNA PRONTA SOLUCION CON TANTO VEHICULO MAL PARQUEADO ENCIMA DE LOS ANDENES DEBIDO A QUE NO PERMITEN EL PASO PEATONES ASI ARRIESGANDO LA INTEGRIDAD SOCIAL","Solucionado - Por traslado","AREA DE ATENCION A LA CIUDADANIA","No Registra"]
[1874,2022,"NOVIEMBRE","2022-11-15","06:54:42","OLGA LUCÍA MESA MORENO","VIRTUAL","Bogotá te Escucha","carola1888@hotmail.com","Ciudadanía","JEIMMY  CAROLINA  NIÑO  RINCON ","Ciudadanía","Ciudadanía","Femenino","Mujer","Sin datos","Sin datos","Sin datos","Sin datos","DERECHO DE PETICIÓN DE INTERÉS PARTICULAR","Asesoría en administración y sostenibilidad del espacio público","Parqueaderos","VIGILANCIA PARQUEADEROS ADMINISTRADOS POR EL TERMINAL DE TRANSPORTE DESDE EL 30/09/2022  SUBA COMPARTIR 1 ETAPA.","Solucionado - Por asignacion","SUBDIRECCION DE GESTION INMOBILIARIA Y DEL ESPACIO PUBLICO","11 Suba"]
[1875,2022,"NOVIEMBRE","2022-11-15","07:40:22","CRISTHIAN CAMILO MONTAÑA HERNANDEZ","VIRTUAL","Bogotá te Escucha","fabgomez05@hotmail.com","Ciudadanía","FABIAN A GOMEZ A","Ciudadanía","FABIAN A GOMEZ A","N/A","N/A","Sin datos","Sin datos","Sin datos","Sin datos","DERECHO DE PETICIÓN DE INTERÉS PARTICULAR","Asesoría en administración y sostenibilidad del espacio público","Recuperación de Espacio público","PETICION RECIBIDA MEDIANTE LA RED SOCIAL FACEBOOK  POR FAVOR....RECUPEREN EL ESPACIO PUBLICO EN SAN VICTORINO  NO HAY ANDENES POR CULPA DE TANTOS VENDEDORES AMBULANTES Y NO PERMITEN EL INGRESO A LOS CENTROS COMERCIALES GRACIAS OCTUBRE FUE IMPOSIBLE FABIAN A. GOMEZ A. NO ME IMAGINO PARA DICIEMBRE SI NO CONTROLAN A TIEMPO LOS INVITO MANANA PARA QUE VENGAN A SAN VICTORINO Y VEAN QUE ESPACIO PUBLICO QUEDA NI ANDENES NI CALLES QUEDAN NO HAY CONTROL A TANTO VENDEDOR AMBULANTE CRA 12 CON CALLE 11 SE APODERARON DE LA CALLE UN DESASTRE ","Solucionado - Por traslado","AREA DE ATENCION A LA CIUDADANIA","No Registra"]
[1876,2022,"NOVIEMBRE","2022-11-15","07:45:11","CRISTHIAN CAMILO MONTAÑA HERNANDEZ","VIRTUAL","Bogotá te Escucha","Jcrinconl@unal.edu.co","Ciudadanía","JUAN  CAMILO RINCON","Ciudadanía","JUAN  CAMILO RINCON","N/A","N/A","Sin datos","Sin datos","Sin datos","Sin datos","DERECHO DE PETICIÓN DE INTERÉS PARTICULAR","Asesoría en administración y sostenibilidad del espacio público","Denuncia construcción ilegal","PETICION RECIBIDA EN LA RED SOCIAL - TWITTER    QUIERO DENUNCIAR QUE SE ESTA HACIENDO UNA CONSTRUCCION EN LA CARRERA 53 B CON  CALLE 5C DONDE SE ESTAN APROPIANDO DEL ESPACIO PEATONAL LA VIVIENDA ANTES ERA ASI POSTERIORMENTE PUSIERON UNA COLUMNA QUE SOSTUVIESE ESA ESTRUCTURA MAL DISENADA Y AHORA CONSTRUYERON UN EDIFICIO DE VARIOS PISOS  HICIERON UNA COLUMNA NUEVA MAS EXTERIOR  Y HACE UN MOMENTO ESTABA EXTENDIENDO MURO SOBRE EL ANDEN HASTA ESA COLUMNA","Solucionado - Por traslado","AREA DE ATENCION A LA CIUDADANIA","No Registra"]
[1877,2022,"NOVIEMBRE","2022-11-15","07:48:20","CRISTHIAN CAMILO MONTAÑA HERNANDEZ","VIRTUAL","Bogotá te Escucha","memoriapublica821@gmail.com","Ciudadanía","CARLOS ELADIO AGUIRRE GAMEZ","Ciudadanía","CARLOS ELADIO AGUIRRE GAMEZ","N/A","N/A","Sin datos",{"$f":"+'[7]BTE Noviembre 2022'!W83","v":"Periodistas en ejercicio de su actividad"},"Sin datos","Sin datos","DERECHO DE PETICIÓN DE INTERÉS PARTICULAR","Asesoría en administración y sostenibilidad del espacio público","Denuncia ventas informales","PETICION RECIBIDA MEDIANTE LA RED SOCIAL TWITTER  PARA SOLICITARLE UNA VISITA A LAS VIAS DE LA CALLE 19 CON CARRERA 25 Y 27 LAS CUALES FUERON TOMADAS POR MAFIAS QUE ALQUILAN LOS PUESTOS DE FLORES CALLEJEROS QUE TAMBIEN SE TOMARON LAS BAHIAS QUE ALLI EXISTEN ESTOS PUESTOS NO PUEDEN SEGUIR FUNCIONANDO PORQUE ESTAN TOMANDOSE LOS ESPACIOS VEHICULARES Y PUBLICOS ES  POR FALTA DE INTERVENCIONES DE LA ALCALDIA LOCAL Y DE USTEDES POR NO HABER RESPETAR ESTOS LUGARES","Solucionado - Por traslado","AREA DE ATENCION A LA CIUDADANIA","14 Los Mártires"]
[1878,2022,"NOVIEMBRE","2022-11-15","10:57:26","CARLOS DANIEL GALVIS LEAL","VIRTUAL","Bogotá te Escucha",0,"Anónimo","ANONIMO  ","Anónimo","Anónimo","N/A","N/A","Sin datos","Sin datos","Sin datos","Sin datos","DERECHO DE PETICIÓN DE INTERÉS GENERAL","Asesoría en administración y sostenibilidad del espacio público","Asesoría en temas de espacio público","DENUNCIAR AL SENOR JOSE JUAQUIN ORJUELA ADMINISTRADOR DEL PARQUE VILLALUZ QUE ADMINISTRA EL PARQUE DE SAN MARCOS QUE JUNTO A LOS SENORES VICENTE RODRIGUEZ Y MARTIN CHAPE DE LLEVAR INSUFRUTUANDO EL PARQUE DE SAN MARCOS EN SU BENEFICIO DESDE OCTUBRE 2021 Y AMENAZANDO A TODO EL QUE SE ATREVE A DENUNCIAR Y NI LA ALCALDIA LOCAL NI EL IDRD AN HECHO NADA CON LAS DENUNCIAS.","Solucionado - Por asignacion","OFICINA DE CONTROL DISCIPLINARIO INTERNO","No Registra"]
[1879,2022,"NOVIEMBRE","2022-11-16","09:08:12","OLGA LUCÍA MESA MORENO","VIRTUAL","Bogotá te Escucha","pilarbastidas@yahoo.com","Ciudadanía","PILAR  BASTIDAS AROSEMENA","Ciudadanía","Ciudadanía","Femenino","Mujer","Sin datos","Sin datos","Sin datos","Sin datos","SOLICITUD DE ACCESO A LA INFORMACION","Consulta general","Competencia otras entidades"," REFERENCIA  SOLICITUD CONCEPTO FAVORABLE  RESPETADOS SENORES   RECIBA UN CORDIAL SALUDO DE PARTE DE LA MESA POR LA LIBERTAD DE BOGOTA  EXTENSIVO A TODO PERSONAL QUE LA CONFORMA Y NUESTROS SINCEROS DESEOS DE EXITOS PERSONALES Y PROFESIONALES.   EN TAL SENTIDO AGRADECEREMOS SE EMITA  CONCEPTO FAVORABLE  POR PARTE DE SU DESPACHO ENTENDIENDO QUE DICHO DOCUMENTO ES REQUERIDO POR LA DIRECCION DE PREVENCION  ATENCION DE EMERGENCIAS DPAE PARA EL TRAMITE Y REGISTRO FORMAL DEL PLAN DE CONTINGENCIAS PARA PROGRAMAR LA MARCHA 19 DE NOVIEMBRE  POR MESA POR LA LIBERTAD DE BOGOTA  A REALIZARSE SEGUN LA SIGUIENTE PROGRAMACION   PROGRAMACION  EVENTO  SIN ANIMO DE LUCRO FECHA  19 DE NOVIEMBRE  HORA INICIO    10 00 A.M.  LUGAR  PARQUE NACIONAL   PRIMERA PARADA  SE INICIA LA MARCHA Y NOS DESPLAZAREMOS AL MINISTERIO DE TRABAJO  UBICADO EN  CRA. 13 NO. 32-76 DONDE SE HARAN UN PLANTON DE APROXIMADA MENTE 2 HORAS  FINALIZACION  HORA     12 30 A.M.  LUGAR  PLAZA DE BOLIVAR TENDREMOS UNA TARIMA CON SONIDO DONDE SE REALIZARAN UNAS INTERVENCIONES.  HORA ESTIMADA DE FINALIZACION 2 00 P.M.   PRESENTACION   EN EL MARCO DEL DERECHO DE LA REUNION ESTIPULADO EN LA CONSTITUCION POLITICA DE COLOMBIA  EN EL ARTICULO 37  NOS PERMITIMOS INFORMARLE QUE UN GRUPO DE CIUDADANOS LLEVARA A CABO UNA ACTIVIDAD DE MOVILIZACION  QUE TIENE COMO OBJETIVO MANIFESTAR NUESTRA INCONFORMIDAD CIUDADANA FRENTE A LA COYUNTURA POLITICA DE PAIS Y POR LA FALTA DE REPRESENTATIVIDAD QUE DESEAMOS EXPRESAR. ESPERAMOS CONTAR CON UNA ALTA AFLUENCIA DE CIUDADANOS  DE ACUERDO AL ARTICULO 18 A DE LA CONSTITUCION  LAS MARCHAS   SIENDO AGLOMERACIONES DE PARTICIPACION CIUDADANA  NO REQUIEREN REGISTRO A TRAVES DE LA VENTANILLA DEL SUGA  PERO SI REQUIEREN INFORMAR A LAS ENTIDADES RESPONSABLES PARA EMITIR LA VERIFICACION DE CONDICIONES O CONCEPTO FAVORABLE EN SU LUGAR  PARA PODER HACER USO DE LA TARIMA MOVIL EN EL ESPACIO PUBLICO EL DIA DEL EVENTO.  AGRADECIENDO LA ATENCION PRESTADA A LA PRESENTE Y ESPERAMOS CONTAR CON SU APOYO PARA ESTAR EVENTO.  QUEDAMOS ATENTOS DE SU TRAMITE Y OPORTUNA RESPUESTA ","Solucionado - Por traslado","AREA DE ATENCION A LA CIUDADANIA","01 Usaquén"]
[1880,2022,"NOVIEMBRE","2022-11-16","10:57:01","OLGA LUCÍA MESA MORENO","VIRTUAL","Bogotá te Escucha","ALEJITORAMOS3@HOTMAIL.COM","Ciudadanía","ARELYS  GIRALDO QUINTERO","Ciudadanía","Ciudadanía","Femenino","Mujer","Sin datos","Sin datos","Sin datos","Sin datos","QUEJA","Consulta general","Competencia otras entidades","A CONTINUACION DENUNCIO EL ESPACIO PUBLICO POR EL SENOR NEIRO  DUELLO DEL TRAILER LAS DELICIAS EL CUAL MIDE MAS DE DOS METROS Y ESTA SITUADO EN LA CARRERA 128 # 127F 06  LOS POLICIAS DEL CAI DE FONTANAR LO CUIDAN POR QUE LES DA DE COMER A DIARIO Y NO PERMITEN QUE LES DIGAMOS NADA  SACA LAS SILLAS DANANDO EL PASO DE LAS CICLORUTAS SE ROBA LA ENERGIA DE OTRO SITIO  SE PRESTA PARA FUMAR VICIO Y ROBOS  DEJO IMAGENES LO GRANDE QUE ES Y NO PERMITE QUE SE PARQUEEN LOS CARROS VISITANTES SE HA PUESTO VARIOS DERECHSO DE PETICION EL CUAL EL DUENO NEIRO INFORMA QUE NO LO QUITAN POR QUE LA POLICIA DEL CAI LO CUIDA","Solucionado - Por traslado","AREA DE ATENCION A LA CIUDADANIA","11 Suba"]
[1881,2022,"NOVIEMBRE","2022-11-16","12:05:08","OLGA LUCÍA MESA MORENO","VIRTUAL","Bogotá te Escucha","vguerrero@pgplegal.com","Ciudadanía","VALERIA ESTHER GUERRERO PATERNINA","Ciudadanía","Ciudadanía","Femenino","Mujer","Sin datos","Sin datos","Sin datos","Sin datos","DERECHO DE PETICIÓN DE INTERÉS PARTICULAR","Incorporación y entrega de las áreas de cesión a favor del municipio","Entrega de zonas de cesión","SOLICITUD DE ENTREGA SIMPLIFICADA DE ZONAS DE CESION  DE LA URBANIZACION DENOMINADA  LA TINGUA . LOCALIDAD DE BOSA. RADICADOS DADEP NO.  20204080064722 - 20224000025622 - 20224000128952","Solucionado - Por asignacion","SUBDIRECCION DE REGISTRO INMOBILIARIO","No Registra"]
[1882,2022,"NOVIEMBRE","2022-11-16","12:06:01","OLGA LUCÍA MESA MORENO","VIRTUAL","Bogotá te Escucha",0,"Anónimo","ANONIMO  ","Anónimo","Anónimo","N/A","N/A","Sin datos","Sin datos","Sin datos","Sin datos","DERECHO DE PETICIÓN DE INTERÉS PARTICULAR","Consulta general","Competencia otras entidades","SOY AMIGA DE LA FAMILIA QUE RESIDE EN LA CALLE 128 C BIS 52 69 Y  ME HE DADO CUENTA EN MIS VISITAS QUE CONSTANTEMENTE SE ESTACIONAN CAMIONES GENERANDO  CONTAMINACION ACUSTICA  VISUAL Y AMBIENTAL. SE ESTACIONAN MAL Y NO DEJAN SALIR EN OCASIONES EL CARRO DEL GARAJE  OTRAS VECES CON AGUA SUCIA LIMPIAN EL/LOS CAMIONES  VARIAS VECES SE CUADRAN AL FRENTE DE LA CASA PARA CARGAR Y DESCARGAR TRASTEOS DE UN CAMION A OTRO  TAMBIEN SUCEDE QUE VIENE UN CAMION LO DEJAN PRENDIDO POR MAS DE MEDIA HORA DEJANDO OLOR A DIESEL EN TODA LA CASA  PRINCIPALMENTE EN EL SEGUNDO PISO Y TERRAZA DEL INMUEBLE  LUEGO SE MARCHAN Y VUELVE EL MISMO CAMION U OTRO. ESTA SITUACION SE LLEVA PRESENTANDO HACE MUCHO TIEMPO Y EL QUE LOS TRAE ES ALIRIO APONTE QUIEN VIVE EN LA CALLE 128 C BIS 52 68  AL PARECER TIENE UNA EMPRESA PUES EN EL ANDEN REALIZAN SUS NEGOCIOS Y TRAEN VARIOS CAMIONES TODOS MANEJADOS CON DIESEL. CUANDO SE LES RECLAMA  CONTESTAN CON GROSERIAS  LO QUE AFECTA TAMBIEN LA CONVENIENCIA ALGUNAS PLACAS SON  SWM970 - SPP 849 - WFH656 - JTZ990 - BEP180 - SNQ960 - JTZ221 - SPW802 - SPP028 - SNZ101 - UFW000 - KSO818. SOLICITO COLABORACION EN ESTA SITUACION QUE ESTA AFECTANDO LA SALUD DE LOS RESIDENTES DE ESA CASA PUES ES ALGO QUE PASA CASI A DIARIO. CUANDO SE LE HACE EL RECLAMO A ALIRIO DICE  SI QUIERE LE COMPRO LA CUADRA  LA CALLE .  TAMBIEN ES PREOCUPANTE PORQUE ES UN FOCO DE INSEGURIDAD YA QUE EN DISTINTAS OCASIONES SE ACERCAN HABITANTES DE CALLE A CONSUMIR DROGAS APROVECHANDO QUE HAY CIERTA OSCURIDAD QUE PRODUCE EL CAMION... SUMADO A QUE LOS CONDUCTORES SE CAMBIAN EN EL ANDEN  INCLUSO LLEGANDO A ESTAR EN ROPA INTERIOR SIN PENSAR QUE PUEDEN ESTAR NINOS POR AHI. LOS CAMIONES TIPO FURGON LOS TRAEN INCLUSO EN LA NOCHE Y MADRUGADA.","Solucionado - Por traslado","AREA DE ATENCION A LA CIUDADANIA","No Registra"]
[1883,2022,"NOVIEMBRE","2022-11-16","12:06:42","OLGA LUCÍA MESA MORENO","VIRTUAL","Bogotá te Escucha",0,"Anónimo","ANONIMO  ","Anónimo","Anónimo","N/A","N/A","Sin datos","Sin datos","Sin datos","Sin datos","DERECHO DE PETICIÓN DE INTERÉS GENERAL","Consulta general","Competencia otras entidades","SOLICITAMOS LA INTERVENCION PARA QUE SE LIBERE EL ESPACIO PUBLICO DE LA CRA. 81J CON CALLE 45 BARRIO GRAN BRITALIA KENNEDY POR LA INVACION DEL ESPACIO PUBLICO YA QUE ESTABLECIERON UN PARQUEADERO EN TODA LA CUADRA LA CUAL TIENE AFECTADOS A LOS HABITANTES DEL SECTOR","Solucionado - Por traslado","AREA DE ATENCION A LA CIUDADANIA","No Registra"]
[1884,2022,"NOVIEMBRE","2022-11-16","02:06:53","OLGA LUCÍA MESA MORENO","VIRTUAL","Bogotá te Escucha",0,"Anónimo","ANONIMO  ","Anónimo","Anónimo","N/A","N/A","Sin datos","Sin datos","Sin datos","Sin datos","QUEJA","Consulta general","Competencia otras entidades","MI QUEJA ES POR USO INADECUADO DEL ESPACIO PUBLICO  AGRESION AVECINOS Y MAL COMPORTAMIENTO DE PARTE DE EL SENOR AUGUSTO ARCOS QUIEN DEJA EN EL ANDEN SU CARRO TODO EL DIA Y SE MOLESTA SI SE LE PIDE EL FAVOR DE CORRERLO ADEMAS LAS PUERTA DE SU CASA TAMBIEN IMPIDEN EL LIBRE TRANSITO DE LOS VEHICULOS","Solucionado - Por traslado","AREA DE ATENCION A LA CIUDADANIA","No Registra"]
[1885,2022,"NOVIEMBRE","2022-11-16","02:39:42","OLGA LUCÍA MESA MORENO","VIRTUAL","Bogotá te Escucha",0,"Anónimo","ANONIMO  ","Anónimo","Anónimo","N/A","N/A","Sin datos","Sin datos","Sin datos","Sin datos","QUEJA","Asesoría en administración y sostenibilidad del espacio público","Asesoría en temas de espacio público","LA SIGUIENTE QUEJA ES PARA QUE A QUIEN LE CORRESPONDA TOME CARTAS EN EL ASUNTO YA QUE LA COMUNIDAD DE EL BARRIO EL LIBERTADOR ESTAMOS CANSADOS DE LOS ABUSOS Y LOS MALOS MANEJOS DE EL ESPACIO PUBLICO POR PARTE DE LA PRESIDENTA DE LA JUNTA DE ACCION COMUNAL DE EL LIBERTADOR.  INVACION DEL ESPACIO PUBLICO ACCESO A LOS  PARQUEADEROS DE LAS CASAS DE LOS PROPIETARIOS  YA QUE LA SENORA  TOMO PROPIEDAD  DE ELLA EL TERRENO  LAS VIAS PUBLICAS Y LOS FRENTES DE NUESTRAS CASAS  Y LOS TIENE EN USO DE PARQUEADERO  PARA BENEFICIO DE ELLA  NESECITAMOS SOLUCION  YA QUE NOSOTROS COMO  PARTE DE LA JUNTA NO ESTAMOS DE ACUERDO Y LA SENORA ES AGRESIVA CON LA CUMUNIDAD   .SOLICITAMOS PROMTA INTERVENCION POR PARTE DE QUIEN LE CORRESPONDA","Solucionado - Por asignacion","SUBDIRECCION DE GESTION INMOBILIARIA Y DEL ESPACIO PUBLICO","No Registra"]
[1886,2022,"NOVIEMBRE","2022-11-16","03:20:02","OLGA LUCÍA MESA MORENO","VIRTUAL","Bogotá te Escucha","Luzangelajim@yahoo.com","Ciudadanía","LUZ ANGELA JIMENEZ VALENCIA","Ciudadanía","Ciudadanía","Femenino","Mujer","Sin datos","Sin datos","Sin datos","Sin datos","DERECHO DE PETICIÓN DE INTERÉS PARTICULAR","Consulta general","Competencia otras entidades","ATENTAMENTE SOLICITO DEVOLUCION DE PAGO DE CEPO  EL DIA DE HOY DEJE ESTACIONADO EL CARRO Y EL SR AL CUAL LE HICE EL PAGO  NO ME INFORMO QUE EN CUANTO TERMINARA EL TIEMPO ME PONDRIAN EL CEPO  YO YA HABIA PARQUEADO ALLI Y ME PASE DE TIEMPO Y PAGUE EL EXCEDENTE  HOY DESAFORTUNADAMENTE SE DEMORO LA ENTREGA DE UNA MEDICINA LA CUAL ERA A MEDIA CUADRA Y SI HUBIESE SABIDO VOY Y PAGO MAS TIEMPO ADICIONAL.","Solucionado - Por traslado","AREA DE ATENCION A LA CIUDADANIA","13 Teusaquillo"]
[1887,2022,"NOVIEMBRE","2022-11-16","04:23:25","OLGA LUCÍA MESA MORENO","VIRTUAL","Bogotá te Escucha",0,"Anónimo","ANONIMO  ","Anónimo","Anónimo","N/A","N/A","Sin datos","Sin datos","Sin datos","Sin datos","DERECHO DE PETICIÓN DE INTERÉS GENERAL","Consulta general","Competencia otras entidades","EN LA ZONA SE TOMA ESPACIO PUBLICO PARA PARQUEO DE VEHICULOS    CAMIONES   VOLQUETAS  SE DEBE REALIZAR PAGO A PERSONAS DE NACIONALIDAD VENEZOLANA QUE EXIGEN PAGO O DANO DE VEHICULOS SIN CONTAR QUE PONEN BICITAXIS IMPIDIENDO LA LIBRE MOVILIDAD  ADEMAS TIENEN DOS CAMBUCHESEN DONDE VENDEN Y CONSUMEN ALUCINOGENOS SIN IMPORTAR HORA QUE ESTEN NINOS EN LA. ZONA QUE SE SUPONE RECIDENCIAL  LA POLICIA VIENE RECIBE TINTO Y SE VAN SIN PONER ORDEN","Solucionado - Por traslado","AREA DE ATENCION A LA CIUDADANIA","No Registra"]
[1888,2022,"NOVIEMBRE","2022-11-16","08:17:58","OLGA LUCÍA MESA MORENO","VIRTUAL","Bogotá te Escucha",0,"Anónimo","ANONIMO  ","Anónimo","Anónimo","N/A","N/A","Sin datos","Sin datos","Sin datos","Sin datos","QUEJA","Consulta general","Competencia otras entidades","SOLICITO POR FAVOR DEN CUMPLIMIENTO A LO INFORMADO POR LOS REDUCTORES DE VELOCIDAD EN VIA PUBLICA POR LOS VECINOS DE LA CUADRA  Y QUE NI LA ALCALDIA DE SAN CRISTOBAL NI SANTAFE HAY LLEVADO A CABO   ANEXO RESPUESTA Y COPIO CORREO ENVIADO. VISOINFORMATIVO_SDQS@ALCALDIABOGOTA.GOV.CO JUE  20 OCT  0 31 PARA MI   ASIGNACION A DEPENDENCIA COMPETENTE RADICADO - SECRETARIA DISTRITAL DE MOVILIDAD-SDM - SISTEMA DISTRITAL DE QUEJAS Y SOLUCIONES - (3718722022) ASIGNAR     CORDIAL SALUDO    EN ATENCION A SU COMUNICADO DIRIGIDO A LA ALCALDIA MAYOR DE BOGOTA  D.C.  DE MANERA ATENTA LE INFORMO QUE SU PETICION HA SIDO REGISTRADA Y DIRECCIONADA A TRAVES DE BOGOTA TE ESCUCHA  CON EL FIN QUE SE CONTINUE CON EL TRAMITE Y SE EMITA LA CORRESPONDIENTE RESPUESTA DENTRO DE LOS TERMINOS ESTABLECIDOS EN LA LEY. EN ESTE SENTIDO Y DE CONFORMIDAD CON LO DISPUESTO EN EL ARTICULO 21 DE LA LEY 1755 DEL 30 DE JUNIO DE 2015  ?POR MEDIO DE LA CUAL SE REGULA EL DERECHO FUNDAMENTAL DE PETICION Y SE SUSTITUYE UN TITULO DEL CODIGO DE PROCEDIMIENTO ADMINISTRATIVO Y DE LO CONTENCIOSO ADMINISTRATIVO? SU PETICION HA SIDO ASIGNADA A LA(S) SIGUIENTE(S) DEPENDENCIA (AS)  SUBDIRECCION DE SENALIZACION  POR LO TANTO  ESTA COMUNICACION NO DEBE SER CONSIDERADA COMO RESPUESTA  SINO COMO MEDIO DE INFORMACION PARA INDICAR LA RUTA QUE INICIA SU PETICION EN EL APLICATIVO SISTEMA BOGOTA TE ESCUCHA  FRENTE A LAS ENTIDADES DISTRITALES QUE LES CORRESPONDE DAR RESPUESTA DEFINITIVA.  PARA LA ADMINISTRACION DISTRITAL ES MUY IMPORTANTE INTERACTUAR CON USTED POR ESTA RAZON  LE INVITAMOS A MANTENER ACTUALIZADA SU INFORMACION DE CONTACTO PARA BRINDARLE UN MEJOR SERVICIO Y ATENCION. RECUERDE QUE  TAMBIEN PODRA CONSULTAR EL ESTADO Y DETALLE DE SU PETICION INGRESANDO DIRECTAMENTE A BOGOTA TE ESCUCHA  A TRAVES DE LA PAGINA WWW.BOGOTA.GOV.CO EN EL LINK BOGOTA TE ESCUCHA  CON SU USUARIO Y CONTRASENA. ASI MISMO  LO INVITAMOS A CONSULTAR EL PORTAFOLIO DE TRAMITES Y SERVICIOS DEL DISTRITO PUBLICADO EN LA GUIA DE TRAMITES Y SERVICIOS Y LA INFORMACION GEORREFERENCIADA DE LOS PUNTOS DE ATENCION EN EL MAPA CALLEJERO.   AGRADEZCO SU ATENCION.    CORDIALMENTE  SECRETARIA DISTRITAL DE MOVILIDAD-SDM PROYECTO  PENDIENTE REVISO  PENDIENTE ___________________ AVISO IMPORTANTE  ESTE CORREO ES ENVIADO DESDE EL SDQS COMO RESPUESTA AUTOMATICA EN EL REGISTRO  CLASIFICACION Y/O ATENCION DE SU PETICION. POR FAVOR  NO RESPONDER A ESTA DIRECCION DE CORREO  YA QUE NO ES REVISADA POR NINGUN USUARIO FUNCIONARIO.          LA INFORMACION AQUI CONTENIDA ES PARA USO EXCLUSIVO DE LA PERSONA O ENTIDAD DE DESTINO. ESTA ESTRICTAMENTE PROHIBIDA SU UTILIZACION  COPIA  DESCARGA  DISTRIBUCION  MODIFICACION Y/O REPRODUCCION TOTAL O PARCIAL  SIN EL PERMISO EXPRESO DE LA SECRETARIA GENERAL DE LA ALCALDIA MAYOR DE BOGOTA  PUES SU CONTENIDO PUEDE SER DE CARACTER CONFIDENCIAL Y/O CONTENER MATERIAL PRIVILEGIADO. SI USTED RECIBIO ESTA INFORMACION POR ERROR  POR FAVOR CONTACTE EN FORMA INMEDIATA A QUIEN LA ENVIO  BORRE ESTE MATERIAL DE SU COMPUTADOR Y ABSTENGASE DE USARLO  COPIARLO O DIVULGARLO. LA SECRETARIA GENERAL DE LA ALCALDIA MAYOR DE BOGOTA NO ES RESPONSABLE POR LA INFORMACION CONTENIDA EN ESTA COMUNICACION  EL DIRECTO RESPONSABLE ES QUIEN LA FIRMA O EL AUTOR DE LA MISMA. CONOZCA NUESTRA POLITICA DE PROTECCION DE DATOS PERSONALES  DE ACUERDO A LO ESTABLECIDO EN LA LEY 1581 DE 2012 EN  HTTP //SECRETARIAGENERAL.GOV.CO/TRANSPARENCIA/MECANISMOS-CONTACTO/PROTECCION-DATOS-PERSONALES  ","Solucionado - Por traslado","AREA DE ATENCION A LA CIUDADANIA","No Registra"]
[1889,2022,"NOVIEMBRE","2022-11-16","09:01:12","OLGA LUCÍA MESA MORENO","VIRTUAL","Bogotá te Escucha",0,"Anónimo","ANONIMO  ","Anónimo","Anónimo","N/A","N/A","Sin datos","Sin datos","Sin datos","Sin datos","DERECHO DE PETICIÓN DE INTERÉS GENERAL","Consulta general","Competencia otras entidades","INVASION DE ESPACIO PUBLICO POR VEHICULOS AUTOMOTORES DANO A SENDEROS PEATONALES DANO A ZONAS VERDES","Solucionado - Por traslado","AREA DE ATENCION A LA CIUDADANIA","No Registra"]
[1890,2022,"NOVIEMBRE","2022-11-17","09:02:28","OLGA LUCÍA MESA MORENO","VIRTUAL","Bogotá te Escucha",0,"Anónimo","ANONIMO  ","Anónimo","Anónimo","N/A","N/A","Sin datos","Sin datos","Sin datos","Sin datos","DERECHO DE PETICIÓN DE INTERÉS PARTICULAR","Consulta general","Competencia otras entidades","MI QUEJA ES PORUQE EN ESTE ESAPCIO QUE ES CALLE SE PARQUEANMOTOS DE ESOS CONJUNTOS  OSBTACULIZANDO EL APSO DE VEHICULOS  Y SIUNO LES DICE ALGO ENSEGUIDA AMENAZAN. SOLICITO DE MAERA URGENTESOLUCION PORQUE ES ESPACI PUBLICO Y LO COGIERONDE PARQUEADERO. MOVILIDAD HA IDO Y PEROTAMPOCO SOLUCINA NADA  SENORES ALCALDIA SOLICITAMOS UNA SOLUCION DEFINITIVA.","Solucionado - Por traslado","AREA DE ATENCION A LA CIUDADANIA","No Registra"]
[1891,2022,"NOVIEMBRE","2022-11-17","09:09:26","OLGA LUCÍA MESA MORENO","VIRTUAL","Bogotá te Escucha","edgararevalomendoza@yahoo.es","Entidades y Organismos Distritales","EDGAR AREVALO MENDOZA","Entidades y Organismos Distritales","Ciudadanía","Masculino","Hombre ","Sin datos","Sin datos","Sin datos","Sin datos","DERECHO DE PETICIÓN DE INTERÉS PARTICULAR","Asesoría en administración y sostenibilidad del espacio público","Asesoría en temas de espacio público","RADICADO DADEP N° 20224000274982  VIRTUAL--PQR-2022-2066. TRASLADO PETICION. SOLICITUD ELIMINACION SITIO DE DESECHOS DE BASURAS DIVERSAS CALLE 2 A CON CARRERA 3 BARRIO GIRARDOT.","Solucionado - Registro con preclasificacion","SUBDIRECCION DE GESTION INMOBILIARIA Y DEL ESPACIO PUBLICO","No Registra"]
[1892,2022,"NOVIEMBRE","2022-11-17","11:13:47","OLGA LUCÍA MESA MORENO","VIRTUAL","Bogotá te Escucha","sandrita.1988marojas@gmail.com","Ciudadanía","SANDRA MARCELA ROJAS MARTNEZ","Ciudadanía","Ciudadanía","Femenino","Mujer","Sin datos","Sin datos","Sin datos","Sin datos","DERECHO DE PETICIÓN DE INTERÉS PARTICULAR","Consulta general","Competencia otras entidades","SE SOLICITA SE REALICEN OPERATIVOS DE DESALOJO DE VEHICULOS Y PUESTOS DE COMERCIO INFORMAL QUE ESTAN PARQUEADOS SOBRE EL ANDEN Y LA VIA PUBLICA TRANSVERSAL 70 D BIS A (ENFRENTE DEL CONJUNTO TORRES DE BELLAVISTA TV 70D BIS A # 68-75 SUR).","Solucionado - Por traslado","AREA DE ATENCION A LA CIUDADANIA","No Registra"]
[1893,2022,"NOVIEMBRE","2022-11-17","02:09:06","OLGA LUCÍA MESA MORENO","VIRTUAL","Bogotá te Escucha","gladys9013@hotmail.es","Entidades y Organismos Distritales","GLADYS RODRIGUEZ LINARES","Entidades y Organismos Distritales","Ciudadanía","Femenino","Mujer","Sin datos","Sin datos","Sin datos","Sin datos","DERECHO DE PETICIÓN DE INTERÉS PARTICULAR","Asesoría en administración y sostenibilidad del espacio público","Asesoría en temas de espacio público","RADICADO ORFEO N° 20224000275552  VIRTUAL--20225510657371. TRASLADO PETICION. SDQS 3871462022. SOLICITUD DE INTERVENCION POR CASETAS DE VENTA DE COMIDA EN EL PARQUE CASTILLA  OBSTACULIZANDO EL ESPACIO PUBLICO.","Solucionado - Registro con preclasificacion","SUBDIRECCION DE GESTION INMOBILIARIA Y DEL ESPACIO PUBLICO","08 Kennedy"]
[1894,2022,"NOVIEMBRE","2022-11-17","02:39:29","OLGA LUCÍA MESA MORENO","VIRTUAL","Bogotá te Escucha",0,"Anónimo","ANONIMO  ","Anónimo","Anónimo","N/A","N/A","Sin datos","Sin datos","Sin datos","Sin datos","DERECHO DE PETICIÓN DE INTERÉS PARTICULAR","Consulta general","Competencia otras entidades","DE MANERA RESPETUOSA SOLICITO QUE ME ORDENEN LA RESOLUCION DEL PAGO DE LA INDEMNIZACION DE LA DEMANDA DONA JUANA TODA VEZ QUE DESDE FEBRERO ENVIE TODA LA DOCUMENTACION.","Solucionado - Por traslado","AREA DE ATENCION A LA CIUDADANIA","No Registra"]
[1895,2022,"NOVIEMBRE","2022-11-17","02:43:39","OLGA LUCÍA MESA MORENO","VIRTUAL","Bogotá te Escucha",0,"Anónimo","ANONIMO  ","Anónimo","Anónimo","N/A","N/A","Sin datos","Sin datos","Sin datos","Sin datos","DERECHO DE PETICIÓN DE INTERÉS PARTICULAR","Consulta general","Competencia otras entidades","SOLICITO DE MANERA RESPETUOSA QUE SE ME REALICE LO MAS PRONTO POSIBLE LA RESOLUCION QUE ORDENA EL PAGO DE LA INDEMNIZACION DE LA DEMANDA DONA JUANA.  ATENTAMENTE  NATALY VARON LOPEZ C.C. 1031123022","Solucionado - Por traslado","AREA DE ATENCION A LA CIUDADANIA","No Registra"]
[1896,2022,"NOVIEMBRE","2022-11-17","02:45:52","CRISTHIAN CAMILO MONTAÑA HERNANDEZ","VIRTUAL","Bogotá te Escucha","dfsuarezc@unal.edu.co","Ciudadanía","ANAID  SUAREZ NO REGISTRA","Ciudadanía","ANAID  SUAREZ NO REGISTRA","N/A","N/A","Sin datos","Sin datos","Sin datos","Sin datos","DERECHO DE PETICIÓN DE INTERÉS PARTICULAR","Asesoría en administración y sostenibilidad del espacio público","Denuncia cerramiento","Radicado Orfeo Dadep No  20224080275742  Asunto  -VIRTUAL- Derecho de peticion. Redes Sociales - Twitter - @anaidfsuarez - denuncia por presunto cerramiento de zonas verdes y espacio p??blico por privado en 70 A bis A # 117-15.","Solucionado - Registro con preclasificacion","SUBDIRECCION DE GESTION INMOBILIARIA Y DEL ESPACIO PUBLICO","No Registra"]
[1897,2022,"NOVIEMBRE","2022-11-17","02:51:38","CRISTHIAN CAMILO MONTAÑA HERNANDEZ","VIRTUAL","Bogotá te Escucha","Paty0718@gmail.com","Ciudadanía","PATTY  OLAYA NO REGISTRA","Ciudadanía","PATTY  OLAYA NO REGISTRA","N/A","N/A","Sin datos","Sin datos","Sin datos","Sin datos","DERECHO DE PETICIÓN DE INTERÉS PARTICULAR","Asesoría en administración y sostenibilidad del espacio público","Denuncia otros elementos","Radicado Orfeo Dadep No  20224080275752  Asunto  -VIRTUAL- Derecho de peticion. Redes Sociales. Facebook. denuncia por invasi??n deespacio p??blico en Cra 78b 33A.","Solucionado - Registro con preclasificacion","SUBDIRECCION DE GESTION INMOBILIARIA Y DEL ESPACIO PUBLICO","No Registra"]
[1898,2022,"NOVIEMBRE","2022-11-17","04:14:19","OLGA LUCÍA MESA MORENO","VIRTUAL","Bogotá te Escucha",0,"Anónimo","ANONIMO  ","Anónimo","Anónimo","N/A","N/A","Sin datos","Sin datos","Sin datos","Sin datos","DERECHO DE PETICIÓN DE INTERÉS GENERAL","Consulta general","Competencia otras entidades","DERECHO DE PETICION  CONSTRUCCIONES INDEBIDAS EN EL ESPACIO  PUBLICO Y REGULACION A VENDEDOR INFORMAL","Solucionado - Por traslado","AREA DE ATENCION A LA CIUDADANIA","No Registra"]
[1899,2022,"NOVIEMBRE","2022-11-18","07:46:29","OLGA LUCÍA MESA MORENO","VIRTUAL","Bogotá te Escucha","diego_2172@hotmail.com","Entidades y Organismos Distritales","DIEGO ARMANDO ARIAS FRANCO","Entidades y Organismos Distritales","Ciudadanía","Masculino","Hombre ","Sin datos","Sin datos","Sin datos","Sin datos","DERECHO DE PETICIÓN DE INTERÉS PARTICULAR","Asesoría en administración y sostenibilidad del espacio público","Asesoría en temas de espacio público","RADICADO DADEP N° 20224000275782  VIRTUAL--20225410656141. TRASLADO POR COMPETENCIA. SDQS 3888362022. SOLICITUD DE INTERVENCION POR PRESENCIA DE HABITANTES DE CALLE EN LA CR 82A ENTRE DG 38 BIS SUR Y DG 38 BIS B SUR  GENERANDO PROBLEMAS DE INSEGURIDAD EN PARQUE LLANO GRANDE.","Solucionado - Registro con preclasificacion","SUBDIRECCION DE GESTION INMOBILIARIA Y DEL ESPACIO PUBLICO","07 Bosa"]
[1900,2022,"NOVIEMBRE","2022-11-18","08:18:04","OLGA LUCÍA MESA MORENO","VIRTUAL","Bogotá te Escucha",0,"Anónimo","ANONIMO  ","Anónimo","Anónimo","N/A","N/A","Sin datos","Sin datos","Sin datos","Sin datos","SUGERENCIA","Consulta general","Competencia otras entidades","BUENOS DIAS  POR ESTE MEDIO REPORTO EL CARRO ADJUNTO QUE LLEVA VARIOS ANOS SIN UTILIZAR Y SE ESTA VOLVIENDO ESCONDITE PARA DELINCUENTE   Y FUMADORES  ADICIONAL TENGO ENTENDIDO QUE ES CONTAMINANTE PARA EL MEDIO AMBIENTE  ESTA UBICADO EN LA CL 61 BIS A 18 R 18 SUR BARRIO BOSQUE SUR  CERCA AL HOSPITAL DEL MEISSEN  POR FAVOR AYUDENOS A RETIRAR EL VEHICULO","Solucionado - Por traslado","AREA DE ATENCION A LA CIUDADANIA","No Registra"]
[1901,2022,"NOVIEMBRE","2022-11-18","10:16:30","OLGA LUCÍA MESA MORENO","VIRTUAL","Bogotá te Escucha","dixon3532@gmail.com","Ciudadanía","DIXON LEONARDO CALDERON ROJAS","Ciudadanía","Ciudadanía","Masculino","Hombre ","Sin datos","Sin datos","Sin datos","Sin datos","DERECHO DE PETICIÓN DE INTERÉS GENERAL","Consulta general","Competencia otras entidades","DERECHO DE PETICION","Solucionado - Por traslado","AREA DE ATENCION A LA CIUDADANIA","No Registra"]
[1902,2022,"NOVIEMBRE","2022-11-18","10:53:28","OLGA LUCÍA MESA MORENO","VIRTUAL","Bogotá te Escucha",0,"Anónimo","ANONIMO  ","Anónimo","Anónimo","N/A","N/A","Sin datos","Sin datos","Sin datos","Sin datos","DERECHO DE PETICIÓN DE INTERÉS GENERAL","Consulta general","Competencia otras entidades","INAVASION DEL ESPACIO PUBLICO CASETAS","Solucionado - Por traslado","AREA DE ATENCION A LA CIUDADANIA","No Registra"]
[1903,2022,"NOVIEMBRE","2022-11-18","11:36:44","OLGA LUCÍA MESA MORENO","VIRTUAL","Bogotá te Escucha",0,"Anónimo","ANONIMO  ","Anónimo","Anónimo","N/A","N/A","Sin datos","Sin datos","Sin datos","Sin datos","QUEJA","Consulta general","Competencia otras entidades","EN LA AVENIDA 1 DE MAYO CON CARRERA 68 I - 64  EN LA OBRA DE LA CONSTRUCTORA BUEN VIVIR  SE ESTA UTILIZANDO PASO PEATONAL PARA ACUMULAR RESIDUOS DE LA OBRA  NO PERMITIENDO EL PASO DE LOS PEATONES Y GENERANDO CONTAMINACION EN DONDE NO SE MANTIENE ORGANIZADO NI LIMPIO LO MAS TRISTE DE OTDO ES QUE ESTA AL LADO DE PARADEROS DEL SITP  UNA EPS  UN SUPERMERCADO  OFINAS DEL METRO Y DE UN COLEGIO!! O SEA UN PUNTO MUY USADO POR PEATONES AUN PEOR A CORTA DISTANCIA DE LA ALCALDIA LOCAL DE KENNEDY!","Solucionado - Por traslado","AREA DE ATENCION A LA CIUDADANIA","No Registra"]
[1904,2022,"NOVIEMBRE","2022-11-18","01:39:03","OLGA LUCÍA MESA MORENO","VIRTUAL","Bogotá te Escucha",0,"Anónimo","ANONIMO  ","Anónimo","Anónimo","N/A","N/A","Sin datos","Sin datos","Sin datos","Sin datos","DERECHO DE PETICIÓN DE INTERÉS PARTICULAR","Consulta general","Competencia otras entidades","DERECHO DE PETICION IMPULSO PROCESAL -SOLICITUD DE COPIA INTEGRA DEL EXPEDIENTE NUMERO DE EXPEDIENTE  20575  EXPEDIENTE OFREO   2016513870100020E MUY RESPETUOSAMENTE ME DIRIJO A SU HONORABLE DESPACHO PARA SOLICITARLE IMPULSO PROCESAL DEL EXPEDIENTE  N° 20575 OCUPACION INDEBIDA DE  ESPACIO PUBLICO CON CARROS EDIFICIO EL MAGNOLIO COMO QUIERA QUE DESDE EL AUTO QUE DECRETA PRUEBAS  N° 117 DE FECHA 2016  SE REALIZO VISITA POR PARTE DE PERITO AL EDIFICIO EL MAGNOLIO UBICADO EN LA CRA 14 N° 103-54 EL DIA 12 DE NOVIEMBRE DE 2019  ( CONTROL URBANISTICO ) NO HA TENIDO NINGUN TIPO DE AVANCE EL EXPEDIENTE 20575.","Solucionado - Por traslado","AREA DE ATENCION A LA CIUDADANIA","No Registra"]
[1905,2022,"NOVIEMBRE","2022-11-18","01:45:00","OLGA LUCÍA MESA MORENO","VIRTUAL","Bogotá te Escucha",0,"Anónimo","ANONIMO  ","Anónimo","Anónimo","N/A","N/A","Sin datos","Sin datos","Sin datos","Sin datos","DERECHO DE PETICIÓN DE INTERÉS PARTICULAR","Consulta general","Competencia otras entidades","MUY RESPETUOSAMENTE ME DIRIJO A SU HONORABLE DESPACHO PARA SOLICITARLE IMPULSO PROCESAL DEL EXPEDIENTE  N° 20575 OCUPACION INDEBIDA DE  ESPACIO PUBLICO CON CARROS EDIFICIO EL MAGNOLIO COMO QUIERA QUE DESDE EL AUTO QUE DECRETA PRUEBAS  N° 117 DE FECHA 2016  SE REALIZO VISITA POR PARTE DE PERITO AL EDIFICIO EL MAGNOLIO UBICADO EN LA CRA 14 N° 103-54 EL DIA 12 DE NOVIEMBRE DE 2019  ( CONTROL URBANISTICO ) NO HA TENIDO NINGUN TIPO DE AVANCE EL EXPEDIENTE 20575.","Solucionado - Por traslado","AREA DE ATENCION A LA CIUDADANIA","No Registra"]
[1906,2022,"NOVIEMBRE","2022-11-18","02:16:32","OLGA LUCÍA MESA MORENO","VIRTUAL","Bogotá te Escucha","renatoduranq@hotmail.com","Ciudadanía","GASTON RENATO DURAN QUINTERO","Ciudadanía","Ciudadanía","Masculino","Hombre ","Sin datos","Sin datos","Sin datos","Sin datos","DERECHO DE PETICIÓN DE INTERÉS PARTICULAR","Consulta general","Competencia otras entidades","OCUPACION INDEBIDA DE ESPACIO PUBLICO  POR USO DE PARQUEADERO ILEGAL DEL RESTAURANTE LA MARIMONDA DEL MONO UBICADO JUSTO EN FRENTE DE MI DIRECCION  LOS VISITANTES AL RESTAURANTE PARQUEAN EN LAS DOS ACERAS DE LA VIA  SIENDO LA CARRERA 13 UNA VIA PRINCIPAL QUE OBSTACULIZAN EL TRANSITO Y LA ENGTRADA A LOS PARQUEADEROS DE LAS RESIDENCIAS ALEDANAS A TODAS HORAS DEL DIA DE DOMINGO A DOMINGO  ADEMAS GENERANDO INSEGURIDAD  POLUCION AUDITIVA HAS ALTAS HORAS DE LA NOCHE","Solucionado - Por traslado","AREA DE ATENCION A LA CIUDADANIA","No Registra"]
[1907,2022,"NOVIEMBRE","2022-11-18","04:29:10","OLGA LUCÍA MESA MORENO","VIRTUAL","Bogotá te Escucha",0,"Anónimo","ANONIMO  ","Anónimo","Anónimo","N/A","N/A","Sin datos","Sin datos","Sin datos","Sin datos","QUEJA","Consulta general","Competencia otras entidades","QUEJA  LOS DIAS LUNES  MIERCOLES Y VIERNES  FRENTE AL COLEGIO PABLO NERUDA SE SUELEN PARQUEAR CARRETAS RECICLADORAS LAS CUALES  GENERAR BASURA E IMPIDEN EL TRAFICO DE LOA AUTOMOVILES POR LA UBICACAION DE LAS MISMAS. ADICIONALMENTE  TIENEN NINOS Y SE OBSERVA VIOLENCIA EMOCIONAL A LOS MISMOS.","Solucionado - Por traslado","AREA DE ATENCION A LA CIUDADANIA","No Registra"]
[1908,2022,"NOVIEMBRE","2022-11-19","07:34:58","OLGA LUCÍA MESA MORENO","VIRTUAL","Bogotá te Escucha",0,"Anónimo","ANONIMO  ","Anónimo","Anónimo","N/A","N/A","Sin datos","Sin datos","Sin datos","Sin datos","DERECHO DE PETICIÓN DE INTERÉS GENERAL","Asesoría en administración y sostenibilidad del espacio público","SALON COMUNAL","CORDIAL SALUDO. PREVIAMENTE RELATADO EN 20224080215032 12/09/2022 Y SDQS 3270502022 DENUNCIA POR PRESUNTAS IRREGULARIDADES CONVENIO SOLIDARIO N°110-00129-8-0-2021  LA RESPUESTA EMITIDA POR SU ENTIDAD REFERENTE A LOS ANTECEDENTES Y LOS HECHOS  SE RECIBEN CON BASTANTE INCERTIDUMBRE EN TANTO YA QUE LO ANALIZADO POR QUIEN DIO LA RESPUESTA  CARECE DE TODO VALOR Y CRITERIO DE ANALISIS. ASI MISMO EVADEN EN DAR UNA RESPUESTA DE FONDO Y AMABLE HACIA LOS CIUDADANOS.  FRENTE A LOS HECHOS CONSOLIDADOS Y SI SE TRATASE DE UN ANALISIS INTEGRAL REALIZADO PARA EL RUPI 364-77  SE PUEDE IDENTIFICAR QUE FRENTE AL PRIMER HECHO  EL DEPARTAMENTO ADMINISTRATIVO REALIZO LA RECUPERACION DE SALON COMUNAL Y LA VISITA 09/04/2018 ADELANTADA POR LA PROFESIONAL LUISA FERNANDA SANCHEZ EN SU MOMENTO  LA CUAL PUEDE SER CONSTATADA EN SU SISTEMA DE INFORMACION. SITUACION QUE NO SOLO EN SU RESPUESTA ADOLECE DE TODO CRITERIO PROFESIONAL  SINO OMITE SU LABOR COMO ENTIDAD DE EVALUAR LOS ANTECEDENTES RIGUROSAMENTE.  POR OTRO LADO  LA RESPUESTA DE MANERA ARBITRARIA Y ABUSIVA DESCONOCE LOS MOTIVOS PUES EL CRITERIO DE FONDO ES REALIZAR LA VISITA EL DIA DOMINGO Y CONSTATAR LOS HECHOS RELATADOS. YA QUE LA FALTA DE RESPETO HACIA AL CIUDADANO EN RESPONDER ?NO NOS CONSTA? ES UNA CLARA OMISION DE LA SUPERVISION QUE DEBE EJERCER SU ENTIDAD HACIA EL PATRIMONIO INMOBILIARIO DE LA CIUDAD  CREYENDO QUE ESTA ES UNA RESPUESTA QUE SATISFACE CUANDO LA SITUACION SE REPITE Y USTEDES COMO ENTIDAD NO ESTAN HACIENDO NADA.  INDISTINTAMENTE SE REITERA QUE LA ACTIVIDAD QUE SE DESARROLLA CADA DOMINGO NO ES UNA ACTIVIDAD QUE OBLIGUE TENER LA MAYORIA DE POBLACION  PERO SI ES AJENA A LAS ACTIVIDADES QUE COMO COMUNIDAD SE DEBEN RESALTAR POR ELLO SE REITERA QUE LA ACTIVIDAD DE IGLESIA Y SU CULTO NO ES UNA ACTIVIDAD PROPIA DE SALON COMUNAL NI DE LA COMUNIDAD  EN TANTO NO BENEFICIA EL INTERES GENERAL  SINO A UN SECTOR REDUCIDO DE LA MISMA. SIN EMBARGO  LA SUPERVISION INTERDISCIPLINARIA DESIGNADA EVADE SU RESPONSABILIDAD CON RESPUESTAS MEDIOCRES  PUES EN TANTO EL SENOR EFRAIN SUSANO  SI ESTA NEGOCIANDO EL USO  DISFRUTE EN USUFRUCTUO A SU PECUNIO EN ACTIVIDADES DIFERENTES A LA DE UN SALON COMUNAL  TANTO ASI QUE SEGUN EL CONTRATO EN LA CLAUSULA TERCERA  LITERAL 10) ?PROPENDER POR DAR TRATAMIENTO PRIORITARIO A LAS SOLICITUDES DE USO DEL SALON COMUNAL PARA EL DESARROLLO DE PROGRAMAS  PROYECTOS O ACTIVIDADES QUE DIRECTAMENTE DESARROLLE CUALQUIER ENTIDAD PUBLICA DEL ORDEN LOCAL  DISTRITAL O NACIONAL  SIEMPRE Y CUANDO EXISTA LA DISPONIBILIDAD REQUERIDA.? EN ELLO SE EVIDENCIA QUE LA ACTIVIDAD DE IGLESIA NO ES UNA ACTIVIDAD QUE SE DE EN EL MARCO DE CONTRATO PUES NO VINCULA NINGUN PROGRAMA.  A LA FECHA NO SE HA RECIBIDO COPIA DE LA VISITA QUE SE ADELANTARA EN EL MES DE OCTUBRE  TAL Y COMO DICE EL RADICADO N° 20223050151931  POR OTRO LADO  CONFORME A LO MANIFIESTO EN LAS PETICIONES REALIZADAS  LAS CUALES NINGUNAS HAN SIDO CUMPLIDAS  127-GUIAP-01 PUBLICADA EN SU SISTEMA EN LA VERSION 09  PAGINA 37  NUMERAL 4.2.2.2.5. SEGUIMIENTO A CONVENIOS SOLIDARIOS MENCIONAN ?EL EQUIPO DE SEGUIMIENTO CONTRACTUAL  DEBE DILIGENCIAR TRIMESTRALMENTE EL FORMATO MATRIZ DE SEGUIMIENTO DE OBLIGACIONES CONTRACTUALES E INFORMES PARA CAMEP (127-FORAP-15) QUE PERMITE ADELANTAR UN CONTROL Y SEGUIMIENTO ESPECIFICO A CADA UNA DE LAS OBLIGACIONES DEL CONVENIO  CON LAS RESPECTIVAS EVIDENCIAS QUE ACREDITAN SU CUMPLIMIENTO.? SOLICITAMOS COPIA DEL ULTIMO SEGUIMIENTO  PUES SI EN SU SEGUIMIENTO NO SE IDENTIFICAN ACCIONES A LAS REPORTADAS  LA ENTIDAD EVIDENTEMENTE ESTARIA EN UN INCUMPLIMIENTO Y SERIA FALSO AFIRMAR LO SIGUIENTE  ?EL CONTRATISTA SE ENCUENTRA AL DIA CON LA PRESENTACION DE LOS INFORMES Y LOS RENDIMIENTOS QUE SE PUDIERAN GENERAR DURANTE LA VIGENCIA 2022 SERAN OBJETO DEL INFORME DE GESTION QUE SE DEBE PRESENTAR EN EL ANO 2023? TRATANDOSE ESTE UNA SITUACION QUE PUEDE GENERAR RECURSOS.  REFLEJA ASI MISMO  LA FALTA DE CRITERIO Y SEGUIMIENTO QUE EL MISMO CLAUSULADO PUES NO HAY RESPUESTA DE LA ANUENCIA O NO SI LA JAC SOLICITO PERMISO DE USO.","Solucionado - Por asignacion","SUBDIRECCION DE GESTION INMOBILIARIA Y DEL ESPACIO PUBLICO","No Registra"]
[1909,2022,"NOVIEMBRE","2022-11-20","08:39:20","OLGA LUCÍA MESA MORENO","VIRTUAL","Bogotá te Escucha",0,"Anónimo","ANONIMO  ","Anónimo","Anónimo","N/A","N/A","Sin datos","Sin datos","Sin datos","Sin datos","DERECHO DE PETICIÓN DE INTERÉS GENERAL","Consulta general","Competencia otras entidades","EN EL ESTABLECIMIENTO VENDEN COMIDA EN DESCOMPOSICION  HACEN FOGATAS EM EL ESPACIO PUBLICO  HAY CONTAMINACION AUDITIVA Y DE HUMO TODOS LOS FINES DE SEMANA","Solucionado - Por traslado","AREA DE ATENCION A LA CIUDADANIA","No Registra"]
[1910,2022,"NOVIEMBRE","2022-11-21","10:02:22","PAULA ALEJANDRA MARTÍNEZ CALDERÓN ","VIRTUAL","Bogotá te Escucha",0,"Ciudadanía","ANONIMO  ","Ciudadanía","Ciudadanía","Femenino","Mujer","Sin datos","Sin datos","Sin datos","Sin datos","DERECHO DE PETICIÓN DE INTERÉS GENERAL","Consulta general","Competencia otras entidades","MEDIANTE LLAMADA TELEFONICA SE DENUNCIA POR PARTE DEL CIUDADANO QUIEN SOLICITA IDENTIFICARSE COMO ANONIMO REALIZA LA SIGUIENTE DENUNCIA   EN LA LOCALIDAD DE SUBA EN LA DIRECCION CL 132 Y CL 132A Y AV. CIUDAD DE CALI A LA CARRERA 110A (AVENIDA EL TABOR) DENUNCIA QUE UNA CALLE FUE TOMADA COMO PARQUEADERO PUBLICO  HAY PARQUEO ILEGAL DE VEHICULOS PESADOS (CAMIONES  TRACTO MULAS  PLANCHONES)  VERIFICADA LA DIRECCION ES UNA AREA DE CONTROL AMBIENTAL O AISLAMIENTO DE LA AVENIDA EL TABOR  DONDE EL SENOR REALIZA EL COBRO Y PARQUEO ILEGAL DE VEHICULOS SOBRE VIA PUBLICA. ASI MISMO  EL DANO OCASIONADO A LA VIA PUBLICA POR EL TRANSITO DE VEHICULOS PESADOS  LA PERSONA QUE OPERA AMENAZA A LOS VECINOS DE LA ZONA Y AGREDE A LOS VECINOS  ESTA SITUACION HA FACULTADO LA MALA DISPOSICION DE LOS RESIDUOS Y LA BASURA  DESDE SILLAS Y ESCOMBROS Y LA INSEGURIDAD EN LA ZONA EN EL EXPENDIO DE DROGAS.  SE SOLICITA POR PARTE DEL CIUDADANO EL EJERCICIO DE RECUPERACION DE ESPACIO PUBLICO EN CABEZA DE LAS AUTORIDADES LOCALES Y SE DE INICIO A VISITA FISICA DE LA ALCALDIA LOCAL DE SUBA Y SE INICIE ACTUACIONES ADMINISTRATIVAS CON LA APERTURA DE EXPEDIENTE POR USO INDEBIDO DEL ESPACIO PUBLICO. ASI MISMO  SE REALICEN OPERATIVOS EN LA ZONA EN LA MULTA Y SANCION A QUIEN USUFRUCTUA EL ESPACIO PUBLICO  COMO LA RECUPERACION DEFINITIVA CON AUTORIDAD PUBLICA EN CABEZA DE LOS ALCALDES LOCALES.","Solucionado - Por traslado","AREA DE ATENCION A LA CIUDADANIA","No Registra"]
[1911,2022,"NOVIEMBRE","2022-11-21","03:26:04","OLGA LUCÍA MESA MORENO","VIRTUAL","Bogotá te Escucha",0,"Anónimo","ANONIMO  ","Anónimo","Anónimo","N/A","N/A","Sin datos","Sin datos","Sin datos","Sin datos","QUEJA","Consulta general","Competencia otras entidades","DERECHO AL ESPACIO PUBLICO MALAGA CASTILLA RESERVADO","Solucionado - Por traslado","AREA DE ATENCION A LA CIUDADANIA","No Registra"]
[1912,2022,"NOVIEMBRE","2022-11-22","09:00:18","OLGA LUCÍA MESA MORENO","VIRTUAL","Bogotá te Escucha",0,"Anónimo","ANONIMO  ","Anónimo","Anónimo","N/A","N/A","Sin datos","Sin datos","Sin datos","Sin datos","QUEJA","Consulta general","Competencia otras entidades","EXISTE EN FUNCIONAMIENTO UN TALLER DE MECANICA UBICADO EN LA CARRERA 16A NO 4A-60 EL CUAL REALIZA ARREGLO DE VEHICULOS DE SALVAMENTO EN LA CALLE  GENERANDO DESORDEN DE MOVILIDAD DEBIDO A QUE SE ADUENAN DE LA CUADRA ARREGLANDO DICHOS VEHICULOS TODOS LOS DIAS DE LA SEMANA INCLUYENDO DOMINGOS Y FESTIVOS DESE MUY TEMPRANO OBSTACULIZANDO LA VIA PUBLICA Y EL PASO DE INGRESO Y SALIDA DE MI CASA  ES DE ACLARAR QUE EXISTE UNA SENAL DE PROHIBIDO PARQUEAR LA CUAL NO ES IMPEDIMENTO PARA DEJAR DICHOS VEHICULOS EN MAL ESTADO DESDE HORAS DE LA MANANA HASTA TARDE LA NOCHE  INCLUSIVE DEJANDO FURGONES ABANDONADOS POR SEMANAS SOBRE EL ANDEN PEATONAL. ESTA SITUACION ES CONSTANTE Y MUY ABURRIDORA  SE HAN REALIZADO INFINIDAD DE LLAMADAS A LA LINEA 123 MANIFESTANDO LA SITUACION  ELLOS DICEN QUE ENVIAN UNA UNIDAD Y JAMAS LLEGAN A ATENDER EL REQUERIMIENTO Y POR ESO DICHO TALLER HACE LO QUE QUIERE. ESTO GENERA CONTAMINACION VISUAL  AMBIENTAL POR LOS RESIDUOS DE LOS  CARROS EN MAL ESTADO CON DESECHOS COMO ACEITE  GASOLINA ETC. AL IGUAL QUE CONTAMINACION AUDITIVA POR LOS GOLPES DADO A ESOS CARROS PARA ENDEREZAR LATAS. DE ACUERDO CON LA LEY 769 DEL 6 DE AGOSTO DE 2002 POR MEDIO DE LA CUAL SE EXPIDE EL CODIGO NACIONAL DE TRANSITO TERRESTRE  LAS NORMAS QUE REGULAN EL ESTACIONAMIENTO EN VIA PUBLICA COMO LO ESTA DESCRITO EN LOS ARTICULOS 75  76  79 Y 127  SON DE CONDUCTA REPROCHABLE POR DICHO TALLER. CON ESTA QUEJA NO SE BUSCA VULNERAR EL DERECHO AL TRABAJO POR EL CONTRARIO  SE BUSCA QUE TENGAN UN COMPORTAMIENTO ADECUADO A LAS NORMAS Y A LO ESTIPULADO CON EL LUGAR DONDE SE DEBEN REALIZAR DICHOS ARREGLOS QUE ES DENTRO DE SU LUGAR DE TRABAJO  NO EN LA CALLE.","Solucionado - Por traslado","AREA DE ATENCION A LA CIUDADANIA","No Registra"]
[1913,2022,"NOVIEMBRE","2022-11-22","09:44:27","OLGA LUCÍA MESA MORENO","VIRTUAL","Bogotá te Escucha",0,"Anónimo","ANONIMO  ","Anónimo","Anónimo","N/A","N/A","Sin datos","Sin datos","Sin datos","Sin datos","DERECHO DE PETICIÓN DE INTERÉS GENERAL","Certificación de la propiedad inmobiliaria distrital","Certificación de la propiedad inmobiliaria","SOLICITUD INFORMACION PLAN DE REASENTAMIENTO PARQUE ALTOS DE LA ESTANCIA","Solucionado - Por asignacion","SUBDIRECCION DE REGISTRO INMOBILIARIO","No Registra"]
[1914,2022,"NOVIEMBRE","2022-11-22","12:24:28","OLGA LUCÍA MESA MORENO","VIRTUAL","Bogotá te Escucha","diegovargasdiaz@gmail.com","Ciudadanía","DIEGO ANDRES VARGAS DIAZ","Ciudadanía","Ciudadanía","Masculino","Hombre ","Sin datos","Sin datos","Sin datos","Sin datos","DERECHO DE PETICIÓN DE INTERÉS PARTICULAR","Asesoría en administración y sostenibilidad del espacio público","Parqueaderos","DERECHO DE PETICION SOLITUD DE BAHIA RUPI 54-6 EN NOMBRE DE OLGA FENITH LEAL MELO EN LA CLAIDAD DE REPRESENTANTE LEGAL DE LA ONG POR EL DERECHO A LA VIDA Y BIODIVERSIIDAD  DE MANERA RESPETUOSA SOLICITAMOS LOS REQUISITOS PARA SOLITAR EN  ADMINISTRACION DEL ESPACIO PUBLICO  IDENTIFICADO RUPI-54-6. ","Solucionado - Por asignacion","SUBDIRECCION DE GESTION INMOBILIARIA Y DEL ESPACIO PUBLICO","No Registra"]
[1915,2022,"NOVIEMBRE","2022-11-22","12:46:44","OLGA LUCÍA MESA MORENO","VIRTUAL","Bogotá te Escucha","avilabarber@gmail.com","Ciudadanía","Daniel cardenas pineda","Ciudadanía","Ciudadanía","Masculino","Hombre ","Sin datos","Sin datos","Sin datos","Sin datos","QUEJA","Consulta general","Competencia otras entidades","BUENOS DIAS   ME DIRIJO AUSTEDES CON EL FIN DE INFORMARLES UNA INVACION MASIVA DEL ESPACIO PUBLICO AL FRENTE DE LOS LOCALES DE COMERCIO GENERANDO TRANCONES Y ACCIDENTES DE TRANSITO Y DE PEATONES TAMBIEN LLEGANDO A TENER INCONVENIENTES DE TOLERANCIA CON ESTOS VENDEDORES AMBULANTES YA QUE AL REALIZAR EL RESPECTIVO RECLAMO DE QUE DEJEN LA ENTRADA A LOS LOCALES AMENAZAN A LOS COMERCIANTES  SE APODERAN DE LA CALLE DONDE TRANSITAN LOS  CARROS Y NO LE DAN ESPACIO A LOS PEATONES","Solucionado - Por traslado","AREA DE ATENCION A LA CIUDADANIA","No Registra"]
[1916,2022,"NOVIEMBRE","2022-11-22","05:38:03","OLGA LUCÍA MESA MORENO","VIRTUAL","Bogotá te Escucha",0,"Anónimo","ANONIMO  ","Anónimo","Anónimo","N/A","N/A","Sin datos","Sin datos","Sin datos","Sin datos","DERECHO DE PETICIÓN DE INTERÉS GENERAL","Consulta general","Competencia otras entidades","FRENTE AL PARQUE FONTANAR DEL RIO Y DETRAS DEL CAI FONTANAR SE APROPIARON DE UN TERRENO DONDE PASARIA UNA VIA E HICIERON UN SUPUESTO PARQUEADERO COMUNAL  IGUAL QUE EN LA PARTE DE ABAJO DONDE HAY OTRO PARQUEADERO ¨COMUNAL¨ PERO DONDE COBRAN UNA MENSUALIDAD DE $160.000 POR 150 CARROS QUE PARQUEAN AHI","Solucionado - Por traslado","AREA DE ATENCION A LA CIUDADANIA","No Registra"]
[1917,2022,"NOVIEMBRE","2022-11-22","06:50:59","OLGA LUCÍA MESA MORENO","VIRTUAL","Bogotá te Escucha",0,"Anónimo","ANONIMO  ","Anónimo","Anónimo","N/A","N/A","Sin datos","Sin datos","Sin datos","Sin datos","DERECHO DE PETICIÓN DE INTERÉS GENERAL","Consulta general","Competencia otras entidades","OCUPACION ILEGAL DEL ESPACIO PUBLICO PARA FINES COMERCIALES  LO CUAL GENERA CONGESTION DEL TRAFICO PEATONAL Y AUMENTA EL RIESGO DE ACCIDENTES DE TRANSITO DEBIDO A QUE EL PEATON NO PUEDE USAR EL ANDEN Y TIENE QUE HACER USO DE LA FRANJA VEHICULAR PARA PODER TRANSITAR.","Solucionado - Por traslado","AREA DE ATENCION A LA CIUDADANIA","No Registra"]
[1918,2022,"NOVIEMBRE","2022-11-22","06:52:34","OLGA LUCÍA MESA MORENO","VIRTUAL","Bogotá te Escucha",0,"Anónimo","ANONIMO  ","Anónimo","Anónimo","N/A","N/A","Sin datos","Sin datos","Sin datos","Sin datos","DERECHO DE PETICIÓN DE INTERÉS GENERAL","Consulta general","Competencia otras entidades","POR MEDIO DE LA PRESENTE MANIFIESTO LA INCONFORMIDAD QUE SE ESTA PRESENTANDO EN EL INMUEBLE MENCIONADO YA QUE INVADIERON EL ESPACIO PUBLICO CON UNA ESCALERA METALICA DE APROXIMADAMENTE 60 CENTIMETROS DE ANCHOR POR 3 METROS DE ALTURA EL CUAL OBSTACULIZA EL PASO Y LLEVANDO ORIGEN A UN SEGUNDO PISO DONDE FUNCIONA UN BILLAR O DISCOTECA POR PERSONAS DESCONOCIDAS DE ORIGEN COSTENO O VENEZOLANOS DE PIEL NEGRA  INCOMODANDO CON ALTOS VOLUMEN DE MUSICA DE 6 AM A 6PM DE DOMDINGO A DOMINGO ADICINAL EL ESTABLECIMEIENTO ES UN EXPENDIDO DE DROGAS ALUCINOGENAS COMO MARIGUANA PERICO BASUCO ENTRE TANTAS  LAS CUALES SON EXPENDIDAS EN DICHO INMUEBLE DENTRO Y FUERA (ESCALERAS) AFECTANDO LA SEGURIDAD  LA CONVIVENCIA DE LA COMUNIDAD YA QUE ESTOS INDIVIDUOS VENDEN LOS ESTUPEFACIENTES EN LA CALLE  LOS ANDENES LAS PUERTAS  LAS PAREDES DE LAS PARA HACER SUS NESECIDADES FISIOLOGICAS TENIENDO EL DESCARO DE ORINAR EN PLENO DIA SIN RESPERTAR MUJERES NINOS EN GENERAL SACANDO LOS GENITALES PEOR QUE UN INDIGENTE LLEGANDO A LA SITUACIOJN DE CONFLICTOS ENTRE LOS ROPIETARIOS ALEDANOS AL ESTE LUGAR Y LOS ESPENDEDORES DE DROGAS LLEGANDO A LA SITUACION DE AMENAZAS POR EXIGIR QUE NO CONSUMAN ALUCINOGENOS U ORINEN.  DE ACUERDO CON EL INMUEBLE QUE INVADIO EL ESPACIO PUBLICO Y EL  ESPACIO PEATONAL PARA PONER COMO ACCESO AL SEGUNDO PISO LA ESCALERA SE LE HA PEDIDO DE MANERA RESPETUOSA AL PROPIETARIO DEL INMUEBLE TOMAR MEDIAS PREVENTIVAS PARA EVITAR CONFLICTOS CON LAS PERSONAS MENCIONADAS SIN QUE DICHO PROPIETARIO O ADMINITRADOR DEL INMUEBLE  HALLA TOMADO MEDIDAS AL RESPECTO. SE CONSIDERA QUE LA ALCALDIA LOCAL DEBE DE VELAR POR LA SEGURIDAD  EL ESPACIO PUBLICO EL EXCESO DE RUIDOS Y OTROS ENTES DE CONTROL QUE DESPRENDEN DE LAS ALCALDIAS QUE DEBEN DE VELAR POR EL BUEN FUNCIONAMIENTO DE LOS ESTABLECIMIENTOS CONSIDERO QUE ESTAN FALLANDO POR QUE EL ESTABLECIMIENTO NO CUMPLE CON NINGUN PROTOCOCLO DE SEGUDAD.  DE ACUERDO CON LA DENUNCIA SE DEBE TENER EN CUENTA QUE EL ESTABLECIMIENTO NO TIENE PUBLICIDAD Y EN CIERTAS HORAS PERMANECE CON LA PUERTA CERRADA PARA NO DAR ACCESO AL PUBLICO NO CONOCIDO. POR LO ANTERIOR SOLICITO A USTEDES SOLUCIONAR LA  INVACION DEL ESPACIO PUBLICO (ESCALERA).","Solucionado - Por traslado","AREA DE ATENCION A LA CIUDADANIA","No Registra"]
[1919,2022,"NOVIEMBRE","2022-11-22","08:48:27","OLGA LUCÍA MESA MORENO","VIRTUAL","Bogotá te Escucha","maria.monroy0818@gmail.com","Ciudadanía","LINA MARIA MONROY BARRERA","Ciudadanía","Ciudadanía","Femenino","Mujer","Sin datos","Sin datos","Sin datos","Sin datos","DERECHO DE PETICIÓN DE INTERÉS PARTICULAR","Asesoría en administración y sostenibilidad del espacio público","Parqueaderos","INCONFORMIDAD FORMA DE GESTION Y SEGURIDAD DE LA ZONA DE PARQUEO DONDE DEJO MI VEHICULO Y SOLCITUD DE INFORMACION ANTE EL DADEP COMO RESPONSABLE","Solucionado por asignar - Trasladar","SUBDIRECCION DE GESTION INMOBILIARIA Y DEL ESPACIO PUBLICO","11 Suba"]
[1920,2022,"NOVIEMBRE","2022-11-22","11:52:41","OLGA LUCÍA MESA MORENO","VIRTUAL","Bogotá te Escucha","erick.morales@wom.co","Ciudadanía","ERICK XAVIER MORALES GONZALEZ","Ciudadanía","Ciudadanía","Masculino","Hombre ","Sin datos","Sin datos","Sin datos","Sin datos","DERECHO DE PETICIÓN DE INTERÉS PARTICULAR","Certificación de la propiedad inmobiliaria distrital","Certificación de la propiedad inmobiliaria","SOLICITUD DE CERTIFICACION SOBRE DOMINIO  DESTINO Y USO DE LA PROPIEDAD INMOBILIARIA DISTRITAL  CON EL FIN DE OBTENER LA FACTIBILIDAD PARA LA LOCALIZACION DE UNA ESTACION RADIOELECTRICA DE TELECOMUNICACIONES PARA LA PRESTACION DE SERVICIOS PUBLICOS DE TIC EN BOGOTA D.C.","Solucionado - Por asignacion","SUBDIRECCION DE REGISTRO INMOBILIARIO","No Registra"]
[1921,2022,"NOVIEMBRE","2022-11-22","11:57:58","OLGA LUCÍA MESA MORENO","VIRTUAL","Bogotá te Escucha","erick.morales@wom.co","Ciudadanía","ERICK XAVIER MORALES GONZALEZ","Ciudadanía","Ciudadanía","Masculino","Hombre ","Sin datos","Sin datos","Sin datos","Sin datos","DERECHO DE PETICIÓN DE INTERÉS PARTICULAR","Certificación de la propiedad inmobiliaria distrital","Certificación de la propiedad inmobiliaria","SOLICITUD DE CERTIFICACION SOBRE DOMINIO  DESTINO Y USO DE LA PROPIEDAD INMOBILIARIA DISTRITAL  CON EL FIN DE OBTENER LA FACTIBILIDAD PARA LA LOCALIZACION DE UNA ESTACION RADIOELECTRICA DE TELECOMUNICACIONES PARA LA PRESTACION DE SERVICIOS PUBLICOS DE TIC EN BOGOTA D.C. - RS_BOG&AM_2031","Solucionado - Por asignacion","SUBDIRECCION DE REGISTRO INMOBILIARIO","No Registra"]
[1922,2022,"NOVIEMBRE","2022-11-23","12:05:28","OLGA LUCÍA MESA MORENO","VIRTUAL","Bogotá te Escucha","erick.morales@wom.co","Ciudadanía","ERICK XAVIER MORALES GONZALEZ","Ciudadanía","Ciudadanía","Masculino","Hombre ","Sin datos","Sin datos","Sin datos","Sin datos","DERECHO DE PETICIÓN DE INTERÉS PARTICULAR","Certificación de la propiedad inmobiliaria distrital","Certificación de la propiedad inmobiliaria","SOLICITUD DE CERTIFICACION SOBRE DOMINIO  DESTINO Y USO DE LA PROPIEDAD INMOBILIARIA DISTRITAL  CON EL FIN DE OBTENER LA FACTIBILIDAD PARA LA LOCALIZACION DE UNA ESTACION RADIOELECTRICA DE TELECOMUNICACIONES PARA LA PRESTACION DE SERVICIOS PUBLICOS DE TIC EN BOGOTA D.C. - RS_BOG&AM_2031- V2","Solucionado - Por asignacion","SUBDIRECCION DE REGISTRO INMOBILIARIO","No Registra"]
[1923,2022,"NOVIEMBRE","2022-11-23","12:08:56","OLGA LUCÍA MESA MORENO","VIRTUAL","Bogotá te Escucha","erick.morales@wom.co","Ciudadanía","ERICK XAVIER MORALES GONZALEZ","Ciudadanía","ERICK XAVIER MORALES GONZALEZ","N/A","N/A","Sin datos","Sin datos","Sin datos","Sin datos","DERECHO DE PETICIÓN DE INTERÉS PARTICULAR","Certificación de la propiedad inmobiliaria distrital","Certificación de la propiedad inmobiliaria","SOLICITUD DE CERTIFICACION SOBRE DOMINIO  DESTINO Y USO DE LA PROPIEDAD INMOBILIARIA DISTRITAL  CON EL FIN DE OBTENER LA FACTIBILIDAD PARA LA LOCALIZACION DE UNA ESTACION RADIOELECTRICA DE TELECOMUNICACIONES PARA LA PRESTACION DE SERVICIOS PUBLICOS DE TIC EN BOGOTA D.C.","Solucionado - Por asignacion","SUBDIRECCION DE REGISTRO INMOBILIARIO","No Registra"]
[1924,2022,"NOVIEMBRE","2022-11-23","12:27:30","OLGA LUCÍA MESA MORENO","VIRTUAL","Bogotá te Escucha","jairored23@gmail.com","Ciudadanía","JAIRO ORLANDO GOMEZ RODRIGUEZ","Ciudadanía","Ciudadanía","Masculino","Hombre ","Sin datos","Sin datos","Sin datos","Sin datos","RECLAMO","Consulta general","Competencia otras entidades","INVASION DEL ESPACIO PUBLICO POR CARROS Y MOTOS","Solucionado - Por traslado","AREA DE ATENCION A LA CIUDADANIA","04 San Cristóbal"]
[1925,2022,"NOVIEMBRE","2022-11-23","12:36:15","OLGA LUCÍA MESA MORENO","VIRTUAL","Bogotá te Escucha","ncuintaco@hotmail.com","Ciudadanía","PEDRO NÉSTOR CUINTACO ","Ciudadanía","Ciudadanía","Masculino","Hombre ","Sin datos","Sin datos","Sin datos","Sin datos","QUEJA","Consulta general","Competencia otras entidades","NO ME EXPLICO COMO PUEDEN COBRAR PARQUEO EN UNA CALLE DONDE USTEDES NO HAN HECHO NADA PARA INDICARLA COMO ZONA DE PARQUEO PAGO. NO TIENEN DEMARCACION  NO TIENEN AVISOS  APARECE EL COBRADOR PARA HACER EL COBRO  NO HAY NINGUN TIPO DE SEGURIDAD. EN ESTE SITIO AL RESPALDO SUR DE LA CLINICA PALERMO  ESTE COBRO ES UN ATRACO. NO COBREN HASTA QUE NO PONGAN SENALIZACIONES. GRACIAS","Solucionado - Por traslado","AREA DE ATENCION A LA CIUDADANIA","No Registra"]
[1926,2022,"NOVIEMBRE","2022-11-23","02:46:44","OLGA LUCÍA MESA MORENO","VIRTUAL","Bogotá te Escucha","CARLOSCASTANEDA799@GMAIL.COM","Ciudadanía","CARLOS ANDRES CASTAÑEDA DIAZ","Ciudadanía","Ciudadanía","Masculino","Hombre ","Sin datos","Sin datos","Sin datos","Sin datos","QUEJA","Consulta general","Competencia otras entidades","INVASION DEL ESPACIO PUBLICO. LA CALLE ESTA SIENDO UTILIZADA PARA EL PARQUEO DE VEHICULOS DURANTE EL DIA Y ES MAS FRECUENTE EN HORAS DE LA NOCHE  LO ANTERIOR ES PROPICIADO POR UNAS PERSONAS QUE SON CELADORES DE UN PARQUEADERO COMUNAL PERTENECIENTE AL BARRIO ALCAPARROS DE SUBA  BENEFICIANDOSE ECONOMICAMENTE DEL ESPACIO PUBLICO Y AFECTANDO LA MOVILIDAD  SEGURIDAD Y TRANQUILIDAD DE LOS RESIDENTES DE LA ZONA. ADICIONALMENTE LOS VEHICULOS ESTACIONADOS EN LA VIA SE ENCUENTRAN OBSTACULIZANDO UN HIDRANTE  UN PASO PEATONAL Y ADICIONAL ES UNA ZONA CERCANA A VARIOS COLEGIOS  LO QUE GENERA INSEGURIDAD PARA LOS NINOS QUE VAN A CRUZAR DICHA CALLE. ","Solucionado - Por traslado","AREA DE ATENCION A LA CIUDADANIA","11 Suba"]
[1927,2022,"NOVIEMBRE","2022-11-23","06:05:41","OLGA LUCÍA MESA MORENO","VIRTUAL","Bogotá te Escucha",0,"Anónimo","ANONIMO  ","Anónimo","Anónimo","N/A","N/A","Sin datos","Sin datos","Sin datos","Sin datos","QUEJA","Consulta general","Competencia otras entidades","EN CALLE 75 NO 70 A 04 FUNCIONA UN ESTABLECIMIENTO DE VENTA Y CONSUMO DE LICOR Y PRESENTA VARIAS IRREGULARIDADES  ESTA UBICADO EN UN AREA RESIDENCIAL POR USO DE SUELO NO ESTA PERMITIDO  ESTA A MENOS DE 20 METROS DE COLEGIO Y JARDIN CUANDO SE RESTRINGE EL EXPENDO Y CONSUMO DE BEBIDAS ALCOHOLICAS EN UN RADIO DE 200 METROS DE ESTABLECIIENTOS EDUCATIVOS UBICAN SILLAS  MESAS HORNO Y PARQUEAN MOTOS Y CICLAS SOBRE ANDEN INVADIENDO EL ESPACIO PUBLICO ( NO SE DEBE CONSUMIR BEBIDAS ALCOHOLICAS EN EL ESPACIO PUBLICO. PARQUEAN POR HORAS CARROS DE SUS CLIENTES ENLENTIZANDO TRAFICO   PONEN MUSICA DURO  RIEN CARCAJEAN CHIFLAN  GRITAN  SILBAN   DESDE 1 PM HASTA LA MADRUGADA BASICAMENTE DE MIERCOLES A DOMINGO. Y HAN TENIDO EL DESCARO DE INSTALAR AMPLIFICADOR Y ESTE 20NOVIEMBRE NO CONTENTOS CON TENERNOS HASTA LA MADRUGADA EN VELA ABRIERON DESDE LAS 8 AM CON SU CONSABIDO BULLICIO.  INCREIBLE COMO TRAEN NINOS PARA QUE VEAN A SUS PATETICOS PADRES TOMANDO  DANDOLES MAL EJEMPLO Y LUEGO EXPONIENDOLOS A UN ACCIDENTE EN EL CARRO QUE CONDUCEN EBRIOS.  ES INDIGNANTE EL IRRESPETO  EL ATROPELLO DE NUESTROS DERECHOS  PONEN EL BIEN INDIVIDUAL SOBRE EL COLECTIVO  INDIGNADOS POR LA FALTA DE COMPETENCIA DE LAS ENTIDADES REGULTORIAS Y ENTES GUBERNAMENTALES  POR LA PERMISIBILIDAD  LA FALTA DE CONCIENCIA Y LA CONDESCENDENCIA. CON TANTA IRREGULARIDAD SERA QUE HAY CORRUPCION????POR QUE LOS POLICIAS NO HACEN RONDAS Y VERIFICAN ESTA SERIE DE IRREGULARIDADES","Solucionado - Por traslado","AREA DE ATENCION A LA CIUDADANIA","No Registra"]
[1928,2022,"NOVIEMBRE","2022-11-24","11:09:28","OLGA LUCÍA MESA MORENO","VIRTUAL","Bogotá te Escucha","kgomez1809@gmail.com","Ciudadanía","KAREN GUISETH  GOMEZ RAMIREZ","Ciudadanía","Ciudadanía","Femenino","Mujer","Sin datos","Sin datos","Sin datos","Sin datos","QUEJA","Consulta general","Competencia otras entidades","INVASION DEL ESPACIO PUBLICO POR CARROS Y MOTOS PRESENTADO POR UN TALLER DE MOTOS UBICADO EN LA CALLE 66A # 94-05 LOS DUENOS Y TRABAJADORES SON GROSEROS CON LOS VECINOS  CONSUMEN DROGAS Y LICOR MANIFESTANDO ESCANDALOS CON MUSICA EN LOS CARROS A ALTO VOLUMEN PARA INGRESAR A LA VIVIENDA LOS VECINOS DEBEN PEDIRLES EL FAVOR QUE CORRAN LOS CARROS DE IGUAL FORMA PARA DESCARGAR EL MATERIAL DE MI TRABAJO.","Solucionado - Por traslado","AREA DE ATENCION A LA CIUDADANIA","No Registra"]
[1929,2022,"NOVIEMBRE","2022-11-24","01:20:17","OLGA LUCÍA MESA MORENO","VIRTUAL","Bogotá te Escucha",0,"Anónimo","ANONIMO  ","Anónimo","Anónimo","N/A","N/A","Sin datos","Sin datos","Sin datos","Sin datos","DERECHO DE PETICIÓN DE INTERÉS GENERAL","Consulta general","Competencia otras entidades","ATENTAMENTE SE INFORMA DE OBRA POSIBLEMENTE SIN REQUISILOS LEGALES EN CALLE 152 A NUMERO 8 A-68  SOBRE ANTEJARDIN SE OBSERVA FORMALETA DE COLUMNAS Y ADEMAS POR FUERA DEL PARAMENTO CON RELACION A TODAS LAS DEMAS CASAS. BARRIO CEDRITOS . CEDRO GOLF  USAQUEN.  AL ORIENTE DE AVENIDA NOVENA  COMEDIDAMENTE SE SOLICITA INTERVENIR LO MAS PRONTO POSIBLE  GRACIAS ","Solucionado - Por traslado","AREA DE ATENCION A LA CIUDADANIA","No Registra"]
[1930,2022,"NOVIEMBRE","2022-11-24","02:14:44","OLGA LUCÍA MESA MORENO","VIRTUAL","Bogotá te Escucha","anitarh2010@hotmail.com","Ciudadanía","ANA MARIA RUIZ HERNANDEZ","Ciudadanía","Ciudadanía","Femenino","Mujer","Sin datos","Sin datos","Sin datos","Sin datos","QUEJA","Consulta general","Competencia otras entidades","ESPACIO PUBLICO OCUPADO POR VENDEDORES AMBULANTES","Solucionado - Por traslado","AREA DE ATENCION A LA CIUDADANIA","No Registra"]
[1931,2022,"NOVIEMBRE","2022-11-24","02:21:22","OLGA LUCÍA MESA MORENO","VIRTUAL","Bogotá te Escucha",0,"Anónimo","ANONIMO  ","Anónimo","Anónimo","N/A","N/A","Sin datos","Sin datos","Sin datos","Sin datos","QUEJA","Consulta general","Competencia otras entidades","¿COMO SE PUEDE CONTROLAR LA INVASION  USO INDEBIDO Y AFECTACION DEL ANDEN POR PARTE DE LOS EMPLEADOS DEL TALLER DE ORNAMENTACION (SIN AVISO) UBICADO EN LA CARRERA 8B NO. 191 - 47 EN UNA ZONA RESIDENCIAL DEL BARRIO TIBABITA I SECTOR? ¿QUE SE PUEDE HACER PARA PROTEGER Y DEFENDER EL ANDEN COMO PARTE FUNDAMENTAL DEL ESPACIO PUBLICO DEL TERRITORIO?","Solucionado - Por traslado","AREA DE ATENCION A LA CIUDADANIA","No Registra"]
[1932,2022,"NOVIEMBRE","2022-11-24","02:36:10","PAULA ALEJANDRA MARTÍNEZ CALDERÓN ","VIRTUAL","Bogotá te Escucha",0,"Anónimo","ANONIMO  ","Anónimo","Anónimo","Femenino","Mujer","Sin datos","Sin datos","Sin datos","Sin datos","DERECHO DE PETICIÓN DE INTERÉS GENERAL","Consulta general","Competencia otras entidades","A TRAVES DE LLAMADA TELEFONICA  EL DIA 24-11-2022 SE COMUNICA CIUDADANO DENUNCIANDO LA OCUPACION DEL ANTERIOR CAMPAMENTO DE OBRAS UBICADO CRA 80D 7B 83 EN LA URBANIZACION SENDEROS DE CASTILLA EN LA LOCALIDAD DE KENNEDY. DENUNCIA QUE LA ANTERIOR SALA DE VENTAS ENTREGADA POR LA CONSTRUCTORA LAS GALIAS S.A.  PERSONAS REALIZARON LA OCUPACION DE LA ZONA DE EQUIPAMIENTO COMUNAL  DONDE ACTUALMENTE HAY LEVANTAMIENTO DE UNA CONSTRUCCION DE CAMBUCHES. LA CIUDADANA MENCIONA QUE SE HA HECHO LLAMADO A LA POLICIA PARA QUE DESALOJE A LOS OCUPANTES SIN OPORTUNA RESPUESTA. SE SOLICITA DE MANERA INMEDIATA EL EJERCICIO DE RECUPERACION DE ESPACIO PUBLICO POR PARTE DE LA ALCALDIA LOCAL Y SE DE PROCESO DE APERTURA ANTE LA INSPECCION DE POLICIA SOBRE LOS OCUPANTES. ASI MISMO EL DESALOJO INMEDIATO DE LOS OCUPANTES QUIEN PAGA CELADURIA DE UN PREDIO QUE NO LES PERTENECE LA CONSTRUCTORA LAS GALIAS HIZO CREER QUE ENTREGABA LA ZONA DE CESION PERO QUIENES HACEN USO ES LA JAC DEL BARRIO VECINO. ","Solucionado - Por traslado","AREA DE ATENCION A LA CIUDADANIA","No Registra"]
[1933,2022,"NOVIEMBRE","2022-11-24","04:33:33","OLGA LUCÍA MESA MORENO","VIRTUAL","Bogotá te Escucha","badcopyestudio@gmail.com","Ciudadanía","JUAN PABLO PEREA BELLO","Ciudadanía","JUAN PABLO PEREA BELLO","N/A","N/A","Sin datos","Sin datos","Sin datos","Sin datos","DERECHO DE PETICIÓN DE INTERÉS PARTICULAR","Asesoría en administración y sostenibilidad del espacio público","Recuperación de Espacio público","DERECHO DE PETICION. RETIRO DE LA ZONA DE PARQUE PAGO (ZPP) 13 EN LA CALLE 144  ENTRE CRA 7B Y 7F. BOGOTA ","Solucionado - Por traslado","AREA DE ATENCION A LA CIUDADANIA","01 Usaquén"]
[1934,2022,"NOVIEMBRE","2022-11-24","05:28:44","OLGA LUCÍA MESA MORENO","VIRTUAL","Bogotá te Escucha",0,"Anónimo","ANONIMO  ","Anónimo","Anónimo","N/A","N/A","Sin datos","Sin datos","Sin datos","Sin datos","DERECHO DE PETICIÓN DE INTERÉS PARTICULAR","Consulta general","Competencia otras entidades","BUENAS TARDES ME DIRIJO A USTEDES PARA DEJAR ESTA DENUNCIA EN FORMA PRIVADA RESULTA QUE VIVO EN CONJUNTO YA HACE VARIOS ANOS QUE INICIALMENTE MENTE FUE DE MILITARES LOS CUALES YA TIENEN MUCHOS ANOS   HAY MUCHAS PERSONAS QUE NO TENEMOS QUE VER NADA CON ESO  PERO ELLOS HAN COLOCADO SUS PROPIAS LEYES ASI MISMO HICIERON UNA PORTERIA Y UN ENCERRAMIENTO UTILIZANDO E ESPACIO PUBLICO  LA PORTERIA  Y EL ENCERRAMIENTO ESTA FUERA DE LAS NORMAS LEGALES PERO ELLOS ADUCEN  QUE SON LOS QUE  MANDAN HAY UN PARQUE PUBLICO Y LE COLOCAN CANDADOS SI ESO NO ES PRIVADO   LA ESTRUTURA ESTA EN TAN MAL ESTADO QUE SE PUEDE PRESENTAR UN ACIEDENTE COMO PARA ALGUIEN QUE VIVA AQUI O ALGUIEN QUE PASE PESE A MUCHOS REQUERIMIENTOS QUE SE LES HACE NO QUIEREN HACER NADA LLEGAN LOS MISMAS TRES PERSONAS MANEJANDO LA ADMINISTRACION POR MAS DE 45 ANOS QUIERO PEDIRLES NOS HAGAN UNA VISITA Y VEAN  EL ESTADO QUE SE ENCUENTRA EL  CONJUNTO EN LA PARTE QUE ELLOS HAN UTILIZADO DEL ESPACIO PUBLICO GRACIAS","Solucionado - Por traslado","AREA DE ATENCION A LA CIUDADANIA","No Registra"]
[1935,2022,"NOVIEMBRE","2022-11-24","05:46:31","OLGA LUCÍA MESA MORENO","VIRTUAL","Bogotá te Escucha","andres.rodriguezgamba@gmail.com","Ciudadanía","ANDRES FELIPE RODRIGUEZ GAMBA","Ciudadanía","Ciudadanía","Masculino","Hombre ","Sin datos","Sin datos","Sin datos","Sin datos","DERECHO DE PETICIÓN DE INTERÉS PARTICULAR","Incorporación y entrega de las áreas de cesión a favor del municipio","Información de zonas de cesión","YO  ANDRES FRANCISCO MARTINEZ AGUDELO  MAYOR DE EDAD  IDENTIFICADO COMO APARECE AL PIE DE MI FIRMA  ACTUANDO EN CALIDAD DE APODERADO EN EL MARCO DE LA SOLICITUD DE LICENCIA DE SANEAMIENTO ANTE LA CURADURIA URBANA 5  POR MEDIO DEL PRESENTE ENTREGO Y SOLICITO EL RECIBO DE LAS AREAS DE CESION PUBLICA (PARQUES) A EJECUTAR PARCIALMENTE PARA LAS URBANIZACIONES CENTRO INDUSTRIAL LAS AMERICAS Y PRAGA.","Solucionado - Por asignacion","SUBDIRECCION DE REGISTRO INMOBILIARIO","No Registra"]
[1936,2022,"NOVIEMBRE","2022-11-24","07:13:26","OLGA LUCÍA MESA MORENO","VIRTUAL","Bogotá te Escucha",0,"Anónimo","ANONIMO  ","Anónimo","Anónimo","N/A","N/A","Sin datos","Sin datos","Sin datos","Sin datos","DERECHO DE PETICIÓN DE INTERÉS GENERAL","Consulta general","Competencia otras entidades","INVASION DE LOTE QUE SE ENCUENTRA EN PROTECCION DE MEDIO AMBIENTE.. Y ESTA SIENDO UTILIZADO POR PERSONAS PARA PARQUEADERO  REALIZANDO DANO AL MEDIO AMBIENTE  ASI MISMO LLEVAN FRUCTANDOSE CON LA UTILIZACION DE ESA PARTE.. HAN CONTAMINADO EL ESPACIO CON ESCOMBROS NO PERMITIDOS.. POR FAVOR  NECESITAMOS LOS ESPACIOS PUBLICOS DE MEDIO AMBIENTE","Solucionado - Por traslado","AREA DE ATENCION A LA CIUDADANIA","No Registra"]
[1937,2022,"NOVIEMBRE","2022-11-24","09:21:31","OLGA LUCÍA MESA MORENO","VIRTUAL","Bogotá te Escucha",0,"Anónimo","ANONIMO  ","Anónimo","Anónimo","N/A","N/A","Sin datos","Sin datos","Sin datos","Sin datos","DERECHO DE PETICIÓN DE INTERÉS PARTICULAR","Consulta general","Competencia otras entidades","SE EVIDENCIA INSTALACION DE BARDA METALICA EN LA MITAD DE LA VIA EN LA DIRECCION ?CALLE 187 #15B -80? EN LA CUAL SE INTENTA DIALOGAR CON LOS TRABAJADORES Y ?PROPIETARIOS DE CASA? LOS CUALES ARREMETEN CON IMPROPERIOS Y AMENAZAS A GRITO PUBLICO","Solucionado - Por traslado","AREA DE ATENCION A LA CIUDADANIA","No Registra"]
[1938,2022,"NOVIEMBRE","2022-11-25","09:39:49","OLGA LUCÍA MESA MORENO","VIRTUAL","Bogotá te Escucha",0,"Anónimo","ANONIMO  ","Anónimo","Anónimo","N/A","N/A","Sin datos","Sin datos","Sin datos","Sin datos","DERECHO DE PETICIÓN DE INTERÉS GENERAL","Consulta general","Competencia otras entidades","INVASION DEL ESPACIO PUBLICO. EL LOCAL ESTA INVADIENDO PARTE DEL ESPACIO PUBLICO.","Solucionado - Por traslado","AREA DE ATENCION A LA CIUDADANIA","No Registra"]
[1939,2022,"NOVIEMBRE","2022-11-25","10:25:25","OLGA LUCÍA MESA MORENO","VIRTUAL","Bogotá te Escucha",0,"Anónimo","ANONIMO  ","Anónimo","Anónimo","N/A","N/A","Sin datos","Sin datos","Sin datos","Sin datos","DERECHO DE PETICIÓN DE INTERÉS GENERAL","Consulta general","Competencia otras entidades","EL SENOR PROPIETARIO DEL ASADERO DON JUANCHO UBICADO EN LKA CARRERA 104 NO 75 C 28 LOCALIDAD ENGATIVA BOGOTA  NOS TIENE INVADIDO EL ESPACIO PUBLICO COMO SE PUEDE EVIDENCIAR EN LAS FOTOS  ADICIONALMENTE LA CONTAMINACION POR EL HUMO QUE SALE DEL ESTABLECIMIENTO SIN CONTROL ES TOXICA NO APTA PARA EL SER HUMANO YA QUE ELLOS COCINAN CON CUALQUIER TIPO DE MADERA O LENA  ESTA SOLICITUD YA SE HABIA REALIZADO SIN QUE LAS AUTORIDADES TOMARAN LAS MEDIDAD CORREPONDIENTES","Solucionado - Por traslado","AREA DE ATENCION A LA CIUDADANIA","No Registra"]
[1940,2022,"NOVIEMBRE","2022-11-25","10:37:55","PAULA ALEJANDRA MARTÍNEZ CALDERÓN ","VIRTUAL","Bogotá te Escucha",0,"Anónimo","Anónimo","Anónimo","Anónimo","N/A","N/A","Sin datos","Sin datos","Sin datos","Sin datos","DERECHO DE PETICIÓN DE INTERÉS GENERAL","Asesoría en administración y sostenibilidad del espacio público","Denuncia extensión actividad comercial sobre zona de uso publico","SE RECIBE QUEJA DE CIUDADANO A TRAVES DE LA LINEA TELEFONICA DONDE INFORMA SITUACION DE HECHOS DE OCUPACION DE ESPACIO PUBLICO Y EXTENSION DE ACTIVIDAD COMERCIAL  UBICADO EN LA CARRERA 50 38B 75 SUR CERCANO AL CENTRO COMERCIAL CENTRO MAYOR. EN LA CUAL EL CIUDADANO DENUNCIA EXTENSION DE ACTIVIDAD COMERCIAL DE UN TALLER DE MOTOS UBICADO EN LA ESQUINA. SITUACION HA LLEVADO A DIFERENTES ACCIDENTES DE TRANSITO Y OCUPACION DE LOS ANDENES  LA CEBRA DE TRANSITO Y EL SEMAFORO  SE SOLICITA POR PARTE DEL CIUDADANO LA RECUPERACION DEL ESPACIO PUBLICO DE MANERA INMEDIATA A TRAVES DE ACCIONES ADMINISTRATIVAS DESDE LA AUTORIDAD LOCAL Y LA INSPECCION DE POLICIA Y DE MOVILIDAD LA GESTION DE COMPARENDOS POR OCUPACION EN VIA PUBLICA. ","Solucionado - Por traslado","AREA DE ATENCION A LA CIUDADANIA","No Registra"]
[1941,2022,"NOVIEMBRE","2022-11-25","03:06:41","OLGA LUCÍA MESA MORENO","VIRTUAL","Bogotá te Escucha",0,"Anónimo","ANONIMO  ","Anónimo","Anónimo","N/A","N/A","Sin datos","Sin datos","Sin datos","Sin datos","DERECHO DE PETICIÓN DE INTERÉS GENERAL","Consulta general","Competencia otras entidades","RIESGO E INVASION DE ESPACIO PUBLICO.  ALQUERIA DE LA FRAGUA. ESCUELA CALLE 37B SUR 68D 93.  POR FAVOR SE SOLICITA VISITA TENIENDO EN CUENTA QUE HAY UNA CASETA HACE VARIOS ANOS  (ARREGLO ZAPATOS) UBICADA EN LA ESCUELA QUE SE HA PRESTADO PARA ATRACAR Y VENTA DE ESTUPEFACIENTES EN EL IED ESCUELA. ASI MISMO SE UBICO  SEGUIDA DE LA CASETA  UNA VENDEDORA EN UNA BICICLETA UBICANDO UN CILINDRO DE GAS Y UNA ESTUFA SIN NINGUNA CLASE DE DILIGENCIA AL UBICAR ESTA PIPETA PONIENDO EN RIESGO A LOS NINOS Y JOVENES DEL COLEGIO Y LOS CIUDADANOS QUE PASAN TODOS LOS DIAS POR EL LUGAR. POR LO EXPUESTO SOLICITO  A TRAVES DE LOS HECHOS NOTORIOS SE RESTITUYA EL ESPACIO PUBLICO EN ESTE SECTOR  DE MANERA PRONTA.","Solucionado - Por traslado","AREA DE ATENCION A LA CIUDADANIA","No Registra"]
[1942,2022,"NOVIEMBRE","2022-11-25","04:09:36","OLGA LUCÍA MESA MORENO","VIRTUAL","Bogotá te Escucha","erick.morales@wom.co","Ciudadanía","ERICK XAVIER MORALES GONZALEZ","Ciudadanía","Ciudadanía","Masculino","Hombre ","Sin datos","Sin datos","Sin datos","Sin datos","DERECHO DE PETICIÓN DE INTERÉS PARTICULAR","Certificación de la propiedad inmobiliaria distrital","Certificación de la propiedad inmobiliaria","SOLICITUD DE CERTIFICACION SOBRE DOMINIO  DESTINO Y USO DE LA PROPIEDAD INMOBILIARIA DISTRITAL  CON EL FIN DE OBTENER LA FACTIBILIDAD PARA LA LOCALIZACION DE UNA ESTACION RADIOELECTRICA DE TELECOMUNICACIONES PARA LA PRESTACION DE SERVICIOS PUBLICOS DE TIC EN BOGOTA D.C. - 0103","Solucionado - Por asignacion","SUBDIRECCION DE REGISTRO INMOBILIARIO","No Registra"]
[1943,2022,"NOVIEMBRE","2022-11-25","04:16:26","OLGA LUCÍA MESA MORENO","VIRTUAL","Bogotá te Escucha","erick.morales@wom.co","Ciudadanía","ERICK XAVIER MORALES GONZALEZ","Ciudadanía","Ciudadanía","Masculino","Hombre ","Sin datos","Sin datos","Sin datos","Sin datos","DERECHO DE PETICIÓN DE INTERÉS PARTICULAR","Certificación de la propiedad inmobiliaria distrital","Certificación de la propiedad inmobiliaria","SOLICITUD DE CERTIFICACION SOBRE DOMINIO  DESTINO Y USO DE LA PROPIEDAD INMOBILIARIA DISTRITAL  CON EL FIN DE OBTENER LA FACTIBILIDAD PARA LA LOCALIZACION DE UNA ESTACION RADIOELECTRICA DE TELECOMUNICACIONES PARA LA PRESTACION DE SERVICIOS PUBLICOS DE TIC EN BOGOTA D.C. - 0152","Solucionado - Por asignacion","SUBDIRECCION DE REGISTRO INMOBILIARIO","No Registra"]
[1944,2022,"NOVIEMBRE","2022-11-25","04:37:27","OLGA LUCÍA MESA MORENO","VIRTUAL","Bogotá te Escucha","mliliasolano005@yahoo.es","Ciudadanía","LILIA  SOLANO ","Ciudadanía","Ciudadanía","Femenino","Mujer","Sin datos","Sin datos","Sin datos","Sin datos","DERECHO DE PETICIÓN DE INTERÉS GENERAL","Asesoría en administración y sostenibilidad del espacio público","Asesoría en temas de espacio público","VECINOS DE LA ZONA UBICADA ENTRE CLL 88 Y 89 CON CRAS 94L Y95  BARRIO BACHUE 1ER SECTOR - DERECHO DE PETICION - PROTECCION ESPACIO PUBLICO EN BAHIA","Solucionado por asignar - Trasladar","SUBDIRECCION DE GESTION INMOBILIARIA Y DEL ESPACIO PUBLICO","No Registra"]
[1945,2022,"NOVIEMBRE","2022-11-26","08:28:18","OLGA LUCÍA MESA MORENO","VIRTUAL","Bogotá te Escucha",0,"Anónimo","ANONIMO  ","Anónimo","Anónimo","N/A","N/A","Sin datos","Sin datos","Sin datos","Sin datos","DERECHO DE PETICIÓN DE INTERÉS GENERAL","Consulta general","Competencia otras entidades","INVASION DEL ESPACIO PUBLICO","Solucionado - Por traslado","AREA DE ATENCION A LA CIUDADANIA","No Registra"]
[1946,2022,"NOVIEMBRE","2022-11-26","09:22:39","OLGA LUCÍA MESA MORENO","VIRTUAL","Bogotá te Escucha",0,"Anónimo","ANONIMA","Anónimo","Anónimo","N/A","N/A","Sin datos","Sin datos","Sin datos","Sin datos","DERECHO DE PETICIÓN DE INTERÉS GENERAL","Consulta general","Competencia otras entidades","SE SOLIICITA SE APLIQUE LA NORMATIVA CORRESPONDIENTE PARA QUE RESPETE EL ANDEN SUR DE LA CALLE 187 ENTRE CARRERA 23 Y AUTOPISTA NORTE  DONDE UN GRUPO DE CAMIIONETAS SE SUBE A VENDER FRUTAS  DESCARGAN BULTOS AL REDEDOR  INVADEN EL ANDEM   LLENAN DE DESECHOS  GENERAN TRANCON.","Solucionado - Por traslado","AREA DE ATENCION A LA CIUDADANIA","No Registra"]
[1947,2022,"NOVIEMBRE","2022-11-26","09:45:33","OLGA LUCÍA MESA MORENO","VIRTUAL","Bogotá te Escucha",0,"Anónimo","ANONIMO  ","Anónimo","Anónimo","N/A","N/A","Sin datos","Sin datos","Sin datos","Sin datos","DERECHO DE PETICIÓN DE INTERÉS GENERAL","Consulta general","Competencia otras entidades","EN CALLE 75 NO 70 A 04 EN BONANZA FUNCIONA UN ESTABLECIMIENTO DE VENTA Y CONSUMO DE BEBIDAS ALCOHOLICAS DESDE HACE COMO 8 MESES EN UN AREA RESIDENCIAL DONDE POR USO DE SUELO NO ESTA PERMITIDO  ESTA A MENOS DE 20 METROS DE JARDIN Y COLEGIO (QUE LLEVAN MAS DE 15 ANOS) CUANDO POR NORMA EN UN RADIO DE 200 METROS DE ESTABLECIMIENTOS EDUCATIVOS NO SE PUEDE EXPENDER NI CONSUMIR BEBIDAS ALCOHOLICAS   UBICAN MESAS SILLAS HORNO EN ANDEN E IGUAL PARQUEAN MUCHAS MOTOS Y CICLAS SOBRE EL MISMO INVADIENDO EL ESPACIO PUBLICO CUANDO POR NORMA NO SE PUEDE EXPENDER NI CONSUMIR BEBIDAS ALCOHOLICAS EN EL ESPACIO PUBLICO.  ABREN BASICAMENTE DE MIERCOLES A DOMINGO DESDE 1 PM HASTA LA MADRUGADA E INCLUSO UN DOMINGO ABRIERON DESDE  LAS 8 AM PONEN MUSICA DURISIMO HASTA CON AMPLIFICADORES  CANTAN A TODO GRITO CHIFLAN CARCAJEAN.PELEAN TODO EL TIEMPO NO RESPETAN EL SUENO DE RESIDENTES.  INVADEN CALLE CON CARROS DE SUS CLIENTES QUE PERMANECEN HORAS Y ESTA ES UNA VIA PRINCIPAL.  TRAEN NINOS Y LOS EXPONEN A TODO ESTO.  QUIEN CONTROLA QUIEN INSPECCIONA QUIEN RESTABLECE NUESTROS DERECHOS","Solucionado - Por traslado","AREA DE ATENCION A LA CIUDADANIA","No Registra"]
[1948,2022,"NOVIEMBRE","2022-11-26","12:32:16","OLGA LUCÍA MESA MORENO","VIRTUAL","Bogotá te Escucha",0,"Anónimo","anonima","Anónimo","Anónimo","N/A","N/A","Sin datos","Sin datos","Sin datos","Sin datos","DERECHO DE PETICIÓN DE INTERÉS GENERAL","Consulta general","Competencia otras entidades","BUENAS TARDES POR FAVOR INTERVENIR DE MANERA PRIORITARIA EL CRIADERO DE GALLOS DE PELEA UBICADO EN LA CRA 15 NRO 166 - 96. Y REALIZAR LA RECUEPRACION DEL ESPACIO PUBLICO DE ESA CUADRA 1. MESES ATRAS LOS PROPIETARIOS DE LA CASA TENIAN 3 CAJONES  A HOY SON MAS DE 10 CAJONES CON APROXIAMDAMENTE 15 GALLOS DE PELEA CAUTIVOS SOBRE EL ESPACIO PUBLICO   APODERANDOSE DE TERRENOS DONDE LA COMUNIDAD PUEDE TRANSITAR. 2. EL CRIADERO DE GALLOS DE PELEA ESTA EN LA MITAD DE UNA ZONA RESIDENCIAL  EN MEDIO DE VARIOS CONJUNTOS RESIDENCIALES (ADJUNTO VIDEO) 3. LOS NINOS DE LA COMUNIDAD ESTAN EXPUESTOS A ESCENAS MUY VIOLENTAS DEL MALTRATO ANIMAL  EN EL ENTRENAMIENTO QUE REALIZAN CON LOS GALLOS PARA LA PELEA  LOS CUELGAN VIVOS EN CUERDAS  LOS ARRASTAN  LOS VOLTEAN Y LOS LANZAN AL AIRE. (ADJUNTO VIDEO) 4. EL ENTRENANIENTO SE REALIZA AL FRENTE DE UN PARQUE DONDE SIEMPRE HAY ESCUELAS DEPORTIVAS  Y LOS NINOS SON TESTIGOS DE ESAS ESCENAS VIOLENTAS (ADJUNTO VIDEO DE LAS ZONA DEL PARUQE Y CONJUNTOS CERCANOS) 5 LOS GALLOS LOS MANTIENEN ENCERRADOS EN JAULAS LAS 24 HORAS  Y HACIA EL MEDIO DIA SACAN ALGUNOS PARA LASTIMARLES LAS ESPUELAS Y MALTRATARLOS 6. LA CANTADERA DE LOS GALLOS INICIA DESDE LAS 3.00 DE LA MANANA  LO QUE INTERUMPE EL DESCANSO DE TODO EL VECINDARIO CON MAS DE 15 GALLOS CANTANDO 7. LOS DUENOS TIENEN MENORES DE EDAD  Y ESAS PRACTICAS LAS REALIZAN INCLUSIVE ALFRENTE DE ELLOS  POSEEN UNA CASA DE 3 PISOS AMARILLA  MOTO Y CARRO  LO QUE PERMITE INFERIR QUE NO SON PERSONAS DE ESCASOS RECURSOS. 7. SE TOMA LA DECISION POR RECOGER VIDEOS Y LA FIRMA DE LA COMUNIDAD (ANEXO) PARA SOLICITAR SU INTERVENCION.","Solucionado - Por traslado","AREA DE ATENCION A LA CIUDADANIA","No Registra"]
[1949,2022,"NOVIEMBRE","2022-11-26","10:16:14","OLGA LUCÍA MESA MORENO","VIRTUAL","Bogotá te Escucha","hparragonzalez@gmail.com","Ciudadanía","HELVER GILBERTO PARRA GONZALEZ","Ciudadanía","Ciudadanía","Masculino","Hombre ","Sin datos","Sin datos","Sin datos","Sin datos","DERECHO DE PETICIÓN DE INTERÉS PARTICULAR","Consulta general","Consulta General","BUENAS TARDES QUERIA SABER SI EN SU ENTIDAD ME PUEDEN DAR TRABAJO PARA PERSONAS CON DISCAPACIDAD O NO.  GRACIAS.","Solucionado - Por asignacion","SUBDIRECCION DE GESTION CORPORATIVA","No Registra"]
[1950,2022,"NOVIEMBRE","2022-11-27","06:25:59","OLGA LUCÍA MESA MORENO","VIRTUAL","Bogotá te Escucha","franklinccg@gmail.com","Ciudadanía","EDWIN FRANKLIN CAMACHO GARCES","Ciudadanía","EDWIN FRANKLIN CAMACHO GARCES","N/A","N/A","Sin datos","Sin datos","Sin datos","Sin datos","DERECHO DE PETICIÓN DE INTERÉS PARTICULAR","Asesoría en administración y sostenibilidad del espacio público","Denuncia ventas informales","SE SOLICITA SU INTERVENCION PARA RECUPERAR EL ESPACIO PUBLICO QUE SE ENCUENTRA INVADIDO POR VENDEDORES AMBULANTES EN EL BARRIO SUBA RINCON. CADA DIA ES PEOR  YA NO HAY POR DONDE CAMINAR. NO HAY ANDENES PORQUE ESTAN OCUPADOS POR CHAZAS DE PLASTICO.","Solucionado - Por traslado","AREA DE ATENCION A LA CIUDADANIA","19 Ciudad Bolívar"]
[1951,2022,"NOVIEMBRE","2022-11-28","11:33:21","OLGA LUCÍA MESA MORENO","VIRTUAL","Bogotá te Escucha",0,"Anónimo","ANONIMA","Anónimo","Anónimo","N/A","N/A","Sin datos","Sin datos","Sin datos","Sin datos","DERECHO DE PETICIÓN DE INTERÉS PARTICULAR","Consulta general","Competencia otras entidades","BUEN DIA  ENVIO ESTA PETICION PARA QUE NOS COLABOREN  ESTAMOS CANSADOS DE QUE AQUI EN LA CALLE 38C SUR CON CARRERA 72N  BARRIO LUCERNA CARVAJAL NOS PARQUEEN EL TRANSPORTE ESCOLAR DEL COLEGIO SANTO DOMINGO BILINGUE QUE SON 5 BUSES GRANDES ADEMAS DE LAS CAMIONETAS PEQUENAS  DESDE LAS 7AM HASTA LAS 6-7PM  NOS VEMOS DIRECTAMENTE AFECTADOS PUESTO QUE MUCHAS VECES NOS VEMOS PERJUDICADOS PARA INGRESAR O SALIR DE LA CASA EN EL CARRO  PORQUE ESTAN OBSTRUYENDO EL PASO O SE FORMA CONGESTIONAMIENTO VEHICULAR  DEBIDO AL PARQUEO DE ESTOS BUSES  POR FAVOR COLABORARNOS YA QUE ES UN BARRIO RESIDENCIA  ADEMAS DE QUE ESTAN INVADIENDO EL ESPACIO PUBLICO Y CUANDO VAMOS A PASAR LA CALLE NO TENEMOS VISIBILIDAD PARA HACERLO. MUCHAS GRACIAS.","Solucionado - Por traslado","AREA DE ATENCION A LA CIUDADANIA","No Registra"]
[1952,2022,"NOVIEMBRE","2022-11-28","11:36:16","OLGA LUCÍA MESA MORENO","VIRTUAL","Bogotá te Escucha",0,"Anónimo","ANONIMA","Anónimo","Anónimo","N/A","N/A","Sin datos","Sin datos","Sin datos","Sin datos","DERECHO DE PETICIÓN DE INTERÉS PARTICULAR","Consulta general","Competencia otras entidades","BUEN DIA  ENVIO ESTA PETICION PARA QUE NOS COLABOREN  ESTAMOS CANSADOS DE QUE AQUI EN LA CALLE 38C SUR CON CARRERA 72N  BARRIO LUCERNA CARVAJAL NOS PARQUEEN EL TRANSPORTE ESCOLAR DEL COLEGIO SANTO DOMINGO BILINGUE QUE SON 5 BUSES GRANDES ADEMAS DE LAS CAMIONETAS PEQUENAS  DESDE LAS 7AM HASTA LAS 6-7PM  NOS VEMOS DIRECTAMENTE AFECTADOS PUESTO QUE MUCHAS VECES NOS VEMOS PERJUDICADOS PARA INGRESAR O SALIR DE LA CASA EN EL CARRO  PORQUE ESTAN OBSTRUYENDO EL PASO O SE FORMA CONGESTIONAMIENTO VEHICULAR  DEBIDO AL PARQUEO DE ESTOS BUSES  POR FAVOR COLABORARNOS YA QUE ES UN BARRIO RESIDENCIA  ADEMAS DE QUE ESTAN INVADIENDO EL ESPACIO PUBLICO Y CUANDO VAMOS A PASAR LA CALLE NO TENEMOS VISIBILIDAD PARA HACERLO. MUCHAS GRACIAS.","Solucionado - Por traslado","AREA DE ATENCION A LA CIUDADANIA","No Registra"]
[1953,2022,"NOVIEMBRE","2022-11-28","01:04:13","OLGA LUCÍA MESA MORENO","VIRTUAL","Bogotá te Escucha",0,"Anónimo","ANONIMA","Anónimo","Anónimo","N/A","N/A","Sin datos","Sin datos","Sin datos","Sin datos","DERECHO DE PETICIÓN DE INTERÉS PARTICULAR","Consulta general","Competencia otras entidades","RE-UBICACION RECICLADORES- RECUN GRUPO GRNADE DE RECICLADORES SE VIENE UBICANDO EN TODO LA VIA DE LA CALLE 167 EXACTAMENTE FRENTE AL CONJUNTO PORTAL DE LA 167 UBICADO EN LA CALLE 167 # 48-44  PARQUE PIJAO DE ORO GENERANDO UN DESORDEN   SUCIEDAD E INVACION DEL ESPACIO PUBLICO. SE UBICAN EN PLNA VIA INCLUYENDO Y ADEMAS OCUPAN LOS ANDENES CON TODO EL RECICLAJE Y BASURA. SOLICITAMOPS COMO COMUNIDAD LOS REUBIQUEN A OTRO SITIO DNDE NO IMPIDAN EL TRNASITO DE PERSONAS Y AUTOMOVILES ADICIONAL A QUE EL ASPECTO Y DESRODEN DE LA ZONA HA EMPEORADO.","Solucionado - Por traslado","AREA DE ATENCION A LA CIUDADANIA","No Registra"]
[1954,2022,"NOVIEMBRE","2022-11-28","02:40:08","OLGA LUCÍA MESA MORENO","VIRTUAL","Bogotá te Escucha",0,"Anónimo","Anónimo","Anónimo","Anónimo","N/A","N/A","Sin datos","Sin datos","Sin datos","Sin datos","DERECHO DE PETICIÓN DE INTERÉS GENERAL","Asesoría en administración y sostenibilidad del espacio público","Denuncia cerramiento","QUEJA DE CIERRE DE UN ESPACIO PUBLICO","Solucionado por asignar - Trasladar","SUBDIRECCION DE GESTION INMOBILIARIA Y DEL ESPACIO PUBLICO","No Registra"]
[1955,2022,"NOVIEMBRE","2022-11-28","09:20:27","OLGA LUCÍA MESA MORENO","VIRTUAL","Bogotá te Escucha",0,"Anónimo","ANONIMA","Anónimo","Anónimo","N/A","N/A","Sin datos","Sin datos","Sin datos","Sin datos","DERECHO DE PETICIÓN DE INTERÉS GENERAL","Consulta general","Competencia otras entidades","BUENA NOCHE SOY HABITANTE DEL BARRIO BOSQUES DE MARIANA DE LA LOCALIDAD ENGATIVA  TENEMOS UNA PROBLEMATICA EN EL BARRIO BOSQUES DE MARIANA DE ENGATIVA UBICADO EN LA KR 107 B 70 EL  PARQUE CERCANO AL COLEGIO PAE Y AL COLEGIO VIRGEN DE LA PENA EN SECTOR CERCANO A LA CANCHA DE BALONCESTO  INVADIDO POR  CAMBUCHES  DE HABITANTES DE CALLE QUE SE  TOMARON ESTE SECTOR DE MORADA PERMANENTE YA QUE LLEGAN  EN LA NOCHE Y LOS FINES PERMANECEN TODO EL DIA EN EL PARQUE    APROXIMADAMENTE 10 CARRETAS DONDE HAY  NINOS  MASCOTAS HOMBRES Y MUJERES EL PARQUE LO TIENEN VUELTO UN MULADAR LA  TAPA DE LA ALCANTARILLA LA HURTARON Y LA ALCANTARILLA  ESTA LLENA DE BASURA CONSUMEN ESTUPEFACIENTES TIENE PARQUE DE BANO PUBLICO Y TIENEN VOCABULARIO   SOEZ ESTOY RECLAMADO A NOMBRE PROPIO QUE SE RESPETE  DERECHO A TENER UNA CONVIVENCIA SANA YA  ESTE PARQUE ESTA CERCA  A UNA ZONA ESCOLAR Y LOS DIAS DOMINGOS Y FESTIVOS  NO SE PUEDE REALIZAR NINGUNA ACTIVIDAD EN EL PARQUE PORQUE ESTAMOS INVADIDOS DE ESTAS CARRETAS TIENEN TAPADA LA ALCANTARILLA Y ESTAS PERSONAS NO HACEN USO ADECUADO DEL PARQUE  Y  NO APORTAN NINGUNA CDONDE SE PROPONE HACER USO ADECUADO DE LAS BASURAS Y LOS ESCREMENTOS DE LAS  DE MASCOTAS EN EL PARQUE PARA QUE  MANTENGA LIMPIO Y ORDENADO COMO DE LAS NORMAS DE CONVIVENCIA SONDE SE HABLA DEL NO USO DE ESTUPEFACIENTES EN LE PARQUE. SOLICITO QUE SE RESPETE EL ESPACIO PUBLICO  LA CONVIVENCIA  Y LAS BUENAS COSTUBRES  YA QUUE ESTE PARQUE LO FRECUENTAN NINOS LA TERCERA EDAD Y FAMILIAS Y AHORA NOSE PUEDE PORQUE ESTAMOS EINVADIDOS POR ESTAS PEROSNAS ELLOS TIENEN DERECHOS PERO TAMBIEN TIENEN DEBERES COMO LOS TENEMOS NOSOTROS SOLITAMOS  SE RESPETE  NUESTROS DERECHOS YA CONTRIBUIMOS CON IMPUESTOS PARA LIMPIEZA DE  PARQUE Y SE RESPETE EL ESPACIO PUBLICO YA QUE SE UBICAN AL FRENTE DE NUESTRA CASA SOLICITO LA ALCALDIA HAGA PRESENCIA Y LOS AMONESTE Y LOS REUBIQUE YA QUE NO ESTAN AFECTANDO AUNA SOLA PERSONA SINO A LA COMUNIDAD EN GENERAL DEL BARRIO BOSQUES DE MARIANA DE ENGATIVA.  NECESITAMOS POR FAVOR PRESENCIA DE ALCALDIA  PERSONAL DE INFANCIA Y ADOLENCIA YA QUE EN ESTOS CAMBUCHES HAY NINOS POLICIA PARA DEFIENDA EL ESPACIO PUBLICO Y PERSNAL ENCARGADO DEL CUIDADO DE LOS PARQUES  AGRADEZDO LA ATENCION PRESTADA  ADJUNTO  EVIDENCIAS DE LO QUE ESTOY MENCIONANDO","Solucionado - Por traslado","AREA DE ATENCION A LA CIUDADANIA","No Registra"]
[1956,2022,"NOVIEMBRE","2022-11-29","08:53:24","OLGA LUCÍA MESA MORENO","VIRTUAL","Bogotá te Escucha","condorph5434@gmail.com","Ciudadanía","MARTHA PATRICIA SANCHEZ GOMEZ","Ciudadanía","Ciudadanía","Femenino","Mujer","Sin datos","Sin datos","Sin datos","Sin datos","QUEJA","Consulta general","Competencia otras entidades","REPORTO TREMENDO HUECO EN LA VIA DE LA CALLE 34 CARRERA 21 SENTIDO OCCIDENTE ORIENTE  Y TAMBIEN VARIOS HUECOS EN LA CALLE 34 CON 17 SENTIDO ORIENTE OCCIDENTE","Solucionado - Por traslado","AREA DE ATENCION A LA CIUDADANIA","No Registra"]
[1957,2022,"NOVIEMBRE","2022-11-29","09:55:31","OLGA LUCÍA MESA MORENO","VIRTUAL","Bogotá te Escucha",0,"Anónimo","ANONIMO  ","Anónimo","Anónimo","N/A","N/A","Sin datos","Sin datos","Sin datos","Sin datos","DERECHO DE PETICIÓN DE INTERÉS GENERAL","Consulta general","Competencia otras entidades","RESPETADOS FUNCIONARIOS DE LA ALCALDIA DE BOGOTA  LES SUPLICO QUE POR FAVOR DE MANERA URGENTE INICIEN TODAS LAS ACCIONES NECESARIAS PARA RECUPERAR EL ESPACIO PUBLICO  ILEGALMENTE TOMADO Y ENCERRADO POR CUATRO PROPIEDADES HORIZONTALES UBICADAS SOBRE LA CALLE 119 ENTRE LAS CARRERAS 11 Y 12 EN EL BARRIO SANTA BARBARA CENTRAL.  ME REFIERO A LOS EDIFICIOS  (1) PALISANDRO  UBICADO EN LA CALLE 119 NUMERO 11B -54 (2) TARENTO UBICADO EN LA CALLE 119 NUMERO 11B-40 (3) TORRES DE PLAZA REAL  UBICADO EN LA CALLE 119 NO. 11B-68 Y EL (4) EDIFICIO MARCORAL UBICADO SOBRE LA CARRERA 11B CON NUMERO 119-25  QUIENES HAN REALIZADO CERRAMIENTOS ILEGALES DE LAS BAHIAS DE PARQUEADERO PUBLICO DE LA LOCALIDAD DE USAQUEN BARRIO SANTA BARBARA COMO SE MUESTRA EN LAS FOTOGRAFIA QUE ADJUNTO.  ESTOS CERRAMIENTOS ILEGALES Y ABUSIVOS POR PARTE DE LAS PROPIEDADES HORIZONTALES CITADAS ANTERIORMENTE  ESTAN GENERANDO GRANDES TRANCONES SOBRE LA CALLE 119  ENTRE CARRERAS 11 Y 12.  LES AGRADEZCO SU INTERVENCION URGENTE  Y SI ES POSIBLE ASIGNAR UN POLICIA DE TRANSITO A LA ZONA ESTO EVITARIA LOS GRANDES TRANCONES QUE AQUI SE PRODUCEN.  GRACIAS. ","Solucionado - Por traslado","AREA DE ATENCION A LA CIUDADANIA","No Registra"]
[1958,2022,"NOVIEMBRE","2022-11-29","09:59:21","OLGA LUCÍA MESA MORENO","VIRTUAL","Bogotá te Escucha",0,"Anónimo","ANONIMO  ","Anónimo","Anónimo","N/A","N/A","Sin datos","Sin datos","Sin datos","Sin datos","DERECHO DE PETICIÓN DE INTERÉS PARTICULAR","Consulta general","Competencia otras entidades","SE PRESENTA INVASION POR PARTE DE  HABITANTES DE CALLE QUE REPOSAN AL PIE DEL CENTRO DE ESPECIALISTAS COLSUBSIDIO EN LA CALLE 62 CON CARRERA 24 EN BOGOTA ESPECIALMENTE EN HORAS DE LA NOCHE Y LA MANANA","Solucionado - Por traslado","AREA DE ATENCION A LA CIUDADANIA","No Registra"]
[1959,2022,"NOVIEMBRE","2022-11-29","01:18:25","OLGA LUCÍA MESA MORENO","VIRTUAL","Bogotá te Escucha","carlosfedericosm@gmail.com","Ciudadanía","CARLOS FEDERICO SEPULVEDA MARTINEZ","Ciudadanía","Ciudadanía","Masculino","Hombre ","Sin datos","Sin datos","Sin datos","Sin datos","CONSULTA","Certificación de la propiedad inmobiliaria distrital","Certificación de la propiedad inmobiliaria","1. LA SOCIEDAD CONSTRUCTORA AR  DESARROLLO EL PROYECTO INMOBILIARIO DENOMINADO CONJUNTO RESIDENCIAL GRAN RESERVA DE PONTEVEDRA  EL CUAL SE ENCUENTRA UBICADO EN LA CALLE 95 NO. 71-75.  2. ENTRE FINALES DEL ANO 2016 E INICIO DE 2017  LA MENCIONADA CONSTRUCTORA ENTREGO LA TOTALIDAD DE LAS UNIDADES INMOBILIARIAS QUE CONFORMAN EL PROYECTO.  3. EN EL LINDERO ORIENTAL DEL PROYECTO  SE DEJO UN SENDERO A TRAVES DEL CUAL  CRUZAN LINEAS AEREAS DE ENERGIA.     4. EL AREA MENCIONADA PUEDE SER UBICADO EN SINUPOT  DE ACUERDO CON LAS SIGUIENTES COORDENADAS GOEGRAFICAS LAT 4.695282 LONG -74.083563   PETICION DE ACUERDO CON LO ANTERIOR  SE SOLICITA A ESA AUTORIDAD ADMINISTRATIVA  INFORMAR SOBRE LA NATURALEZA DE DICHO SENDERO  ES DECIR  SI SE TRATA DE UNA ZONA DE ESPACIO PUBLICO. ","Solucionado - Por asignacion","SUBDIRECCION DE REGISTRO INMOBILIARIO","11 Suba"]
[1960,2022,"NOVIEMBRE","2022-11-29","02:14:41","NIDIA JINETH GONZALEZ CÁRDENAS","VIRTUAL","Bogotá te Escucha","sindistritales2011@gmail.com","Ciudadanía","FABIO HUMBERTO MELO QUINTERO","Ciudadanía","Ciudadanía","Masculino","Hombre ","Sin datos","Sin datos","Sin datos","Sin datos","DERECHO DE PETICIÓN DE INTERÉS PARTICULAR","Consulta general","Talento humano","RADICACION OFICIO DIRIGIDO AL DEPARTAMENTO ADMINISTRATIVO DEL ESPACIO PUBLICO POR PARTE DE SINDISTRITALES FRENTE A DERECHO DE PETICION MESA DE TRABAJO","Solucionado - Por asignacion","SUBDIRECCION DE GESTION CORPORATIVA","03 Santa fe"]
[1961,2022,"NOVIEMBRE","2022-11-29","02:19:24","NIDIA JINETH GONZALEZ CÁRDENAS","VIRTUAL","Bogotá te Escucha",0,"Ciudadanía","ALEJANDRO MURILLO","Ciudadanía","Ciudadanía","Masculino","Hombre ","Sin datos","Sin datos","Sin datos","Sin datos","DERECHO DE PETICIÓN DE INTERÉS PARTICULAR","Consulta general","Competencia otras entidades","PETICION RECIBIDA POR TELEFONO  DENUNCIA INVASION DE ESPACIO PUBLICO EN VIA  BARRIO BILBAO  LOCALIDAD SUBA CERCA AL PARQUE LA FELICIDAD. ENCERRARON E HICIERON UN PARQUEADERO EN ESE SECTOR   ADEMAS HAY ABANDONO DE ESCOMBROS  SE EVIDENCIA QUE LAS PERSONAS QUE HICERON ESTE CERRAMIENTO SON EXTRANJEROS.","Solucionado - Registro con preclasificacion","SUBDIRECCION DE GESTION INMOBILIARIA Y DEL ESPACIO PUBLICO","No Registra"]
[1962,2022,"NOVIEMBRE","2022-11-29","02:22:01","OLGA LUCÍA MESA MORENO","VIRTUAL","Bogotá te Escucha","damurdaz77@gmail.com","Ciudadanía","DANILO HERNAN MURILLO DAZA","Ciudadanía","Ciudadanía","Masculino","Hombre ","Sin datos","Sin datos","Sin datos","Sin datos","QUEJA","Consulta general","Competencia otras entidades","GRUA QUE TRABAJA CON LA ALCALDIA SE PARQUEO OBSTRUYENDO EL GIRO A LA DERECHA  ME ACERQUE Y ESTABAN DURMIENDO DENTRO  AL ACERCARME A DECIRLES QUE ESTABAN MAL PARQUEADOS SE BAJARON A TOMAR UNAS FOTOS Y SU RESPUESTA FUE (VUELE VUELE) Y DESPUES CUANDO PREGUNTE CUANTO LLEVABAN PARQUEADOS AHI  SUS PALABRAS FUERON (HARTO) Y (DENUNCIE!) CON TONO IRONICO.","Solucionado - Por traslado","AREA DE ATENCION A LA CIUDADANIA","12 Barrios Unidos"]
[1963,2022,"NOVIEMBRE","2022-11-29","03:17:19","NIDIA JINETH GONZALEZ CÁRDENAS","VIRTUAL","Bogotá te Escucha","gloriaelena829@gmail.com","Anónimo","GLORIA ELENA GARZON VARGAS","Anónimo","Anónimo","Femenino","Mujer","Sin datos","Sin datos","Sin datos","Sin datos","CONSULTA","Asesoría en administración y sostenibilidad del espacio público","Asesoría en temas de espacio público","SOLICITUD INFORMACION PARA CONSTRUIR ASCENSOR EN ESPACIO PUBLICO","Solucionado - Por asignacion","SUBDIRECCION DE GESTION INMOBILIARIA Y DEL ESPACIO PUBLICO","No Registra"]
[1964,2022,"NOVIEMBRE","2022-11-29","11:41:48","OLGA LUCÍA MESA MORENO","VIRTUAL","Bogotá te Escucha",0,"Anónimo","ANONIMO  ","Anónimo","Anónimo","N/A","N/A","Sin datos","Sin datos","Sin datos","Sin datos","DERECHO DE PETICIÓN DE INTERÉS GENERAL","Consulta general","Competencia otras entidades","EN EL PUENTE DE LA CALLE 63 CON CARRERA 30 QUE COMUNICA CON LA ESTACION MOVISTAR DE TRANSMILENIO  SE UBICA UN VENDEDOR AMBULANTE CON UN PERRO INVADIENDO GRAN PARTE DEL ESPACIO PUBLICO CON DIVERSOS ELEMENTOS QUE DIFICULTAN EL TRANSITO POR ESE LUGAR. SOLICITO LA RECUPERACION DEL ESPACIO PUBLICO.","Solucionado - Por traslado","AREA DE ATENCION A LA CIUDADANIA","No Registra"]
[1965,2022,"NOVIEMBRE","2022-11-30","08:05:04","OLGA LUCÍA MESA MORENO","VIRTUAL","Bogotá te Escucha","mqw24cdq@hotmail.com","Ciudadanía","WILSON  QUEVEDO MAZABEL","Ciudadanía","Ciudadanía","Masculino","Hombre ","Sin datos","Sin datos","Sin datos","Sin datos","CONSULTA","Consulta general","Competencia otras entidades","DONDE SE PUEDE HACER UNA DENUNCIA POR MAL PARQUEADOS  YA QUE EN LAS ULTIMAS SEMANAS HEMOS EVIDENCIADO UN BLOQUEO PARA INGRESAR A MI HOGAR Y LA SALIDA DEL VEHICULO DEL PARQUEADERO  COMO SE PUEDE VER EN LA IMAGEN EL VEHICULO ESTUVO PARQUEADO DESDE LA 1PM HASTA LAS 4AM BLOQUIANDO LA SALIDA DEL VEHICULO DEL PARQUEADERO DE MI HOGAR  ULTIMAMENTE SE PARQUEAN INNUMERABLES CARROS EN TODA LA CALLE BLOQUEANDOLA  EN UNA EMERGENCIA NO SE PODRIA SALIR. DONDE ME PUEDEN DAR UNA SOLUCION EFECTIVA  YA QUE CON LOS VECINOS QUE HACEN EL BLOQUEO  NO SE AH PODIDO LLEGAR A UNA SOLUCION CON EL DIALOGO  SI QUE SE CREEN LOS DUENOS DE LA CALLE Y LA CONVIVENCIA SE EMPIEZA A VOLVER UN POCO MOLESTA. QUEDO ATENTO A UNA PRONTA RESPUESTA Y GRACIAS POR LA ATENCION PRESTADA","Solucionado - Por traslado","AREA DE ATENCION A LA CIUDADANIA","08 Kennedy"]
[1966,2022,"NOVIEMBRE","2022-11-30","12:58:47","OLGA LUCÍA MESA MORENO","VIRTUAL","Bogotá te Escucha","curtiwala@hotmail.com","Ciudadanía","ADAN ALBERTO ALVARADO PEREZ","Ciudadanía","Ciudadanía","Masculino","Hombre ","Sin datos","Sin datos","Sin datos","Sin datos","QUEJA","Consulta general","Competencia otras entidades","USO INDEBIDO DE ESPACIO PUBLICO SOBRE LA CALLE 6 A HASTA DESDE LA CRA 90 HASTA LA CRA 87A  SE HA DEMARCADO Y ENUMERADO CASILLAS PARA VENTAS AMBULANTES  POR PERSONAS AJENAS EN DONDE LOS PEATONES YA NO TENEMOS POR DONDE.TRANSITAR Y LAS ISLAS POR FUERA DE LOS CONJUNTOS QUE SON PARA VEHICULOS SE HAN APROPIADO TRAILER DE VENTAS Y LOS HAN ASEGURADO AL PISO CON CADENAS","Solucionado - Por traslado","AREA DE ATENCION A LA CIUDADANIA","08 Kennedy"]
[1967,2022,"NOVIEMBRE","2022-11-30","01:01:07","OLGA LUCÍA MESA MORENO","VIRTUAL","Bogotá te Escucha","johncasta8@gmail.com","Ciudadanía","John  Castaneda ","Ciudadanía","John  Castaneda ","N/A","N/A","Sin datos","Sin datos","Sin datos","Sin datos","QUEJA","Asesoría en administración y sostenibilidad del espacio público","Denuncia vehículos","QUEREMOS REPORTAR UN VEHICULO QUE ESTA UTILIZANDO UN ESPACIO INDEBIDO PARA SU BENEFICIO  ESTA UTILIZANDO UN PARQUE PUBLICO COMO PARQUEADERO PERSONAL PARA DEJARLO DURANTE TODO EL DIA  ADEMAS PARA INGRESARLO LO SUBE POR UN ANDEN  ATRAVESANDO TODO EL PARQUE  DANANDO EN SU PASO EL PRADO  EN EL PARQUE SE ESTA REALIZANDO UN PROCESO EN CONJUNTO CON LA ALCALDIA PARA RECUPERAR EL PARQUE Y ESTA ACTIVIDAD NO ESTA AYUDANDO A LO QUE QUIERE LA COMUNIDAD. AGRADECEMOS SU PRONTA AYUDA PARA SEGUIR TRABAJANDO EN PRO DE LA COMUNIDAD.","Solucionado - Por traslado","AREA DE ATENCION A LA CIUDADANIA","No Registra"]
[1968,2022,"NOVIEMBRE","2022-11-30","01:04:37","OLGA LUCÍA MESA MORENO","VIRTUAL","Bogotá te Escucha","milena725@hotmail.com","Ciudadanía","JHON JAIRO ZULUAGA GIRALDO","Ciudadanía","Ciudadanía","Masculino","Hombre ","Sin datos","Sin datos","Sin datos","Sin datos","DERECHO DE PETICIÓN DE INTERÉS GENERAL","Consulta general","Competencia otras entidades","REEMBOLSO POR RECUPERACION DE ESPACIO PUBLICO","Solucionado - Por traslado","AREA DE ATENCION A LA CIUDADANIA","10 Engativá"]
[1969,2022,"NOVIEMBRE","2022-11-30","01:19:48","OLGA LUCÍA MESA MORENO","VIRTUAL","Bogotá te Escucha",0,"Ciudadanía","ANONIMO  ","Ciudadanía","Ciudadanía","N/A","N/A","Sin datos","Sin datos","Sin datos","Sin datos","DERECHO DE PETICIÓN DE INTERÉS GENERAL","Consulta general","Competencia otras entidades","INVASION DEL ESPACIO PUBLICO","Solucionado - Por traslado","AREA DE ATENCION A LA CIUDADANIA","No Registra"]
[1970,2022,"NOVIEMBRE","2022-11-30","03:21:57","OLGA LUCÍA MESA MORENO","VIRTUAL","Bogotá te Escucha","nefelibato.yo@gmail.com","Ciudadanía","DAVID FERNANDO SOSA MENDOZA","Ciudadanía","Ciudadanía","Masculino","Hombre ","Sin datos",{"$f":"+'[7]BTE Noviembre 2022'!W176","v":"No brinda informacion"},"Sin datos","Sin datos","SOLICITUD DE ACCESO A LA INFORMACION","Consulta general","Competencia otras entidades","EN EL BARIO COMPARTIR DE LA LOCALIDAD DE SUBA  LLEGO UN NUEVO OPERADOR PARA LOS PARQUEADEROS LA TERMINAL  Y AHORA NOS QUIEREN SACAR EL CARRO POR PASARNOS UN DIA EN EL PAGO DE LA MENSUALIDAD  QUIERO SABER LA NORMA Y COMO SE MANEJA ESTO  ME PARECE ES MUY INTRANSIGENTE  SI EN LOS PEORES BANCOS POR UN DIA DE NO PAGO TE SACAN DE LA CASA  Y SON MUY INTRANSIGENTES Y NO DAN NADA DE INFORMACION  GRACIAS POR LA ATENCION.","Solucionado - Por traslado","AREA DE ATENCION A LA CIUDADANIA","11 Suba"]
[1971,2022,"NOVIEMBRE","2022-11-30","06:23:16","OLGA LUCÍA MESA MORENO","VIRTUAL","Bogotá te Escucha",0,"Anónimo","Anónimo","Anónimo","Anónimo","N/A","N/A","Sin datos","Sin datos","Sin datos","Sin datos","QUEJA","Asesoría en administración y sostenibilidad del espacio público","Asesoría en temas de espacio público","HACE UNOS MESES INTERPUSIMOS QUEJA POR RUIDO GENERADO POR EL TALLER DE ORNAMENTACION QUE MONTARON EN EL GARAJE DE LA CASA UBICADA EN LA CALLE 39 F SUR 68 J 45 BARRIO NUEVA YORK LOCALIDAD KENNEDY  NOS CONTESTARON EN REGISTRO DE PETICION 3730242022 OFICIO 20225833260181 RADICADO ORFEO 20224603487142 QUE HABIAN REALIZADO UNA VISITA DE SENSIBILIZACION EL PASADO  25 DE OCTUBRE DE 2022  SIN EMBARGO  UN MES DESPUES SEGUIMOS CON LOS RUIDOS GENERADOS POR ESE TALLER OCUPANDDO ASI MISMO EL ESPACIO PUBLICO CON HERRAMIENTAS DE ORNAMENTACION OCASIONANDO RUIDO TODO EL DIA INCLUSO HASTA LA NOCHE Y FINES DE SEMANA Y FESTIVOS SIN DESCANSO ALGUNO DANDO INCUMPLIMIENTO ASI CON LO ORDENADO EN LA LEY 1801 DEL ARTICULO 40 NUMERAL 4  COMPORTAMIENTOS CONTRARIOS AL CUIDADO E INTEGRIDAD DEL ESPACIO PUBLICO  A PESAR  DEL COMPROMISO QUE INFORMAN QUE FIRMARON DE UNO HACER USO INDEBIDO DEL ESPACIO E IMPLEMENTAR MEDIDAS DE AISLAMIENTO DEL SONIDO  NO OBSTANTE LAS PERSONAS QUE MONTARON EL TALLER NO ESTAN DANDO CUMPLIMIENTO CON NINGUNA DE LAS OBSERVACIONES QUE LES REALIZARON EN LA VISITA PUESTO QUE AL DIA DE HOY NO HAN CESADO EL TRABAJO DE ORNAMENTACION  NI TAMPOCO HAN CESADO LAS ACTIVIDADES QUE REALIZAN CON RUIDO Y TAMPOCO HAN CESADO EN LA OCUPACION INDEBIDA DEL ESPACIO PUBLICO  RAZON POR LA CUAL MANIFESTAMOS NUEVAMENTE QUEJA PARA QUE SEAN TOMADAS LAS MEDIDAS CORRECTIVAS DEFINITIVAS QUE CONLLEVEN A QUE LA TRANQUILIDAD VUELVA A NUESTRO HOGAR Y LOS HOGARES COLINDANTES CON DICHO TALLER EL CUAL ESTA INCUMPLIENDO LAS NORMAS Y EL COMPROMISO FIRMADO  SOLICITAMOS SOLUCION DEFINITIVA PARA QUE EL TALLER NO GENERE ACTIVIDADES DE RUIDO Y OCUPACION DE ESPACIO PUBLICO GENERANDO ASI MOLESTIA A SUS HABITANTES CERCANOS Y DEL BARRIO. ASI MISMO  SOLICITAMOS QUE SE GENERE UNA SANCION AL TALLER POR INCUMPLIMIENTO DEL ACUERDO FIRMADO E INCUMPLIMIENTOS DE LAS NORMAS  TAMBIEN POR NO ESTAR LEGALMENTE ESTABLECIDO EL TALLER PARA PODER FUNCIONAR EN EL GARAJE DE UNA CASA DE UN BARRIO RESIDENCIAL  IGUALMENTE SOLICITAMOS SE TOMEN LAS MEDIDAS CORRECTIVAS CON EL TALLER. ADJUNTAMOS FOTOS DE PRUEBAS TOMADAS EL 28 Y 30 DE NOVIEMBRE DE 2022.",0,"AREA DE ATENCION A LA CIUDADANIA","No Registra"]
[1972,2022,"NOVIEMBRE","2022-11-30","06:25:45","OLGA LUCÍA MESA MORENO","VIRTUAL","Bogotá te Escucha",0,"Anónimo","Anónimo","Anónimo","Anónimo","N/A","N/A","Sin datos","Sin datos","Sin datos","Sin datos","QUEJA","Asesoría en administración y sostenibilidad del espacio público","Asesoría en temas de espacio público","HACE UNOS MESES INTERPUSIMOS QUEJA POR RUIDO GENERADO POR EL TALLER DE ORNAMENTACION QUE MONTARON EN EL GARAJE DE LA CASA UBICADA EN LA CALLE 39 F SUR 68 J 45 BARRIO NUEVA YORK LOCALIDAD KENNEDY  NOS CONTESTARON EN REGISTRO DE PETICION 3730242022 OFICIO 20225833260181 RADICADO ORFEO 20224603487142 QUE HABIAN REALIZADO UNA VISITA DE SENSIBILIZACION EL PASADO  25 DE OCTUBRE DE 2022  SIN EMBARGO  UN MES DESPUES SEGUIMOS CON LOS RUIDOS GENERADOS POR ESE TALLER OCUPANDDO ASI MISMO EL ESPACIO PUBLICO CON HERRAMIENTAS DE ORNAMENTACION OCASIONANDO RUIDO TODO EL DIA INCLUSO HASTA LA NOCHE Y FINES DE SEMANA Y FESTIVOS SIN DESCANSO ALGUNO DANDO INCUMPLIMIENTO ASI CON LO ORDENADO EN LA LEY 1801 DEL ARTICULO 40 NUMERAL 4  COMPORTAMIENTOS CONTRARIOS AL CUIDADO E INTEGRIDAD DEL ESPACIO PUBLICO  A PESAR  DEL COMPROMISO QUE INFORMAN QUE FIRMARON DE UNO HACER USO INDEBIDO DEL ESPACIO E IMPLEMENTAR MEDIDAS DE AISLAMIENTO DEL SONIDO  NO OBSTANTE LAS PERSONAS QUE MONTARON EL TALLER NO ESTAN DANDO CUMPLIMIENTO CON NINGUNA DE LAS OBSERVACIONES QUE LES REALIZARON EN LA VISITA PUESTO QUE AL DIA DE HOY NO HAN CESADO EL TRABAJO DE ORNAMENTACION  NI TAMPOCO HAN CESADO LAS ACTIVIDADES QUE REALIZAN CON RUIDO Y TAMPOCO HAN CESADO EN LA OCUPACION INDEBIDA DEL ESPACIO PUBLICO  RAZON POR LA CUAL MANIFESTAMOS NUEVAMENTE QUEJA PARA QUE SEAN TOMADAS LAS MEDIDAS CORRECTIVAS DEFINITIVAS QUE CONLLEVEN A QUE LA TRANQUILIDAD VUELVA A NUESTRO HOGAR Y LOS HOGARES COLINDANTES CON DICHO TALLER EL CUAL ESTA INCUMPLIENDO LAS NORMAS Y EL COMPROMISO FIRMADO  SOLICITAMOS SOLUCION DEFINITIVA PARA QUE EL TALLER NO GENERE ACTIVIDADES DE RUIDO Y OCUPACION DE ESPACIO PUBLICO GENERANDO ASI MOLESTIA A SUS HABITANTES CERCANOS Y DEL BARRIO. ASI MISMO  SOLICITAMOS QUE SE GENERE UNA SANCION AL TALLER POR INCUMPLIMIENTO DEL ACUERDO FIRMADO E INCUMPLIMIENTOS DE LAS NORMAS  TAMBIEN POR NO ESTAR LEGALMENTE ESTABLECIDO EL TALLER PARA PODER FUNCIONAR EN EL GARAJE DE UNA CASA DE UN BARRIO RESIDENCIAL  IGUALMENTE SOLICITAMOS SE TOMEN LAS MEDIDAS CORRECTIVAS CON EL TALLER. ADJUNTAMOS FOTOS DE PRUEBAS TOMADAS EL 28 Y 30 DE NOVIEMBRE DE 2022.",0,"AREA DE ATENCION A LA CIUDADANIA","No Registra"]
[1973,2022,"NOVIEMBRE","2022-11-30","07:28:22","OLGA LUCÍA MESA MORENO","VIRTUAL","Bogotá te Escucha",0,"Anónimo","Anónimo","Anónimo","Anónimo","N/A","N/A","Sin datos","Sin datos","Sin datos","Sin datos","QUEJA","Asesoría en administración y sostenibilidad del espacio público","Recuperación de Espacio público","POR ESTE MEDIO ME DIRIJO A UDS CON EL FIN DE SOLICITAR SE RECUPERE EL ESPACIO PUBLICO DE LOS ANTEJARDINES DE ESTA DIRECCION. ACTUALMENTE ESTAN SIENDO OCUPADOS POR UN PARASOL QUE COLOCA LA DUENA DE LA FRUTERIA GENERANDO CONTAMINACION AUDITIBA Y CONSUMO DE CIGARRILLO EN EL LUGAR ESTE LO UBICO SOBRE EL ANDEN Y DEL OTRO LADO REALIZARON UN ENCIERRO DEL ANTEJARDIN QUE NO PERMITE LA PODA DEL PASTO A LA ALCALDIA PORQUE LA ARRENDATARIA DEL LOCAL LLAMADO ZOE ENCERRO EL ANDEN CON UNA MALLA Y TIENE MUEBLES VIEJOS QUE AFEAN EL FRENTE DE LA PROPIEDAD TAMBIEN PINTO EL POSTE QUE ES PUBLICO CON PUBLICIDAD DE SU LOCAL. DE LA IMAGEN DE LA CASA SOLO QUEDA LA FOTO YA QUE TODO LO QUE PUSIERON SOBRE LOS ANDENES AFEA TODO E INTERRUMPE LA CALMA DE LA CASA",0,"AREA DE ATENCION A LA CIUDADANIA","No Registra"]
[1974,2022,"NOVIEMBRE","2022-11-30","08:42:24","CRISTHIAN CAMILO MONTAÑA HERNANDEZ","VIRTUAL","Bogotá te Escucha","rzarate1977@yahoo.com","Ciudadanía","RAFA  ZARATE ","Ciudadanía","RAFA  ZARATE ","N/A","N/A","Sin datos","Sin datos","Sin datos","Sin datos","DERECHO DE PETICIÓN DE INTERÉS PARTICULAR","Asesoría en administración y sostenibilidad del espacio público","Recuperación de Espacio público","RADICADO DADEP NO. 20224080285872. -VIRTUAL- DERECHO DE PETICION. REDES SOCIALES - TWITTER. DENUNCIA APROPIACION DE ESPACIO PUBLICO ENTRANSVERSAL 76A BIS CON DIAGONAL 82A.","Solucionado - Registro con preclasificacion","AREA DE ATENCION A LA CIUDADANIA","No Registra"]
[1975,2022,"NOVIEMBRE","2022-11-30","08:48:41","OLGA LUCÍA MESA MORENO","VIRTUAL","Bogotá te Escucha","hector.trabajador.social@gmail.com","Ciudadanía","HECTOR  HERNANDEZ VARGAS","Ciudadanía","HECTOR  HERNANDEZ VARGAS","N/A","N/A","Sin datos","Sin datos","Sin datos","Sin datos","DERECHO DE PETICIÓN DE INTERÉS GENERAL","Asesoría en administración y sostenibilidad del espacio público","Denuncia vehículos","LIDER DEL BARRIO MARICHUELA DE LA LOCALIDAD DE USME  MANIFIESTA PROBLEMATICA DE INVASION DE ESPACIO PUBLICO EN LA CL 77  DONDE HAY CARROS PARQUEADOS EN LA VIA EN AMBOS COSTADOS Y SUMADO A  ESTO LOS VENDEDORES AMBULANTES  LIMITAN EL TRANSITO DE LAS PERSONAS  ESTO SE PRESENTA PRINCIPALMENTE LOS FINES DE SEMANA.  - NOMBRES DE REPRESENTANTE  GERARDO ERNESTO CASTILLO FONSECA ? TESORERO - CELULAR  3214276927 - CORREO  ABCFUTBOLCLUB@YAHOO.ES - DIRECCION  CL 76 B SUR 14 I 11",0,"AREA DE ATENCION A LA CIUDADANIA","04 San Cristóbal"]
[1976,2022,"NOVIEMBRE","2022-11-30","11:43:22","OLGA LUCÍA MESA MORENO","VIRTUAL","Bogotá te Escucha",0,"Anónimo","Anónimo","Anónimo","Anónimo","N/A","N/A","Sin datos","Sin datos","Sin datos","Sin datos","QUEJA","Estudio de la viabilidad de las solicitudes de administración de bienes públicos","Autorización de uso","SENORES ALCALDIA MAYOR DE BOGOTA A QUIEN CORRESPONDA YO COMO CIUDADANA Y VECINA QUISIERA SABER SI UN PARTICULAR PUEDE HACER USO DEL ESPACIO PUBLICO  Y ADEMAS OBTENIENDO BENEFICIOS ECONOMICOS POR ELLO. QUIERO INTERPONER MI DENUNCIA SOBRE ESTE CASO  FRENTE AL PARQUE UBICADO EN LA CRA 107A CON CALLE 70A DEL BARRIO BOSQUES DE MARIANA  DONDE UN PARTICULAR ALQUILA LOS ESPACIOS EN HORAS NOCTURNAS  COBRANDO UNA SUMA DE DINERO DIARIA POR CADA VEHICULO QUE DEJAN TODA LA NOCHE  PRACTICA QUE HA VENIDO EJERCIENDO POR ANOS  QUIEN REGULA ESTO? ES NORMAL QUE ESTO SUCEDA? CUALQUIER PERSONA PUEDE USUFRUCTUAR ESTOS ESPACIOS? QUEDO ATENTA",0,"AREA DE ATENCION A LA CIUDADANIA","No Registra"]
[1977,2022,"NOVIEMBRE","2022-11-02","12:10:37","OLGA LUCÍA MESA MORENO","VIRTUAL","Bogotá te Escucha","jinethespinosaespinosa@gmail.com","Ciudadanía","LUZ  YINETH ESPINOSA ESPINOSA","Ciudadanía","Ciudadanía","Femenino","Mujer","Sin datos","Sin datos","Sin datos","Sin datos","DERECHO DE PETICIÓN DE INTERÉS GENERAL","Asesoría en administración y sostenibilidad del espacio público","Asesoría en temas de espacio público","SOLICITUD DE RIVI","Solucionado - Por asignacion","SUBDIRECCION DE GESTION INMOBILIARIA Y DEL ESPACIO PUBLICO","No Registra"]
[1978,2022,"NOVIEMBRE","2022-11-03","10:41:00","OLGA LUCÍA MESA MORENO","VIRTUAL","Bogotá te Escucha",0,"Juntas de Acción Comunal (JAC)","JUNTA DE ACCION COM","Juntas de Acción Comunal (JAC)","Juntas de Acción Comunal (JAC)","N/A","N/A","Sin datos","Sin datos","Sin datos","Sin datos","DERECHO DE PETICIÓN DE INTERÉS GENERAL","Incorporación y entrega de las áreas de cesión a favor del municipio","Cabida y linderos","SOLICITUD DE MEJORAMIENTO DE VIVIENDA  TITULACION DE PREDIOS  MEJORAMIENTO BARRIAL  PLAN TERRAZAS  PAVIMENTO DE VIAS URBANAS  CONSTRUIR ESPACIO PUBLICO Y ASI CON ESTAS OBRAS SE MEJORA LA CALIDAD DE VIDA DE LAS PERSONAS.","Solucionado - Por asignacion","SUBDIRECCION DE REGISTRO INMOBILIARIO","No Registra"]
[1979,2022,"NOVIEMBRE","2022-11-15","01:59:07","OLGA LUCÍA MESA MORENO","VIRTUAL","Bogotá te Escucha","sermedin@hotmail.com","Ciudadanía","MARTHA INES LANDÍNEZ ARIZA","Ciudadanía","Ciudadanía","Femenino","Mujer","Sin datos","Sin datos","Sin datos","Sin datos","DERECHO DE PETICIÓN DE INTERÉS PARTICULAR","Asesoría en administración y sostenibilidad del espacio público","Asesoría en temas de espacio público","Peticion SDQS - SDA","Solucionado - Por asignacion","SUBDIRECCION DE GESTION INMOBILIARIA Y DEL ESPACIO PUBLICO","No Registra"]
[1980,2022,"NOVIEMBRE","2022-11-01","05:22:15","OLGA LUCÍA MESA MORENO","VIRTUAL","Bogotá te Escucha","jasncarga@hotmail.com","Ciudadanía","JORGE ALBERTO SUAREZ NIETO","Ciudadanía","JORGE ALBERTO SUAREZ NIETO","N/A","N/A","Sin datos","Sin datos","Sin datos","Sin datos","DERECHO DE PETICIÓN DE INTERÉS PARTICULAR","Asesoría en administración y sostenibilidad del espacio público","Recuperación de Espacio público","Radicado Orfeo Veeduria No  20222200084912 Asunto  SOLICITA QUITAR LAS VENTAS AMBULANTES Y EL PAGO DE PARQUEADERO FRENTE A LA IGLESIA SANTUARIO EL SENOR DE LOS MILAGROS","Solucionado - Por traslado","AREA DE ATENCION A LA CIUDADANIA","No Registra"]
[1981,2022,"NOVIEMBRE","2022-11-01","03:00:38","OLGA LUCÍA MESA MORENO","VIRTUAL","Bogotá te Escucha",0,"Anónimo","ANONIMO  ","Anónimo","Anónimo","N/A","N/A","Sin datos","Sin datos","Sin datos","Sin datos","DERECHO DE PETICIÓN DE INTERÉS PARTICULAR","Consulta general","Competencia otras entidades","INVASION ESPACIO PUBLICO EN PARADERO DEL SITP BARRIO TENERIFE CARRERA 14 CON CALLE 91ASUR. HE SOLICITADO AYUDA  PARA REUBICAR UNA PERSONA QUE SE HACE CON UNA CARRETA SOBRE ESTE PARADERO IMPIDIENDO LA LIBRE CIRCULACION TANTO DE ASCENSO COMO DE DESCENSO DE LOS BUSES DEL SITP  ADEMAS DE GENERAR INSEGURIDAD YA QUE ESTA RODEADO DE VENDEDORES Y CONSUMIDORES DE DROGA GENERANDO INSEGURIDAD EN ESTE PARADERO DONDE LLEGAN MUCHOS ESTUDIANTES A COGER TRANSPORTE  SOLICITO EL FAVOR DE REVISAR A ESTA PERSONA DE ESTA CARRETA Y REUBICARLO YA QUE NOS ESTA GENERANDO INSEGURIDAD EN EL SECTOR. GRACIAS POR SU AYUDA.","Solucionado - Por traslado","AREA DE ATENCION A LA CIUDADANIA","No Registra"]
[1982,2022,"NOVIEMBRE","2022-11-02","04:03:48","CARLOS DANIEL GALVIS LEAL","VIRTUAL","Bogotá te Escucha",0,"Anónimo","ANONIMO  ","Anónimo","Anónimo","N/A","N/A","Sin datos","Sin datos","Sin datos","Sin datos","DERECHO DE PETICIÓN DE INTERÉS GENERAL","Consulta general","Competencia otras entidades","DERECHO DE PETICION-INTERES GENERAL ART 23 CONSTITUCION POLITICA DE COLOMBIA. LEY 1755 DE 2015. (USO DEL SUELO  FUNCIONAMIENTO DE ESTABLECIMIENTOS COMERCIALES  AVISOS SIN EL DEBIDO PERMISO Y LINEAMIENTOS DEL DISTRITO PARA CONSTRUCCIONES EN AREAS DETERMINADAS). BARRIO LA ALQUERIA PUENTEARANDA","Solucionado - Por asignacion","OFICINA DE CONTROL DISCIPLINARIO INTERNO","No Registra"]
[1983,2022,"NOVIEMBRE","2022-11-01","03:26:43","OLGA LUCÍA MESA MORENO","VIRTUAL","Bogotá te Escucha","papeleriagalaga@gmail.com","Ciudadanía","LUIS FRANCISCO MARTINEZ BARRERA","Ciudadanía","Ciudadanía","Masculino","Hombre ","Sin datos","Sin datos","Sin datos","Sin datos","DERECHO DE PETICIÓN DE INTERÉS PARTICULAR","Asesoría en administración y sostenibilidad del espacio público","Asesoría en temas de espacio público","SOLICITUD INTERVENCION ANTE PROBLEMATICAS EN LA LOCALIDAD DE CIUDAD BOLIVAR","Solucionado - Por asignacion","SUBDIRECCION DE GESTION INMOBILIARIA Y DEL ESPACIO PUBLICO","19 Ciudad Bolívar"]
[1984,2022,"NOVIEMBRE","2022-11-16","09:31:09","OLGA LUCÍA MESA MORENO","VIRTUAL","Bogotá te Escucha",0,"Entidades y Organismos Distritales","HMV INGENIEROS LTDA","Entidades y Organismos Distritales","Empresas privadas","N/A","N/A","Sin datos","Sin datos","Sin datos","Sin datos","DERECHO DE PETICIÓN DE INTERÉS PARTICULAR","Asesoría en administración y sostenibilidad del espacio público","Asesoría en temas de espacio público","Peticion SDQS - SDA","Solucionado - Por asignacion","SUBDIRECCION DE GESTION INMOBILIARIA Y DEL ESPACIO PUBLICO","No Registra"]
[1985,2022,"NOVIEMBRE","2022-11-08","04:40:53","OLGA LUCÍA MESA MORENO","VIRTUAL","Bogotá te Escucha","heladosdonatelo@gmail.com","Ciudadanía","JORGE HUMBERTO LASTRA GALVAN","Ciudadanía","Ciudadanía","Masculino","Hombre ","Sin datos","Sin datos","Sin datos","Sin datos","DERECHO DE PETICIÓN DE INTERÉS PARTICULAR","Consulta general","Competencia otras entidades","REITERACION A SOLICITUD YA QUE NO ESTA CONFORME CON LA RESPUESTA DADA AL REQUERIMIENTO","Solucionado - Por traslado","AREA DE ATENCION A LA CIUDADANIA","No Registra"]
[1986,2022,"NOVIEMBRE","2022-11-01","04:05:56","OLGA LUCÍA MESA MORENO","VIRTUAL","Bogotá te Escucha","mario.saenz@movistararena.co","Ciudadanía","MARIO ANDRE  SAENZ LATORRE MOVISTAR ARENA","Ciudadanía","Ciudadanía","Masculino","Hombre ","Sin datos","Sin datos","Sin datos","Sin datos","DERECHO DE PETICIÓN DE INTERÉS PARTICULAR","Consulta general","Talento humano","SOLICITUD DE INFORMACION DEL SUB DIRECTOR ARMANDO LOZANO","Solucionado - Por asignacion","SUBDIRECCION DE GESTION CORPORATIVA","No Registra"]
[1987,2022,"NOVIEMBRE","2022-11-01","09:11:40","OLGA LUCÍA MESA MORENO","VIRTUAL","Bogotá te Escucha","gestionciudadanadenuncia@hotmail.com","Ciudadanía","GESTION CIUDADANA DENUNCIA ","Ciudadanía","Ciudadanía","N/A","N/A","Sin datos","Sin datos","Sin datos","Sin datos","DERECHO DE PETICIÓN DE INTERÉS PARTICULAR","Consulta general","Competencia otras entidades","EL PRESENTE REQUERIMIENTO CIUDADANO INGRESA EL 31/10/2022 POR LA WEB  CORREO ELECTRONICO DE LA SDS  SE ADJUNTA TRAZABILIDAD  DENUNCIA - QUEJA ESTABLECIMIENTO LAVADO DE MOTOS EN LA CARRERA 19 G SUR # 62 - 03 ESQUINA DEL BARRIO SAN FRANCISCO LOCALIDAD DE CIUDAD BOLIVAR FUNCIONA HACE VARIOS MESES UN SITIO DONDE LAVAN MOTOS ESTE SITIO HACE OCUPACION INDEBIDA DEL ESPACIO PUBLICO TODOS LOS DIAS Y LOS FINES DE SEMANA EN PEOR PARQUEAN LAS MOTOS SOBRE LA VIA PUBLICA QUITANDO UN CARRIL PARA TRANSITAR  HACEN MAL MANEJO DEL AGUA Y ECHAN POR MEDIO DE ASPERCION CON UN COMPRESOR LIQUIDOS NOCIBOS PARA LA SALUD Y EL MEDIO AMBIENTE ECHAN LIQUIDOS POR MEDIO DE GASES COMO UNA NUVE DE GASES QUE SE INPREGNAN EN LOS ALIMENTOS COMO VERDURAS  PLATANO  PAPA Y DEMAS QUE VENEDEN EN EL LOCAL DE ENSEGUIDA  QY CUANDO UNO PASA O ESPERA EL ALIMETADOR YA QUE AHAY HAY UN PARADERO DE TRASMILENIO EL OLOR POR LOS GASES HACEN TOCER Y ADFICIAR LAS PERSONAS QUE ALLI ESTAN Y QUE PASAN POR EL LUGAR A VCEES ESOS GASES SE ENCIERRAN DENTRO DE LOS ALIMENTADORES YA Q EN EL MOMENTO UQE ABREN LA PUERTA A DEJAR Y RECOGER PESAJEROS ESTAN ECHAN EN ESTE LAVADERO AL AIRE LIBRE LOS LIQUIDOS COMO EL GRAFITO Q INPREGNAN TODO GENERANDO ENFERMEDAD RESPIRATORIA Y CONTAMINACION. LOS PEATONES NO PUEDEN PASAR POR QUE OCUPARON EL ANDEN Y HASTA SILLAS CUERDAS PARA COLGAR ROPA Y TRAPOS PUSIERON Y LA POLICIA PASA Y SOLO DEJAN LAS MOTOS PARA LAVARLAS ALLI CONVIRTIENDOSEN EN PERMISIVOS DE LA SITUACION.  SE HA ECHO DENUNCIA ANTE LA ALCALDIA LOCAL PERO NO HACEN NADA HAY CAMARASEN LOS PORSTES DE LA SDSCJ Y DE TRNASMILENIO EN UNA TORRE Q QUEDA HAY PERO NO HACEN NADA PEDIMOS AYUDA DE LAS ENTIDADES COMO MOVILIDAD  DEFENSORA DEL ESPACIO PUBLIOC  SALUD  LA ALCALDIA EL ACUEDUCTO Y DEMAS ENTIDADES QUE MANEJEN ESTAS PROBLEMATICAS AMBIENTE FRENTE A LA CONTAMINACION Q GENERA ESTE ESTABLECIMIENTO. PROFAVOR EMITIR RESPUESTA DENTOR DEL TIEMPO ESTIPULADO.  FOTOS","Solucionado - Por traslado","AREA DE ATENCION A LA CIUDADANIA","No Registra"]
[1988,2022,"NOVIEMBRE","2022-11-02","04:41:29","OLGA LUCÍA MESA MORENO","VIRTUAL","Bogotá te Escucha",0,"Anónimo","ANONIMO  ","Anónimo","Anónimo","N/A","N/A","Sin datos","Sin datos","Sin datos","Sin datos","QUEJA","Asesoría en administración y sostenibilidad del espacio público","Asesoría en temas de espacio público"," POR MEDIO DE LA PRESENTE  MUY RESPETUOSAMENTE SOLICITAMOS ORDEN A QUIEN CORRESPONDA  SE NOS INFORME Y SE NOS ENVIE COPIA DEL OFICIO DONDE LA ALCALDIA LOCAL DE CIUDAD BOLIVAR Y EL INSTITUTO DISTRITAL DEL ESPACIO PUBLICO DESIGNARON A LA SENORA AIDA ZORAIDA ROZO SABOGAL  CON CEDULA CIUDANIA NUMERO 51766951 DE BOGOTA  COMO LA ENCARGADA DE ALQUILAR O PRESTAR LOS ESPACIOS PUBLICOS Y RECOGER DINERO POR LA UTILIZACION DE LOS MISMO. ","Solucionado por asignar - Trasladar","AREA DE ATENCION A LA CIUDADANIA","No Registra"]
[1989,2022,"NOVIEMBRE","2022-11-03","09:42:16","OLGA LUCÍA MESA MORENO","VIRTUAL","Bogotá te Escucha","kraken3398@gmail.com","Ciudadanía","ÓSCAR WILLIAM VARGAS TOVAR","Ciudadanía","Ciudadanía","Masculino","Hombre ","Sin datos","Sin datos","Sin datos","Sin datos","DERECHO DE PETICIÓN DE INTERÉS GENERAL","Asesoría en administración y sostenibilidad del espacio público","Parqueaderos","SE PUEDE SOLICITAR ADMINISTRACION DE PARQUEADERO QUE NO ESTE EN LA LISTA?  URL HTTPS //BOGOTA.GOV.CO/MI-CIUDAD/GOBIERNO/COMO-PUEDO-ADMINISTRAR-UNO-DE-LOS-PARQUEADEROS-BARRIALES-DE-BOGOTA","Solucionado - Por asignacion","SUBDIRECCION DE GESTION INMOBILIARIA Y DEL ESPACIO PUBLICO","17 La Candelaria"]
[1990,2022,"NOVIEMBRE","2022-11-02","11:29:48","OLGA LUCÍA MESA MORENO","VIRTUAL","Bogotá te Escucha","cardonaycardona19@gmail.com","Ciudadanía","ANA ISABEL CARDONA ","Ciudadanía","Ciudadanía","Femenino","Mujer","Sin datos","Sin datos","Sin datos","Sin datos","DERECHO DE PETICIÓN DE INTERÉS PARTICULAR","Asesoría en administración y sostenibilidad del espacio público","Asesoría en temas de espacio público","NO ME RESPONDIERON LO QUE YO QUERIA Y E SABER SI PUEDEN PUBLICAR OTRA VEZ LA RESOLUCION 034/2014 SOBRE HECHOS NOTORIOS. ESTA NO ESTA DEROGADA NOS LA PUEDEN PUBLICAR POR FAVOR YA QUE SIEMPRE APARECE COMO EXTRAVIADA","Solucionado - Por asignacion","SUBDIRECCION DE GESTION INMOBILIARIA Y DEL ESPACIO PUBLICO","17 La Candelaria"]
[1991,2022,"NOVIEMBRE","2022-11-05","09:42:55","OLGA LUCÍA MESA MORENO","VIRTUAL","Bogotá te Escucha",0,"Anónimo","ANONIMO  ","Anónimo","Anónimo","N/A","N/A","Sin datos","Sin datos","Sin datos","Sin datos","QUEJA","Consulta general","Competencia otras entidades","BUENAS  PARA DENUNCIAR UNA SENORA BIBIANA CAMPOS QUE ES VENDEDORA AMBULANTE Y SE UBICA DIAGONAL AL CAI DE BOSA LA LIBERTAD Y TIENE VARIOS PUESTOS    ( 3)  Y ADEMAS AHORA PARA LA TEMPORADA DE DICIEMBRE ARRIENDA 5 PUESTOS MAS   ELLA ESTA HACIENDO NEGOCIO CON EL ANDEN PORQUE COBRA PARA LA TEMPORADA DE DICIEMBRE ARRIENDO POR VARIOS PUESTOS. EL TELEFONO DE ELLA ES 3143286487. MUCHAS GRACIAS.","Cerrado - Por no competencia","AREA DE ATENCION A LA CIUDADANIA","No Registra"]
[1992,2022,"NOVIEMBRE","2022-11-04","11:39:32","OLGA LUCÍA MESA MORENO","VIRTUAL","Bogotá te Escucha","coordinadorjuridico@diagnostiya.com","Ciudadanía","CESAR ALBERTO AREVALO PRIETO","Ciudadanía","Ciudadanía","Masculino","Hombre ","Sin datos","Sin datos","Sin datos","Sin datos","DERECHO DE PETICIÓN DE INTERÉS PARTICULAR","Asesoría en administración y sostenibilidad del espacio público","Asesoría en temas de espacio público","DERECHO DE PETICION SOLICITUD DE APROVECHAMIENTO DEL ESPACIO PUBLICO.","Solucionado - Por asignacion","SUBDIRECCION DE GESTION INMOBILIARIA Y DEL ESPACIO PUBLICO","01 Usaquén"]
[1993,2022,"NOVIEMBRE","2022-11-03","04:50:49","OLGA LUCÍA MESA MORENO","VIRTUAL","Bogotá te Escucha","crucinquec@yahoo.com","Ciudadanía","CARLOS ARTURO RUCINQUE CAMELO","Ciudadanía","Ciudadanía","Masculino","Hombre ","Sin datos","Sin datos","Sin datos","Sin datos","DERECHO DE PETICIÓN DE INTERÉS PARTICULAR","Asesoría en administración y sostenibilidad del espacio público","Asesoría en temas de espacio público","SOLICITUD INTERVENCION ANTE ANTIDADES PARA MANEJO DE RESTITUCION DE ESPACIOS PUBLICOS Y OTROS","Solucionado - Por asignacion","SUBDIRECCION DE GESTION INMOBILIARIA Y DEL ESPACIO PUBLICO","13 Teusaquillo"]
[1994,2022,"NOVIEMBRE","2022-11-15","02:07:37","OLGA LUCÍA MESA MORENO","VIRTUAL","Bogotá te Escucha","yoyxchalw@gmail.com","Ciudadanía","JOHANA  RIOS RAMIREZ","Ciudadanía","Ciudadanía","Femenino","Mujer","Sin datos","Sin datos","Sin datos","Sin datos","DERECHO DE PETICIÓN DE INTERÉS PARTICULAR","Consulta general","Competencia otras entidades","REMISION SOLICITUD CULTURA  HACIENDA  HABITAT","Solucionado - Por traslado","AREA DE ATENCION A LA CIUDADANIA","No Registra"]
[1995,2022,"NOVIEMBRE","2022-11-04","10:05:19","OLGA LUCÍA MESA MORENO","VIRTUAL","Bogotá te Escucha",0,"Anónimo","ANONIMO  ","Anónimo","Anónimo","N/A","N/A","Sin datos","Sin datos","Sin datos","Sin datos","QUEJA","Consulta general","Competencia otras entidades","BUENAS NOCHES  UNA VENDEDORA AMBULANTE DE BOSA LA LIBERTAD QUE SE LLAMA VIVIANA CAMPOS ARRIENDA LOS PUESTOS PARA LA EPOCA DE DICIEMBRE Y ADEMAS TIENE VARIOS PUESTOS DE VENTA AMBULANTE DIAGONAL AL CAI BOSA LA LIBERTAD . SU PAREJAA SENTIMENTAL UN TAL YEFERSON ES IDENTIFICADO COMO UN GRAN LADRON Y RATERO DEL SECTOR  A ELLA LA ENCUENTRAN DIAGONAL AL CAI DE BOSA LA LIBERTAD EN UNO DE SUS PUESTOS VENDE CONTROLES Y CORREAS  ELLA TIENE NEGOCIO PORQUE  COBRA POR USAR EL ANDEN. SU NUMERO CELULAR ES 3143286487","Cerrado - Por no competencia","AREA DE ATENCION A LA CIUDADANIA","No Registra"]
[1996,2022,"NOVIEMBRE","2022-11-04","02:07:14","OLGA LUCÍA MESA MORENO","VIRTUAL","Bogotá te Escucha",0,"Anónimo","ANONIMO  ","Anónimo","Anónimo","N/A","N/A","Sin datos","Sin datos","Sin datos","Sin datos","QUEJA","Consulta general","Competencia otras entidades","PARA PONER UNA VENTA DE ESPACIO PUBLICO  EN BOSA LA LIBERTAD UNA MECHI MONA QUE SE LLAMA BIBIANA CANPOS ARRIENDA LOS PUESTOS PARA LA EPOCA DE DICIEMBRE  HACE NEGOCIO CON LOS ANDENES Y ADEMAS ELLA TIENE 6 PUESTOS DE ELLA Y APARTE DE ESO ARRIENDA OTROS MAS. SE HACE DIAGONAL AL CAI DE LA LIBERTAD EN BOSA","Solucionado - Por traslado","AREA DE ATENCION A LA CIUDADANIA","No Registra"]
[1997,2022,"NOVIEMBRE","2022-11-08","01:25:56","OLGA LUCÍA MESA MORENO","VIRTUAL","Bogotá te Escucha",0,"Anónimo","ANONIMO  ","Anónimo","Anónimo","N/A","N/A","Sin datos","Sin datos","Sin datos","Sin datos","QUEJA","Consulta general","Competencia otras entidades","EN CALLE 75  NO. 70 A 04 FUNCIONA UN ESTABLECIMIENTO DE VENTA Y CONSUMO DE BEBIDAS ALCOHOLICAS DESDE HACE MAS  8 MESES EN UN SITIO QUE POR USO DE SUELO NO ES PERMITIDO.  ADICIONAL A ESCASOS 18 METROS SE ENCUENTRA UN COLEGIO Y UN JARDIN (LOS CUALES FUNCIONAN HACEN MAS DE 15 ANOS)POR LEY NO SE DEBE UBICAR ESTE TIPO DE ESTABLECIMIENTOS A MENOS DE 200 METROS DE ESTABLECIMIENTOS EDUCATIVOS.  POR LEY ESTA RESTRINGIDO EL EXPENDIO Y CONSUMO DE BEBIDAS ALCOHOLICAS EN EL ESPACIO PUBLICO  ( UBICAN MESAS SILLAS CARPA ESTUFA EN EL ANDEN IMPIDIENDO LA CIRCULACION) PONEN MUSICA DURISIMO GRITAN CHIFLAN CANTAN A VOZ EN CUELLO HACEN BULLICIO BASICAMENTE DE MIERCOLES A DOMINGO (A VECES TAMBIEN LUNES Y MARTES) DESDE LA 1 PM HASTA LA MADRUGADANO RESPETAN EL SUENO Y LA TRANQUILIDAD DE LOS RESIDENTES ESTA ES UN AREA RESIDENCIAL.  PARQUEAN CARROS DE SUS CLIENTES EN LA VIA POR HORAS OBSTRUYENDO LA VIA.  EN RESUMEN UN COMPLETO DESORDEN Y DESACATO DE LEYES Y NO PASA NADA.  SERA QUE EXISTE COMPLICIDAD DE ENTES???","Solucionado - Por traslado","AREA DE ATENCION A LA CIUDADANIA","No Registra"]
[1998,2022,"NOVIEMBRE","2022-11-08","10:02:47","OLGA LUCÍA MESA MORENO","VIRTUAL","Bogotá te Escucha",0,"Anónimo","ANONIMO  ","Anónimo","Anónimo","N/A","N/A","Sin datos","Sin datos","Sin datos","Sin datos","QUEJA","Consulta general","Competencia otras entidades","EN CALLE 75  NO. 70 A 04 FUNCIONA UN ESTABLECIMIENTO DE VENTA Y CONSUMO DE BEBIDAS ALCOHOLICAS DESDE HACE MAS  8 MESES EN UN SITIO QUE POR USO DE SUELO NO ES PERMITIDO.  ADICIONAL A ESCASOS 18 METROS SE ENCUENTRA UN COLEGIO Y UN JARDIN (LOS CUALES FUNCIONAN HACEN MAS DE 15 ANOS)POR LEY NO SE DEBE UBICAR ESTE TIPO DE ESTABLECIMIENTOS A MENOS DE 200 METROS DE ESTABLECIMIENTOS EDUCATIVOS.  POR LEY ESTA RESTRINGIDO EL EXPENDIO Y CONSUMO DE BEBIDAS ALCOHOLICAS EN EL ESPACIO PUBLICO  ( UBICAN MESAS SILLAS CARPA ESTUFA EN EL ANDEN IMPIDIENDO LA CIRCULACION) PONEN MUSICA DURISIMO GRITAN CHIFLAN CANTAN A VOZ EN CUELLO HACEN BULLICIO BASICAMENTE DE MIERCOLES A DOMINGO (A VECES TAMBIEN LUNES Y MARTES) DESDE LA 1 PM HASTA LA MADRUGADANO RESPETAN EL SUENO Y LA TRANQUILIDAD DE LOS RESIDENTES ESTA ES UN AREA RESIDENCIAL.  PARQUEAN CARROS DE SUS CLIENTES EN LA VIA POR HORAS OBSTRUYENDO LA VIA.  EN RESUMEN UN COMPLETO DESORDEN Y DESACATO DE LEYES Y NO PASA NADA.  SERA QUE EXISTE COMPLICIDAD DE ENTES???LA POLICIA CONOCE EL CASO Y NO HACE NADA","Cerrado - Por no competencia","AREA DE ATENCION A LA CIUDADANIA","No Registra"]
[1999,2022,"NOVIEMBRE","2022-11-08","08:30:45","OLGA LUCÍA MESA MORENO","VIRTUAL","Bogotá te Escucha",0,"Anónimo","ANONIMO  ","Anónimo","Anónimo","N/A","N/A","Sin datos","Sin datos","Sin datos","Sin datos","DERECHO DE PETICIÓN DE INTERÉS GENERAL","Consulta general","Competencia otras entidades","SE COMUNICA PERSONA A NOMINA EL DIA 1/11/2022  SIENDO LAS 4.19 PM MANIFESTANDO SU INCONFORMIDAD PORQUE AFIRMA QUE TRABAJA COMO PERSONA INDEPENDIENTE  CONFIRMA QUE EN LAS DIRECCIONES CALLE 13 HASTA CALLE 6 Y EN LA CARRERA 29 Y TODAS LAS CALLES SUBIENDO OCTAVA NOVENA SEPTIMA POR DE LA 30  LA GENTE SE APODERO DE LOS ANDENES ADICIONALES  COLOCARON UNA BASCULA EN LA DIRECCION CARRERA 31 A #07-95 QUE TODO EL QUE SE PARQUE EN ESA ZONA LE PINCHAN EL CARRO  DESEA QUE HAGAN RECUPERACION DEL ESPACIO PUBLICO.  PARA LAS PERSONAS QUE LES TOCA PASAR OBLIGATORIAMENTE PORQUE TRABAJA CON ENVIOS NO DESEA MANIFESTAR DATOS.","Cerrado - Por no competencia","AREA DE ATENCION A LA CIUDADANIA","No Registra"]
[2000,2022,"NOVIEMBRE","2022-11-09","11:31:46","OLGA LUCÍA MESA MORENO","VIRTUAL","Bogotá te Escucha","guiaurbana1@yahoo.com","Ciudadanía","JUAN CARLOS AVILA LORA","Ciudadanía","Ciudadanía","Masculino","Hombre ","Sin datos","Sin datos","Sin datos","Sin datos","DERECHO DE PETICIÓN DE INTERÉS GENERAL","Certificación de la propiedad inmobiliaria distrital","Certificación de la propiedad inmobiliaria","DADEP PARQUE RESERVA","Solucionado - Por asignacion","SUBDIRECCION DE REGISTRO INMOBILIARIO","No Registra"]
[2001,2022,"NOVIEMBRE","2022-11-11","08:09:39","OLGA LUCÍA MESA MORENO","VIRTUAL","Bogotá te Escucha","papeleriagalaga@hotmail.com","Ciudadanía","LUIS FRANCISCO MARTINEZ BARRERA","Ciudadanía","Ciudadanía","Masculino","Hombre ","Sin datos","Sin datos","Sin datos","Sin datos","DERECHO DE PETICIÓN DE INTERÉS PARTICULAR","Asesoría en administración y sostenibilidad del espacio público","Asesoría en temas de espacio público","SOLICITUD INTERVENCION ANTE PROBLEMATICA EN LA LOCALIDAD DE CIUDAD BOLIVAR","Solucionado - Por asignacion","DIRECCIÓN","No Registra"]
[2002,2022,"NOVIEMBRE","2022-11-10","02:05:11","OLGA LUCÍA MESA MORENO","VIRTUAL","Bogotá te Escucha","luzotalora@gmail.com","Ciudadanía","LUZ ANGELA OTALORA RODRIGUEZ","Ciudadanía","Ciudadanía","Femenino","Mujer","Sin datos","Sin datos","Sin datos","Sin datos","DERECHO DE PETICIÓN DE INTERÉS PARTICULAR","Certificación de la propiedad inmobiliaria distrital","Certificación de la propiedad inmobiliaria","SOLICITUD DEL OFICIO CORRESPONDIENTE A LOS RUPI 833-6 (1125 23 M2) Y RUPI 833-2 (2450 76 M2). URBANIZACION ALSACIA","Solucionado - Por asignacion","SUBDIRECCION DE REGISTRO INMOBILIARIO","12 Barrios Unidos"]
[2003,2022,"NOVIEMBRE","2022-11-10","12:23:29","OLGA LUCÍA MESA MORENO","VIRTUAL","Bogotá te Escucha","arqalexfonseca@gmail.com","Ciudadanía","ALEXANDER  FONSECA CASTILLO","Ciudadanía","Ciudadanía","Masculino","Hombre ","Sin datos","Sin datos","Sin datos","Sin datos","CONSULTA","Certificación de la propiedad inmobiliaria distrital","Certificación de la propiedad inmobiliaria","DATOS PREDIO INTERES DIRECCION TV 5 M 48 C 11 SUR - CHIP AAA0166DUPP - PLANO URBANISTICO RU/4-02 - CL 48 G BIS SUR VIA PEATONAL - PARCELA 14 - BARRIO LA CAROLINA ? LOCALIDAD RAFAEL URIBE - RESOLUCION 813 DEL 11/11/2005 - RUPI 3560 ? 13 - ACTA DE RECIBO 167 DEL 29/12/2006 TEMA ASUNTO   SOLICITUD ACLARACION TIPO Y CARACTER VIAL E INDICACION SI EL PREDIO ES PUBLICO O PRIVADO","Solucionado - Por asignacion","SUBDIRECCION DE REGISTRO INMOBILIARIO","10 Engativá"]
[2004,2022,"NOVIEMBRE","2022-11-10","11:16:36","OLGA LUCÍA MESA MORENO","VIRTUAL","Bogotá te Escucha","pilarbastidas@yahoo.com","Ciudadanía","PILAR  BASTIDAS AROSEMENA","Ciudadanía","Ciudadanía","Femenino","Mujer","Sin datos","Sin datos","Sin datos","Sin datos","SOLICITUD DE ACCESO A LA INFORMACION","Consulta general","Competencia otras entidades","SENORES    ALCALDIA DE BOGOTA ALCALDESA CLAUDIA LOPEZ  L.C.   REF  MARCHA NACIONAL CIUDADANA.     PRESENTACION   EN EL MARCO DEL DERECHO DE LA REUNION ESTIPULADO EN LA CONSTITUCION POLITICA DE COLOMBIA  EN EL ARTICULO 37  NOS PERMITIMOS INFORMARLE QUE UN GRUPO DE CIUDADANOS LLEVARA A CABO UNA ACTIVIDAD DE MOVILIZACION  QUE TIENE COMO OBJETIVO MANIFESTAR NUESTRA INCONFORMIDAD CIUDADANA FRENTE A LA COYUNTURA POLITICA DE PAIS Y POR LA FALTA DE REPRESENTATIVIDAD QUE DESEAMOS EXPRESAR. ESPERAMOS CONTAR CON UNA ALTA AFLUENCIA DE CIUDADANOS EL 19 DE NOVIEMBRE EN BOGOTA.  DE ACUERDO AL ARTICULO 18 A DE LA CONSTITUCION  LAS MARCHAS  SIENDO AGLOMERACIONES DE PARTICIPACION CIUDADANA  NO REQUIEREN REGISTRO A TRAVES DE LA VENTANILLA DEL SUGA  PERO SI REQUIEREN INFORMAR A LAS ENTIDADES RESPONSABLES PARA EMITIR LA VERIFICACION DE CONDICIONES O CONCEPTO FAVORABLE EN SU LUGAR  PARA PODER HACER USO DE UNA TARIMA EN EL ESPACIO PUBLICO EL DIA DEL EVENTO  TRAMITE QUE REALIZAREMOS CON LOS BOMBEROS Y POSTERIORMENTE EL DADEP.  PROGRAMACION  EVENTO  SIN ANIMO DE LUCRO FECHA  19 DE NOVIEMBRE  HORA INICIO    10 00 A.M.  LUGAR  PARQUE NACIONAL   PRIMERA PARADA  SE INICIA LA MARCHA Y NOS DESPLAZAREMOS AL MINISTERIO DE TRABAJO  UBICADO EN  CRA. 13 NO. 32-76 DONDE SE HARAN UN PLANTON DE APROXIMADA MENTE 2 HORAS  FINALIZACION  HORA     12 30 A.M.  LUGAR  PLAZA DE BOLIVAR TENDREMOS UNA TARIMA CON SONIDO DONDE SE REALIZARAN UNAS INTERVENCIONES.  HORA ESTIMADA DE FINALIZACION 2 00 P.M.   ESPERAMOS CONTAR CON SU PRESENCIA Y APOYO PARA ESTA ACTIVIDAD EN CUANTO A GESTORES DE CONVIVENCIA Y LOGISTICA REQUERIDA PARA UNA ALTA CONCENTRACION DE CIUDADANOS.  AGRADEZCO SU GENTIL ATENCION.    CORDIALMENTE   PILAR BASTIDAS AROSEMENA C.C. 52 452 007 CEL. 311 425 7628 E-MAIL  PILARBASTIDAS2020@GMAIL.COM COORDINADORA DE LOGISTICA MESA POR LA LIBERTAD - SECCIONAL BOGOTA ","Cerrado - Por no competencia","AREA DE ATENCION A LA CIUDADANIA","01 Usaquén"]
[2005,2022,"NOVIEMBRE","2022-11-10","11:11:41","OLGA LUCÍA MESA MORENO","VIRTUAL","Bogotá te Escucha",0,"Juntas Administradoras Locales (JAL)","ANONIMO  ","Anónimo","Anónimo","N/A","N/A","Sin datos","Sin datos","Sin datos","Sin datos","DERECHO DE PETICIÓN DE INTERÉS GENERAL","Consulta general","Notificaciones","CONVOCATORIA MESA DE TRABAJO","Cerrado - Por no competencia","AREA DE ATENCION A LA CIUDADANIA","No Registra"]
[2006,2022,"NOVIEMBRE","2022-11-10","05:39:32","OLGA LUCÍA MESA MORENO","VIRTUAL","Bogotá te Escucha",0,"Anónimo","ANONIMO  ","Anónimo","Anónimo","N/A","N/A","Sin datos","Sin datos","Sin datos","Sin datos","DERECHO DE PETICIÓN DE INTERÉS GENERAL","Consulta general","Competencia otras entidades","SIMEPRE SE HA SOLICITADO PRESENCIA E INTERVENCION FRENTE A LA PROBLEMATICA DE MOVILIDAD QUE SE PRESENTA EN LA CALLE 187 CON CARRERA 20   DONDE FRECUENTEMENTE HAY ACCIDENTES. EN ESTA VIA EN HORAS DE LA MADRUGADA HAY UN TRAFICO MUY ALTO DE VOLQUETAS A ALTAS VELOCIDADES PRODUCIENDO RUIDOS Y VIBRACIONES MUY FUERTES EN UNA ZONA QUE ES RESIDENCIAL. EN LAS MANANAS LOS BUSES INTERMUNICIPALES TRANSITAN POR ESA VIA POR EVITAR EL TRANCON DE LA AUTOPISTA NORTE  SIENDO ESTA UNA RUTA QUE NO DEBEN TOMAR Y QUE ES RESIDENCIAL LAS MOTOS PASAN TODO EL TIEMPO A ALTAS VELOCIDADES SIN NINGUN CONTROL Y GENERANDO RUIDOS QUE TRASPASAN LA TRANQUILIDAD DE LOS RESIDENTES LOS BUSES ILEGALES QUE TRANSITAN DESDE Y HACIA MIRADOR Y CODITO A VELOCIDADES MUY PELIGROSAS   GENERAN PELIGROS EN LA VIA SUMADO AL RUIDO QUE PRODUCEN YA QUE EVIDENTEMENTE SON VEHICULOS EN MAL ESTADO. LA ALTA PRESENCIA DE BUSES QUE CONGESTIONAN LA VIA A LA QUE LE FUE QUITADO UN CARRIL PARA CICLORRUTA QUE NO ES UTILIZADA POR QUE LAS BICICLETAS INVADEN EL CARRIL DE LOS VEHICULOS. LOS VENDEDORES AMBULANTES QUE INVADEN LOS ANDENES Y LLEVAN SUS PRODUCTOS HASTA LOS CARROS QUE SE PARAN A HACER LA COMPRA SIN IMPORTAR EL TRANCON QUE ARMAN LA DIFICULTAD Y PELIGRO DE LOS PEATONES PARA PASAR LA VIA TENIENDO EN CUENTA LO ANTES MENCIONADO LOS CARROS QUE INVADEN EL CARRIL CONTRARIO  PARA EVADIR LO ANTES MENCIONADO EL MAL ESTADO DE LA VIA Y LOS ANDENES ESPECIALMENTE CUANDO LLUEVE A PESAR DE LAS SOLICITUDES ELEVADAS NUNCA SE HACEN OPERATIVOS DE CONTROL  O SE REVISA COMO MEJORAR LA SITUACION Y DISMINUIR LOS ACCIDENTES Y LOS PROBLEMAS PARA LOS RESIDENTES DE LA ZONA","Solucionado - Por traslado","AREA DE ATENCION A LA CIUDADANIA","No Registra"]
[2007,2022,"NOVIEMBRE","2022-11-18","03:31:26","OLGA LUCÍA MESA MORENO","VIRTUAL","Bogotá te Escucha","marbecan1@yahoo.com","Ciudadanía","MARTA BEATRIZ CAÑON MENDOZA","Ciudadanía","Ciudadanía","Femenino","Mujer","Sin datos","Sin datos","Sin datos","Sin datos","DERECHO DE PETICIÓN DE INTERÉS PARTICULAR","Consulta general","Competencia otras entidades","MI SENORA MADRE APOLONIA MENDOZA ESTUPINAN IDENTIFICADA CON CEDULA DE CIUDADANIA 20.168.438 DE BOGOTA  TIENE UN LOTE UBICADO EN JUAN REY LOCALIDAD SAN CRISTOBAL EN LA CARRERA 12 ESTE 71 05 SUR LO TIENE HACE VARIOS ANOS POR SITUACION ECONOMICA NO SE HE PODIDO CONSTRUIR  Y A LA FECHA ES UN LOTE DE ENGORDE. EL PAGO DE IMPUESTOS  ES SOBRE LOS $4000.000 ACTUALMENTE Y ESTE  PRESUPUESTO NO DA PARA CUBRIR TAL NECESIDAD POR EL MONTO TAN ALTO QUE ES.MI MAMAM NO TIENE PENSION Y YO SOY LA PERSONA QUE RESPONDE ECONOMICAMENTE POR ELLA. SE TIENE UNA DEUDA DE VARIOS ANOS DEBIDO A QUE SUBIO EXAGERADAMENTE SU VALOR  LOS PRIMEROS ANOS SE HIZO EL PAGO TOTAL PERO LUEGO DEL ALZA ES IMPOSIBLE CUBRIR DICHO COMPROMISO DE PAGO. SE HA TENIDO EN VENTA PERO EL OFRECIMIENTO DE LOS COMPRADORES SON MUY POR DEBAJO DEL VALOR QUE ESTE REPRESENTA LAS MEDIDAS DE ESTE LOTE SON DE 14 DE FRENTE POR 22 DE FONDO LO OTRO SE FUE A VENDER Y EN EL CERTIFICADO DE LIBERTAD INDICA QUE POR MEDIO DE ESTE LOTE PASABA UNA VIA Y POR TAL RAZON SE CANCELABA LA OPCION DE LA VENTA POR QUE YA NO QUERIAN HACER LA COMPA  A PRINCIPIOS DE ANO SE VALIDO CON SECRETARIA DE PLANEACION FUE A CATASTRO DE LA 30 Y HASTA DAN EL PERMISO PARA CONSTRUIR DOS PISOS. NOS PREOCUPA LA SITUACION POR QUE HAY PERSONAS EXTRAJERAS QUE SE QUIEREN POSESIONAR DEL LOTE POR QUE LO VEN SOLO PUES LOS VECINOS NOS COLABORAN PERO NO ES SUFICIENTE  AGRADECEMOS NOS AYUDEN LA ENTIDAD COMPETENTE A VENDER O QUE COMPREN Y/O LA OPCION DE AYUDAS ECONOMICAS PARA CONSTRUIR Y HACER UTILIDAD DE DICHO LOTE. SE COMPRO UN AVISO PARA DEJAR QUE ES PROPIEDAD PRIVADA POR QUE LO COGIERON COMO BASURERO Y ESO HACE QUE LLEGUE TODO TIPO DE ROEDOR HABITANTE DE CALLE Y DEMAS PERJUDICANDO  PERO TODO SE ROBAN LA DEUDA QUE SE TIENE POR","Solucionado - Por traslado","AREA DE ATENCION A LA CIUDADANIA","11 Suba"]
[2008,2022,"NOVIEMBRE","2022-11-10","10:57:55","OLGA LUCÍA MESA MORENO","VIRTUAL","Bogotá te Escucha",0,"Anónimo","ANONIMO  ","Anónimo","Anónimo","N/A","N/A","Sin datos","Sin datos","Sin datos","Sin datos","DERECHO DE PETICIÓN DE INTERÉS GENERAL","Consulta general","Competencia otras entidades","SE COMUNICA CIUDADANO EL DIA 04/11/2022 SIENDO LAS 2 15 PM SOLICITANDOLE A LA PERSONERIA RESPETUOSAMENTE SEAN RETIRADOS DEL SECTOR LOS VENDEDORES AMBULANTES  QUE DE LA NOCHE A LA MANANA SE TOMAN COMO PUNTO DE VENTA LOS ANDENES EN FRENTE DE LOS PREDIOS CLL 33 SUR CON CRA 39A SOBRE EL ANDEN EN FRENTE A LA PANADERIA LA FONTANA  DONDE HA EVIDENCIADO A UNA SENORA QUE VENDE AREPAS Y PINCHOS  EN UN KIOSCO CUBIERTO POR PLASTICO TRASPARENTE DONDE INGRESA UN CILINDRO DE 40 LIBRAS COLOR AZUL Y UNA HORNILLA QUE FUNCIONA CON LENA  SIN LOS PROTOCOLOS DE SEGURIDAD ADECUADOS PARA EL FUNCIONAMIENTO  AGREGA QUE TOMA LOS CONTAINERS PARA BOTAR GRASAS TOXICAS PARA EL AMBIENTE Y EL SUELO DONDE COLOCA SU PUESTO ESTA TOTALMENTE SUCIO Y VUELTO UN MULADAR  POR OTRA PARTE  TAMBIEN HA EVIDENCIADO QUE LOS CONTAINERS Y LA SENAL DE TRANSITO SE ENCUENTRA AFECTADA POR ESTA IRREGULARIDAD. TAMBIEN ASI TAPANDO LA RESPECTIVA SENALIZACION  AGREGA QUE EN LA CLL 33 SUR CON CRA 39 AL COSTADO SUR DE LA DROGUERIA PROVISALUD HAY 2 VENDEDORES AMBULANTES  QUIENES EMPIEZAN A LABORAR DESPUES DE 12 00?PM  GENERANDO LOS MISMOS INCONVENIENTES.2. SE OBSERVA CON FRECUENCIA QUE EN LA CLL 33 SUR CON CRA39  EN LOS ANDENES HABITANTES DE CALLE DE DIA Y DE NOCHE POR TODA LA CLL 33 SUR Y ESPECIFICAMENTE POR LA CRA 39 SE OBSERVAN HABITANTE DE LA CALLE COMO TAMBIEN POR DETRAS DEL SALON COMUNAL DE VILLA DE ROSARIO CON DIRECCION CLL29C ABAJO DE LA AUTOPISTA SUR Y HACIA EL LADO DE LAS CANCHAS DE FUTBOL MAS HABITANTES DE CALLE CON SUS CAMBUCHES  POR LO ANTERIOR  SOLICITA A LA ENTIDAD LA RESPECTIVA INVESTIGACION AL CASO BRINDAR UNA SOLUCION IDONEA Y RETIRAR LOS VENDEDORES AMBULANTES DE LA ZONA  REQUIERE QUE EL COMUNICADO LLEGUE A LA PERSONERIA DE BOGOTA  DEPARTAMENTO ADMINISTRATIVO DEL ESPACIO PUBLICO Y SECRETARIA DE INTEGRACION SOCIAL Y ALCALDIA MAYOR DE BOGOTA SECRETARIA DE GOBIERNO. INDICA QUE FUERON BARRIOS CONSTRUIDOS POR FIRMAS CONSTRUCTORAS HACE 50 ANOS O MAS Y DE UN TIEMPO PARA ACA SE ESTA CONVIRTIENDO EN COMERCIAL Y TIENEN PRELACION PARA LOS VENDEDORES AMBULANTES QUE SE ESTAN TOMANDO LOS ANDENES Y LOS RESIDENTES CUANDO VA A MERCAR SE ARRIESGAN ACER EMBESTIDOS POR VEHICULOS  POR TENER QUE TRANSITAR POR LAS CALLES DEBIDO A QUE LOS ANDENES SE ENCUENTRAN OCUPADOS POR CARROS Y MOTOS PARQUEADOS Y VENDEDORES AMBULANTES  AGREGA QUE ESTE INCONVENIENTE SE HA REPORTADO HACE MAS DE 3 ANOS Y NO SE HA TENIDO EN CUENTA LAS PETICIONES POR PARTE DE NINGUNA ENTIDAD.","Cerrado - Por no competencia","AREA DE ATENCION A LA CIUDADANIA","No Registra"]
[2009,2022,"NOVIEMBRE","2022-11-10","12:29:25","OLGA LUCÍA MESA MORENO","VIRTUAL","Bogotá te Escucha",0,"Anónimo","ANONIMO  ","Anónimo","Anónimo","N/A","N/A","Sin datos","Sin datos","Sin datos","Sin datos","DERECHO DE PETICIÓN DE INTERÉS GENERAL","Consulta general","Competencia otras entidades","SE COMUNICA. PERSONA ANONIMA EL DIA 4/11/2022 SIENDO LAS 9 58 AM MANIFESTANDO INCONFORMIDAD  DESEA INTERPONIENDO UN DERECHO DE PETICION ANTE UNAS VECINAS  QUIERO SABER SI HAY ALGUNA LEY QUE LES DE DERECHO DE DEJAR PARQUEADOS LOS CARROS TODO EL DIA Y TODA LA NOCHE ADICIONAL LA   OTRA PERSONA SE ADUENO DE LOS ANDENES PONIENDO  BOLARDOS INTERRUMPIENDO EL PASO DE LAS PERSONAS ESTA SITUACION ESTA OCURRIENDO EN LA DIRECCION CALLE 128 NUMERO  102 A CON BARRIO CORINTIOS    LES PIDO COLABORACION PARA DAR SOLUCION A ESTA SITUACION LA CIUDADANA DESEA INTERPONER SU PETICION DE FORMA ANONIMA.","Cerrado - Por no competencia","AREA DE ATENCION A LA CIUDADANIA","No Registra"]
[2010,2022,"NOVIEMBRE","2022-11-14","12:00:40","OLGA LUCÍA MESA MORENO","VIRTUAL","Bogotá te Escucha","alessandra18010409@gmail.com","Ciudadanía","DIANA ALESSANDRA BLANCO BERNAL","Ciudadanía","Ciudadanía","Femenino","Mujer","Sin datos","Sin datos","Sin datos","Sin datos","SOLICITUD DE COPIA","Certificación de la propiedad inmobiliaria distrital","Certificación de la propiedad inmobiliaria","BUENAS TARDES RESPETADOS SENORES  POR MEDIO DE LA PRESENTE LA GESTION DE BIENES DE LA COMPANIA REQUIERE COPIAS DE LA TRANSACCION  PERMUTA  GESTIONADA ENTRE LA EMPRESA DE LICORES DE CUNDINAMARCA Y EL DISTRITO CAPITAL  EL NUMERO DE CONCILIACION ES EL 3248 DEL 06 DE NOVIEMBRE DE 2018. SIN OTRO PARTICULAR  AGRADECEMOS LA ATENCION PRESTADA  CORDIALMENTE  DIANA ALESSANDRA BLANCO BERNAL. PROFESIONAL PARTICIPANTE EN PROCESOS DE APOYO.","Solucionado - Por asignacion","SUBDIRECCION DE REGISTRO INMOBILIARIO","No Registra"]
[2011,2022,"NOVIEMBRE","2022-11-15","11:40:12","OLGA LUCÍA MESA MORENO","VIRTUAL","Bogotá te Escucha","fabianteletrabajo07@gmail.com","Ciudadanía","FABIAN EDUARDO MEJIA AMAYA","Ciudadanía","Ciudadanía","Masculino","Hombre ","Sin datos","Sin datos","Sin datos","Sin datos","DERECHO DE PETICIÓN DE INTERÉS GENERAL","Consulta general","Competencia otras entidades","SOLICITUD DE VISITA DEL DADEP AL PREDIO UBICADO EN LAS CERCANIAS DE LA CALLE 46 A SUR # 3 G - 15 ESTE PARA SU RECUPERACION","Solucionado - Por traslado","SUBDIRECCION DE GESTION INMOBILIARIA Y DEL ESPACIO PUBLICO","04 San Cristóbal"]
[2012,2022,"NOVIEMBRE","2022-11-15","10:47:39","OLGA LUCÍA MESA MORENO","VIRTUAL","Bogotá te Escucha","papeleriagalaga@gmail.com","Ciudadanía","LUIS FRANCISCO MARTINEZ BARRERA","Ciudadanía","Ciudadanía","Masculino","Hombre ","Sin datos","Sin datos","Sin datos","Sin datos","DERECHO DE PETICIÓN DE INTERÉS PARTICULAR","Asesoría en administración y sostenibilidad del espacio público","Asesoría en temas de espacio público","SOLICITUD PRESENCIA FUNCIONARIOS PARA RESOLVER PROBLEMAS LOCALIDAD DE CIUDAD BOLIVAR","Solucionado - Por asignacion","SUBDIRECCION DE GESTION INMOBILIARIA Y DEL ESPACIO PUBLICO","No Registra"]
[2013,2022,"NOVIEMBRE","2022-11-12","06:26:28","OLGA LUCÍA MESA MORENO","VIRTUAL","Bogotá te Escucha","jorgeherreracamacho@gmail.com","Ciudadanía","JORGE HUMBERTO HERRERA CAMACHO","Ciudadanía","Ciudadanía","Masculino","Hombre ","Sin datos","Sin datos","Sin datos","Sin datos","DERECHO DE PETICIÓN DE INTERÉS PARTICULAR","Consulta general","Competencia otras entidades","SE COMUNICA CIUDADANO EL DIA 12/11/2022  SIENDO LAS 06 19 AM  MANIFESTANDO QUE EN LA DIRECCION TRANSVERSAL 120A #129D-27 DONDE ESTA UBICADA LA AGRUPACION DE VIVIENDA EL PRISMA  TOMARON UN ESPACIO PUBLICO Y LO ENCERRARON PARA UTILIZARLO COMO PARQUEADERO  POR LO CUAL SOLICITA QUE LAS ENTIDADES ENCARGADAS REVISEN SI ES UN ESPACIO DE SESION AL DISTRITO Y SI TIENEN PERMITIDO USARLO DE ESA MANERA. ","Cerrado - Por no competencia","AREA DE ATENCION A LA CIUDADANIA","No Registra"]
[2014,2022,"NOVIEMBRE","2022-11-13","09:56:26","OLGA LUCÍA MESA MORENO","VIRTUAL","Bogotá te Escucha",0,"Anónimo","ANONIMO  ","Anónimo","Anónimo","N/A","N/A","Sin datos","Sin datos","Sin datos","Sin datos","DERECHO DE PETICIÓN DE INTERÉS PARTICULAR","Consulta general","Competencia otras entidades","SE COMUNICA CIUDADANO DE MANERA ANONIMA  EL DIA 11 DE NOVIEMBRE DEL ANO 2022  SIENDO LAS 7 00 DE LA MANANA  INDICANDO REALIZAR PETICION CON LAS ENTIDADES CORRESPONDIENTES  SOLICITANDO QUE LAS SIGUIENTES ENTIDADES COMO LA CONTRALORIA GENERAL DE LA REPUBLICA  LA PROCURADURIA GENERAL DE LA NACION  PERSONERIA DE BOGOTA  INSTITUTO DE DESARROLLO URBANO  LA VEEDURIA DISTRITAL  FISCALIA GENERAL DE LA NACION  ALCALDIA MAYOR DE BOGOTA  ALCALDIA DE ANTONIO NARINO  DEFENSORIA DEL ESPACIO PUBLICO  SECRETARIA DE MOVILIDAD  SECRETARIA DE INTEGRACION SOCIAL   SECRETARIA DE AMBIENTE  LA UNIDAD ADMINISTRATIVA ESPECIAL DE SERVICIOS PUBLICOS  Y EL COMANDANTE DE LA LOCALIDAD ANTONIO NARINO  MANIFESTANDO REALIZAR REPORTE CON LOS SIGUIENTES BRIGADIERES  EL SENOR HENRY ARMANDO SANABRIA CELIS  DIRECTOR GENERAL DE LA POLICIA  EL SENOR WILSON JAVIER GONZALEZ DIRECTOR DE TRANSITO Y EL SENOR CARLOS FERNANDO TRIANA DE LA POLICIA METROPOLITANA  REALICEN EL DEBIDO SEGUIMIENTO DE LAS SIGUIENTES SITUACIONES  POR TODA LA PRIMERA DE MAYO DESDE LOS DOS COSTADOS EN EL SENA INDICA LOS VENDEDORES DE MOTOS SE HAN DEDICADO A OBSTRUIR EL PASO POR EL ANDEN PEATONAL  DADO QUE EN ESTE SACAN A EXHIBIR LAS MOTOS  DESDE LA CARRERA 30 HASTA LA CARRERA 26 DE LA PRIMERA DE MAYO COSTADO DERECHO Y COSTADO IZQUIERDO  INFORMANDO  NO QUEDA ESPACIO PARA PODER TRANSITAR  ADICIONAL EN EL SEPARADOR DEL CENTRO TAMBIEN TIENE ESTACIONADO LOS VEHICULOS MOTOS Y CARROS COMO POR EJEMPLO LOS DIAS 10 Y 11 DE NOVIEMBRE SE A VISUALIZADO ESTE INCONVENIENTE  SUBIENDO POR EL MISMO COSTADO IZQUIERDO DE LA AVENIDA PRIMERA DE MAYO LLEGANDO AL COMPENSAR  DE LA AVENIDA PRIMERO DE MAYO CON LA CARRERA DECIMA  SE ENCUENTRAN REALIZANDO CONSTRUCCION DE ANDEN EL CUAL INDICA NO ES DE BUENA CALIDAD  DADO QUE LOS MATERIALES SON MAS ARENA QUE CEMENTO Y EL PATRON NO ES UNIFORME  ESTE SEGUN EL INSTITUTO DE DESARROLLO URBANO  LOS ANDENES DEBEN LLEVAR EL MISMO PATRON Y EN ESTA CONSTRUCCION NO CUMPLEN CON ESTE REQUISITO  INDICA NO ENTIENDE POR QUE MOTIVO LAS ENTIDADES A CARGO NO REALIZAN EL DEBIDO SEGUIMIENTO  SABIENDO QUE JUEGAN CON EL DINERO DE LOS CIUDADANOS DADO QUE SALEN DE LOS IMPUESTOS  ADICIONAL AL MOMENTO DE PREGUNTAR QUIEN ESTABA A CARGO DE ESTA CONSTRUCCION LE INDICAN CORREO DE INFORMACION SOCIALCB@GVINGENIEROS.COM  ESTA SIENDO LA FIRMA A CARGO DE ESTA CONSTRUCCION. SE HA PRESENTADO INCREMENTO DE PERSONAS HABITANTES DE LA CALLE POR EL COSTADO IZQUIERDO DE LA CARRERA 30  CARRERA 27  CARRERA 24  CARRERA 26  CARRERA 17  CARRERA 16  CARRERA 12  SIENDO ESTAS PERSONAS HABIENTES DE LA CALLE DE TERCERA EDAD  EN SU MAYORIA HOMBRES  CON HAMBRE  CON FRIO Y TAPANDOSE CON COSTALES DE FIBRA DESNUDOS EN SU MAYORIA  SOLICITA BAJO ESTE INCONVENIENTE LA SECRETARIA DE INTEGRACION SOCIAL  REALICE EL DEBIDO PROCESO PARA LA VERIFICACION DE LOS DERECHOS DE ESTAS PERSONAS.   DESDE EL ROUND POINT DE LA CARRERA 50 CON PRIMERA DE MAYO HASTA LA CARRERA SEXTA  DONDE SE ENCUENTRA EL EXITO  BARRIO PRIMERA DE MAYO  POR EL SEPARADOR DEL MISMO SE PUEDE VISUALIZAR ESCOMBROS  BASURA CON BOLSAS DEL OPERADOR  LIME  TAMBIEN SE VEN MUCHOS HABITANTES DE LA CALLE  LAS PERSONAS INDICAN QUE AL PASAR EN HORAS DE LA NOCHE POR ESTA ZONA  LES HAN ATRACADO NO ES POSIBLE CRUZAR CON SEGURIDAD.  DESEA QUE LA UNIDAD ADMINISTRATIVA ESPECIAL DE SERVICIOS PUBLICOS  REALICE EL SEGUIMIENTO CON EL OPERADOR DE ASEO  PARA QUE REALICEN UN BUEN PROCEDIMENTO. ","Cerrado - Por no competencia","AREA DE ATENCION A LA CIUDADANIA","No Registra"]
[2015,2022,"NOVIEMBRE","2022-11-16","03:33:11","OLGA LUCÍA MESA MORENO","VIRTUAL","Bogotá te Escucha","DAZABALETAP@GMAIL.COM","Ciudadanía","DIEGO ARMANDO ZABALETA POVEDA","Ciudadanía","Ciudadanía","Masculino","Hombre ","Sin datos","Sin datos","Sin datos","Sin datos","DERECHO DE PETICIÓN DE INTERÉS GENERAL","Asesoría en administración y sostenibilidad del espacio público","Asesoría en temas de espacio público","SOLICITUD INFORMACION A LAS ENTIDADES COMPETENTES DE LA ALCALDIA LOCAL DE ENGATIVA Y A LA ALCALDIA MAYOR DE BOGOTA SOBRE EL USO DE LA VIA Y DEL ESPACIO PUBLICO  LA INSEGURIDAD E INSALUBRIDAD  EN LA VIA CALLE 81 ENTRE CARRERAS 102 Y 103  LIMITE NORTE DEL CONJUNTO RESIDENCIAL BOCHICA 5 Y 6  II ETAPA Y DE LA AVENIDA CALLE 80 ENTRE CARRERAS 102 Y 104  LIMITE SUR DEL MISMO CONJUNTO","Solucionado por asignar - Trasladar","SUBDIRECCION DE GESTION INMOBILIARIA Y DEL ESPACIO PUBLICO","10 Engativá"]
[2016,2022,"NOVIEMBRE","2022-11-28","04:00:03","OLGA LUCÍA MESA MORENO","VIRTUAL","Bogotá te Escucha","jelomasu@gmail.com","Ciudadanía","JESSICA LORENA MARTIN SUAREZ","Ciudadanía","Ciudadanía","Femenino","Mujer","Sin datos","Sin datos","Sin datos","Sin datos","DERECHO DE PETICIÓN DE INTERÉS PARTICULAR","Certificación de la propiedad inmobiliaria distrital","Certificación de la propiedad inmobiliaria","BUENAS TARDES ADJUNTO COPIA DE COMUNICACION RADICADA AL DADEP MEDIANTE NUMERO DE PETICION 4125042022 PARA QUE POR FAVOR USTEDES COMO VEEEDURIA DISTRITAL TOMEN CARTAS EN EL ASUNTO RESPECTO A LOS HECHOS ALLI EXPUESTOS. QUEDO ATENTA A SU RESPUESTA. MUCHAS GRACIAS.","Solucionado - Por asignacion","SUBDIRECCION DE REGISTRO INMOBILIARIO","No Registra"]
[2017,2022,"NOVIEMBRE","2022-11-15","03:22:40","OLGA LUCÍA MESA MORENO","VIRTUAL","Bogotá te Escucha","guiaurbana1@yahoo.com","Ciudadanía","JUAN CARLOS AVILA LORA","Ciudadanía","Ciudadanía","Masculino","Hombre ","Sin datos","Sin datos","Sin datos","Sin datos","DERECHO DE PETICIÓN DE INTERÉS GENERAL","Certificación de la propiedad inmobiliaria distrital","Certificación de la propiedad inmobiliaria","DADEP FLORESTA LA SABANA","Solucionado - Por asignacion","SUBDIRECCION DE REGISTRO INMOBILIARIO","No Registra"]
[2018,2022,"NOVIEMBRE","2022-11-17","02:44:05","OLGA LUCÍA MESA MORENO","VIRTUAL","Bogotá te Escucha","akteo47@gmail.com","Ciudadanía","OMAR ALEJANDRO AMAYA AMAYA","Ciudadanía","Ciudadanía","Masculino","Hombre ","Sin datos","Sin datos","Sin datos","Sin datos","DERECHO DE PETICIÓN DE INTERÉS PARTICULAR","Asesoría en administración y sostenibilidad del espacio público","Asesoría en temas de espacio público","1. DERECHO DE PETICION - OBSTACULOS ANDEN CIURCUNVALAR","Solucionado - Por asignacion","SUBDIRECCION DE GESTION INMOBILIARIA Y DEL ESPACIO PUBLICO","No Registra"]
[2019,2022,"NOVIEMBRE","2022-11-16","11:45:35","OLGA LUCÍA MESA MORENO","VIRTUAL","Bogotá te Escucha",0,"Anónimo","ANONIMO  ","Anónimo","Anónimo","N/A","N/A","Sin datos","Sin datos","Sin datos","Sin datos","QUEJA","Consulta general","Competencia otras entidades","IPES DEFENSORIA DEL PUEBLO SECRETARIA DE BOGOTA ALCALDIA MAYOR DE BOGOTA PERSONERIA DE BOGOTA LA PRESENTE TIENE COMO OBJETO DENUNCIAR COMO PARTICULARES SE HAN TOMADO EL PARQUE FUNDACIONAL  DE FONTIBON PARA LUCRARSE Y LOS ENTES  SE PRESTAN PARA ESTAS ARTIMANAS PERJUDICANDO A LA GRAN MAYORIA DE VECINOS DEL PARQUE Y EL CENTRO DE FONTIBON YA QUE LA CRA 100 NO SE PUEDE TRANSITAR POR LA GRAN CANTIDAD DE VENDEDORES Y CARROS QUE OCUPAN EL ESPACIO PUBLICO ADEMAS DE LA PROBLEMATICA DE QUE LAS AVENIDAS TAMBIEN ESTAN EN UN ESTADO DEPLORABLE POR ESTA ADMINISTRACION Y LA ALCALDIA DA PERMISDOS PARA QUE EL POCO ESPACIO LIBRE PARA LA COMUNIDAD LO OCUPEN CON CARPAS QUE OCUPAN CON SUPUESTAS FERIAS EN LAS CUALES HAY DIAS QUE PERMANECEN CERRADAS Y LAS QUE HABREN VENDEN ARTICULOS COMO PIPAS Y DIFERENTES ARTICULOS PARA LA PROLIFERACION DEL EXPENDIO DE DROGAS Y CONSUMO EN EL PARQUE QUE DEBERIA SER UNESPACIO LIBRE PARA DISFRUTAR LA COMUNIDAD Y LA FAMILIA PERO LASTIMOSAMENTE ES LO CONTRARIO DEBERIA IPES COMO ENTE ENCARGADO DE LOS VENDEDORES ORGANIZAR ESTE TIPO DE POBLACION Y NO DEJAR ESTE TIPO DE FERIAS EN ESTOS ESPACIO QUE EN ANOS ANTERIORES SE HABIA CONSEVIDO COMO UN ESPACIO RECUPERADO Y LAS ADMINISTRACIONES HAN VENIDO ACABANDO CON LO POCO QUE QUEDA YA QUE LA ALCALDIA LOCAL NO AYUDA A CUIDAR PERO SI A DESORGANIZAR CON TANTO ESPACIO QUE HAY EN LA LOCALIDAD Y YA VIENE DICIEMBRE OTRA VEZ ESE DESORDEN Y LA PROLIFERACION DE PROBLEMAS QUE ESTO CONLLEVA POR QUE HASTA SIN PERMISOS FUNCIONAN COMO EL PASADO DICIEMBRE QUE LES DAN PERMISO PARA UN MES Y SE TOMAN MAS DE LO ESTIPULADO Y LAS ENTIDADES EN ESPECIAL LA ALCALDIA LOCAL COMPLICE.  SENORA ALCALDESA DE BOGOTA LE PARECE JUSTO QUE SIEMPRE TENEMOS QUE SER PAGANOS LOS MISMOS LOS VECINOS DEL PARQUE Y NUESTROS DERECHOS NO VALEN PREGUNTO YO A LA DEFENSORIA DEL PUEBLO .HAGO UN LLAMADO A QUE ESTE TIPO DE EVENTOS SE REALICEN EN OTROS LUGARES DE LA LOCALIDAD NOVENA GRACIAS POR SU ATENCION","Solucionado - Por traslado","AREA DE ATENCION A LA CIUDADANIA","No Registra"]
[2020,2022,"NOVIEMBRE","2022-11-21","11:07:53","OLGA LUCÍA MESA MORENO","VIRTUAL","Bogotá te Escucha","sotaloragil@gmail.com.co","Ciudadanía","MERCEDES  GIL VARGAS","Ciudadanía","Ciudadanía","Femenino","Mujer","Sin datos","Sin datos","Sin datos","Sin datos","DERECHO DE PETICIÓN DE INTERÉS PARTICULAR","Consulta general","Competencia otras entidades","DESTRUCCION VIA PUBLICA POR CONTRUCCION MEDICAL IPS","Cerrado - Por no competencia","AREA DE ATENCION A LA CIUDADANIA","09 Fontibón"]
[2021,2022,"NOVIEMBRE","2022-11-16","07:24:19","OLGA LUCÍA MESA MORENO","VIRTUAL","Bogotá te Escucha",0,"Anónimo","ANONIMO  ","Anónimo","Anónimo","N/A","N/A","Sin datos","Sin datos","Sin datos","Sin datos","DERECHO DE PETICIÓN DE INTERÉS GENERAL","Consulta general","Competencia otras entidades","PERSONA ANONIMA SE COMUNICA EL DIA 16/11/2022 SIENDO LAS 6 50 PM INTERPONIENDO DERECHO DE PETICION MANIFESTADO QUE FRENTE AL CONJUNTO PARQUES DE PRIMAVERA DONDE RESIDE UBICADO EN LA CALLE 4 B #39B-90 EN EL BARRIO PRIMAVERA EN LA LOCALIDAD DE PUENTE ARANDA ESTAN HACIENDO USO INDEBIDO DEL ESPACIO PUBLICO USANDO ESTA ZONA COMO PARQUEADERO DE TODO TIPO DE VEHICULOS  CARROS PARTICULARES  VOLQUETAS  GRUAS CAMIONES DE ACARREO  DONDE INCLUSO SE ENCUENTRA UNA PERSONA COBRANDO ESTE SERVICIO Y GENERANDO MOLESTIA A LOS RESIDENTES DE ESTE CONJUNTO POR EL RUIDO DE LOS MISMOS  PERSONA HACE ESTE DERECHO DE PETICION CON EL FIN QUE LAS ENTIDADES COMPETENTES HAGAN LAS RESPECTIVAS VALIDACIONES.","Cerrado - Por no competencia","AREA DE ATENCION A LA CIUDADANIA","No Registra"]
[2022,2022,"NOVIEMBRE","2022-11-17","12:25:22","OLGA LUCÍA MESA MORENO","VIRTUAL","Bogotá te Escucha","esjulpes@gmail.com","Ciudadanía","ESTHER JULIA PESCADOR","Ciudadanía","Ciudadanía","Femenino","Mujer","Sin datos","Sin datos","Sin datos","Sin datos","DERECHO DE PETICIÓN DE INTERÉS GENERAL","Consulta general","Sin información de fondo","derecho de peticion necesito saber si lote en el  barrio del Tntal es privado","Solucionado por asignar - Trasladar","SUBDIRECCION DE REGISTRO INMOBILIARIO","08 Kennedy"]
[2023,2022,"NOVIEMBRE","2022-11-17","04:01:45","OLGA LUCÍA MESA MORENO","VIRTUAL","Bogotá te Escucha","jorge_cepeda@hotmail.com","Ciudadanía","JORGE ELIECER CEPEDA PULIDO","Ciudadanía","Ciudadanía","Masculino","Hombre ","Sin datos","Sin datos","Sin datos","Sin datos","DERECHO DE PETICIÓN DE INTERÉS GENERAL","Asesoría en administración y sostenibilidad del espacio público","Asesoría en temas de espacio público","Politica Publica de la bicicleta 2021-2023-Acuerdo 708/2018 Instalacion biciparqueo punto de atencion Empresa de Acueducto y Alcantarillado Avenida Suba 118-53","Solucionado - Por asignacion","SUBDIRECCION DE GESTION INMOBILIARIA Y DEL ESPACIO PUBLICO","16 Puente Aranda"]
[2024,2022,"NOVIEMBRE","2022-11-17","03:06:33","OLGA LUCÍA MESA MORENO","VIRTUAL","Bogotá te Escucha","natymmos1979@gmail.com","Ciudadanía","NATALIA  MUÑOZ ","Ciudadanía","Ciudadanía","Femenino","Mujer","Sin datos","Sin datos","Sin datos","Sin datos","SOLICITUD DE ACCESO A LA INFORMACION","Consulta general","Competencia otras entidades","SE SIRVA INFORMAR LAS ACCIONES QUE SE ESTAN REALIZANDO POR PARTE DE SU ENTIDAD PARA INTERVENCION  VIGILANCIA Y CONTROL DE LOS SERVICIOS ILEGALES DE BICITAXI O MOTOTAXI O TRANSPORTE DE PERSONAS EN MEDIOS DE TRANSPORTE TIPO BICICLETAS Y/O MOTOS CON MOTOR","Cerrado - Por no competencia","AREA DE ATENCION A LA CIUDADANIA","No Registra"]
[2025,2022,"NOVIEMBRE","2022-11-18","10:26:49","OLGA LUCÍA MESA MORENO","VIRTUAL","Bogotá te Escucha","joseantoniodiaz43@hotmail.com","Ciudadanía","JOSE ANTONIO DIAZ CORDOBA","Ciudadanía","Ciudadanía","Masculino","Hombre ","Sin datos","Sin datos","Sin datos","Sin datos","SUGERENCIA","Consulta general","Competencia otras entidades"," DP. JOSE ANTONIO DIAZ CORDOBA ER. 120032_2023.  PRIMERO QUE TODO DARLE MIS AGRADECIMIENTOS POR LA LABOR DESARROLLADA EN EL BIENESTAR DE NUESTRA CIUDAD.   TENIENDO EN CUENTA SU CAPACIDAD Y LIDERAZGO EN SU CARGO  COMEDIDAMENTE LE SOLICITO SU COLABORACION SOBRE LO SIGUIENTE      EN EL BARRIO SANTA CECILIA ZONA 10 DE ENGATIVA TENEMOS PROBLEMAS POR LOS ANTEJARDINES  LE SUGIERO SI FUERA POSIBLE PARA LAS PERSONAS QUE EN UNA U OTRA FORMA  TIENEN ESE PROBLEMA QUE PAGUEN AL DISTRITO LA PARTE AFECTADA Y SE SOLUCIONE ESTE  CASO.    ...........................  Y DEMAS DE ACUERDO CON LO DESCRITO  EN EL DOCUMENTO ADJUNTO.","Solucionado - Por traslado","AREA DE ATENCION A LA CIUDADANIA","10 Engativá"]
[2026,2022,"NOVIEMBRE","2022-11-18","03:58:38","OLGA LUCÍA MESA MORENO","VIRTUAL","Bogotá te Escucha","guillecabanas57@hotmail.com","Ciudadanía","JOSE GUILLERMO CABANAS RAMIREZ","Ciudadanía","Ciudadanía","Masculino","Hombre ","Sin datos","Sin datos","Sin datos","Sin datos","DERECHO DE PETICIÓN DE INTERÉS PARTICULAR","Asesoría en administración y sostenibilidad del espacio público","Parqueaderos","ASUNTO  YO JOSE GUILLERMO VENGO SOLICITANDO QUE ME LEGALICE EL PARQUEADERO POR SER UNA PERSONA VICTIMAS DEL DESPLAZAMIENTO FORZADO  Y SOMOS 1 O PERSONAS LOS DE MI FAMILIA DESPLAZADAS. Y POR SER ADULTO MAYOR  DONDE NADIE NOS DA TRABAJO  HACIENDO USO DEL DECRETO 552 DEL 2018 PARA PARTICIPAR EN LA CONVOCATORIA  PUBLICA AL PARQUEADERO UBICADO CARRERA 80 K CON CALLE 69 HASTA LA CARRERA 80 M CON CALLE 70 BIS SUR.  ....................  Y DEMAS DE ACUERDO CON LO DESCRITO EN LOS DOCUMENTOS ADJUNTOS.","Solucionado - Por asignacion","SUBDIRECCION DE GESTION INMOBILIARIA Y DEL ESPACIO PUBLICO","No Registra"]
[2027,2022,"NOVIEMBRE","2022-11-18","04:50:50","OLGA LUCÍA MESA MORENO","VIRTUAL","Bogotá te Escucha","herovparra27@gmail.com","Ciudadanía","DANIEL  PARRA  GUZMAN","Ciudadanía","Ciudadanía","Masculino","Hombre ","Sin datos","Sin datos","Sin datos","Sin datos","DERECHO DE PETICIÓN DE INTERÉS PARTICULAR","Asesoría en administración y sostenibilidad del espacio público","Parqueaderos","DP. DANIEL PARRA GUZMAN ER. 20435_2022.   LE SOLICITO DE MANERA MUY RESPETUOSA A QUIEN LE CORRESPONDA  QUE SE TENGA EN CUENTA EN DEJARME SER UNO DE LOS BENEFICIADOS EN ADMINISTRAR ESTE PARQUEADERO  YA QUE ESTOY PARTICIPANDO COMO LO ORDENA EL DECRETO .Nº 552.  DOCTORA. DIANA ALEJANDRA RODRIGUEZ LE HAGO UNA PREGUNTA CUAL ES EL CONCEPTO TECNICO DE PARTICIPACION  FRENTE A LA POSTULACION DE ADMINISTRAR LOS PARQUEADEROS.  RESPUESTA  HEROVPARRA27@GMAIL.COM Y DIRECCION...........  DE CUERDO CON LO DESCRITO EN LOS DOCUMENTOSD ADJUNTOS.","Solucionado - Por asignacion","SUBDIRECCION DE GESTION INMOBILIARIA Y DEL ESPACIO PUBLICO","No Registra"]
[2028,2022,"NOVIEMBRE","2022-11-21","10:56:57","OLGA LUCÍA MESA MORENO","VIRTUAL","Bogotá te Escucha",0,"Anónimo","ANONIMO  ","Anónimo","Anónimo","N/A","N/A","Sin datos","Sin datos","Sin datos","Sin datos","DERECHO DE PETICIÓN DE INTERÉS GENERAL","Consulta general","Competencia otras entidades","CALLE 49 # 20-11  AL FRENTE CRUZANDO LA CALLE ( QUE CORRESPONDERIA A LA CALLE 49  NUMERO 20-10 SI HUBIERA PLACA)  HAY UN ANDEN AMPLIO  EN SOLO CEMENTO QUE PODRIA ABLANDARSE  ES DECIR COLOCARLE PASTO ( SI TECNICAMENTE ES POSIBLE   ES DECIR SI LA INFRAESTRUCTURA DE ESE ANDEN LO PERMITE) Y TAMBIEN ESTUDIAR LA POSIBILIDAD DE SEMBRAR ALGUNOS ARBOLES ALLI  O COLOCAR MATERAS  ESTO CREO QUE HUMANIZARIA MAS ESA ESQUINA.    POR ALLI LA ZONA ES UNIVERSITARIA Y CREO QUE ABLANDAR ESTE ANDEN AYUDARIA A MEJORAR EL AMBIENTE DE LOS ESTUDIANTE QUE PASAN O PERNOCTAN CERCA DE ESTE SITIO.","Solucionado - Por traslado","AREA DE ATENCION A LA CIUDADANIA","No Registra"]
[2029,2022,"NOVIEMBRE","2022-11-21","02:12:32","OLGA LUCÍA MESA MORENO","VIRTUAL","Bogotá te Escucha","redessolidariascolombia@gmail.com","Ciudadanía","CARLOS ALBERTO REY ARDILA","Ciudadanía","Ciudadanía","Masculino","Hombre ","Sin datos","Sin datos","Sin datos","Sin datos","DERECHO DE PETICIÓN DE INTERÉS PARTICULAR","Consulta general","Competencia otras entidades","SOLICITUD DE INTERVENCION  INVASION DE ESPACIO PUBLICO  USO INDEBIDO DE VIA PUBLICA  MALAS PRACTICA DE MANUFACTURA  CONTAMINACION CRUZADA DE ALIMENTOS  ENTRE OTRAS VIOLACIONES. EL SUSCRITO EN NOMBRE DE LA ORGANIZACION COMUNITARIA REDES SOLIDARIAS COLOMBIA  ENTIDAD QUE PROPENDE POR LA DEFENSA DE LOS DERECHOS FUNDAMENTALES DE LA POBLACION VULNERABLE  COMEDIDA Y RESPETUOSAMENTE SOLICITO LA INTERVENCION DE LA SECRETARIA DE SALUD LOCALIDAD 18  SECRETARIA DE MOVILIDAD Y SECRETARIA DE GOBIERNO POR LOS SIGUIENTES HECHOS  DESDE HACE ANOS LOS VENDEDORES AMBULANTES DE COMIDA SE HAN APROPIADO DE LA VIA PUBLICA DEL SECTOR DE LA TRONCAL AVENIDA CARACAS  CALLE 51 SUR  ALEDANA A LA ESTACION MOLINOS  ENTRE LAS CARRERAS 7 Y 9  APROPIANDOSE LOS DISTINTOS VENDEDORES DEL ESPACIO PUBLICO  ESPECIALMENTE UN TRAILER QUE OFERTA ALIMENTOS Y QUE SE UBICA DELANTE DEL LOCAL DE COMERCIO SUPERTIENDA AHORRAMAS  QUE EN SU PUERTA REGISTRA EL NUMERO 7-32 SUR. 1. POR UNA PARTE  COBRA A LOS DEMAS VENDEDORES ARRENDAMIENTO POR USO DEL ESPACIO PUBLICO  SEGUN FUI INFORMADO  LABOR QUE REALIZA ENTRE LAS 16 00 Y LAS 24 00 HORAS CADA DIA  APROXIMADAMENTE  CON EXCEPCION DEL LUNES 2. POR OTRA  SITUA DIARIAMENTE EL TRAILER DE ALIMENTOS  CON EXCEPCION DEL LUNES  EN VIA PUBLICA. 3. ADEMAS  INCUMPLE LOS PROTOCOLOS ESTABLECIDOS POR LA LEY PARA LOS MANIPULADORES DE ALIMENTOS  PERMITIENDO QUE SUS ALIMENTOS CONTAMINADOS PROVOQUEN ENFERMEDADES A LA POBLACION 4. DESECHAN SIN CUMPLIR LA NORMATIVIDAD DE LA MATERIA  BASURAS Y DESECHOS  QUE CONTAMINAN EL MEDIO AMBIENTE Y 5. FINALMENTE  ELUDEN Y EVADEN SUS OBLIGACIONES TRIBUTARIAS BAJO LA MIRADA PERMISIVA DE LAS AUTORIDADES. SITUACION GRAVOSA  TODA VEZ QUE APENAS A UNOS PASOS SE ENCUENTRA UBICADA LA URI DE LA LOCALIDAD Y EL SITIO ES TRANSITO OBLIGADO PARA UNIDADES DE POLICIA. CORRESPONDE A USTEDES  LA OBSERVACION Y EL RESPETO DE LA LEY  POR LO QUE ACUDO DE MANERA URGENTE PARA QUE SE INTERVENGA Y CORRIJA LA SITUACION  PUES NO ES CORRECTO QUE PARTICULARES APROVECHANDO EL USO DE LA FUERZA Y LA INTIMIDACION  CONFORME SE ME INDICA  SE LUCREN COBRANDO ARRENDAMIENTOS A PERSONAS VULNERABLES  ESPECIALMENTE INMIGRANTES VENEZOLANOS  PARA USAR ESPACIO PEATONAL Y POR NATURALEZA PUBLICO ADEMAS DE NO OBSERVAR LAS REGLAS CONTEMPLADAS PARA LA MANIPULACION DE ALIMENTOS  CONTRIBUYENDO A LA DISEMINACION DE ENFERMEDADES. FUNDAMENTOS FACTICOS QUE ME ASISTEN PARA SOLICITAR  1. VIGILANCIA DEL SECTOR. 2. LEVANTAMIENTO DEL TRAILER. 3. INVESTIGACION POR EL COBRO ABUSIVO QUE OBLIGAN A LOS INMIGRANTES PARA USO DE ESPACIO PUBLICO. 4. INTERVENCION DE LA DIAN Y LA SECRETARIA DE HACIENDA PARA ESTABLECER LA RESPONSABILIDAD INDIVIDUAL  CON EFECTOS TRIBUTARIOS  TODA VEZ QUE SU OCUPACION TIENE VARIOS ANOS Y PREVIO A LA ACTUAL SE ENCONTRABAN EN EL ESPACIO ALEDANO A LA ESTACION DE ALIMENTADORES MOLINOS  TAL CUAL PODRA COMPROBARSE EN LOS REGISTROS FOTOGRAFICOS DEL SECTOR. 5. VIGILANCIA DE LA APLICACION DE LAS NORMAS DE MANIPULACION DE ALIMENTOS. 6. LAS DEMAS QUE PUEDAN SER NECESARIAS PARA ATENDER LAS ANTERIORES. 7. EN CASO DE MANIFESTAR SU NEGATIVA A UNA  VARIAS O LA TOTALIDAD DE LAS PETICIONES SE SIRVAN INFORMAR LAS RAZONES MOTIVADAS DE SU DECISON  EN LOS TERMINOS ESTABLECIDOS EN LA JURISPRUDENCIA EMANADA POR LAS ALTAS CORTES. 8. EN LOS TERMINOS DE LA PRESENTE  SOLICITO LA INTERVENCION DE LAS SECRETARIAS DE SALUD  HACIENDA  MEDIO AMBIENTE  MOVILIDAD Y GOBIERNO  EN LO PERTINENTE A SUS FUNCIONES LEGALES  ","Solucionado - Por traslado","AREA DE ATENCION A LA CIUDADANIA","04 San Cristóbal"]
[2030,2022,"NOVIEMBRE","2022-11-22","10:27:09","OLGA LUCÍA MESA MORENO","VIRTUAL","Bogotá te Escucha","deisopatri@gmail.com","Ciudadanía","DEISY PATRICIA SALCEDO SOSA","Ciudadanía","Ciudadanía","Femenino","Mujer","Sin datos","Sin datos","Sin datos","Sin datos","DERECHO DE PETICIÓN DE INTERÉS PARTICULAR","Estudio de la viabilidad de las solicitudes de administración de bienes públicos","Autorización de uso","ACTIVACION MARCA MEDIPIEL EN ESPACIO DEL PARQUE DE LA 93. NOS GUSTARIA TENER PRESENCIA DE MARCA UTILIZANDO EL ESPACIO DEL PARQUE DE LA 93. LA MARCA REALIZARIA UN ACTIVACION CON MAQUINA DERMOANALIZADORA  ENTREGA DE MUESTRAS Y OBSEQUIOS A PERSONAS QUE SE ACERQUEN....TENDNRIAMOS PUBLICIDDA DE LA MARCA MEDIPIEL Y PERSONAL AUTORIZADO POR LA MARCA PARA REALIZAR ESTA ACTIVIDAD.","Solucionado - Por asignacion","SUBDIRECCION DE GESTION INMOBILIARIA Y DEL ESPACIO PUBLICO","10 Engativá"]
[2031,2022,"NOVIEMBRE","2022-11-19","09:16:24","OLGA LUCÍA MESA MORENO","VIRTUAL","Bogotá te Escucha",0,"Anónimo","ANONIMO  ","Anónimo","Anónimo","N/A","N/A","Sin datos","Sin datos","Sin datos","Sin datos","DERECHO DE PETICIÓN DE INTERÉS GENERAL","Consulta general","Competencia otras entidades","SE COMUNICA PERSONA ANONIMA EL 19/11/2022 SIENDO LAS 08 45 PM  MANIFESTANDO SU INCONFORMIDAD  YA QUE INDICA QUE EN LA CR 95 # 151-46 HAY UN LOCAL DE LATONERIA Y PINTURA DE CARROS EL LUGAR NO ES SUFICIENTEMENTE GRANDE PARA ATENDER TODOS LOS CARROS Y LO REALIZAN EN VIA PUBLICA DANANDO EL PARQUE QUE ESTA UBICADO FRENTE AL NEGOCIO Y EL BOLI RANA ES OTRO NEGOCIO EN UNA CASA NUEVA CR 95 CON 151 PONEN MUSICA A TODO VOLUMEN LAS PERSONAS QUE INGRESAN ALLI DESPUES PASAN AL PARQUE A SEGUIR TOMANDO HAY UN OXXO DONDE VENDE LICOR Y LAS PERSONAS QUE COMPRAN BEBEN AFUERA DEL SUPERMERCADO EN EL ANDEN EN VIA PUBLICA Y SE PRODUCEN ESCANDALOS COMO RINAS MUSICA A TODO VOLUMEN Y NO DEJAN DESCANSAR A LAS PERSONAS QUE VIVEN CERCA. EN EL PARQUE DEJAN LATAS BOTELLAS Y TODA LA MUGRE DE LOS QUE CONSUMEN LICOR  LA EMPRESA DEL ASEO PODAN EL PARQUE CADA MES SOLO HACEN LIMPIEZA. LAS PERSONAS QUE BEBEN TAMBIEN ORINAN EN EL ENCERRAMIENTO DEL CONJUNTO EL PINAR 2A ES EL ORINAL DE LOS CLIENTES DEL OXXO HAY OTRA TIENDA LLAMADA MINI PATO ALLI CONSUMEN LICOR SOLO VENDEN CERVEZA Y LAS PERSONAS QUE LLEGAN ALLI BEBEN AFUERA EN LA CALLE HACIENDO ESCANDALO PONEN MUSICA A TODO VOLUMEN POR EL ANDEN NO PUEDEN PASAR  YA QUE ESTA LLENO DE BORRACHOS LA DIRECCION DE ESTE NEGOCIO CL 151B CON CR 94A EN TODA LA ESQUINA OTRO NEGOCIO ES UN LAVADERO DE CARROS CAR WASH EN EL DIA ES LAVADERO Y EN LA NOCHE ES PARQUEADERO Y ESTA UBICADO EN LA CLL 151B # 92-65 ESTOS ESTABLECIMIENTOS ESTAN UBICADOS EN EL BARRIO BOSQUES DE SAN JORGE EN LA LOCALIDAD SE SUBA EL PROBLEMA ES QUE SACAN LOS CARROS QUE GUARDAN EN LA NOCHE Y LOS DEJAN EN VIA PUBLICA PROVOCANDO TRANCON  YA QUE EL ALIMENTADOR Y LOS BUSES DEL SITP PASAN POR ALLI.","Solucionado - Por traslado","AREA DE ATENCION A LA CIUDADANIA","No Registra"]
[2032,2022,"NOVIEMBRE","2022-11-20","02:46:16","OLGA LUCÍA MESA MORENO","VIRTUAL","Bogotá te Escucha","niconicodiaz@gmail.com","Ciudadanía","NICOLAS  DIAZ CARDONA","Ciudadanía","Ciudadanía","Masculino","Hombre ","Sin datos","Sin datos","Sin datos","Sin datos","DERECHO DE PETICIÓN DE INTERÉS GENERAL","Consulta general","Competencia otras entidades","SE COMUNICA CIUDADANO EL DIA 20 DE NOVIEMBRE DEL ANO 2022  MANIFESTANDO MOLESTIA  DADO QUE INDICA EN LA LOCALIDAD DE TEUSAQUILLO  CON DIRECCION CARRERA 18 # 52 - 08  HACE VARIOS MESES SE HA PRESENTADO OBSTRUCCION EN EL SENDERO PEATONAL  DADO QUE INDICA SE ESTACIONAN VEHICULOS EN EL ANDEN  ESTO OCASIONA QUE LOS PEATONES TENGAN QUE TRANSITAR EN LA VIA  SOLICITA LAS ENTIDADES A CARGO SE ACERQUEN PARA REALIZAR EL DEBIDO PROCESO. ","Cerrado - Por no competencia","AREA DE ATENCION A LA CIUDADANIA","No Registra"]
[2033,2022,"NOVIEMBRE","2022-11-21","03:13:55","OLGA LUCÍA MESA MORENO","VIRTUAL","Bogotá te Escucha",0,"Anónimo","ANONIMO  ","Anónimo","Anónimo","N/A","N/A","Sin datos","Sin datos","Sin datos","Sin datos","DERECHO DE PETICIÓN DE INTERÉS GENERAL","Consulta general","Competencia otras entidades","CIUDADANO ANONIMO SE COMUNICA EL DIA 21 DE NOVIEMBRE DEL 2022 SOLICITANDO INTERPONER UN RECLAMO ANTE LAS ENTIDADES  PERSONERIA DE BOGOTA  ALCALDIA MAYOR DE BOGOTA  ALCALDIA LOCAL DE USAQUEN  COMANDANTES DE LA POLICIA METROPOLITANA DE LAS LOCALIDADES INVOLUCRADAS  IDU  INVIAS  UNIDAD DE MANTENIMIENTO VIAL  UNIDAD ADMINISTRATIVA ESPECIAL DE SERVICIOS PUBLICOS -UAESP  SECRETARIA DE INTEGRACION SOCIAL  PROMO AMBIENTAL DISTRITO S.A.S  EL JARDIN BOTANICO  SECRETARIA DE AMBIENTE Y DEMAS PERTINENTES PARA SOLUCIONAR LOS INCONVENIENTES QUE SE PRESENTAN RESPECTO AL ESTADO EN EL QUE SE ENCUENTRA LA VIA PUBLICA TENIENDO EN CUENTA LAS SITUACIONES QUE SE PRESENTAN A CONTINUACION   DESDE DONDE EMPIEZA LA AUTOPISTA NORTE   EN EL PUENTE DE LA CARO EL SEPARADOR DEL CENTRO TIENE COLECTORES DE DERECHA E IZQUIERDA DE AGUAS LLUVIAS QUE SE ENCUENTRAN TOTALMENTE TAPONADOS POR BASURA  RESTOS DE ARBOLES SECOS Y VEGETACION EN CRECIMIENTO  ESTO OCASIONA QUE EL AGUA SALGA A LA AUTOPISTA GENERANDO INUNDACIONES  DETERIORO DE LA VIA Y ACCIDENTES. LAS BARANDAS METALICAS ESTAN EN PESIMO ESTADO PORQUE HAN SIDO AVERIADAS POR ACCION DE VEHICULOS ESTRELLADOS  TANTO AL PUNTO DE ENCONTRARSE ESPACIOS YA SIN BARANDA. EN EL MISMO SEPARADOR  SE EVIDENCIA QUE LAS CONFIGURACIONES DE SARDINELES Y ADOQUINES SOBRE LOS ANDENES  PRESENTAN CRECIMIENTO DE VEGETACION Y AUSENCIA DE ALGUNOS DE LOS MISMOS  DEJANDO VER LA FALTA DE MANTENIMIENTO DE ESTAS AREAS.  RESPECTO A LA VIA VEHICULAR SE PUEDE HACER VISIBLE EL ABANDONO TOTAL DE LA AUTOPISTA  YA QUE SOLO SE LIMITAN AL REPARCHEO  LAS REPARACIONES AHORA SE HACEN CON RECEBO Y EMULSION ASFALTICA SITUACION QUE PRESENTA QUE ESTOS REMPLAZOS DE LOZAS Y EMPARCHEOS QUEDAN MUY ALTAS  SE EVIDENCIA LA FALTA DE LABOR DE LOS TRABAJADORES DONDE SE VE LA OPERACION DE SOLO UN TRABAJADOR CON  ROMPEPAVIMENTOS Y LOS DEMAS TRABAJADORES REALIZANDO OTRAS ACCIONES AJENAS A SU TRABAJO Y PUEDE GENERAR ACCIDENTES A LOS MOTOCICLISTAS PORQUE NO AFIRMAN CON LA APLANADORA.  LA PODA Y EL MANTENIMIENTO DE LAS PLANTAS ORNAMENTALES EVIDENCIAN LA FALTA DE COMPROMISO Y RESPONSABILIDAD DE LAS ENTIDADES PROMO AMBIENTAL  EL JARDIN BOTANICO Y SECRETARIA DE AMBIENTE.  OTRO PROBLEMA EVIDENTE SOBRE EL MISMO SECTOR  ES EL MAL USO DE LA VIA PUBLICA  YA QUE SE PRESENTA USO POR PARTE DE LOS VENDEDORES AMBULANTES QUE INVADEN EL ESPACIO PUBLICO.  POR ULTIMO LOS HABITANTES DE CALLE SE EVIDENCIAN SOBRE LA CARRERA 30 CON AVENIDA 1.º DE MAYO HASTA DONDE FINALIZA LA UTOPISTA GENERANDO DELINCUENCIA EN CUALQUIER HORA DEL DIA Y NO HAY PRESENCIA DE NINGUNA ENTIDAD  SE OBSERVA ESCOMBROS  BASURA  LLANTAS  CAMBUCHES  SE HA VUELTO UN PUNTO DE ACOPIO DE RECICLAJE QUE GENERA CONTAMINACION.  SE SOLICITA EXPRESAMENTE SE HAGA PRESENCIA DE FORMA INMEDIATA TODAS LAS ENTIDADES ANTERIORMENTE NOMBRADAS PARA QUE DE SOLUCION OPORTUNA Y PERTINENTE A CADA UNO DE LOS CASOS QUE ESTAN GENERANDO EL INCONFORMISMO DE LOS CIUDADANOS.","Solucionado - Por traslado","AREA DE ATENCION A LA CIUDADANIA","No Registra"]
[2034,2022,"NOVIEMBRE","2022-11-21","09:43:59","OLGA LUCÍA MESA MORENO","VIRTUAL","Bogotá te Escucha","aescovro@hotmail.com","Ciudadanía","ALEJANDRO  ESCOBAR ","Ciudadanía","Ciudadanía","Masculino","Hombre ","Sin datos","Sin datos","Sin datos","Sin datos","DERECHO DE PETICIÓN DE INTERÉS PARTICULAR","Consulta general","Competencia otras entidades","UN PARQUE ESTRATEGICO PARA LA CIUDAD","Solucionado - Por traslado","AREA DE ATENCION A LA CIUDADANIA","No Registra"]
[2035,2022,"NOVIEMBRE","2022-11-21","08:05:44","OLGA LUCÍA MESA MORENO","VIRTUAL","Bogotá te Escucha","abogadosrpjasociados@gmail.com","Empresas privadas","ABOGADOSRPJ ASOCIAD","Empresas privadas","Empresas privadas","N/A","N/A","Sin datos","Sin datos","Sin datos","Sin datos","DERECHO DE PETICIÓN DE INTERÉS PARTICULAR","Consulta general","Sin información de fondo","VENTANILLA_VIRTUAL VVC-JVV-DERECHO DE PETICION","Cerrado - Por no competencia","AREA DE ATENCION A LA CIUDADANIA","No Registra"]
[2036,2022,"NOVIEMBRE","2022-11-23","01:41:13","CARLOS DANIEL GALVIS LEAL","VIRTUAL","Bogotá te Escucha","edwfabis@gmail.com","Ciudadanía","EDWAR FABIAN CASTAÑEDA SUAREZ","Ciudadanía","Ciudadanía","Masculino","Hombre ","Sin datos","Sin datos","Sin datos","Sin datos","DERECHO DE PETICIÓN DE INTERÉS GENERAL","Consulta general","Competencia otras entidades","INVACION DEL ESPACIO PUBLICO PARQUE DE LA GLORIA LOCALIDAD 4 DE SAN CRITOBAL  EN MESES PASADOS LA CIUDADANIA HA VENIDO DENUCIANDO LA INVACION Y APROPIACUION DE ESPACIO PUYBLICO PORPARTE DE LOS HABITANTES Y EL SUPERMERCADO VIVO UBICADO EN INMEDICIONES AL PARQUE DEL BARRIO DE LA GLORIA  ALLIN EN LA PLAZOLETA PUBLICA DEL BARRIO DE LA GLORIA SE ESTA COGIENDO EL PARQUE DE PARQUEADERO POR PARTE DEL SUPERMERCADO  QUITARON VOLARDOS  DESTRUYETON ANDES PARA PERMITIR EL ACCESO DE VEHICOLOS AL ANDEN DANANDO EL ADOCUN  TODO LO ANTERIOR DADO QUE LA COMUNIDAD SE ENTERO QU ESTE PARQUE IBA A SER OBJETO DE INTERVENCION POR LAS OBRAS DEL CABLE AERE Y PREDIO QUE INTERVENDRA HABITA PARA LOS NUEVOS EQUIPAMENTOS DE LA GLORIA EN EL PLAN DE REVITALIZACION LA GLORIA ALTAMIRA.","Solucionado - Por asignacion","AREA DE ATENCION A LA CIUDADANIA","No Registra"]
[2037,2022,"NOVIEMBRE","2022-11-25","03:07:09","OLGA LUCÍA MESA MORENO","VIRTUAL","Bogotá te Escucha","karla.espa@gmail.com","Ciudadanía","CAROLINA ESPAÑOL","Ciudadanía","Ciudadanía","Femenino","Mujer","Sin datos","Sin datos","Sin datos","Sin datos","DERECHO DE PETICIÓN DE INTERÉS PARTICULAR","Consulta general","Competencia otras entidades","EMAIL- TRASLADO","Solucionado - Por traslado","AREA DE ATENCION A LA CIUDADANIA","No Registra"]
[2038,2022,"NOVIEMBRE","2022-11-24","08:32:49","OLGA LUCÍA MESA MORENO","VIRTUAL","Bogotá te Escucha","jacciudadelaparquedelaroca@hotmail.com","Juntas de Acción Comunal (JAC)","JUNTA DE ACCION COMUNAL PARQUE DE LA ROCA  ","Juntas de Acción Comunal (JAC)","Juntas de Acción Comunal (JAC)","N/A","N/A","Sin datos","Sin datos","Sin datos","Sin datos","DERECHO DE PETICIÓN DE INTERÉS GENERAL","Asesoría en administración y sostenibilidad del espacio público","Gestión de comunicaciones, eventos e invitaciones","DERECHO DE PETICION Invitacion a reunion de urgencia por emergencia zonas de alto riesgo sobre Ladera.","Cerrado - Por no competencia","AREA DE ATENCION A LA CIUDADANIA","No Registra"]
[2039,2022,"NOVIEMBRE","2022-11-29","04:14:25","OLGA LUCÍA MESA MORENO","VIRTUAL","Bogotá te Escucha",0,"Anónimo","ANONIMO  ","Anónimo","Anónimo","N/A","N/A","Sin datos","Sin datos","Sin datos","Sin datos","DERECHO DE PETICIÓN DE INTERÉS GENERAL","Consulta general","Competencia otras entidades","1.   POR FAVOR JBB  HACER UNA INTERVENCION EN EL PREDIO DE LA CALLE 39B # 18-13  B. LA SOLEDAD  LOC. DE TEUSAQUILLO  RESULTA QUE DEL PREDIO SALEN PLANTAS CON TALLOS GRUESOS Y FOLLAJE  AMBOS ABUNDANTES  Y YA ESTAN OBTACULIZANDO EL PASO DE LAS PERSONAS DE 1.70M Y MAS DE ALTURA Y ADEMAS LIMITANDO LA VISIBILIDAD GENERANDO ESPACIO DE INSEGURIDAD. POR FAVOR PODAR ESTAS RAMAS BAJAS Y DEJAR UN ESPACIO LIBRE DE 2.20 METROS.   TAMBIEN PODAR EL ARBOL QUE QUEDA EN EL ESPACIO PUBLICO CASI AL FRENTE DE LA PLACA DE ESTE PREDIO   UN METRO AL OCCIDENTE DE LA PLACA. LA SITUACION DE INSEGURIDAD SE PRESENTA EN ESTA ESQUINA DEBIDO A QUE EL ANDEN ES MUY ANGOSTO Y EL FOLLAJE Y LOS TALLOS QUE SALEN DE ESTA CASA OCUPAN PARTE DEL ESPACIO PEATONAL DE ESTE ANDEN. NOTA  EN EL PASADO YA SE HAN PRESENTADO GRAVES CASOS DE INSEGURIDAD (ROBO GRAVE) EN ESTA ESQUINA Y SUS CERCANIAS POR LA FALTA DE VISIBILIDAD Y MOVILIDAD PROVOCADA POR ESTAS PLANTAS MAL CUIDADAS. ES EL MOMENTO DE PODARLAS  PORQUE AL PARECER LOS DUENOS DE LA CASA SE RELAJARON Y ESTAN VOLVIENDO A DEJAR CRECER LAS PLANTAS Y SI NO SE HACE AHORA VAN A CRECER A COMO ESTABAN ANTES (MUCHO MAS ESTORBOSAS PARA EL ESPAICO PUBLICO). AH! FALTA DECIR QUE LOS TALLOS Y RAMAS QUE SALEN DEL PREDIO  SALEN TANTO POR LA CALLE COMO POR LA CARRERA  ENTONCES LA IDEA ES PODAR POR AMBOS LADOS. LA IDEA ES QUE EL BIEN PRIVADO NO DEBE INTERFERIR  NI AFECTAR NEGATIVAMENTE  EL BIEN PUBLICO Y LOS ARBOLES QUE SON PRIVADOS ESTAN INTERFIRIENDO Y AFECTANDO NEGATIVAMENTE (DANANDO) EL ESPACIO PUBLICO (EL ANDEN  EL ESPACIO PEATONAL)  QUE ES UN BIEN PUBLICO. OJALA SE LOGARRAN LOS 2.20M DE PODA DE ABAJO HACIA ARRIBA DE ESTAS RAMAS PORQUE REALMENTE GENERAN UN AMBIENTE DE INSEGURIDAD  SOBRE TODO AL ATARDECER Y EN LA NOCHE. PODAR TAMBIEN LOS ARBOLES QUE SON PUBLICOS Y ESTAN EN LA ZONA BLANDA DE ESTA ESQUINA TANTO POR LA CALLE COMO POR LA CARRERA  DE ABAJO HACIA ARRIBA HASTA UNA ALTURA DE 2.20 M.  2.  POR FAVOR PODAR LOS ARBOLES QUE ESTAN EN EL ANDEN AL FRENTE DEL PREDIO QUE VA DE LA CALLE 39B ENTRE EL NUMERO 20-08 HASTA EL NUMERO 20-40  B. LA SOLEDAD  LOC. DE TEUSAQUILLO  NO HAY PLACAS PROQUE EL PREDIO ES ESQUINERO Y SU DIRECCION ESTA POR EL LADO DE LA CARRERA (CARRERA 20 # 39B-15)  ES UNA CASA Y UN EDIFICIO ESQUINEROS QUE PERTENECEN A UN MISMO PREDIO. EL PREDIO POR EL LADO DE LA CARRERA TIENE PLACA Y ESTA CORRESPONDE A LA CARRERA 20 # 39B-15.    POR FAVOR LA PODA ES DE RAMAS BAJAS HASTA UNA ALTURA DE 2.20M PARA FACILITAR LA MOVILIDAD POR ESTE ANDEN (POR EL LADO DE LA CALLE) QUE ES MUY ANGOSTO Y ADEMAS SE MEJORA LA VISIBILIDAD CON LO CUAL SE MEJORARA LA SEGURIDAD DE ESTA ANDEN.","Cerrado - Por no competencia","AREA DE ATENCION A LA CIUDADANIA","No Registra"]
[2040,2022,"NOVIEMBRE","2022-11-23","01:30:53","OLGA LUCÍA MESA MORENO","VIRTUAL","Bogotá te Escucha",0,"Anónimo","ANONIMO  ","Anónimo","Anónimo","N/A","N/A","Sin datos","Sin datos","Sin datos","Sin datos","DERECHO DE PETICIÓN DE INTERÉS GENERAL","Consulta general","Competencia otras entidades","SE COMUNICA PERSONA ANONIMA EL DIA 23/11/2022  SIENDO LAS 01 15 PM  MANIFESTANDO QUE ES UNA PERSONA LEGALMENTE CIEGA DESDE NACIMIENTO  TRABAJA EN LA DIRECCION CALLE 76 #13-46 FRENTE AL EDIFICIO 14-76 DE LA LOCALIDAD DE CHAPINERO  NORMALMENTE TRANSITA DESDE LA AVENIDA CARACAS Y SUBE POR EL ANDEN HASTA LLEGAR A SU LUGAR DE TRABAJO  TENIENDO EN CUENTA LO QUE SE MENCIONA CON ANTERIORIDAD SOBRE SU DISCAPACIDAD  ES MUY DIFICIL PARA EL TRANSITAR SOBRE DICHOS ANDENES PUESTO A LA CANTIDAD DE VENDEDORES AMBULANTES QUE SE TOMAN EL ESPACIO PUBLICO  POR ESTE MOTIVO DESEA QUE LAS ENTIDADES CORRESPONDIENTES SE ACERQUEN DE MANERA INMEDIATA PARA QUE LIBEREN LOS ANDENES Y SEA MUCHO MAS FACIL PARA LOS CIUDADANOS TRANSITAR EN ELLOS. ","Solucionado - Por traslado","AREA DE ATENCION A LA CIUDADANIA","No Registra"]
[2041,2022,"NOVIEMBRE","2022-11-25","02:26:01","OLGA LUCÍA MESA MORENO","VIRTUAL","Bogotá te Escucha",0,"Anónimo","Anónimo","Anónimo","Anónimo","N/A","N/A","Sin datos","Sin datos","Sin datos","Sin datos","DERECHO DE PETICIÓN DE INTERÉS GENERAL","Asesoría en administración y sostenibilidad del espacio público","Denuncia cerramiento","VENTANILLA_VIRTUAL INFRACCIN RGIMEN URBANSTICO Y EN CERRAMIENTO DE ESPACIO PBLICO","Cerrado - Por no competencia","AREA DE ATENCION A LA CIUDADANIA","No Registra"]
[2042,2022,"NOVIEMBRE","2022-11-24","07:27:54","OLGA LUCÍA MESA MORENO","VIRTUAL","Bogotá te Escucha",0,"Anónimo","ANONIMO  ","Anónimo","Anónimo","N/A","N/A","Sin datos","Sin datos","Sin datos","Sin datos","QUEJA","Consulta general","Competencia otras entidades","EN CALLE 75 NO 70 A 04 FUNCIONA UN ESTABLECIMIENTO DE VENTA Y CONSUMO DE LICOR Y PRESENTA VARIAS IRREGULARIDADES  ESTA UBICADO EN UN AREA RESIDENCIAL POR USO DE SUELO NO ESTA PERMITIDO  ESTA A MENOS DE 20 METROS DE COLEGIO Y JARDIN CUANDO SE RESTRINGE EL EXPENDO Y CONSUMO DE BEBIDAS ALCOHOLICAS EN UN RADIO DE 200 METROS DE ESTABLECIIENTOS EDUCATIVOS UBICAN SILLAS  MESAS HORNO Y PARQUEAN MOTOS Y CICLAS SOBRE ANDEN INVADIENDO EL ESPACIO PUBLICO ( NO SE DEBE CONSUMIR BEBIDAS ALCOHOLICAS EN EL ESPACIO PUBLICO. PARQUEAN POR HORAS CARROS DE SUS CLIENTES ENLENTIZANDO TRAFICO   PONEN MUSICA DURO  RIEN CARCAJEAN CHIFLAN  GRITAN  SILBAN   DESDE 1 PM HASTA LA MADRUGADA BASICAMENTE DE MIERCOLES A DOMINGO. Y HAN TENIDO EL DESCARO DE INSTALAR AMPLIFICADOR Y ESTE 20NOVIEMBRE NO CONTENTOS CON TENERNOS HASTA LA MADRUGADA EN VELA ABRIERON DESDE LAS 8 AM CON SU CONSABIDO BULLICIO.  INCREIBLE COMO TRAEN NINOS PARA QUE VEAN A SUS PATETICOS PADRES TOMANDO  DANDOLES MAL EJEMPLO Y LUEGO EXPONIENDOLOS A UN ACCIDENTE EN EL CARRO QUE CONDUCEN EBRIOS.  ES INDIGNANTE EL IRRESPETO  EL ATROPELLO DE NUESTROS DERECHOS  PONEN EL BIEN INDIVIDUAL SOBRE EL COLECTIVO  INDIGNADOS POR LA FALTA DE COMPETENCIA DE LAS ENTIDADES REGULTORIAS Y ENTES GUBERNAMENTALES  POR LA PERMISIBILIDAD  LA FALTA DE CONCIENCIA Y LA CONDESCENDENCIA. CON TANTA IRREGULARIDAD SERA QUE HAY CORRUPCION????POR QUE LOS POLICIAS NO HACEN RONDAS Y VERIFICAN ESTA SERIE DE IRREGULARIDADES","Solucionado - Por traslado","AREA DE ATENCION A LA CIUDADANIA","No Registra"]
[2043,2022,"NOVIEMBRE","2022-11-25","11:08:04","OLGA LUCÍA MESA MORENO","VIRTUAL","Bogotá te Escucha",0,"Anónimo","ANONIMO  ","Anónimo","Anónimo","N/A","N/A","Sin datos","Sin datos","Sin datos","Sin datos","DERECHO DE PETICIÓN DE INTERÉS PARTICULAR","Asesoría en administración y sostenibilidad del espacio público","Asesoría en temas de espacio público","SOLICITUD DE INFORMACION  SOBRE PRESUNTO  USO  NO DEBIDO DE ESPACIO  PUBLICO. COMEDIDAMENTE  SOLICITO SE  ME ACLARE  SI  LA   ADMINISTRACION DEL CONJUNTO RESIDENCIAL  EN MENCION  TIENE  AUTORIZACION PARA   USUFRUCTUAR  EL ESPACIO DEL  PARQUEADERO  COMUNAL  DEL CONJUNTO   PUES HASTA  DONDE  ENTIENDO  ESTE ESPACIO   CORRESPONDE  A UNA VIA  PUBLICA    Y  ACTUALMENTE  NO ME PERMITEN  EL INGRESO  AL  MISMO    IMPIDIENDO  HACER   USO DEL ESPACIO  PUBLICO  DETERMINADO  PARA  EL TRANSITO LIBRE DE LOS  RESIDENTES    ADEMAS  QUE   LA  ADMINISTRACION DEL CONJUNTO  REFIERE  QUE PARA   QUE LOS RESIDENTES  PUEDAN HACER USOS  DEL ESPACIO   DENOMINADO PARQUEADERO #3  DEBEN   HACER  PAGOS   DE ALQUILER  DEL  MISMO   ME PREGUNTO SI  ESTA  ACCION ESTA  NORMADA  LEGALMENTE   ADEMAS  SI   ME PUEDEN EXIGIR  EL  MENCIONADO PAGO  PARA  USO DE ESE ESPACIO?.  AGRADEZCO  GENTILMENTE  SU  COLABORACION Y APOYO  DEBIDO A QUE   VEO  VULNERADOS  MIS  DERECHOS  COMO CIUDADANO   PARA HACER  USO DEL ESPACIO PUBLICO  MENCIONADO   ADJUNTO  DOCUMENTO  RELACIONADO CON TEMA   DONDE  EMITEN CONCEPTO EN EL 2015    DESEO CONOCER SI LA SITUACION CONTINUA  COMO  EXPRESA  EL  ADJUNTO","Solucionado - Por asignacion","SUBDIRECCION DE GESTION INMOBILIARIA Y DEL ESPACIO PUBLICO","No Registra"]
[2044,2022,"NOVIEMBRE","2022-11-25","08:27:32","OLGA LUCÍA MESA MORENO","VIRTUAL","Bogotá te Escucha","mgfonseca25@gmail.com","Ciudadanía","MARIA FONSECA","Ciudadanía","Ciudadanía","Femenino","Mujer","Sin datos","Sin datos","Sin datos","Sin datos","DERECHO DE PETICIÓN DE INTERÉS PARTICULAR","Asesoría en administración y sostenibilidad del espacio público","Asesoría en temas de espacio público","SENORES  PROCURADURIA GENERAL DE LA NACION  DEPARTAMENTO ADMINISTRATIVO DE LA DEFENSORIA DEL ESPACIO PUBLICO  SECRETARIA DISTRITAL DE AMBIENTE  ALCALDE LOCAL DE USME  RESPETADOS  REMITO DERECHO DE PETICION  ATENTAMENTE  ","Solucionado por asignar - Trasladar","SUBDIRECCION DE GESTION INMOBILIARIA Y DEL ESPACIO PUBLICO","No Registra"]
[2045,2022,"NOVIEMBRE","2022-11-24","04:40:19","OLGA LUCÍA MESA MORENO","VIRTUAL","Bogotá te Escucha","javierlopezgomez@outlook.com","Ciudadanía","JAVIER  LOPEZ GOMEZ","Ciudadanía","Ciudadanía","Masculino","Hombre ","Sin datos","Sin datos","Sin datos","Sin datos","DERECHO DE PETICIÓN DE INTERÉS GENERAL","Asesoría en administración y sostenibilidad del espacio público","Parqueaderos","ACLARACION PARQUEADERO BAHIA SESION TIPO B ","Solucionado por asignar - Trasladar","SUBDIRECCION DE GESTION INMOBILIARIA Y DEL ESPACIO PUBLICO","No Registra"]
[2046,2022,"NOVIEMBRE","2022-11-25","05:56:05","OLGA LUCÍA MESA MORENO","VIRTUAL","Bogotá te Escucha","consejoaltavistadelportal@gmail.com","Anónimo","ANONIMA","Anónimo","Anónimo","N/A","N/A","Sin datos","Sin datos","Sin datos","Sin datos","DERECHO DE PETICIÓN DE INTERÉS GENERAL","Consulta general","Competencia otras entidades","INVACION ESPACIO PUBLICO","Solucionado - Por traslado","AREA DE ATENCION A LA CIUDADANIA","05 Usme"]
[2047,2022,"NOVIEMBRE","2022-11-28","09:30:02","OLGA LUCÍA MESA MORENO","VIRTUAL","Bogotá te Escucha","yaniraojeda2008@hotmail.com","Ciudadanía","MARIA YANIRA OJEDA VILLARRAGA","Ciudadanía","Ciudadanía","Femenino","Mujer","Sin datos","Sin datos","Sin datos","Sin datos","DERECHO DE PETICIÓN DE INTERÉS PARTICULAR","Asesoría en administración y sostenibilidad del espacio público","Asesoría en temas de espacio público","YO HABITO EN EL BARRIO UNIR LOCALIDAD DE ENGATIVA  EXACTAMENTE EN LA CRA 116C ENTRE LAS CALLES 72 Y 77  QUE COLINDA CON EL BARRIO GRAN GRANADA EN ESTE ESPACIO EXISTEN DOS LAVADEROS DE CARROS  LOS CUALES TIENEN USUFRUCTO DEL ESPACIO PUBLICO  YA QUE TIENEN PARQUEADERO DE CARROS  POR LOS CUALES COBRAN A ESTO TENEMOS QUE ANADIRLE QUE TIENEN EL PARQUEADERO DE LOS BICI TAXIS  TAMBIEN MANEJADOS POR VENEZOLANOS  LO QUE HACE QUE EL SITIO SEA DEMASIADO PELIGROSO EN TODOS LOS ASPECTOS  TENEMOS UNAS LAMPARAS QUE NUNCA ESTAN PRENDIDAS Y SI SE LLAMA A CODENSA PARA SU ARREGLO NUNCA VIENEN A REALIZARLO  EN DIAS PASADOS LA POLICIA DEL CAI DE VILLAS DE GRANADA TUVO QUE ATENDER UN LLAMADO POR HERIDAS CON ARMA BLANCA  LO QUE PARA ELLOS ES NORMAL  PERO PARA LOS HABITANTES DE BIEN NO NOS AYUDA PARA NADA CADA COSA ES  PEOR  ADICIONALMENTE  EL RUIDO QUE GENERAN CUANDO PARQUEAN DICHOS CARROS A ALTAS HORAS DE LA MADRUGADA  INTERRUMPIENDO EL DESCANSO DE LA COMUNIDAD Y GENERANDO TODA CLASE DE DELINCUENCIA HASTA VENTA DE SUSTANCIAS ALUCINOGENAS. ESTO ESTA CONDUCIDO POR VENEZOLANOS QUE TIENEN EL BARRIO DECLARADO COMO ZONA ROJA O DE ORDEN PUBLICO  POR ESTE MOTIVO NINGUN TRANSPORTE  LO ACERCA A ESTE SITIO ","Solucionado - Por asignacion","SUBDIRECCION DE GESTION INMOBILIARIA Y DEL ESPACIO PUBLICO","No Registra"]
[2048,2022,"NOVIEMBRE","2022-11-28","11:28:43","OLGA LUCÍA MESA MORENO","VIRTUAL","Bogotá te Escucha","sulimartinez995@gmail.com","Ciudadanía","ZULI  ROCIO  MARTINEZ GUERRERO","Ciudadanía","Ciudadanía","Femenino","Mujer","Sin datos","Sin datos","Sin datos","Sin datos","DERECHO DE PETICIÓN DE INTERÉS PARTICULAR","Asesoría en administración y sostenibilidad del espacio público","Asesoría en temas de espacio público","BOGOTA D.C. 25 DE NOVIEMBRE SENORES DE LA ALCALDIA MAYOR DE BOGOTA ALCALDESA CLAUDIA LOPEZ  Y LOS DEL ESPACIO PUBLICO  ME DIRIJO ANTE  USTED Y A SUS DIGNOS DESPACHOS EN VIRTUD DEL RECONOCIDO DERECHO DE PETICION QUE ME ASISTE COMO LO CONTEMPLAN LOS ART 23 83 85 86 87 89 LEY 1448 DEL 2011 YO ZULY ROCIO MARTINEZ GUERRERO PERSONA MAYOR DE EDAD DOMICILIADA ACTUALMENTE EN ESTA CIUDAD SOLICITUD LA PRESENTE ES CON EL FIN DE SOLICITAR SU APOYO COMO ALCALDESA MAYOR DE BOGOTA SOY MADRE CABEZA DE HOGAR TENGO 5 HIJOS A MI CARGO TODOS MENORES DE EDAD TENGO UN TRABAJO COMO ES UN PARQUEADERO DE CARROS MOTOS EN LA LOCALIDAD DE SUBA DESDE EL ANO 2014 ESTAMOS EN LO DEL PARQUEADERO EN ESE ANO TOMAMOS UNA CALLE MOCHA Y AL FRENTE HAY UNOS CONJUNTOS ESE PUNTO LO UTILIZABAN PARA FUMAR ROBAR Y HASTA VIOLAR  ERA UNA ZONA MUY PELIGROSA LLEGAMOS NOSOTROS Y NOS PUSIMOS A LIMPIAR Y A IR PARQUEANDO CARROS Y HABLANDO EN LOS MEJORES TERMINOS CON LAS PERSONAS ANTES MENCIONADAS ASI NOS GANAMOS  LA CONFIANZA Y EL RESPETO DE ELLOS POR LO QUE NOS DEJARON TRABAJAR LUEGO HABLAMOS CON LA POLICIA DEL CUADRANTE DEL CAI DE LA GAITANA ELLOS NOS EMPEZARON A AYUDAR DANDO RONDAS POR  ESE PUNTO ASI LA COMUNIDAD DE LOS CONJUNTOS LA PRADERA SE SINTIERON MAS PROTEGIDOS  AL VER ESE CAMBIO TAN GRANDE QUE DIO ESE PUNTO ASI LOS MISMOS VECINOS DEL CONJUNTO DEJARON SUS CARROS MOTOS Y CARROS DE COMIDAS RAPIDAS AL CUIDADO DE  NOSOTROS POR LO QUE NOSOTROS EMPEZAMOS A PRESTAR UN SERVICIO A LA COMUNIDAD ELLOS POR SU PARTE CONTENTOS CON NUESTRO SERVICIO Y NOSOTROS CON EL COBRO DE LOS SERVICIOS SUPLIMOS NUESTRAS NECESIDADES BASICAS COMO LO SON ALIMENTACION ARRIENDO SERVICIOS ESTUDIOS DE NUESTROS  HIJOS RECREACION YA QUE AL LLEGAR A BOGOTA EN CONDICIONES DEPLORABLES POR QUE TUVIMOS QUE ABANDONAR NUESTRAS TIERRAS DONDE TENIAMOS VACAS CULTIVOS DE PLATANOS YUCA MARRANOS GALLINAS COSAS CON LAS QUE PODIAMOS SUSCITIR PERO LOS GRUPOS ILEGALES AL MARGUEN DE LA LEY NOS OBLIGARON A SALIR DE NUESTRAS TIERRAS EN EL ANO 2008 FUE CUANDO SE LLEVARON A MI ESPOSO SECUESTRADO OBLIGANDOLO A DEJAR NOS SOLOS EN ESE ANO FUE DONDE CON EL DOLOR DEL SECUESTRO Y ABANDONO OBLIGATORIO DE NUESTRAS TIERRAS MIGRAMOS A BOGOTA CON TRES NINOS SIN SABER QUE HACER NO CONSEGUIAMOS TRABAJO YA QUE NUESTRO OFICIO ERA EL CAMPO ASI FUE COMO AL VER NUESTRAS LUCHAS Y SUFRIMIENTOS QUE PASABAMOS CON NUESTROS HIJOS FUE QUE MIRAMOS ESE PUNTO QUE ESTA UBICADO EN LA CALLE 110 #125-A 25  ES UNA CALLE QUE CONDUCE A UN POTRERO POR LO QUE NO HAY SALIDA ES DONDE NOS UBICAMOS Y TRABAJAMOS EN ESE ESPACIO PUBLICO A HORA QUE NOSOTROS HEMOS CAMBIADO ESE SECTOR POR DECIRLO ASI EL SENOS LEONARDO ANDRES MOJICA QUE ES EL PRESIDENTE DE LA JUNTA Y HA TOMADO ATRIBUCION QUE NO LE CORRESPONDE EN VARIOS DIAS NOS HA HECHO LEVANTAR CARROS Y MOTOS CON LA POLICIA NO SE DE QUE SEA VALIDO EL SENOR A HORA NOS ESTA AFECTANDO SIN SABER QUE NOSOTROS DEPENDEMOS DE ESE TRABAJITO NO CONTAMOS CON NINGUNA AYUDA PARA PODER SACAR A NUESTROS HIJOS A DELANTE YO LE PIDO A LA SENORA ALCALDEZA   ME AYUDE DE MANERA URGENTE PORQUE ME SIENTO VULNERADA CON MIS DERECHOS YA QUE SOY MADRE CON 5 HIJOS Y ME DUELE VER COMO PERSONAS MALINTENCIONADAS NOS QUIERAN DEJAR SIN TRABAJO POR EL PURO HECHO DEL QUEDARSE CON EL SUSTENTO QUE ES DE MIS HIJOS YO LO QUE PIDO QUE SE RESPETE EL  TRABAJO Y DEDICACION DE NOSOTROS POR MEJORAR Y AYUDAR A OTRAS PERSONAS DANDOLES TRABAJO TAL VEZ NO SEA ALGO LEGAL PERO DE AHI DEPENDEMOS MUCHAS PERSONAS LO QUE PIDO ES VEDARIA DE PARTE DE LA ALCALDESA DE BOGOTA QUE SEA ELLA QUIEN NOS AYUDE A SOLUCIONAR YA QUE HE PASADO A LA ALCALDIA DE SUBA Y ELLOS MANIFIESTAN NO HABER DADO ORDEN DE LEVANTAR LOS CARROS NO SIENDO MAS DEJO MI NUMERO DE CONTACTO PARA QUE ME PUEDAN LLAMAR Y VER DE QUE MANERA NOS AYUDAN AGRADEZCO S COLABORACION BRINDADA EN ESPERA DE UNA RESPUESTA AGIL Y OPORTUNA ALA MENOR BREVEDAD POSIBLE ATENTAMENTE ZULY ROCIO MARTINEZ GUERRERO CELULAR 3214433316 CORREO SULIMARTINEZ995@GMAIL.COM","Solucionado por asignar - Trasladar","SUBDIRECCION DE GESTION INMOBILIARIA Y DEL ESPACIO PUBLICO","07 Bosa"]
[2049,2022,"NOVIEMBRE","2022-11-27","08:32:27","OLGA LUCÍA MESA MORENO","VIRTUAL","Bogotá te Escucha","jorgelopez25@gmail.com","Anónimo","ANONIMA","Anónimo","Anónimo","N/A","N/A","Sin datos","Sin datos","Sin datos","Sin datos","DERECHO DE PETICIÓN DE INTERÉS PARTICULAR","Consulta general","Competencia otras entidades","Requiero orientacion a fin de solicitar visita de verificacion al cumplimiento de lineamientos y normatividad de la propiedad horizontal ubicada en la carrera 12 -# 119-45  de la localidad Usaquen.      ","Solucionado - Por traslado","AREA DE ATENCION A LA CIUDADANIA","No Registra"]
[2050,2022,"NOVIEMBRE","2022-11-28","05:35:31","OLGA LUCÍA MESA MORENO","VIRTUAL","Bogotá te Escucha","alcazareservado@gmail.com","Empresas privadas","ALCAZAR CASTILLA  RESERVADO ","Empresas privadas","ALCAZAR CASTILLA  RESERVADO ","N/A","N/A","Sin datos","Sin datos","Sin datos","Sin datos","DERECHO DE PETICIÓN DE INTERÉS PARTICULAR","Asesoría en administración y sostenibilidad del espacio público","Asesoría en temas de espacio público","DERECHO DE PETICION IDU CONJUTNO ALCAZAR CASTILLA RESERVADO","Solucionado - Por traslado","AREA DE ATENCION A LA CIUDADANIA","No Registra"]
[2051,2022,"NOVIEMBRE","2022-11-28","11:07:11","OLGA LUCÍA MESA MORENO","VIRTUAL","Bogotá te Escucha",0,"Anónimo","ANONIMA","Anónimo","Anónimo","N/A","N/A","Sin datos","Sin datos","Sin datos","Sin datos","DERECHO DE PETICIÓN DE INTERÉS PARTICULAR","Consulta general","Competencia otras entidades","EN CALLE 75 NO 70 A 04 EN BONANZA FUNCIONA UN ESTABLECIMIENTO DE VENTA Y CONSUMO DE BEBIDAS ALCOHOLICAS DESDE HACE COMO 8 MESES EN UN AREA RESIDENCIAL DONDE POR USO DE SUELO NO ESTA PERMITIDO  ESTA A MENOS DE 20 METROS DE JARDIN Y COLEGIO (QUE LLEVAN MAS DE 15 ANOS) CUANDO POR NORMA EN UN RADIO DE 200 METROS DE ESTABLECIMIENTOS EDUCATIVOS NO SE PUEDE EXPENDER NI CONSUMIR BEBIDAS ALCOHOLICAS   UBICAN MESAS SILLAS HORNO EN ANDEN E IGUAL PARQUEAN MUCHAS MOTOS Y CICLAS SOBRE EL MISMO INVADIENDO EL ESPACIO PUBLICO CUANDO POR NORMA NO SE PUEDE EXPENDER NI CONSUMIR BEBIDAS ALCOHOLICAS EN EL ESPACIO PUBLICO.  ABREN BASICAMENTE DE MIERCOLES A DOMINGO DESDE 1 PM HASTA LA MADRUGADA E INCLUSO UN DOMINGO ABRIERON DESDE  LAS 8 AM PONEN MUSICA DURISIMO HASTA CON AMPLIFICADORES  CANTAN A TODO GRITO CHIFLAN CARCAJEAN.PELEAN TODO EL TIEMPO NO RESPETAN EL SUENO DE RESIDENTES.  INVADEN CALLE CON CARROS DE SUS CLIENTES QUE PERMANECEN HORAS Y ESTA ES UNA VIA PRINCIPAL.  TRAEN NINOS Y LOS EXPONEN A TODO ESTO.  QUIEN CONTROLA QUIEN INSPECCIONA QUIEN RESTABLECE NUESTROS DERECHOS","Solucionado - Por traslado","AREA DE ATENCION A LA CIUDADANIA","No Registra"]
[2052,2022,"NOVIEMBRE","2022-11-29","11:23:27","OLGA LUCÍA MESA MORENO","VIRTUAL","Bogotá te Escucha",0,"Anónimo","ANONIMO  ","Anónimo","Anónimo","N/A","N/A","Sin datos","Sin datos","Sin datos","Sin datos","QUEJA","Consulta general","Competencia otras entidades","EN CALLE 75 NO 70 A 04 EN BONANZA FUNCIONA UN ESTABLECIMIENTO DE VENTA Y CONSUMO DE BEBIDAS ALCOHOLICAS DESDE HACE COMO 8 MESES EN UN AREA RESIDENCIAL DONDE POR USO DE SUELO NO ESTA PERMITIDO  ESTA A MENOS DE 20 METROS DE JARDIN Y COLEGIO (QUE LLEVAN MAS DE 15 ANOS) CUANDO POR NORMA EN UN RADIO DE 200 METROS DE ESTABLECIMIENTOS EDUCATIVOS NO SE PUEDE EXPENDER NI CONSUMIR BEBIDAS ALCOHOLICAS   UBICAN MESAS SILLAS HORNO EN ANDEN E IGUAL PARQUEAN MUCHAS MOTOS Y CICLAS SOBRE EL MISMO INVADIENDO EL ESPACIO PUBLICO CUANDO POR NORMA NO SE PUEDE EXPENDER NI CONSUMIR BEBIDAS ALCOHOLICAS EN EL ESPACIO PUBLICO.  ABREN BASICAMENTE DE MIERCOLES A DOMINGO DESDE 1 PM HASTA LA MADRUGADA E INCLUSO UN DOMINGO ABRIERON DESDE  LAS 8 AM PONEN MUSICA DURISIMO HASTA CON AMPLIFICADORES  CANTAN A TODO GRITO CHIFLAN CARCAJEAN.PELEAN TODO EL TIEMPO NO RESPETAN EL SUENO DE RESIDENTES.  INVADEN CALLE CON CARROS DE SUS CLIENTES QUE PERMANECEN HORAS Y ESTA ES UNA VIA PRINCIPAL.  TRAEN NINOS Y LOS EXPONEN A TODO ESTO.  QUIEN CONTROLA QUIEN INSPECCIONA QUIEN RESTABLECE NUESTROS DERECHOS","Cerrado - Por no competencia","AREA DE ATENCION A LA CIUDADANIA","No Registra"]
[2053,2022,"NOVIEMBRE","2022-11-30","07:28:43","OLGA LUCÍA MESA MORENO","VIRTUAL","Bogotá te Escucha","la-motica@hotmail.com","Ciudadanía","YISETH  MOJICA ","Ciudadanía","YISETH  MOJICA ","N/A","N/A","Sin datos","Sin datos","Sin datos","Sin datos","DERECHO DE PETICIÓN DE INTERÉS GENERAL","Consulta general","Sin información de fondo","AFECTCIONES",0,"AREA DE ATENCION A LA CIUDADANIA","No Registra"]
[2054,2022,"NOVIEMBRE","2022-11-30","10:38:02","OLGA LUCÍA MESA MORENO","VIRTUAL","Bogotá te Escucha",0,"Anónimo","ANONIMO  ","Anónimo","Anónimo","N/A","N/A","Sin datos","Sin datos","Sin datos","Sin datos","DERECHO DE PETICIÓN DE INTERÉS GENERAL","Consulta general","Competencia otras entidades","PERSONA ANONIMA SE COMUNICA A LA LINEA 195 EL DIA 27/11/2022  YA QUE DESEA INTERPONER UN RECLAMO A LAS ENTIDADES COMPETENTES  PUES EN LA CARRERA 84 Y LA CARRERA 83 B CON CALLE 65 SUR A LA 66 SUR  BARRIO BOSA LA PAZ  DE LA LOCALIDAD DE BOSA  UN HABITANTE DEL SECTOR  EL CUAL VIVE EN CARRERA 83B #65B-15 SUR  ESTA TUMBANDO LOS BOLARDOS DE LA DIRECCION MENCIONADA  CON EL FIN DE METER VEHICULOS DE CARGA Y ESTACIONAR EN ESTE SITIO  HA TUMBADO VARIOS Y MANIFIESTA ABIERTAMENTE QUE VA A APROVECHAR ESA BAHIA COMO PARQUEADERO  POR LO QUE SE SOLICITA A LAS ENTIDADES COMPETENTES QUE SE TOMEN LAS MEDIDAS NECESARIAS PARA GARANTIZAR QUE SEA PROTEGIDO ESE ESPACIO  PUES LOS BOLARDOS ESTAN PROTEGIENDO EL AREA DE RECREACION DE LOS NINOS DEL SECTOR  YA SE HABIA ENVIADO UNA PETICION  CON NUMERO 2762202022  PERO NO HAN BRINDADO UNA SOLUCION AL CASO.","Cerrado - Por no competencia","AREA DE ATENCION A LA CIUDADANIA","No Registra"]
[2055,2022,"NOVIEMBRE","2022-11-29","09:46:19","OLGA LUCÍA MESA MORENO","VIRTUAL","Bogotá te Escucha","papeleriagalaga@gmail.com","Ciudadanía","LUIS FRANCISCO MARTINEZ BARRERA","Ciudadanía","Ciudadanía","Masculino","Hombre ","Sin datos","Sin datos","Sin datos","Sin datos","DERECHO DE PETICIÓN DE INTERÉS PARTICULAR","Consulta general","Competencia otras entidades","SOLICITUD INTERVENCION ANTE ENTIDADES PARA MANEJO DE PROBLEMATICAS EN LA LOCALIDAD DE CIUDAD BOLIVAR","Solucionado por asignar - Trasladar","SUBDIRECCION DE GESTION INMOBILIARIA Y DEL ESPACIO PUBLICO","19 Ciudad Bolívar"]
[2056,2022,"NOVIEMBRE","2022-11-28","03:36:28","OLGA LUCÍA MESA MORENO","VIRTUAL","Bogotá te Escucha","carodia83@gmail.com","Ciudadanía","CAROLINA DIAZ ALZATE /PEDRO MANUEL DE ANDAGOYA ","Ciudadanía","Ciudadanía","Femenino","Mujer","Sin datos","Sin datos","Sin datos","Sin datos","DERECHO DE PETICIÓN DE INTERÉS PARTICULAR","Asesoría en administración y sostenibilidad del espacio público","Asesoría en temas de espacio público","ENORA ALCALDESA Y FUNCIONARIOS    DE MANERA COMEDIDA SOLICITAMOS SE DIGNE RESOLVER  DE FONDO EL SIGUIENTE DERECHO DE PETICION  EN LOS TERMINOS QUE LO CONSAGRA LA CONSTITUCION POLITICA Y LA NORMATIVIDAD VIGENTE  ADEMAS ADELANTAR LA INVESTIGACION Y APLICAR LOS CORRECTIVOS QUE CORRESPONDE     ADJUNTAMOS SOLICITUD FORMAL Y QUEDAMOS ATENTOS.    MIL GRACIAS.","Solucionado - Por asignacion","SUBDIRECCION DE GESTION INMOBILIARIA Y DEL ESPACIO PUBLICO","No Registra"]
[2057,2022,"NOVIEMBRE","2022-11-29","04:35:24","OLGA LUCÍA MESA MORENO","VIRTUAL","Bogotá te Escucha","myriam_sofia_sarmiento@hotmail.com","Ciudadanía","MYRIAM SOFIA SARMIENTO LUQUE","Ciudadanía","Ciudadanía","Femenino","Mujer","Sin datos","Sin datos","Sin datos","Sin datos","RECLAMO","Consulta general","Competencia otras entidades","NOTIFICACION PERSONAL ACCION POPULAR","Solucionado - Por traslado","AREA DE ATENCION A LA CIUDADANIA","13 Teusaquillo"]
[2058,2022,"NOVIEMBRE","2022-11-30","07:18:22","OLGA LUCÍA MESA MORENO","VIRTUAL","Bogotá te Escucha","santhyandrews@gmail.com","Ciudadanía","SANTIAGO ANDRES VARGAS ZAMUDIO","Ciudadanía","Ciudadanía","Masculino","Hombre ","Sin datos","Sin datos","Sin datos","Sin datos","DERECHO DE PETICIÓN DE INTERÉS GENERAL","Asesoría en administración y sostenibilidad del espacio público","Asesoría en temas de espacio público","PETICION. LICENCIA BARRA PARA FREESTYLE Y CALISTENIA","Solucionado por asignar - Trasladar","SUBDIRECCION DE GESTION INMOBILIARIA Y DEL ESPACIO PUBLICO","01 Usaquén"]
[2059,2022,"NOVIEMBRE","2022-11-30","05:54:29","OLGA LUCÍA MESA MORENO","VIRTUAL","Bogotá te Escucha","veduriaseguridadnacional@gmail.com","Organizaciones Sociales","VEEDURIA SEGURIDAD   VEEDURIA SEGURIDAD  ","Organizaciones Sociales","VEEDURIA SEGURIDAD   VEEDURIA SEGURIDAD  ","N/A","N/A","Sin datos","Sin datos","Sin datos","Sin datos","DERECHO DE PETICIÓN DE INTERÉS PARTICULAR","Asesoría en administración y sostenibilidad del espacio público","Asesoría en temas de espacio público","VENTANILLA_VIRTUAL VVC-JVV- DERECHO DE PETICIN. ART.14 LEY 1755/2015 - LEY 1712/2014 - LEY 1474/20",0,"AREA DE ATENCION A LA CIUDADANIA","No Registra"]
[2060,2022,"NOVIEMBRE","2022-11-30","10:31:47","OLGA LUCÍA MESA MORENO","VIRTUAL","Bogotá te Escucha",0,"Anónimo","ANONIMO  ","Anónimo","Anónimo","N/A","N/A","Sin datos","Sin datos","Sin datos","Sin datos","DERECHO DE PETICIÓN DE INTERÉS GENERAL","Consulta general","Competencia otras entidades","SE COMUNICA PERSONA DE MANERA ANONIMA EL DIA 30/11/2022 SIENDO LAS 10 14 DE LA MANANA  MANIFESTANDO QUE EN LA CARRERA 104 CON CALLE 19  Y 20 EN EL BARRIO BOSTON DE LA LOCALIDAD DE FONTIBON BARIOS VEHICULOS DE EMPRESAS PRIVADAS SE ESTACIONAN A DIARIO IMPIDIENDO LA MOVILIDAD DEL SECTOR TANTO PEATONAL COMO VEHICULAR  DEBIDO A ESTO ES COMPLICADO SACAR LOS VEHICULOS DE LOS GARAJES. TENIENDO EN CUENTA QUE LA ZONA ES RESIDENCIAL  SE SOLICITA LA INTERVENCION DE LAS ENTIDADES COMPETENTES.  ","Cerrado - Por no competencia","AREA DE ATENCION A LA CIUDADANIA","No Registra"]
[2061,2022,"NOVIEMBRE","2022-11-30","11:40:56","OLGA LUCÍA MESA MORENO","VIRTUAL","Bogotá te Escucha","ing.lilianamunoz28@gmail.com","Ciudadanía","JACOBO  MUÑOZ CASTRO","Ciudadanía","Ciudadanía","Masculino","Hombre ","Sin datos","Sin datos","Sin datos","Sin datos","DERECHO DE PETICIÓN DE INTERÉS GENERAL","Consulta general","Competencia otras entidades","SE COMUNICA CIUDADANO EL DIA 30/11/2022  SIENDO LAS 11 08 AM  INTERPONIENDO UN DERECHO DE PETICION DE INTERES GENERAL  EN LA LOCALIDAD DE ENGATIVA DEL BARRIO BACHUE SEGUNDO SECTOR  MANIFESTANDO INCONFORMIDAD  CON UN CIUDADANO PROPIETARIO DE UN BAR EL CUAL APARENTEMENTE SE POSESIONO DEL PARQUE LA LUNA UBICADO EN ESTE SECTOR ENTRE LA CALLE 82 Y LA CALLE 83 Y LA CARRERA 95 E O 96  DONDE ESTE CIUDADANO HIZO UNA CANCHA  DONDE HA ORGANIZADO TORNEOS DE FUTBOL  EN ESTE MOMENTO ESTA PONIENDO POLISOMBRA SIN NINGUNA AUTORIZACION  YA QUE ESTE LUGAR ES UN ESPACIO PUBLICO  EN ESTOS TORNEOS QUE ORGANIZA EL CIUDADANO ASISTE CANTIDAD DE GENTE QUE NO ES DEL SECTOR  DONDE SE COBRA UNA TARIFA PARA PARTICIPAR  HACEN EL PARQUEO DE VEHICULOS  TOMAN LICOR Y HAN QUITADO LA TRANQUILIDAD A ESTA COMUNIDAD E IMPIDIENDO A LA COMUNIDAD HACER EL USO DE ESTE PARQUE  YA QUE COMO ESTA REALIZANDO SUS TORNEOS LES PONEN PROBLEMA AL MOMENTO DE PRESENTARSE EN EL LUGAR  EN ANTERIORES OCASIONES HA HECHO PRESENCIA LA POLICIA NACIONAL  SE HAN COMUNICADO CON ESTE CIUDADANO QUE ORGANIZA ESTOS EVENTOS  PERO NO HA SIDO POSIBLE SOLUCIONAR EL TEMA  CIUDADANO HACE ESTE DERECHO DE PETICION SOLICITANDO A LAS ENTIDADES ENCARGADAS LA PRESENCIA Y LA SOLUCION DE ESTE PROBLEMA.","Cerrado - Por no competencia","AREA DE ATENCION A LA CIUDADANIA","No Registra"]
[2062,2022,"NOVIEMBRE","2022-11-03","09:56 a.m. ","AURA CRISTINA IZQUIERDO PACHECO","VIRTUAL","Red social facebook","Sin datos","Ciudadanía","German Torres","Ciudadanía","German Torres","Masculino","Hombre ","Sin datos","Sin datos","Sin datos","Sin datos","ASESORÍA","Asesoría en administración y sostenibilidad del espacio público","Asesoría en administración y sostenibilidad del espacio público","Envía denuncia de ocupación de espacio pùblico. Se solicita contexto y ampliación al usuario. ","Ampliar","Ciudadano","No registra"]
[2063,2022,"NOVIEMBRE","2022-11-09","04:39 p.m. ","AURA CRISTINA IZQUIERDO PACHECO","VIRTUAL","Red social facebook","Sin datos","Ciudadanía","Yolid Garcia","Ciudadanía","Yolid Garcia","Femenino","Mujer","Sin datos","Sin datos","Sin datos","Sin datos","ASESORÍA","Asesoría en administración y sostenibilidad del espacio público","Denuncia ventas informales","Solicita información de censo para vendedores informales. Se brinda información sobre el IPES. ","Cierre","Ciudadano","No registra"]
[2064,2022,"NOVIEMBRE","2022-11-15","03:00 a.m. ","AURA CRISTINA IZQUIERDO PACHECO","VIRTUAL","Red social facebook","Sin datos","Ciudadanía","Patty Olaya Gonzalez","Ciudadanía","Patty Olaya Gonzalez","Femenino","Mujer","Sin datos","Sin datos","Sin datos","Sin datos","ASESORÍA","Asesoría en administración y sostenibilidad del espacio público","Denuncia extensión actividad comercial","Denuncia extensión comercial en Crac78b calle 33a. Se solicita ampliar información para dar trámite. ","Ampliar","Ciudadano","08 Kennedy"]
[2065,2022,"NOVIEMBRE","2022-11-25","09:09 p.m. ","AURA CRISTINA IZQUIERDO PACHECO","VIRTUAL","Red social facebook","Sin datos","Ciudadanía","José Diaz","Ciudadanía","José Diaz","Masculino","Hombre ","Sin datos","Sin datos","Sin datos","Sin datos","FELICITACIÓN","Consulta general","Información pública","Agradece invitación a la rendición de cuentas de la entidad. ","Cierre","Ciudadano","No registra"]
[2066,2022,"NOVIEMBRE","2022-11-16","08:45 p.m. ","AURA CRISTINA IZQUIERDO PACHECO","VIRTUAL","Red social facebook","Sin datos","Ciudadanía","Fabian A. Gomez A.","Ciudadanía","Fabian A. Gomez A.","Masculino","Hombre ","Sin datos","Sin datos","Sin datos","Sin datos","DERECHO DE PETICIÓN DE INTERÉS GENERAL","Asesoría en administración y sostenibilidad del espacio público","Denuncia extensión actividad comercial","Denuncia extensión comercial y presencia de vendedores informales en Cra 12 con calle 11. Se radica y remite a Secretaría de Gobierno por ser de su competencia. ","Trasladar","Otras entidades","15 Antonio Nariño"]
[2067,2022,"NOVIEMBRE","2022-11-09","04:20 p.m. ","AURA CRISTINA IZQUIERDO PACHECO","VIRTUAL","Red social twiter","Sin datos","Organizaciones Sociales","gitadorGeopolitico420","Organizaciones Sociales","gitadorGeopolitico420","N/A","N/A","Sin datos","Sin datos","Sin datos","Sin datos","ASESORÍA","Asesoría en administración y sostenibilidad del espacio público","Denuncia ventas informales","Solicita información de censo para vendedores informales. Se brinda información sobre el IPES. ","Cierre","Ciudadano","11 Suba"]
[2068,2022,"NOVIEMBRE","2022-11-10","04:21 p.m. ","AURA CRISTINA IZQUIERDO PACHECO","VIRTUAL","Red social twiter","Sin datos","Ciudadanía","anaidfsuarez","Ciudadanía","anaidfsuarez","Femenino","Mujer","Sin datos","Sin datos","Sin datos","Sin datos","ASESORÍA","Asesoría en administración y sostenibilidad del espacio público","Denuncia Cerramiento","Denuncia cerramiento de espacio público en calle 70 A bis A # 117-15. Se solicita ampliar información para poder dar trámite. ","Cierre","Ciudadano","10 Engativá"]
[2069,2022,"NOVIEMBRE","2022-11-10","09:33 p.m. ","AURA CRISTINA IZQUIERDO PACHECO","VIRTUAL","Red social twiter","Sin datos","Ciudadanía","Elver Giovanny Rubio","Ciudadanía","Elver Giovanny Rubio","Masculino","Hombre ","Sin datos","Sin datos","Sin datos","Sin datos","CONSULTA","Consulta general","Información pública","Solicita información sobre Food Truck. Se proveen enlaces de Resolución relacionadas. ","Cierre","Ciudadano","No registra"]
[2070,2022,"NOVIEMBRE","2022-11-15","07:11 a.m. ","AURA CRISTINA IZQUIERDO PACHECO","VIRTUAL","Red social twiter","Sin datos","Ciudadanía","Edilberto Morcote Rios","Ciudadanía","Edilberto Morcote Rios","Masculino","Hombre ","Sin datos","Sin datos","Sin datos","Sin datos","ASESORÍA","Asesoría en administración y sostenibilidad del espacio público","Denuncia extensión actividad comercial","Reporta extensión comercial en el barrio Ismael Perdomo. Se solicita ampliación de información para tramitar. ","Ampliar","Ciudadano","19 Ciudad Bolívar"]
[2071,2022,"NOVIEMBRE","2022-11-16","08:47 a.m. ","AURA CRISTINA IZQUIERDO PACHECO","VIRTUAL","Red social twiter","Sin datos","Ciudadanía","juan camilo rincon","Ciudadanía","juan camilo rincon","Masculino","Hombre ","Sin datos","Sin datos","Sin datos","Sin datos","DERECHO DE PETICIÓN DE INTERÉS GENERAL","Asesoría en administración y sostenibilidad del espacio público","Denuncia extensión actividad comercial","Denuncia obstrucción de espacio peatonal por construcción en carrera 53 b con  calle 5c . Se radica y remite a Secretaría de Gobierno por ser de su competencia. ","Trasladar","Otras entidades","16 Puente Aranda"]
[2072,2022,"NOVIEMBRE","2022-11-16","08:48 a.m.","AURA CRISTINA IZQUIERDO PACHECO","VIRTUAL","Red social twiter","Sin datos","Ciudadanía","Carlos Aguirre Gamez","Ciudadanía","Carlos Aguirre Gamez","Masculino","Hombre ","Sin datos","Sin datos","Sin datos","Sin datos","DERECHO DE PETICIÓN DE INTERÉS GENERAL","Asesoría en administración y sostenibilidad del espacio público","Denuncia vehículos","Denuncia invasión de espacio público en  calle 19 con carrera 25 y 27. Se radica y traslada a Secretaría de Gobierno por ser de su competencia. ","Trasladar","Otras entidades","14 Los Mártires"]
[2073,2022,"NOVIEMBRE","2022-11-17","11:25 a.m. ","AURA CRISTINA IZQUIERDO PACHECO","VIRTUAL","Red social twiter","Sin datos","Ciudadanía","peterpan20017","Ciudadanía","peterpan20017","Masculino","Hombre ","Sin datos","Sin datos","Sin datos","Sin datos","DERECHO DE PETICIÓN DE INTERÉS GENERAL","Asesoría en administración y sostenibilidad del espacio público","Denuncia extensión actividad comercial","Denuncia invasión de espacio público en la calle 90 debajo del puente peatonal del virrey. Se solicita más información para poder dar alcance. ","Cierre","Ciudadano","02 Chapinero"]
[2074,2022,"NOVIEMBRE","2022-11-25","12:21 p.m. ","AURA CRISTINA IZQUIERDO PACHECO","VIRTUAL","Red social twiter","Sin datos","Organizaciones Sociales","Alianza Jurídica","Organizaciones Sociales","Alianza Jurídica","N/A","N/A","Sin datos","Sin datos","Sin datos","Sin datos","ASESORÍA","Asesoría en administración y sostenibilidad del espacio público","Denuncia ventas informales","Solicita información para reportar ventas informales. Se remite información del IPES. ","Cierre","Ciudadano","No registra"]
[2075,2022,"NOVIEMBRE",{"$f":"+'[7]conmutador Nov'!B226","v":"2022-11-30"},{"$f":"+'[7]conmutador Nov'!C226","v":"1:10:00 P.M."},"OLGA LUCÍA MESA MORENO","TELEFÓNICO",{"$f":"+'[7]conmutador Nov'!E226","v":"Conmutador"},"Sin datos",{"$f":"+'[7]conmutador Nov'!J226","v":"Ciudadanía"},{"$f":"+'[7]conmutador Nov'!G226","v":"CRISTIAN CASTILLO"},{"$f":"+[7]!Tabla1[[#This Row],[GRUPO DE VALOR]]","v":"Ciudadanía"},{"$f":"+[7]!Tabla1[[#This Row],[NOMBRE DEL GRUPO DE VALOR]]","v":"CRISTIAN CASTILLO"},{"$f":"+'[7]conmutador Nov'!K226","v":"Masculino"},{"$f":"+'[7]conmutador Nov'!L226","v":"Hombre "},"Sin datos","Sin datos","Sin datos","Sin datos",{"$f":"+'[7]conmutador Nov'!N226","v":"Consulta"},{"$f":"+'[7]conmutador Nov'!O226","v":"Consulta general"},{"$f":"+'[7]conmutador Nov'!P226","v":"Consulta"},{"$f":"+'[7]conmutador Nov'!Q226","v":"SOLICITA INFORMACION CON DEFENSORIA DEL PUEBLO"},{"$f":"+'[7]conmutador Nov'!R226","v":"Atención al ciudadano"},{"$f":"+'[7]conmutador Nov'!S226","v":"Ciudadano"},{"$f":"+'[7]conmutador Nov'!T226","v":"Fuera de Bogotá"}]
[2076,2022,"NOVIEMBRE",{"$f":"+'[7]conmutador Nov'!B227","v":"2022-11-30"},{"$f":"+'[7]conmutador Nov'!C227","v":"3:33:00 P.M."},"OLGA LUCÍA MESA MORENO","TELEFÓNICO",{"$f":"+'[7]conmutador Nov'!E227","v":"Conmutador"},"Sin datos","Entidades y Organismos Distritales",{"$f":"+'[7]conmutador Nov'!G227","v":"NORMA HUERTAS"},"Entidades y Organismos Distritales",{"$f":"+[7]!Tabla1[[#This Row],[NOMBRE DEL GRUPO DE VALOR]]","v":"NORMA HUERTAS"},{"$f":"+'[7]conmutador Nov'!K227","v":"Femenino"},{"$f":"+'[7]conmutador Nov'!L227","v":"Mujer"},"Sin datos","Sin datos","Sin datos","Sin datos",{"$f":"+'[7]conmutador Nov'!N227","v":"Consulta"},{"$f":"+'[7]conmutador Nov'!O227","v":"Consulta general"},{"$f":"+'[7]conmutador Nov'!P227","v":"Transferencia de llamada"},{"$f":"+'[7]conmutador Nov'!Q227","v":"Transferencia de llamada"},{"$f":"+'[7]conmutador Nov'!R227","v":"Atención al ciudadano"},{"$f":"+'[7]conmutador Nov'!S227","v":"Ciudadano"},"13 Teusaquillo"]
[2077,2022,"NOVIEMBRE",{"$f":"+'[7]conmutador Nov'!B228","v":"2022-11-30"},{"$f":"+'[7]conmutador Nov'!C228","v":"15:21:00"},"LILIANA AGUILAR PUENTES","TELEFÓNICO",{"$f":"+'[7]conmutador Nov'!E228","v":"Conmutador"},"Sin datos",{"$f":"+'[7]conmutador Nov'!J228","v":"Ciudadanía"},{"$f":"+'[7]conmutador Nov'!G228","v":"ALEXANDER RUIZ"},{"$f":"+[7]!Tabla1[[#This Row],[GRUPO DE VALOR]]","v":"Ciudadanía"},{"$f":"+[7]!Tabla1[[#This Row],[NOMBRE DEL GRUPO DE VALOR]]","v":"ALEXANDER RUIZ"},{"$f":"+'[7]conmutador Nov'!K228","v":"Masculino"},{"$f":"+'[7]conmutador Nov'!L228","v":"Hombre "},"Sin datos","Sin datos","Sin datos","Sin datos",{"$f":"+'[7]conmutador Nov'!N228","v":"Consulta"},{"$f":"+'[7]conmutador Nov'!O228","v":"Consulta general"},{"$f":"+'[7]conmutador Nov'!P228","v":"Transferencia de llamada"},{"$f":"+'[7]conmutador Nov'!Q228","v":"Transferencia de llamada "},{"$f":"+'[7]conmutador Nov'!R228","v":"Atención al ciudadano"},{"$f":"+'[7]conmutador Nov'!S228","v":"Ciudadano"},{"$f":"+'[7]conmutador Nov'!T228","v":"no registra"}]
[2078,2022,"NOVIEMBRE",{"$f":"+'[7]conmutador Nov'!B229","v":"2022-11-30"},{"$f":"+'[7]conmutador Nov'!C229","v":"16:00:00"},"LILIANA AGUILAR PUENTES","TELEFÓNICO",{"$f":"+'[7]conmutador Nov'!E229","v":"Conmutador"},"Sin datos",{"$f":"+'[7]conmutador Nov'!J229","v":"Ciudadanía"},{"$f":"+'[7]conmutador Nov'!G229","v":"DANIEL CIFUENTES"},{"$f":"+[7]!Tabla1[[#This Row],[GRUPO DE VALOR]]","v":"Ciudadanía"},{"$f":"+[7]!Tabla1[[#This Row],[NOMBRE DEL GRUPO DE VALOR]]","v":"DANIEL CIFUENTES"},{"$f":"+'[7]conmutador Nov'!K229","v":"Masculino"},{"$f":"+'[7]conmutador Nov'!L229","v":"Hombre "},"Sin datos","Sin datos","Sin datos","Sin datos",{"$f":"+'[7]conmutador Nov'!N229","v":"Consulta"},{"$f":"+'[7]conmutador Nov'!O229","v":"Consulta general"},{"$f":"+'[7]conmutador Nov'!P229","v":"Consulta"},{"$f":"+'[7]conmutador Nov'!Q229","v":"CONSULTA POR RADICADO nO. 2022400267982"},{"$f":"+'[7]conmutador Nov'!R229","v":"Atención al ciudadano"},{"$f":"+'[7]conmutador Nov'!S229","v":"Ciudadano"},{"$f":"+'[7]conmutador Nov'!T229","v":"no registra"}]